{"text_format":"1","workbook":"xlsx","n_sheets":65,"sheets":["START","Instructions","Template names","Lookup and lists","Org structure","Contacts","A1-Sum","A2-FinPerf SC","A2A","A3-FinPerf V","A3A","A4-FinPerf RE","A5-Capex","A5A","Chart1","A6-FinPos","A7-CFlow","A8-ResRecon","A9-Asset","A10-SerDel","SA1","SA2","SA3","SA4","SA5","SA6","SA7","SA8","SA9","SA10","SA11","SA12a","SA12b","SA13a","SA13b","SA14","SA15","SA16","SA17","SA18","SA19","SA20","SA21","SA22","SA23","SA24","SA25","SA26","SA27","SA28","SA29","SA30","SA31","SA32","SA33","SA34a","SA34b","SA34c","SA34d","SA34e","SA35","SA36","SA37","SA38","LGDB_EXPORT"],"not_rendered":{"charts":2,"images":17,"macros":1,"external_links":2,"defined_names":1917,"comments":0,"pivot_tables":0},"unopened":[{"sheet":"Chart1","index":14,"reason":"not_a_worksheet"}],"bounds":{"document_bytes":16777216,"sheet_cells":100000,"rows_first":2000,"rows_last":500,"rows_between":2000,"halvings":0,"cell_chars":16384,"cell_head_chars":4096},"cells_cut":0,"cells_raw":0,"read":"whole","date_system":"1900"}

{"sheet":"START","index":0,"n_rows":0,"n_cols":0,"rows_kept":0,"cut":false,"hidden":false,"merged":[]}

{"sheet":"Instructions","index":1,"n_rows":36,"n_cols":24,"rows_kept":36,"cut":false,"hidden":false,"merged":[]}
[]
[null,null,null,2020]
[]
[null,null,null,null,null,null,null,null,null,null,null,null,null,null,null,null,null,null,null,null,null,null,null,"Yes"]
[null,null,null,null,null,null,null,null,null,null,null,null,null,null,null,null,null,null,null,null,null,null,null,"No"]
[]
[null,null,null,null,null,null,null,null,null,null,null,null,null,null,null,null,null,null,null,null,null,null,"Type of Entities Range:"]
[null,null,null,null,null,null,null,null,null,null,null,null,null,null,null,null,null,null,null,null,null,null,null,"Parent Municipality"]
[null,null,null,null,null,null,null,null,null,null,null,null,null,null,null,null,null,null,null,null,null,null,null,"Consolidated Information"]
[]
[]
[]
[]
[]
[]
[]
[null,null,null,null,null,null,null,null,null,null,null,null,null,null,null,null,null,null,null,null,null,null,"MTREF Range:",2008]
[null,null,null,null,null,null,null,null,null,null,null,null,null,null,null,null,null,null,null,null,null,null,null,2009]
[null,null,null,null,null,null,null,null,null,null,null,null,null,null,null,null,null,null,null,null,null,null,null,2010]
[null,null,null,null,null,null,null,null,null,null,null,null,null,null,null,null,null,null,null,null,null,null,null,2011]
[null,null,null,null,null,null,null,null,null,null,null,null,null,null,null,null,null,null,null,null,null,null,null,2012]
[null,null,null,null,null,null,null,null,null,null,null,null,null,null,null,null,null,null,null,null,null,null,null,2013]
[null,null,null,null,null,null,null,null,null,null,null,null,null,null,null,null,null,null,null,null,null,null,null,2014]
[null,null,null,null,null,null,null,null,null,null,null,null,null,null,null,null,null,null,null,null,null,null,null,2015]
[null,null,null,null,null,null,null,null,null,null,null,null,null,null,null,null,null,null,null,null,null,null,null,2016]
[null,null,null,null,null,null,null,null,null,null,null,null,null,null,null,null,null,null,null,null,null,null,null,2017]
[null,null,null,null,null,null,null,null,null,null,null,null,null,null,null,null,null,null,null,null,null,null,null,2018]
[null,null,null,null,null,null,null,null,null,null,null,null,null,null,null,null,null,null,null,null,null,null,null,2019]
[null,null,null,null,null,null,null,null,null,null,null,null,null,null,null,null,null,null,null,null,null,null,null,2020]
[null,null,null,null,null,null,null,null,null,null,null,null,null,null,null,null,null,null,null,null,null,null,null,2021]
[null,null,null,null,null,null,null,null,null,null,null,null,null,null,null,null,null,null,null,null,null,null,null,2022]
[]
[null,null,null,null,null,null,null,null,null,null,null,null,null,null,null,null,null,null,null,null,null,null,"MTREF Linked:",12]
[null,null,null,null,null,null,null,null,null,null,null,null,null,null,null,null,null,null,null,null,null,null,"MTREF:",{"$f":"INDEX(X17:X31,X33,1)","v":2019}]
[]
[null,null,null,null,null,null,null,null,null,null,null,null,null,null,null,null,null,null,null,null,null,null,"Fin Year:",{"$f":"MTREF&\"/\"&RIGHT(MTREF,2)+1","v":"2019/20"}]

{"sheet":"Template names","index":2,"n_rows":179,"n_cols":6,"rows_kept":179,"cut":false,"hidden":true,"merged":[[0,0,0,3],[86,0,86,1],[109,0,109,1],[98,0,98,1],[91,0,91,3]]}
["Common sheet headings"]
["Head1",{"$f":"HLOOKUP(MTREF,Headings,2)","v":"2017/18"},"Prior year -1"]
["Head1A",{"$f":"HLOOKUP(MTREF,Headings,3)","v":"2016/17"},"Prior year -2"]
["Head1B",{"$f":"HLOOKUP(MTREF,Headings,4)","v":"2015/16"},"Prior year -3"]
["Head2",{"$f":"HLOOKUP(MTREF,Headings,5)","v":"Current Year 2018/19"},"Year in which budget is being prepared"]
["Head2A",{"$f":"HLOOKUP(MTREF,Headings,6)","v":"2018/19"},"Year in which budget is being prepared"]
["Head3",{"$f":"HLOOKUP(MTREF,Headings,7)","v":"2019/20 Medium Term Revenue & Expenditure Framework"},"MTREF name"]
["Head4","LTFS","Long term financial strategy"]
["Head5","Audited Outcome"]
["Head5A","Outcome"]
["Head5B","Pre-audit outcome"]
["Head6","Original Budget"]
["Head7","Adjusted Budget"]
["Head8","Full Year Forecast"]
["Head9",{"$f":"HLOOKUP(MTREF,Headings,8)","v":"Budget Year 2019/20"},"1st year of MTREF","Year1"]
["Head10",{"$f":"HLOOKUP(MTREF,Headings,9)","v":"Budget Year +1 2020/21"},"2nd year of MTREF","Year2"]
["Head11",{"$f":"HLOOKUP(MTREF,Headings,10)","v":"Budget Year +2 2021/22"},"3rd year of MTREF","Year3"]
["Head12",{"$f":"HLOOKUP(MTREF,Headings,11)","v":"Forecast 2022/23"},"1st yr of long term forecast","Year4"]
["Head13",{"$f":"HLOOKUP(MTREF,Headings,12)","v":"Forecast 2023/24"},"Next yr of long term forecast","Year5"]
["Head14",{"$f":"HLOOKUP(MTREF,Headings,13)","v":"Forecast 2024/25"},"Next yr of long term forecast","Year6"]
["Head15",{"$f":"HLOOKUP(MTREF,Headings,14)","v":"Forecast 2025/26"},"Next yr of long term forecast","Year7"]
["Head16",{"$f":"HLOOKUP(MTREF,Headings,15)","v":"Forecast 2026/27"},"Next yr of long term forecast","Year8"]
["Head17",{"$f":"HLOOKUP(MTREF,Headings,16)","v":"Forecast 2027/28"},"Next yr of long term forecast","Year9"]
["Head18",{"$f":"HLOOKUP(MTREF,Headings,17)","v":"Forecast 2028/29"},"Next yr of long term forecast","Year10"]
["Head19",{"$f":"HLOOKUP(MTREF,Headings,18)","v":"Forecast 2029/30"},"Next yr of long term forecast","Year11"]
["Head20",{"$f":"HLOOKUP(MTREF,Headings,19)","v":"Forecast 2030/31"},"Next yr of long term forecast","Year12"]
["Head21",{"$f":"HLOOKUP(MTREF,Headings,20)","v":"Forecast 2031/32"},"Next yr of long term forecast","Year13"]
["Head22",{"$f":"HLOOKUP(MTREF,Headings,21)","v":"Forecast 2032/33"},"Next yr of long term forecast","Year14"]
["Head23",{"$f":"HLOOKUP(MTREF,Headings,22)","v":"Forecast 2033/34"},"Next yr of long term forecast","Year15"]
["Head24","Description"]
["Head25"]
["Head26","Vote Description"]
["Head27","Ref"]
["Head27a","References"]
["Head28","Surplus/(Deficit) for the year",null,"Result"]
["Head29",{"$f":"HLOOKUP(MTREF,Headings,23)","v":"Annual target 2019/20"}]
["Head30",{"$f":"HLOOKUP(MTREF,Headings,24)","v":"Revised target 2019/20"}]
["Head31","Quarter ended 30 September"]
["Head32","Quarter ended 31 December"]
["Head33","Quarter ended 31 March"]
["Head34","Quarter ended 30 June"]
["Head35","Variance explanation"]
["Head36","YTD  Actual 31 Dec"]
["Head37","YTD  Budget 31 Dec"]
["Head38","Monthly actual"]
["Head39","YTD actual"]
["Head40","YTD budget"]
["Head41","YTD variance"]
["Head42","Surplus/ (Deficit) for the yr/period"]
["Head43",{"$f":"Head3&\" Summary\"","v":"2019/20 Medium Term Revenue & Expenditure Framework Summary"}]
["Head44","2001 Census"]
["Head45","2011 Census"]
["Head46"," - Adjustments Budget - January 2007"]
["Head47","Previous target year to complete"]
["Head48","Present value"]
["Head49"]
["Head50","Other Adjusts."]
["Head51","Accum. Funds"]
["Head52","Multi-year capital"]
["Head53","Unfore. Unavoid."]
["Head54","Prior Adjusted"]
["Head55","Nat. or Prov. Govt"]
["Head56","Total Adjusts."]
["SFPerf1","Budgeted Financial Performance"]
["SFPerf2","Forecast Financial Performance"]
["SFPos1","Budgeted Financial Position"]
["SFPos2","Forecast Financial Position"]
["Cash1","Budget Cash Flow"]
["Cash2","Forecast Cash Flow"]
["RandM","Expenditure includes repairs & maintenance of R'000"]
["Depart1","Department 1 - ",null,"DEP1"]
["Depart2","Department 2 - ",null,"DEP2"]
["Depart3","Department 3 - ",null,"DEP3"]
["Depart4","Department 4 - ",null,"DEP4"]
["Depart5","Department 5 - ",null,"DEP5"]
["Depart6","Department 6 - ",null,"DEP6"]
["Depart7","Department 7 - ",null,"DEP7"]
["Depart8","Department 8 - ",null,"DEP8"]
["Depart9","Department 9 - ",null,"DEP9"]
["Depart10","Department 10 - ",null,"DEP10"]
["Depart11","Department 11 - ",null,"DEP11"]
["Depart12","Department 12 - ",null,"DEP12"]
["Depart13","Department 13 - ",null,"DEP13"]
["Depart14","Department 14 - ",null,"DEP14"]
[]
[]
["Base year of forecast column selection names"]
["Choose","ACT"]
[null,"APP"]
[null,"ADJ"]
[]
["Standard nomenclature"]
["Muni",{"$f":"'Lookup and lists'!B28","v":"LIM332 Greater Letaba"}]
["Municipal Entities",2,"Type of report:",2]
[{"$f":"IF((MuniEntities=1)*(MuniType=2),\"YES\",\"NO\")","v":"NO"},"Does this municipality have entities (consolidated budget and entity budgets required)? YES/NO"]
["Entity 1","(Pty) Ltd Example 1 - Municipal entity - ",null,"Ent1"]
["Entity 2","(Pty) Ltd Example 2 - Municipal entity - ",null,"Ent2"]
["Entity 3","Municipal Entity Example 3",null,"Ent3"]
["Budget approval tables",null,"Chart x-ref","Sch/Tab/Ch","Alternative for municipalities without entities","Alternative for municipalities without entities"]
[null,{"$f":"IF(Consolques=\"YES\",E100,F100)","v":"Table A1 Budget Summary"},null,"Table A1 ",{"$f":"D100&\"Consolidated Budget Summary\"","v":"Table A1 Consolidated Budget Summary"},{"$f":"D100&\"Budget Summary\"","v":"Table A1 Budget Summary"}]
[null,"Table A2 Budgeted Financial Performance (revenue and expenditure by functional classification)","Charts 5, 6","Table A2 ",{"$f":"D101&\"Consolidated Budgeted Financial Performance (revenue and expenditure by functional classification)\"","v":"Table A2 Consolidated Budgeted Financial Performance (revenue and expenditure by functional classification)"},{"$f":"D101&\"Budgeted Financial Performance (revenue and expenditure by functional classification)\"","v":"Table A2 Budgeted Financial Performance (revenue and expenditure by functional classification)"}]
[null,"Table A3 Budgeted Financial Performance (revenue and expenditure by municipal vote)",null,"Table A3 ",{"$f":"D102&\"Consolidated Budgeted Financial Performance (revenue and expenditure by municipal vote)\"","v":"Table A3 Consolidated Budgeted Financial Performance (revenue and expenditure by municipal vote)"},{"$f":"D102&\"Budgeted Financial Performance (revenue and expenditure by municipal vote)\"","v":"Table A3 Budgeted Financial Performance (revenue and expenditure by municipal vote)"}]
[null,"Table A4 Budgeted Financial Performance (revenue and expenditure)","Charts 1, 2, 3, 4","Table A4 ",{"$f":"D103&\"Consolidated Budgeted Financial Performance (revenue and expenditure)\"","v":"Table A4 Consolidated Budgeted Financial Performance (revenue and expenditure)"},{"$f":"D103&\"Budgeted Financial Performance (revenue and expenditure)\"","v":"Table A4 Budgeted Financial Performance (revenue and expenditure)"}]
[null,"Table A5 Budgeted Capital Expenditure by vote, functional classification and funding","Charts 7, 8, 9, 10, 20","Table A5 ",{"$f":"D104&\"Consolidated Budgeted Capital Expenditure by vote, functional classification and funding\"","v":"Table A5 Consolidated Budgeted Capital Expenditure by vote, functional classification and funding"},{"$f":"D104&\"Budgeted Capital Expenditure by vote, functional classification and funding\"","v":"Table A5 Budgeted Capital Expenditure by vote, functional classification and funding"}]
[null,"Table A6 Budgeted Financial Position",null,"Table A6 ",{"$f":"D105&\"Consolidated Budgeted Financial Position\"","v":"Table A6 Consolidated Budgeted Financial Position"},{"$f":"D105&\"Budgeted Financial Position\"","v":"Table A6 Budgeted Financial Position"}]
[null,"Table A7 Budgeted Cash Flows",null,"Table A7 ",{"$f":"D106&\"Consolidated Budgeted Cash Flows\"","v":"Table A7 Consolidated Budgeted Cash Flows"},{"$f":"D106&\"Budgeted Cash Flows\"","v":"Table A7 Budgeted Cash Flows"}]
[null,"Table A8 Cash backed reserves/accumulated surplus reconciliation",null,"Table A8 ",{"$f":"D107&\"Consolidated Cash backed reserves/accumulated surplus reconciliation\"","v":"Table A8 Consolidated Cash backed reserves/accumulated surplus reconciliation"},{"$f":"D107&\"Cash backed reserves/accumulated surplus reconciliation\"","v":"Table A8 Cash backed reserves/accumulated surplus reconciliation"}]
[null,"Table A9 Asset Management",null,"Table A9 ",{"$f":"D108&\"Consolidated Asset Management\"","v":"Table A9 Consolidated Asset Management"},{"$f":"D108&\"Asset Management\"","v":"Table A9 Asset Management"}]
[null,"Table A10 Basic service delivery measurement",null,"Table A10 ",{"$f":"D109&\"Consolidated basic service delivery measurement\"","v":"Table A10 Consolidated basic service delivery measurement"},{"$f":"D109&\"Basic service delivery measurement\"","v":"Table A10 Basic service delivery measurement"}]
["Supportinging Tables to the Budget Approval Tables",null,{"$f":"$C$99","v":"Chart x-ref"},{"$f":"$D$99","v":"Sch/Tab/Ch"}]
["Supporting Table SA1",{"$f":"A111&\" Supportinging detail to 'Budgeted Financial Performance'\"","v":"Supporting Table SA1 Supportinging detail to 'Budgeted Financial Performance'"}]
["Supporting Table SA2 ",{"$f":"IF(Consolques=\"YES\",E112,F112)","v":"Supporting Table SA2 Matrix Financial Performance Budget (revenue source/expenditure type and dept.)"},null,null,{"$f":"A112&\"Consolidated Matrix Financial Performance Budget (revenue source/expenditure type & dept.)\"","v":"Supporting Table SA2 Consolidated Matrix Financial Performance Budget (revenue source/expenditure type & dept.)"},{"$f":"A112&\"Matrix Financial Performance Budget (revenue source/expenditure type and dept.)\"","v":"Supporting Table SA2 Matrix Financial Performance Budget (revenue source/expenditure type and dept.)"}]
["Supporting Table SA3 ",{"$f":"A113&\"Supportinging detail to 'Budgeted Financial Position'\"","v":"Supporting Table SA3 Supportinging detail to 'Budgeted Financial Position'"}]
["Supporting Table SA4 ",{"$f":"A114&\"Reconciliation of IDP strategic objectives and budget (revenue)\"","v":"Supporting Table SA4 Reconciliation of IDP strategic objectives and budget (revenue)"},"Chart 11"]
["Supporting Table SA5 ",{"$f":"A115&\"Reconciliation of IDP strategic objectives and budget (operating expenditure)\"","v":"Supporting Table SA5 Reconciliation of IDP strategic objectives and budget (operating expenditure)"},"Chart 12"]
["Supporting Table SA6 ",{"$f":"A116&\"Reconciliation of IDP strategic objectives and budget (capital expenditure)\"","v":"Supporting Table SA6 Reconciliation of IDP strategic objectives and budget (capital expenditure)"},"Chart 13"]
["Supporting Table SA7",{"$f":"A117&\" Measureable performance objectives\"","v":"Supporting Table SA7 Measureable performance objectives"}]
["Supporting Table SA8",{"$f":"A118&\" Performance indicators and benchmarks\"","v":"Supporting Table SA8 Performance indicators and benchmarks"},"Chts 15-19"]
["Supporting Table SA9",{"$f":"A119&\" Social, economic and demographic statistics and assumptions\"","v":"Supporting Table SA9 Social, economic and demographic statistics and assumptions"}]
["Supporting Table SA10",{"$f":"A120&\" Funding measurement\"","v":"Supporting Table SA10 Funding measurement"},"Chart 14"]
["Supporting Table SA11",{"$f":"A121&\" Property rates summary\"","v":"Supporting Table SA11 Property rates summary"}]
["Supporting Table SA12a",{"$f":"A122&\" Property rates by category (current year)\"","v":"Supporting Table SA12a Property rates by category (current year)"}]
["Supporting Table SA12b",{"$f":"A123&\" Property rates by category (budget year)\"","v":"Supporting Table SA12b Property rates by category (budget year)"}]
["Supporting Table SA13a",{"$f":"A124&\" Service Tariffs by category\"","v":"Supporting Table SA13a Service Tariffs by category"}]
["Supporting Table SA13b",{"$f":"A125&\" Service Tariffs by category - explanatory\"","v":"Supporting Table SA13b Service Tariffs by category - explanatory"}]
["Supporting Table SA14",{"$f":"A126&\" Household bills\"","v":"Supporting Table SA14 Household bills"}]
["Supporting Table SA15",{"$f":"A127&\" Investment particulars by type\"","v":"Supporting Table SA15 Investment particulars by type"}]
["Supporting Table SA16",{"$f":"A128&\" Investment particulars by maturity\"","v":"Supporting Table SA16 Investment particulars by maturity"}]
["Supporting Table SA17",{"$f":"A129&\" Borrowing\"","v":"Supporting Table SA17 Borrowing"}]
["Supporting Table SA18",{"$f":"A130&\" Transfers and grant receipts\"","v":"Supporting Table SA18 Transfers and grant receipts"}]
["Supporting Table SA19",{"$f":"A131&\" Expenditure on transfers and grant programme\"","v":"Supporting Table SA19 Expenditure on transfers and grant programme"}]
["Supporting Table SA20",{"$f":"A132&\" Reconciliation of transfers, grant receipts and unspent funds\"","v":"Supporting Table SA20 Reconciliation of transfers, grant receipts and unspent funds"}]
["Supporting Table SA21",{"$f":"A133&\" Transfers and grants made by the municipality\"","v":"Supporting Table SA21 Transfers and grants made by the municipality"}]
["Supporting Table SA22",{"$f":"A134&\" Summary councillor and staff benefits\"","v":"Supporting Table SA22 Summary councillor and staff benefits"}]
["Supporting Table SA23",{"$f":"A135&\" Salaries, allowances & benefits (political office bearers/councillors/senior managers)\"","v":"Supporting Table SA23 Salaries, allowances & benefits (political office bearers/councillors/senior managers)"}]
["Supporting Table SA24",{"$f":"A136&\" Summary of personnel numbers\"","v":"Supporting Table SA24 Summary of personnel numbers"}]
["Supporting Table SA25",{"$f":"IF(Consolques=\"YES\",E137,F137)","v":"Supporting Table SA25 Budgeted monthly revenue and expenditure"},null,null,{"$f":"A137&\" Consolidated budgeted monthly revenue and expenditure\"","v":"Supporting Table SA25 Consolidated budgeted monthly revenue and expenditure"},{"$f":"A137&\" Budgeted monthly revenue and expenditure\"","v":"Supporting Table SA25 Budgeted monthly revenue and expenditure"}]
["Supporting Table SA26","Supporting Table SA26 Budgeted monthly revenue and expenditure (municipal vote)",null,null,{"$f":"A138&\" Consolidated budgeted monthly revenue and expenditure (municipal vote)\"","v":"Supporting Table SA26 Consolidated budgeted monthly revenue and expenditure (municipal vote)"},{"$f":"A138&\" Budgeted monthly revenue and expenditure (municipal vote)\"","v":"Supporting Table SA26 Budgeted monthly revenue and expenditure (municipal vote)"}]
["Supporting Table SA27","Supporting Table SA27 Budgeted monthly revenue and expenditure (functional classification)",null,null,{"$f":"A139&\" Consolidated budgeted monthly revenue and expenditure (functional classification)\"","v":"Supporting Table SA27 Consolidated budgeted monthly revenue and expenditure (functional classification)"},{"$f":"A139&\" Budgeted monthly revenue and expenditure (functional classification)\"","v":"Supporting Table SA27 Budgeted monthly revenue and expenditure (functional classification)"}]
["Supporting Table SA28","Supporting Table SA28 Budgeted monthly capital expenditure (municipal vote)",null,null,{"$f":"A140&\" Consolidated budgeted monthly capital expenditure (municipal vote)\"","v":"Supporting Table SA28 Consolidated budgeted monthly capital expenditure (municipal vote)"},{"$f":"A140&\" Budgeted monthly capital expenditure (municipal vote)\"","v":"Supporting Table SA28 Budgeted monthly capital expenditure (municipal vote)"}]
["Supporting Table SA29","Supporting Table SA29 Budgeted monthly capital expenditure (functional classification)",null,null,{"$f":"A141&\" Consolidated budgeted monthly capital expenditure (functional classification)\"","v":"Supporting Table SA29 Consolidated budgeted monthly capital expenditure (functional classification)"},{"$f":"A141&\" Budgeted monthly capital expenditure (functional classification)\"","v":"Supporting Table SA29 Budgeted monthly capital expenditure (functional classification)"}]
["Supporting Table SA30","Supporting Table SA30 Budgeted monthly cash flow",null,null,{"$f":"A142&\" Consolidated budgeted monthly cash flow\"","v":"Supporting Table SA30 Consolidated budgeted monthly cash flow"},{"$f":"A142&\" Budgeted monthly cash flow\"","v":"Supporting Table SA30 Budgeted monthly cash flow"}]
["Supporting Table SA31","NOT REQUIRED - municipality does not have entities",null,null,{"$f":"A143&\" Aggregated entity budget\"","v":"Supporting Table SA31 Aggregated entity budget"},"NOT REQUIRED - municipality does not have entities"]
["Supporting Table SA32",{"$f":"A144&\" List of external mechanisms\"","v":"Supporting Table SA32 List of external mechanisms"}]
["Supporting Table SA33",{"$f":"A145&\" Contracts having future budgetary implications\"","v":"Supporting Table SA33 Contracts having future budgetary implications"}]
["Supporting Table SA34a",{"$f":"IF(Consolques=\"YES\",E146,F146)","v":"Supporting Table SA34a Capital expenditure on new assets by asset class"},null,null,{"$f":"A146&\" Consolidated capital expenditure on new assets by asset class\"","v":"Supporting Table SA34a Consolidated capital expenditure on new assets by asset class"},{"$f":"A146&\" Capital expenditure on new assets by asset class\"","v":"Supporting Table SA34a Capital expenditure on new assets by asset class"}]
["Supporting Table SA34b","Supporting Table SA34b Capital expenditure on the renewal of existing assets by asset class",null,null,{"$f":"A147&\" Consolidated capital expenditure on the renewal of existing assets by asset class\"","v":"Supporting Table SA34b Consolidated capital expenditure on the renewal of existing assets by asset class"},{"$f":"A147&\" Capital expenditure on the renewal of existing assets by asset class\"","v":"Supporting Table SA34b Capital expenditure on the renewal of existing assets by asset class"}]
["Supporting Table SA34c","Supporting Table SA34c Repairs and maintenance expenditure by asset class",null,null,{"$f":"A148&\" Consolidated repairs and maintenance by asset class\"","v":"Supporting Table SA34c Consolidated repairs and maintenance by asset class"},{"$f":"A148&\" Repairs and maintenance expenditure by asset class\"","v":"Supporting Table SA34c Repairs and maintenance expenditure by asset class"}]
["Supporting Table SA34d",{"$f":"IF(Consolques=\"YES\",E149,F149)","v":"Supporting Table SA34d Depreciation by asset class"},null,null,{"$f":"A149&\" Consolidated Depreciation by asset class\"","v":"Supporting Table SA34d Consolidated Depreciation by asset class"},{"$f":"A149&\" Depreciation by asset class\"","v":"Supporting Table SA34d Depreciation by asset class"}]
["Supporting Table SA34e",{"$f":"IF(Consolques=\"YES\",E150,F150)","v":"Supporting Table SA34e Capital expenditure on the upgrading of existing assets by asset class"},null,null,{"$f":"A150&\" Consolidated capital expenditure on the upgrading of existing assets by asset class\"","v":"Supporting Table SA34e Consolidated capital expenditure on the upgrading of existing assets by asset class"},{"$f":"A150&\" Capital expenditure on the upgrading of existing assets by asset class\"","v":"Supporting Table SA34e Capital expenditure on the upgrading of existing assets by asset class"}]
["Supporting Table SA35","Supporting Table SA35 Future financial implications of the capital budget",null,null,{"$f":"A151&\" Consolidated future financial implications of the capital budget\"","v":"Supporting Table SA35 Consolidated future financial implications of the capital budget"},{"$f":"A151& \" Future financial implications of the capital budget\"","v":"Supporting Table SA35 Future financial implications of the capital budget"}]
["Supporting Table SA36","Supporting Table SA36 Detailed capital budget",null,null,{"$f":"A152&\" Consolidated detailed capital budget\"","v":"Supporting Table SA36 Consolidated detailed capital budget"},{"$f":"A152& \" Detailed capital budget\"","v":"Supporting Table SA36 Detailed capital budget"}]
["Supporting Table SA37","Supporting Table SA37 Projects delayed from previous financial year/s",null,null,{"$f":"A153&\" Consolidated projects delayed from previous financial year/s\"","v":"Supporting Table SA37 Consolidated projects delayed from previous financial year/s"},{"$f":"A153& \" Projects delayed from previous financial year/s\"","v":"Supporting Table SA37 Projects delayed from previous financial year/s"}]
["Supporting Table SA38",{"$f":"IF(Consolques=\"YES\",E154,F154)","v":"Supporting Table SA38 Detailed operational projects"},null,null,{"$f":"A154&\" Consolidated detailed operational projects\"","v":"Supporting Table SA38 Consolidated detailed operational projects"},{"$f":"A154& \" Detailed operational projects\"","v":"Supporting Table SA38 Detailed operational projects"}]
[]
["Budget Charts","Charts","Cross reference"]
["Chart A1 ",{"$f":"A157&\"Revenue by Municipal Vote\"","v":"Chart A1 Revenue by Municipal Vote"}]
["Chart A2 ",{"$f":"A158&\"Expenditure by Municipal Vote\"","v":"Chart A2 Expenditure by Municipal Vote"}]
["Chart A3 ",{"$f":"A159&\"Revenue by Standard Classification\"","v":"Chart A3 Revenue by Standard Classification"},"A2"]
["Chart A4 ",{"$f":"A160&\"Expenditure by Standard Classification\"","v":"Chart A4 Expenditure by Standard Classification"},"A2"]
["Chart A5 ",{"$f":"A161&\"Revenue by Major Source (refer 'Minor' source for 'Other Revenue' allocation\"","v":"Chart A5 Revenue by Major Source (refer 'Minor' source for 'Other Revenue' allocation"},"A3"]
["Chart A6 ",{"$f":"A162&\"Revenue by Minor Source (Other)\"","v":"Chart A6 Revenue by Minor Source (Other)"},"A3"]
["Chart A7 ",{"$f":"A163&\"Expenditure by Major Type\"","v":"Chart A7 Expenditure by Major Type"},"A3"]
["Chart A8 ",{"$f":"A164&\"Expenditure by Minor Type (Other)\"","v":"Chart A8 Expenditure by Minor Type (Other)"},"A3"]
["Chart A9 ",{"$f":"A165&\"Capital Expenditure by Municipal Vote/Appropriation (Major)\"","v":"Chart A9 Capital Expenditure by Municipal Vote/Appropriation (Major)"},"A5"]
["Chart A10 ",{"$f":"A166&\"Capital Expenditure by Municipal Vote/Appropriation (Minor)\"","v":"Chart A10 Capital Expenditure by Municipal Vote/Appropriation (Minor)"},"A5"]
["Chart A11 ",{"$f":"A166&\"Capital Expenditure by Standard Classification\"","v":"Chart A10 Capital Expenditure by Standard Classification"},"A5"]
["Chart A12 ",{"$f":"A168&\"Capital expenditure performance trend\"","v":"Chart A12 Capital expenditure performance trend"},"A5"]
["Chart A13 ",{"$f":"A169&\"Capital funding by Source\"","v":"Chart A13 Capital funding by Source"},"A5"]
["Chart A14 ",{"$f":"A170&\"Cash flow trend\"","v":"Chart A14 Cash flow trend"},"A7"]
["Chart A15 ",{"$f":"A171&\"IDP Strategic Objective - Revenue\"","v":"Chart A15 IDP Strategic Objective - Revenue"},"Table A4"]
["Chart A16 ",{"$f":"A172&\"IDP Strategic Objective - Expenditure\"","v":"Chart A16 IDP Strategic Objective - Expenditure"},"Table A5"]
["Chart A17 ",{"$f":"A173&\"IDP Strategic Objective - Capital Expenditure\"","v":"Chart A17 IDP Strategic Objective - Capital Expenditure"},"Table A6"]
["Chart A18 ",{"$f":"A174&\"Debt (borrowing to Total Revenue)\"","v":"Chart A18 Debt (borrowing to Total Revenue)"},"Table A8"]
["Chart A19 ",{"$f":"A175&\"Debtors' trend analysis\"","v":"Chart A19 Debtors' trend analysis"},"Table A8"]
["Chart A20 ",{"$f":"A176&\"Distribution losses\"","v":"Chart A20 Distribution losses"},"Table A8"]
["Chart A21 ",{"$f":"A177&\"Borrowed funding of capital expenditure\"","v":"Chart A21 Borrowed funding of capital expenditure"},"Table A8"]
["Chart A22 ",{"$f":"A178&\"Expenditure analysis (% of Revenue)\"","v":"Chart A22 Expenditure analysis (% of Revenue)"},"Table A8"]
["Chart A23 ",{"$f":"A179&\"Increases in service charges\"","v":"Chart A23 Increases in service charges"},"Table A10"]

{"sheet":"Lookup and lists","index":3,"n_rows":308,"n_cols":30,"rows_kept":308,"cut":false,"hidden":true,"merged":[]}
["Description",2007,2008,2009,2010,2011,2012,2013,2014,2015,2016,2017,2018,2019,2020,null,"Lists",null,null,null,null,null,null,null,"Grants:","National - opex","Provincial - opex","National - capex","Provincial - capex"]
[{"$f":"'Template names'!C2","v":"Prior year -1"},"2005/06","2006/07","2007/08",{"$f":"E1-2&\"/\"&RIGHT(E1,2)-1","v":"2008/9"},"2009/10","2010/11","2011/12","2012/13","2013/14","2014/15","2015/16","2016/17","2017/18","2018/19",null,"Yes","<1","<4","Market","Land & impr.","Yes","Uniform","Yrs",null,"Local Government Equitable Share","Health subsidy"," Municipal Infrastructure Grant (MIG)","Agriculture"]
[{"$f":"'Template names'!C3","v":"Prior year -2"},"2004/05","2005/06","2006/07",{"$f":"E1-3&\"/\"&RIGHT(E1,2)-2","v":"2007/8"},"2008/9","2009/10","2010/11","2011/12","2012/13","2013/14","2014/15","2015/16","2016/17","2017/18",null,"No",1,4,"Dep.Replace","Land only","No","Variable","Mths",null,"RSC Levy Replacement ","Ambulance subsidy"," Public Transport and Systems","Education"]
[{"$f":"'Template names'!C4","v":"Prior year -3"},"2003/04","2004/05","2005/06",{"$f":"E1-4&\"/\"&RIGHT(E1,2)-3","v":"2006/7"},"2007/8","2008/9","2009/10","2010/11","2011/12","2012/13","2013/14","2014/15","2015/16","2016/17",null,null,2,5,"Other","Other",null,null,null,null,"Finance Management ","Housing","Rural Transport Services and Infrastructure","Health"]
[{"$f":"'Template names'!C5","v":"Year in which budget is being prepared"},"Current Year 2006/07","Current Year 2007/08","Current Year 2008/09",{"$f":"\"Current Year \"& E1-1&\"/\"&RIGHT(E1,2)","v":"Current Year 2009/10"},"Current Year 2010/11","Current Year 2011/12","Current Year 2012/13","Current Year 2013/14","Current Year 2014/15","Current Year 2015/16","Current Year 2016/17","Current Year 2017/18","Current Year 2018/19","Current Year 2019/20",null,null,3,6,null,null,null,null,null,null,"Municipal Systems Improvement","Sport and Recreation","Regional Bulk Infrastructure","Housing and Local Government "]
[{"$f":"'Template names'!C6","v":"Year in which budget is being prepared"},"2006/07","2007/08","2008/09",{"$f":"E1-1&\"/\"&RIGHT(E1,2)","v":"2009/10"},"2010/11","2011/12","2012/13","2013/14","2014/15","2015/16","2016/17","2017/18","2018/19","2019/20",null,null,4,"6-10",null,null,null,null,null,null,"Water Services Operating Subsidy ",null,"Rural Households Infrastructure ","Other Departments"]
[{"$f":"'Template names'!C7","v":"MTREF name"},"2007/08 Medium Term Revenue & Expenditure Framework","2008/09 Medium Term Revenue & Expenditure Framework","2009/10 Medium Term Revenue & Expenditure Framework",{"$f":"E1&\"/\"&RIGHT(E1,2)+1&\" Medium Term Revenue & Expenditure Framework\"","v":"2010/11 Medium Term Revenue & Expenditure Framework"},"2011/12 Medium Term Revenue & Expenditure Framework","2012/13 Medium Term Revenue & Expenditure Framework","2013/14 Medium Term Revenue & Expenditure Framework","2014/15 Medium Term Revenue & Expenditure Framework","2015/16 Medium Term Revenue & Expenditure Framework","2016/17 Medium Term Revenue & Expenditure Framework","2017/18 Medium Term Revenue & Expenditure Framework","2018/19 Medium Term Revenue & Expenditure Framework","2019/20 Medium Term Revenue & Expenditure Framework","2020/21 Medium Term Revenue & Expenditure Framework",null,null,5,">10",null,null,null,null,null,null,"Energy Efficiency  and Demand Management",null,"Neighbourhood Development Partnership","Public Works, Roads, Transport "]
[{"$f":"'Template names'!C15","v":"1st year of MTREF"},"Budget Year 2007/08","Budget Year 2008/09","Budget Year 2009/10",{"$f":"\"Budget Year \"&E1&\"/\"&RIGHT(E1,2)+1","v":"Budget Year 2010/11"},"Budget Year 2011/12","Budget Year 2012/13","Budget Year 2013/14","Budget Year 2014/15","Budget Year 2015/16","Budget Year 2016/17","Budget Year 2017/18","Budget Year 2018/19","Budget Year 2019/20","Budget Year 2020/21",null,null,">5",null,null,null,null,null,null,null,"Integrated National Electrification Programme",null,"2010 FIFA World Cup Stadiums Development","Sport and Recreation"]
[{"$f":"'Template names'!C16","v":"2nd year of MTREF"},"Budget Year +1 2008/09","Budget Year +1 2009/10","Budget Year +1 2010/11",{"$f":"\"Budget Year +1 \"&E1+1&\"/\"&RIGHT(E1,2)+2","v":"Budget Year +1 2011/12"},"Budget Year +1 2012/13","Budget Year +1 2013/14","Budget Year +1 2014/15","Budget Year +1 2015/16","Budget Year +1 2016/17","Budget Year +1 2017/18","Budget Year +1 2018/19","Budget Year +1 2019/20","Budget Year +1 2020/21","Budget Year +1 2021/22",null,null,null,null,null,null,null,null,null,null,"Municipal Drought Relief "]
[{"$f":"'Template names'!C17","v":"3rd year of MTREF"},"Budget Year +2 2009/10","Budget Year +2 2010/11","Budget Year +2 2011/12",{"$f":"\"Budget Year +2 \"&E1+2&\"/\"&RIGHT(E1,2)+3","v":"Budget Year +2 2012/13"},"Budget Year +2 2013/14","Budget Year +2 2014/15","Budget Year +2 2015/16","Budget Year +2 2016/17","Budget Year +2 2017/18","Budget Year +2 2018/19","Budget Year +2 2019/20","Budget Year +2 2020/21","Budget Year +2 2021/22","Budget Year +2 2022/23",null,null,null,null,null,null,null,null,null,null,"2010 FIFA World Cup Operating"]
[{"$f":"'Template names'!C18","v":"1st yr of long term forecast"},"Forecast 2010/11","Forecast 2011/12","Forecast 2012/13",{"$f":"\"Forecast \"&E1+3&\"/\"&RIGHT(E1,2)+4","v":"Forecast 2013/14"},"Forecast 2014/15","Forecast 2015/16","Forecast 2016/17","Forecast 2017/18","Forecast 2018/19","Forecast 2019/20","Forecast 2020/21","Forecast 2021/22","Forecast 2022/23","Forecast 2023/24",null,null,null,null,null,null,null,null,null,null,"Electricity Demand Side Management"]
[{"$f":"'Template names'!C19","v":"Next yr of long term forecast"},"Forecast 2011/12","Forecast 2012/13","Forecast 2013/14",{"$f":"\"Forecast \"&E1+4&\"/\"&RIGHT(E1,2)+5","v":"Forecast 2014/15"},"Forecast 2015/16","Forecast 2016/17","Forecast 2017/18","Forecast 2018/19","Forecast 2019/20","Forecast 2020/21","Forecast 2021/22","Forecast 2022/23","Forecast 2023/24","Forecast 2024/25",null,null,null,null,null,null,null,null,null,null,"EPWP Incentive"]
[{"$f":"'Template names'!C20","v":"Next yr of long term forecast"},"Forecast 2012/13","Forecast 2013/14","Forecast 2014/15",{"$f":"\"Forecast \"&E1+5&\"/\"&RIGHT(E1,2)+6","v":"Forecast 2015/16"},"Forecast 2016/17","Forecast 2017/18","Forecast 2018/19","Forecast 2019/20","Forecast 2020/21","Forecast 2021/22","Forecast 2022/23","Forecast 2023/24","Forecast 2024/25","Forecast 2025/26"]
[{"$f":"'Template names'!C21","v":"Next yr of long term forecast"},"Forecast 2013/14","Forecast 2014/15","Forecast 2015/16",{"$f":"\"Forecast \"&E1+6&\"/\"&RIGHT(E1,2)+7","v":"Forecast 2016/17"},"Forecast 2017/18","Forecast 2018/19","Forecast 2019/20","Forecast 2020/21","Forecast 2021/22","Forecast 2022/23","Forecast 2023/24","Forecast 2024/25","Forecast 2025/26","Forecast 2026/27",null,null,null,null,null,null,null,null,null,null,"Asset Class","Asset sub-class old","Asset sub-class","IUDF","MTSF"]
[{"$f":"'Template names'!C22","v":"Next yr of long term forecast"},"Forecast 2014/15","Forecast 2015/16","Forecast 2016/17",{"$f":"\"Forecast \"&E1+7&\"/\"&RIGHT(E1,2)+8","v":"Forecast 2017/18"},"Forecast 2018/19","Forecast 2019/20","Forecast 2020/21","Forecast 2021/22","Forecast 2022/23","Forecast 2023/24","Forecast 2024/25","Forecast 2025/26","Forecast 2026/27","Forecast 2027/28"]
[{"$f":"'Template names'!C23","v":"Next yr of long term forecast"},"Forecast 2015/16","Forecast 2016/17","Forecast 2017/18",{"$f":"\"Forecast \"&E1+8&\"/\"&RIGHT(E1,2)+9","v":"Forecast 2018/19"},"Forecast 2019/20","Forecast 2020/21","Forecast 2021/22","Forecast 2022/23","Forecast 2023/24","Forecast 2024/25","Forecast 2025/26","Forecast 2026/27","Forecast 2027/28","Forecast 2028/29",null,null,null,null,null,null,null,null,null,null,"Roads Infrastructure","Roads, Pavements & Bridges","Roads","Spatial integration","Quality basic education"]
[{"$f":"'Template names'!C24","v":"Next yr of long term forecast"},"Forecast 2016/17","Forecast 2017/18","Forecast 2018/19",{"$f":"\"Forecast \"&E1+9&\"/\"&RIGHT(E1,2)+10","v":"Forecast 2019/20"},"Forecast 2020/21","Forecast 2021/22","Forecast 2022/23","Forecast 2023/24","Forecast 2024/25","Forecast 2025/26","Forecast 2026/27","Forecast 2027/28","Forecast 2028/29","Forecast 2029/30",null,null,null,null,null,null,null,null,null,null,"Storm water Infrastructure","Storm water","Road Structures","Inclusion and access","A long and healthy life for all South Africans"]
[{"$f":"'Template names'!C25","v":"Next yr of long term forecast"},"Forecast 2017/18","Forecast 2018/19","Forecast 2019/20",{"$f":"\"Forecast \"&E1+10&\"/\"&RIGHT(E1,2)+11","v":"Forecast 2020/21"},"Forecast 2021/22","Forecast 2022/23","Forecast 2023/24","Forecast 2024/25","Forecast 2025/26","Forecast 2026/27","Forecast 2027/28","Forecast 2028/29","Forecast 2029/30","Forecast 2030/31",null,null,null,null,null,null,null,null,null,null,"Electrical Infrastructure","Generation","Road Furniture","Growth","All people in South Africa are and feel safe"]
[{"$f":"'Template names'!C26","v":"Next yr of long term forecast"},"Forecast 2018/19","Forecast 2019/20","Forecast 2020/21",{"$f":"\"Forecast \"&E1+11&\"/\"&RIGHT(E1,2)+12","v":"Forecast 2021/22"},"Forecast 2022/23","Forecast 2023/24","Forecast 2024/25","Forecast 2025/26","Forecast 2026/27","Forecast 2027/28","Forecast 2028/29","Forecast 2029/30","Forecast 2030/31","Forecast 2031/32",null,null,null,null,null,null,null,null,null,null,"Water Supply Infrastructure","Transmission & Reticulation","Capital Spares","Governance","Decent employment through inclusive growth"]
[{"$f":"'Template names'!C27","v":"Next yr of long term forecast"},"Forecast 2019/20","Forecast 2020/21","Forecast 2021/22",{"$f":"\"Forecast \"&E1+12&\"/\"&RIGHT(E1,2)+13","v":"Forecast 2022/23"},"Forecast 2023/24","Forecast 2024/25","Forecast 2025/26","Forecast 2026/27","Forecast 2027/28","Forecast 2028/29","Forecast 2029/30","Forecast 2030/31","Forecast 2031/32","Forecast 2032/33",null,null,null,null,null,null,null,null,null,null,"Sanitation Infrastructure","Street Lighting","Drainage Collection",null,"A skilled and capable workforce to support an inclusive growth path"]
[{"$f":"'Template names'!C28","v":"Next yr of long term forecast"},"Forecast 2020/21","Forecast 2021/22","Forecast 2022/23",{"$f":"\"Forecast \"&E1+13&\"/\"&RIGHT(E1,2)+14","v":"Forecast 2023/24"},"Forecast 2024/25","Forecast 2025/26","Forecast 2026/27","Forecast 2027/28","Forecast 2028/29","Forecast 2029/30","Forecast 2030/31","Forecast 2031/32","Forecast 2032/33","Forecast 2033/34",null,null,null,null,null,null,null,null,null,null,"Solid Waste Infrastructure","Dams & Reservoirs","Storm water Conveyance",null,"An efficient, competitive and responsive economic infrastructure network"]
[{"$f":"'Template names'!C29","v":"Next yr of long term forecast"},"Forecast 2021/22","Forecast 2022/23","Forecast 2023/24",{"$f":"\"Forecast \"&E1+14&\"/\"&RIGHT(E1,2)+15","v":"Forecast 2024/25"},"Forecast 2025/26","Forecast 2026/27","Forecast 2027/28","Forecast 2028/29","Forecast 2029/30","Forecast 2030/31","Forecast 2031/32","Forecast 2032/33","Forecast 2033/34","Forecast 2034/35",null,null,null,null,null,null,null,null,null,null,"Rail Infrastructure","Water purification","Attenuation",null,"Vibrant, equitable, sustainable rural communities contributing towards food security for all"]
["Adjustments Budget","Annual target 2007/08","Annual target 2008/09","Annual target 2009/10",{"$f":"\"Annual target \" & E1&\"/\"&RIGHT(E1,2)+1","v":"Annual target 2010/11"},"Annual target 2011/12","Annual target 2012/13","Annual target 2013/14","Annual target 2014/15","Annual target 2015/16","Annual target 2016/17","Annual target 2017/18","Annual target 2018/19","Annual target 2019/20","Annual target 2020/21",null,null,null,null,null,null,null,null,null,null,"Coastal Infrastructure","Reticulation","Power Plants",null,"Sustainable human settlements and improved quality of household life"]
[{"$f":"A23","v":"Adjustments Budget"},"Revised target 2007/08","Revised target 2008/09","Revised target 2009/10",{"$f":"\"Revised target \"& E1&\"/\"&RIGHT(E1,2)+1","v":"Revised target 2010/11"},"Revised target 2011/12","Revised target 2012/13","Revised target 2013/14","Revised target 2014/15","Revised target 2015/16","Revised target 2016/17","Revised target 2017/18","Revised target 2018/19","Revised target 2019/20","Revised target 2020/21",null,null,null,null,null,null,null,null,null,null,"Information and Communication Infrastructure","Sewerage purification","HV Substations",null,"Responsive, accountable, effective and efficient local government"]
["NOTE: This sheet should not be directly amended - select headings from sheet 'S'",null,null,null,null,null,null,null,null,null,null,null,null,null,null,null,null,null,null,null,null,null,null,null,null,"Community Facilities","Waste Management","HV Switching Station",null,"Protect and enhance our environmental assets and natural resources"]
[null,null,null,null,null,null,null,null,null,null,null,null,null,null,null,null,null,null,null,null,null,null,null,null,null,"Sport and Recreation Facilities","Transportation","HV Transmission Conductors",null,"Create a better South Africa and contribute to a better Africa and a better world"]
["Name link",130,null,null,null,null,null,null,null,null,null,null,null,null,null,null,null,null,null,null,null,null,null,null,null,"Heritage assets","Gas","MV Substations",null,"An efficient, effective and development-oriented public service"]
["Name of Muni",{"$f":"INDEX(B29:B307,B27,1)","v":"LIM332 Greater Letaba"},null,null,null,null,null,null,null,null,null,null,null,null,null,null,null,null,null,null,null,null,null,null,null,"Revenue Generating","Parks & gardens","MV Switching Stations",null,"A comprehensive, responsive and sustainable social protection system"]
[null,"Choose name from list","Set name on 'Instructions' sheet",null,null,null,null,null,null,null,null,null,null,null,null,null,null,null,null,null,null,null,null,null,null,"Non-revenue Generating","Sportsfields & stadia","MV Networks",null,"A diverse, socially cohesive society with a common national identity"]
[null,"BUF Buffalo City","EC EASTERN CAPE",null,null,null,null,null,null,null,null,null,null,null,null,null,null,null,null,null,null,null,null,null,null,"Operational Buildings","Swimming pools","LV Networks"]
[null,"NMA Nelson Mandela Bay","EC EASTERN CAPE",null,null,null,null,null,null,null,null,null,null,null,null,null,null,null,null,null,null,null,null,null,null,"Housing","Community halls","Capital Spares"]
[null,"EC101 Dr Beyers Naude","EC EASTERN CAPE",null,null,null,null,null,null,null,null,null,null,null,null,null,null,null,null,null,null,null,null,null,null,"Biological or Cultivated Assets","Libraries","Dams and Weirs"]
[null,"EC102 Blue Crane Route","EC EASTERN CAPE",null,null,null,null,null,null,null,null,null,null,null,null,null,null,null,null,null,null,null,null,null,null,"Servitudes","Recreational facilities","Boreholes"]
[null,"EC104 Makana","EC EASTERN CAPE",null,null,null,null,null,null,null,null,null,null,null,null,null,null,null,null,null,null,null,null,null,null,"Licences and Rights","Fire, safety & emergency","Reservoirs"]
[null,"EC105 Ndlambe","EC EASTERN CAPE",null,null,null,null,null,null,null,null,null,null,null,null,null,null,null,null,null,null,null,null,null,null,"Computer Equipment","Security and policing","Pump Stations"]
[null,"EC106 Sundays River Valley","EC EASTERN CAPE",null,null,null,null,null,null,null,null,null,null,null,null,null,null,null,null,null,null,null,null,null,null,"Furniture and Office Equipment","Buses","Water Treatment Works"]
[null,"EC108 Kouga","EC EASTERN CAPE",null,null,null,null,null,null,null,null,null,null,null,null,null,null,null,null,null,null,null,null,null,null,"Machinery and Equipment","Clinics","Bulk Mains"]
[null,"EC109 Kou-Kamma","EC EASTERN CAPE",null,null,null,null,null,null,null,null,null,null,null,null,null,null,null,null,null,null,null,null,null,null,"Transport Assets","Museums & Art Galleries","Distribution"]
[null,"DC10 Sarah Baartman","EC EASTERN CAPE",null,null,null,null,null,null,null,null,null,null,null,null,null,null,null,null,null,null,null,null,null,null,"Land","Cemeteries","Distribution Points"]
[null,"EC121 Mbhashe","EC EASTERN CAPE",null,null,null,null,null,null,null,null,null,null,null,null,null,null,null,null,null,null,null,null,null,null,"Zoo's, Marine and Non-biological Animals","Social rental housing","PRV Stations"]
[null,"EC122 Mnquma","EC EASTERN CAPE",null,null,null,null,null,null,null,null,null,null,null,null,null,null,null,null,null,null,null,null,null,null,null,"Buildings","Capital Spares"]
[null,"EC123 Great Kei","EC EASTERN CAPE",null,null,null,null,null,null,null,null,null,null,null,null,null,null,null,null,null,null,null,null,null,null,null,"Housing development","Pump Station"]
[null,"EC124 Amahlathi","EC EASTERN CAPE",null,null,null,null,null,null,null,null,null,null,null,null,null,null,null,null,null,null,null,null,null,null,null,"General vehicles","Reticulation"]
[null,"EC126 Ngqushwa","EC EASTERN CAPE",null,null,null,null,null,null,null,null,null,null,null,null,null,null,null,null,null,null,null,null,null,null,null,"Specialised vehicles - Refuse","Waste Water Treatment Works"]
[null,"EC129 Raymond Mhlaba","EC EASTERN CAPE",null,null,null,null,null,null,null,null,null,null,null,null,null,null,null,null,null,null,null,null,null,null,null,"Specialised vehicles - Fire","Outfall Sewers"]
[null,"DC12 Amathole","EC EASTERN CAPE",null,null,null,null,null,null,null,null,null,null,null,null,null,null,null,null,null,null,null,null,null,null,null,"Specialised vehicles - Conservancy","Toilet Facilities"]
[null,"EC131 Inxuba Yethemba","EC EASTERN CAPE",null,null,null,null,null,null,null,null,null,null,null,null,null,null,null,null,null,null,null,null,null,null,null,"Specialised vehicles - Ambulances","Capital Spares"]
[null,"EC135 Intsika Yethu","EC EASTERN CAPE",null,null,null,null,null,null,null,null,null,null,null,null,null,null,null,null,null,null,null,null,null,null,null,"Plant & equipment","Landfill Sites"]
[null,"EC136 Emalahleni (Ec)","EC EASTERN CAPE",null,null,null,null,null,null,null,null,null,null,null,null,null,null,null,null,null,null,null,null,null,null,null,"Computers - hardware/equipment","Waste Transfer Stations"]
[null,"EC137 Engcobo","EC EASTERN CAPE",null,null,null,null,null,null,null,null,null,null,null,null,null,null,null,null,null,null,null,null,null,null,null,"Furniture and other office equipment","Waste Processing Facilities"]
[null,"EC138 Sakhisizwe","EC EASTERN CAPE",null,null,null,null,null,null,null,null,null,null,null,null,null,null,null,null,null,null,null,null,null,null,null,"Abattoirs","Waste Drop-off Points"]
[null,"EC139 Enoch Mgijima","EC EASTERN CAPE",null,null,null,null,null,null,null,null,null,null,null,null,null,null,null,null,null,null,null,null,null,null,null,"Markets","Waste Separation Facilities"]
[null,"DC13 Chris Hani","EC EASTERN CAPE",null,null,null,null,null,null,null,null,null,null,null,null,null,null,null,null,null,null,null,null,null,null,null,"Civic Land and Buildings","Electricity Generation Facilities"]
[null,"EC141 Elundini","EC EASTERN CAPE",null,null,null,null,null,null,null,null,null,null,null,null,null,null,null,null,null,null,null,null,null,null,null,"Other Buildings","Capital Spares"]
[null,"EC142 Senqu","EC EASTERN CAPE",null,null,null,null,null,null,null,null,null,null,null,null,null,null,null,null,null,null,null,null,null,null,null,"Other Land","Rail Lines"]
[null,"EC145 Walter Sisulu","EC EASTERN CAPE",null,null,null,null,null,null,null,null,null,null,null,null,null,null,null,null,null,null,null,null,null,null,null,"Surplus Assets - (Investment or Inventory)","Rail Structures"]
[null,"DC14 Joe Gqabi","EC EASTERN CAPE",null,null,null,null,null,null,null,null,null,null,null,null,null,null,null,null,null,null,null,null,null,null,null,"Computers - software & programming","Rail Furniture"]
[null,"EC153 Ngquza Hills","EC EASTERN CAPE",null,null,null,null,null,null,null,null,null,null,null,null,null,null,null,null,null,null,null,null,null,null,null,"Other","Drainage Collection"]
[null,"EC154 Port St Johns","EC EASTERN CAPE",null,null,null,null,null,null,null,null,null,null,null,null,null,null,null,null,null,null,null,null,null,null,null,null,"Storm water Conveyance"]
[null,"EC155 Nyandeni","EC EASTERN CAPE",null,null,null,null,null,null,null,null,null,null,null,null,null,null,null,null,null,null,null,null,null,null,"SA16 - Investments",null,"Attenuation"]
[null,"EC156 Mhlontlo","EC EASTERN CAPE",null,null,null,null,null,null,null,null,null,null,null,null,null,null,null,null,null,null,null,null,null,null,"Security","Interest rate","MV Substations"]
[null,"EC157 King Sabata Dalindyebo","EC EASTERN CAPE",null,null,null,null,null,null,null,null,null,null,null,null,null,null,null,null,null,null,null,null,null,null,"Yes","Fixed","LV Networks"]
[null,"DC15 O .R. Tambo","EC EASTERN CAPE",null,null,null,null,null,null,null,null,null,null,null,null,null,null,null,null,null,null,null,null,null,null,"No","Variable","Capital Spares"]
[null,"EC441 Matatiele","EC EASTERN CAPE",null,null,null,null,null,null,null,null,null,null,null,null,null,null,null,null,null,null,null,null,null,null,null,null,"Sand Pumps"]
[null,"EC442 Umzimvubu","EC EASTERN CAPE",null,null,null,null,null,null,null,null,null,null,null,null,null,null,null,null,null,null,null,null,null,null,null,null,"Piers"]
[null,"EC443 Mbizana","EC EASTERN CAPE",null,null,null,null,null,null,null,null,null,null,null,null,null,null,null,null,null,null,null,null,null,null,"SA36, SA37 - Capital projects",null,"Revetments"]
[null,"EC444 Ntabankulu","EC EASTERN CAPE",null,null,null,null,null,null,null,null,null,null,null,null,null,null,null,null,null,null,null,null,null,null,"Yes",null,"Promenades"]
[null,"DC44 Alfred Nzo","EC EASTERN CAPE",null,null,null,null,null,null,null,null,null,null,null,null,null,null,null,null,null,null,null,null,null,null,"No",null,"Capital Spares"]
[null,"MAN Mangaung","FS FREE STATE",null,null,null,null,null,null,null,null,null,null,null,null,null,null,null,null,null,null,null,null,null,null,null,null,"Data Centres"]
[null,"FS161 Letsemeng","FS FREE STATE",null,null,null,null,null,null,null,null,null,null,null,null,null,null,null,null,null,null,null,null,null,null,null,null,"Core Layers"]
[null,"FS162 Kopanong","FS FREE STATE",null,null,null,null,null,null,null,null,null,null,null,null,null,null,null,null,null,null,null,null,null,null,null,null,"Distribution Layers"]
[null,"FS163 Mohokare","FS FREE STATE",null,null,null,null,null,null,null,null,null,null,null,null,null,null,null,null,null,null,null,null,null,null,null,null,"Capital Spares"]
[null,"DC16 Xhariep","FS FREE STATE",null,null,null,null,null,null,null,null,null,null,null,null,null,null,null,null,null,null,null,null,null,null,null,null,"Halls"]
[null,"FS181 Masilonyana","FS FREE STATE",null,null,null,null,null,null,null,null,null,null,null,null,null,null,null,null,null,null,null,null,null,null,null,null,"Centres"]
[null,"FS182 Tokologo","FS FREE STATE",null,null,null,null,null,null,null,null,null,null,null,null,null,null,null,null,null,null,null,null,null,null,null,null,"Crèches"]
[null,"FS183 Tswelopele","FS FREE STATE",null,null,null,null,null,null,null,null,null,null,null,null,null,null,null,null,null,null,null,null,null,null,null,null,"Clinics/Care Centres"]
[null,"FS184 Matjhabeng","FS FREE STATE",null,null,null,null,null,null,null,null,null,null,null,null,null,null,null,null,null,null,null,null,null,null,null,null,"Fire/Ambulance Stations"]
[null,"FS185 Nala","FS FREE STATE",null,null,null,null,null,null,null,null,null,null,null,null,null,null,null,null,null,null,null,null,null,null,null,null,"Testing Stations"]
[null,"DC18 Lejweleputswa","FS FREE STATE",null,null,null,null,null,null,null,null,null,null,null,null,null,null,null,null,null,null,null,null,null,null,null,null,"Museums"]
[null,"FS191 Setsoto","FS FREE STATE",null,null,null,null,null,null,null,null,null,null,null,null,null,null,null,null,null,null,null,null,null,null,null,null,"Galleries"]
[null,"FS192 Dihlabeng","FS FREE STATE",null,null,null,null,null,null,null,null,null,null,null,null,null,null,null,null,null,null,null,null,null,null,null,null,"Theatres"]
[null,"FS193 Nketoana","FS FREE STATE",null,null,null,null,null,null,null,null,null,null,null,null,null,null,null,null,null,null,null,null,null,null,null,null,"Libraries"]
[null,"FS194 Maluti-a-Phofung","FS FREE STATE",null,null,null,null,null,null,null,null,null,null,null,null,null,null,null,null,null,null,null,null,null,null,null,null,"Cemeteries/Crematoria"]
[null,"FS195 Phumelela","FS FREE STATE",null,null,null,null,null,null,null,null,null,null,null,null,null,null,null,null,null,null,null,null,null,null,null,null,"Police"]
[null,"FS196 Mantsopa","FS FREE STATE",null,null,null,null,null,null,null,null,null,null,null,null,null,null,null,null,null,null,null,null,null,null,null,null,"Purls"]
[null,"DC19 Thabo Mofutsanyana","FS FREE STATE",null,null,null,null,null,null,null,null,null,null,null,null,null,null,null,null,null,null,null,null,null,null,null,null,"Public Open Space"]
[null,"FS201 Moqhaka","FS FREE STATE",null,null,null,null,null,null,null,null,null,null,null,null,null,null,null,null,null,null,null,null,null,null,null,null,"Nature Reserves"]
[null,"FS203 Ngwathe","FS FREE STATE",null,null,null,null,null,null,null,null,null,null,null,null,null,null,null,null,null,null,null,null,null,null,null,null,"Public Ablution Facilities"]
[null,"FS204 Metsimaholo","FS FREE STATE",null,null,null,null,null,null,null,null,null,null,null,null,null,null,null,null,null,null,null,null,null,null,null,null,"Markets"]
[null,"FS205 Mafube","FS FREE STATE",null,null,null,null,null,null,null,null,null,null,null,null,null,null,null,null,null,null,null,null,null,null,null,null,"Stalls"]
[null,"DC20 Fezile Dabi","FS FREE STATE",null,null,null,null,null,null,null,null,null,null,null,null,null,null,null,null,null,null,null,null,null,null,null,null,"Abattoirs"]
[null,"EKU City of Ekurhuleni","GT GAUTENG",null,null,null,null,null,null,null,null,null,null,null,null,null,null,null,null,null,null,null,null,null,null,null,null,"Airports"]
[null,"JHB City Of Johannesburg","GT GAUTENG",null,null,null,null,null,null,null,null,null,null,null,null,null,null,null,null,null,null,null,null,null,null,null,null,"Taxi Ranks/Bus Terminals"]
[null,"TSH City Of Tshwane","GT GAUTENG",null,null,null,null,null,null,null,null,null,null,null,null,null,null,null,null,null,null,null,null,null,null,null,null,"Capital Spares"]
[null,"GT421 Emfuleni","GT GAUTENG",null,null,null,null,null,null,null,null,null,null,null,null,null,null,null,null,null,null,null,null,null,null,null,null,"Indoor Facilities"]
[null,"GT422 Midvaal","GT GAUTENG",null,null,null,null,null,null,null,null,null,null,null,null,null,null,null,null,null,null,null,null,null,null,null,null,"Outdoor Facilities"]
[null,"GT423 Lesedi","GT GAUTENG",null,null,null,null,null,null,null,null,null,null,null,null,null,null,null,null,null,null,null,null,null,null,null,null,"Capital Spares"]
[null,"DC42 Sedibeng","GT GAUTENG",null,null,null,null,null,null,null,null,null,null,null,null,null,null,null,null,null,null,null,null,null,null,null,null,"Monuments"]
[null,"GT481 Mogale City","GT GAUTENG",null,null,null,null,null,null,null,null,null,null,null,null,null,null,null,null,null,null,null,null,null,null,null,null,"Historic Buildings"]
[null,"GT484 Merafong City","GT GAUTENG",null,null,null,null,null,null,null,null,null,null,null,null,null,null,null,null,null,null,null,null,null,null,null,null,"Works of Art"]
[null,"GT485 Rand West City","GT GAUTENG",null,null,null,null,null,null,null,null,null,null,null,null,null,null,null,null,null,null,null,null,null,null,null,null,"Conservation Areas"]
[null,"DC48 West Rand","GT GAUTENG",null,null,null,null,null,null,null,null,null,null,null,null,null,null,null,null,null,null,null,null,null,null,null,null,"Other Heritage"]
[null,"ETH eThekwini","KZN KWAZULU-NATAL",null,null,null,null,null,null,null,null,null,null,null,null,null,null,null,null,null,null,null,null,null,null,null,null,"Improved Property"]
[null,"KZN212 Umdoni","KZN KWAZULU-NATAL",null,null,null,null,null,null,null,null,null,null,null,null,null,null,null,null,null,null,null,null,null,null,null,null,"Unimproved Property"]
[null,"KZN213 Umzumbe","KZN KWAZULU-NATAL",null,null,null,null,null,null,null,null,null,null,null,null,null,null,null,null,null,null,null,null,null,null,null,null,"Municipal Offices"]
[null,"KZN214 uMuziwabantu","KZN KWAZULU-NATAL",null,null,null,null,null,null,null,null,null,null,null,null,null,null,null,null,null,null,null,null,null,null,null,null,"Pay/Enquiry Points"]
[null,"KZN216 Ray Nkonyeni","KZN KWAZULU-NATAL",null,null,null,null,null,null,null,null,null,null,null,null,null,null,null,null,null,null,null,null,null,null,null,null,"Building Plan Offices"]
[null,"DC21 Ugu","KZN KWAZULU-NATAL",null,null,null,null,null,null,null,null,null,null,null,null,null,null,null,null,null,null,null,null,null,null,null,null,"Workshops"]
[null,"KZN221 uMshwathi","KZN KWAZULU-NATAL",null,null,null,null,null,null,null,null,null,null,null,null,null,null,null,null,null,null,null,null,null,null,null,null,"Yards"]
[null,"KZN222 uMngeni","KZN KWAZULU-NATAL",null,null,null,null,null,null,null,null,null,null,null,null,null,null,null,null,null,null,null,null,null,null,null,null,"Stores"]
[null,"KZN223 Mpofana","KZN KWAZULU-NATAL",null,null,null,null,null,null,null,null,null,null,null,null,null,null,null,null,null,null,null,null,null,null,null,null,"Laboratories"]
[null,"KZN224 Impendle","KZN KWAZULU-NATAL",null,null,null,null,null,null,null,null,null,null,null,null,null,null,null,null,null,null,null,null,null,null,null,null,"Training Centres"]
[null,"KZN225 Msunduzi","KZN KWAZULU-NATAL",null,null,null,null,null,null,null,null,null,null,null,null,null,null,null,null,null,null,null,null,null,null,null,null,"Manufacturing Plant"]
[null,"KZN226 Mkhambathini","KZN KWAZULU-NATAL",null,null,null,null,null,null,null,null,null,null,null,null,null,null,null,null,null,null,null,null,null,null,null,null,"Depots"]
[null,"KZN227 Richmond","KZN KWAZULU-NATAL",null,null,null,null,null,null,null,null,null,null,null,null,null,null,null,null,null,null,null,null,null,null,null,null,"Capital Spares"]
[null,"DC22 uMgungundlovu","KZN KWAZULU-NATAL",null,null,null,null,null,null,null,null,null,null,null,null,null,null,null,null,null,null,null,null,null,null,null,null,"Staff Housing"]
[null,"KZN235 Okhahlamba","KZN KWAZULU-NATAL",null,null,null,null,null,null,null,null,null,null,null,null,null,null,null,null,null,null,null,null,null,null,null,null,"Social Housing"]
[null,"KZN237 Inkosi Langalibalele","KZN KWAZULU-NATAL",null,null,null,null,null,null,null,null,null,null,null,null,null,null,null,null,null,null,null,null,null,null,null,null,"Capital Spares"]
[null,"KZN238 Alfred Duma","KZN KWAZULU-NATAL",null,null,null,null,null,null,null,null,null,null,null,null,null,null,null,null,null,null,null,null,null,null,null,null,"Water Rights"]
[null,"DC23 Uthukela","KZN KWAZULU-NATAL",null,null,null,null,null,null,null,null,null,null,null,null,null,null,null,null,null,null,null,null,null,null,null,null,"Effluent Licenses"]
[null,"KZN241 Endumeni","KZN KWAZULU-NATAL",null,null,null,null,null,null,null,null,null,null,null,null,null,null,null,null,null,null,null,null,null,null,null,null,"Solid Waste Licenses"]
[null,"KZN242 Nquthu","KZN KWAZULU-NATAL",null,null,null,null,null,null,null,null,null,null,null,null,null,null,null,null,null,null,null,null,null,null,null,null,"Computer Software and Applications"]
[null,"KZN244 Msinga","KZN KWAZULU-NATAL",null,null,null,null,null,null,null,null,null,null,null,null,null,null,null,null,null,null,null,null,null,null,null,null,"Load Settlement Software Applications"]
[null,"KZN245 Umvoti","KZN KWAZULU-NATAL",null,null,null,null,null,null,null,null,null,null,null,null,null,null,null,null,null,null,null,null,null,null,null,null,"Unspecified"]
[null,"DC24 Umzinyathi","KZN KWAZULU-NATAL"]
[null,"KZN252 Newcastle","KZN KWAZULU-NATAL"]
[null,"KZN253 Emadlangeni","KZN KWAZULU-NATAL"]
[null,"KZN254 Dannhauser","KZN KWAZULU-NATAL"]
[null,"DC25 Amajuba","KZN KWAZULU-NATAL"]
[null,"KZN261 eDumbe","KZN KWAZULU-NATAL"]
[null,"KZN262 uPhongolo","KZN KWAZULU-NATAL"]
[null,"KZN263 Abaqulusi","KZN KWAZULU-NATAL"]
[null,"KZN265 Nongoma","KZN KWAZULU-NATAL"]
[null,"KZN266 Ulundi","KZN KWAZULU-NATAL"]
[null,"DC26 Zululand","KZN KWAZULU-NATAL"]
[null,"KZN271 Umhlabuyalingana","KZN KWAZULU-NATAL"]
[null,"KZN272 Jozini","KZN KWAZULU-NATAL"]
[null,"KZN275 Mtubatuba","KZN KWAZULU-NATAL"]
[null,"KZN276 Hlabisa Big Five","KZN KWAZULU-NATAL"]
[null,"DC27 Umkhanyakude","KZN KWAZULU-NATAL"]
[null,"KZN281 Mfolozi","KZN KWAZULU-NATAL"]
[null,"KZN282 uMhlathuze","KZN KWAZULU-NATAL"]
[null,"KZN284 uMlalazi","KZN KWAZULU-NATAL"]
[null,"KZN285 Mthonjaneni","KZN KWAZULU-NATAL"]
[null,"KZN286 Nkandla","KZN KWAZULU-NATAL"]
[null,"DC28 King Cetshwayo","KZN KWAZULU-NATAL"]
[null,"KZN291 Mandeni","KZN KWAZULU-NATAL"]
[null,"KZN292 KwaDukuza","KZN KWAZULU-NATAL"]
[null,"KZN293 Ndwedwe","KZN KWAZULU-NATAL"]
[null,"KZN294 Maphumulo","KZN KWAZULU-NATAL"]
[null,"DC29 iLembe","KZN KWAZULU-NATAL"]
[null,"KZN433 Greater Kokstad","KZN KWAZULU-NATAL"]
[null,"KZN434 Ubuhlebezwe","KZN KWAZULU-NATAL"]
[null,"KZN435 Umzimkhulu","KZN KWAZULU-NATAL"]
[null,"KZN436 Dr Nkosazana Dlamini Zuma","KZN KWAZULU-NATAL"]
[null,"DC43 Harry Gwala","KZN KWAZULU-NATAL"]
[null,"LIM331 Greater Giyani","LIM LIMPOPO"]
[null,"LIM332 Greater Letaba","LIM LIMPOPO"]
[null,"LIM333 Greater Tzaneen","LIM LIMPOPO"]
[null,"LIM334 Ba-Phalaborwa","LIM LIMPOPO"]
[null,"LIM335 Maruleng","LIM LIMPOPO"]
[null,"DC33 Mopani","LIM LIMPOPO"]
[null,"LIM341 Musina","LIM LIMPOPO"]
[null,"LIM343 Thulamela","LIM LIMPOPO"]
[null,"LIM344 Makhado","LIM LIMPOPO"]
[null,"LIM345 Collins Chabane","LIM LIMPOPO"]
[null,"DC34 Vhembe","LIM LIMPOPO"]
[null,"LIM351 Blouberg","LIM LIMPOPO"]
[null,"LIM353 Molemole","LIM LIMPOPO"]
[null,"LIM354 Polokwane","LIM LIMPOPO"]
[null,"LIM355 Lepelle-Nkumpi","LIM LIMPOPO"]
[null,"DC35 Capricorn","LIM LIMPOPO"]
[null,"LIM361 Thabazimbi","LIM LIMPOPO"]
[null,"LIM362 Lephalale","LIM LIMPOPO"]
[null,"LIM366 Bela Bela","LIM LIMPOPO"]
[null,"LIM367 Mogalakwena","LIM LIMPOPO"]
[null,"LIM368 Modimolle-Mookgopong","LIM LIMPOPO"]
[null,"DC36 Waterberg","LIM LIMPOPO"]
[null,"LIM471 Ephraim Mogale","LIM LIMPOPO"]
[null,"LIM472 Elias Motsoaledi","LIM LIMPOPO"]
[null,"LIM473 Makhuduthamaga","LIM LIMPOPO"]
[null,"LIM476 Tubatse Fetakgomo","LIM LIMPOPO"]
[null,"DC47 Sekhukhune","LIM LIMPOPO"]
[null,"MP301 Albert Luthuli","MP MPUMALANGA"]
[null,"MP302 Msukaligwa","MP MPUMALANGA"]
[null,"MP303 Mkhondo","MP MPUMALANGA"]
[null,"MP304 Pixley Ka Seme (MP)","MP MPUMALANGA"]
[null,"MP305 Lekwa","MP MPUMALANGA"]
[null,"MP306 Dipaleseng","MP MPUMALANGA"]
[null,"MP307 Govan Mbeki","MP MPUMALANGA"]
[null,"DC30 Gert Sibande","MP MPUMALANGA"]
[null,"MP311 Victor Khanye","MP MPUMALANGA"]
[null,"MP312 Emalahleni (Mp)","MP MPUMALANGA"]
[null,"MP313 Steve Tshwete","MP MPUMALANGA"]
[null,"MP314 Emakhazeni","MP MPUMALANGA"]
[null,"MP315 Thembisile Hani","MP MPUMALANGA"]
[null,"MP316 Dr J.S. Moroka","MP MPUMALANGA"]
[null,"DC31 Nkangala","MP MPUMALANGA"]
[null,"MP321 Thaba Chweu","MP MPUMALANGA"]
[null,"MP324 Nkomazi","MP MPUMALANGA"]
[null,"MP325 Bushbuckridge","MP MPUMALANGA"]
[null,"MP326 City of Mbombela","MP MPUMALANGA"]
[null,"DC32 Ehlanzeni","MP MPUMALANGA"]
[null,"NC451 Joe Morolong","NC NORTHERN CAPE"]
[null,"NC452 Ga-Segonyana","NC NORTHERN CAPE"]
[null,"NC453 Gamagara","NC NORTHERN CAPE"]
[null,"DC45 John Taolo Gaetsewe","NC NORTHERN CAPE"]
[null,"NC061 Richtersveld","NC NORTHERN CAPE"]
[null,"NC062 Nama Khoi","NC NORTHERN CAPE"]
[null,"NC064 Kamiesberg","NC NORTHERN CAPE"]
[null,"NC065 Hantam","NC NORTHERN CAPE"]
[null,"NC066 Karoo Hoogland","NC NORTHERN CAPE"]
[null,"NC067 Khai-Ma","NC NORTHERN CAPE"]
[null,"DC6 Namakwa","NC NORTHERN CAPE"]
[null,"NC071 Ubuntu","NC NORTHERN CAPE"]
[null,"NC072 Umsobomvu","NC NORTHERN CAPE"]
[null,"NC073 Emthanjeni","NC NORTHERN CAPE"]
[null,"NC074 Kareeberg","NC NORTHERN CAPE"]
[null,"NC075 Renosterberg","NC NORTHERN CAPE"]
[null,"NC076 Thembelihle","NC NORTHERN CAPE"]
[null,"NC077 Siyathemba","NC NORTHERN CAPE"]
[null,"NC078 Siyancuma","NC NORTHERN CAPE"]
[null,"DC7 Pixley Ka Seme (Nc)","NC NORTHERN CAPE"]
[null,"NC082 !Kai! Garib","NC NORTHERN CAPE"]
[null,"NC084 !Kheis","NC NORTHERN CAPE"]
[null,"NC085 Tsantsabane","NC NORTHERN CAPE"]
[null,"NC086 Kgatelopele","NC NORTHERN CAPE"]
[null,"NC087 Dawid Kruiper","NC NORTHERN CAPE"]
[null,"DC8 Z F Mgcawu","NC NORTHERN CAPE"]
[null,"NC091 Sol Plaatje","NC NORTHERN CAPE"]
[null,"NC092 Dikgatlong","NC NORTHERN CAPE"]
[null,"NC093 Magareng","NC NORTHERN CAPE"]
[null,"NC094 Phokwane","NC NORTHERN CAPE"]
[null,"DC9 Frances Baard","NC NORTHERN CAPE"]
[null,"NW371 Moretele","NW NORTH WEST"]
[null,"NW372 Madibeng","NW NORTH WEST"]
[null,"NW373 Rustenburg","NW NORTH WEST"]
[null,"NW374 Kgetlengrivier","NW NORTH WEST"]
[null,"NW375 Moses Kotane","NW NORTH WEST"]
[null,"DC37 Bojanala Platinum","NW NORTH WEST"]
[null,"NW381 Ratlou","NW NORTH WEST"]
[null,"NW382 Tswaing","NW NORTH WEST"]
[null,"NW383 Mafikeng","NW NORTH WEST"]
[null,"NW384 Ditsobotla","NW NORTH WEST"]
[null,"NW385 Ramotshere Moiloa","NW NORTH WEST"]
[null,"DC38 Ngaka Modiri Molema","NW NORTH WEST"]
[null,"NW392 Naledi (Nw)","NW NORTH WEST"]
[null,"NW393 Mamusa","NW NORTH WEST"]
[null,"NW394 Greater Taung","NW NORTH WEST"]
[null,"NW396 Lekwa-Teemane","NW NORTH WEST"]
[null,"NW397 Kagisano-Molopo","NW NORTH WEST"]
[null,"DC39 Dr Ruth Segomotsi Mompati","NW NORTH WEST"]
[null,"NW403 City Of Matlosana","NW NORTH WEST"]
[null,"NW404 Maquassi Hills","NW NORTH WEST"]
[null,"NW405 J B Marks","NW NORTH WEST"]
[null,"DC40 Dr Kenneth Kaunda","NW NORTH WEST"]
[null,"CPT Cape Town","WC WESTERN CAPE"]
[null,"WC011 Matzikama","WC WESTERN CAPE"]
[null,"WC012 Cederberg","WC WESTERN CAPE"]
[null,"WC013 Bergrivier","WC WESTERN CAPE"]
[null,"WC014 Saldanha Bay","WC WESTERN CAPE"]
[null,"WC015 Swartland","WC WESTERN CAPE"]
[null,"DC1 West Coast","WC WESTERN CAPE"]
[null,"WC022 Witzenberg","WC WESTERN CAPE"]
[null,"WC023 Drakenstein","WC WESTERN CAPE"]
[null,"WC024 Stellenbosch","WC WESTERN CAPE"]
[null,"WC025 Breede Valley","WC WESTERN CAPE"]
[null,"WC026 Langeberg","WC WESTERN CAPE"]
[null,"DC2 Cape Winelands DM","WC WESTERN CAPE"]
[null,"WC031 Theewaterskloof","WC WESTERN CAPE"]
[null,"WC032 Overstrand","WC WESTERN CAPE"]
[null,"WC033 Cape Agulhas","WC WESTERN CAPE"]
[null,"WC034 Swellendam","WC WESTERN CAPE"]
[null,"DC3 Overberg","WC WESTERN CAPE"]
[null,"WC041 Kannaland","WC WESTERN CAPE"]
[null,"WC042 Hessequa","WC WESTERN CAPE"]
[null,"WC043 Mossel Bay","WC WESTERN CAPE"]
[null,"WC044 George","WC WESTERN CAPE"]
[null,"WC045 Oudtshoorn","WC WESTERN CAPE"]
[null,"WC047 Bitou","WC WESTERN CAPE"]
[null,"WC048 Knysna","WC WESTERN CAPE"]
[null,"DC4 Garden Route","WC WESTERN CAPE"]
[null,"WC051 Laingsburg","WC WESTERN CAPE"]
[null,"WC052 Prince Albert","WC WESTERN CAPE"]
[null,"WC053 Beaufort West","WC WESTERN CAPE"]
[null,"DC5 Central Karoo","WC WESTERN CAPE"]
[]
[]
[]
[]
[]
[]
[]
[]
[]
[]
[]
[]
[]
[]
[]
[]
[]
[]
[]
[]
[]
[null,{"$f":"COUNTA(B30:B307)","v":257}]

{"sheet":"Org structure","index":4,"n_rows":166,"n_cols":5,"rows_kept":166,"cut":false,"hidden":false,"merged":[]}
["Organisational Structure Votes",null,"Organisational Structure Sub-Votes",null,"Display Sub-Votes"]
[{"$f":"B2&\" - \"&C2","v":"Vote 1 - Executive & Council"},"Vote 1","Executive & Council"]
[{"$f":"B13&\" - \"& C13","v":"Vote 2 - Finance and Administration"},1.1000000000000001,"Mayor and Council",{"$f":"CONCATENATE(B3, \" - \", C3)","v":"1,1 - Mayor and Council"},"1,1 - Mayor and Council"]
[{"$f":"B24&\" - \"&C24","v":"Vote 3 - Internal Audit"},1.2,"Municipal Manager","1,2 - Municipal Manager","1,2 - Municipal Manager"]
[{"$f":"B35&\" - \"&C35","v":"Vote 4 - Community and Public Safety"},1.3,null,"1,3 - "]
[{"$f":"B46&\" - \"&C46","v":"Vote 5 - Sports and Recreation"},1.4,null,"1,4 - "]
[{"$f":"B57&\" - \"&C57","v":"Vote 6 - Housing"},1.5,null,"1,5 - "]
[{"$f":"B68&\" - \"&C68","v":"Vote 7 - Planning and development "},1.6,null,"1,6 - "]
[{"$f":"B79&\" - \"&C79","v":"Vote 8 - Road Transport"},1.7,null,"1,7 - "]
[{"$f":"B90&\" - \"&C90","v":"Vote 9 - Energy Sources"},1.8,null,"1,8 - "]
[{"$f":"B101&\" - \"&C101","v":"Vote 10 - Waste Water Management"},1.9,null,"1,9 - "]
[{"$f":"B112&\" - \"&C112","v":"Vote 11 - Waste Management"},"1.10",null,"1.10 - "]
[{"$f":"B123&\" - \"&C123","v":"Vote 12 - [NAME OF VOTE 12]"},"Vote 2","Finance and Administration"]
[{"$f":"B134&\" - \"&C134","v":"Vote 13 - [NAME OF VOTE 13]"},2.1,"Administrative and Corporate Support",{"$f":"CONCATENATE(B14, \" - \", C14)","v":"2,1 - Administrative and Corporate Support"},"2,1 - Administrative and Corporate Support"]
[{"$f":"B145&\" - \"&C145","v":"Vote 14 - [NAME OF VOTE 14]"},2.2000000000000002,"Asset Management","2,2 - Asset Management","2,2 - Asset Management"]
[{"$f":"B156&\" - \"&C156","v":"Vote 15 - [NAME OF VOTE 15]"},2.2999999999999998,"Budget and Treasury Office","2,3 - Budget and Treasury Office","2,3 - Budget and Treasury Office"]
[null,2.4,"Human Resource","2,4 - Human Resource","2,4 - Human Resource"]
[null,2.5,"Information Technology","2,5 - Information Technology","2,5 - Information Technology"]
[null,2.6,"Legal Services","2,6 - Legal Services","2,6 - Legal Services"]
[null,2.7,"Customer Relation and Coordination","2,7 - Customer Relation and Coordination","2,7 - Customer Relation and Coordination"]
[null,2.8,"Property Services","2,8 - Property Services","2,8 - Property Services"]
[null,2.9,"Risk Management","2,9 - Risk Management","2,9 - Risk Management"]
[null,"2.10","Supply Chain Management","2.10 - Supply Chain Management","2.10 - Supply Chain Management"]
[null,"Vote 3","Internal Audit"]
[null,3.1,"Governance Function",{"$f":"CONCATENATE(B25, \" - \", C25)","v":"3,1 - Governance Function"},"3,1 - Governance Function"]
[null,3.2,null,"3,2 - "]
[null,3.3,null,"3,3 - "]
[null,3.4,null,"3,4 - "]
[null,3.5,null,"3,5 - "]
[null,3.6,null,"3,6 - "]
[null,3.7,null,"3,7 - "]
[null,3.8,null,"3,8 - "]
[null,3.9,null,"3,9 - "]
[null,"3.10",null,"3.10 - "]
[null,"Vote 4","Community and Public Safety"]
[null,4.0999999999999996,"Cemetries and crematoriums",{"$f":"CONCATENATE(B36, \" - \", C36)","v":"4,1 - Cemetries and crematoriums"},"4,1 - Cemetries and crematoriums"]
[null,4.2,"Community halls and Facilities","4,2 - Community halls and Facilities","4,2 - Community halls and Facilities"]
[null,4.3,"Disaster Management","4,3 - Disaster Management","4,3 - Disaster Management"]
[null,4.4000000000000004,"Libraries and Archives","4,4 - Libraries and Archives","4,4 - Libraries and Archives"]
[null,4.5,null,"4,5 - "]
[null,4.5999999999999996,null,"4,6 - "]
[null,4.7,null,"4,7 - "]
[null,4.8,null,"4,8 - "]
[null,4.9000000000000004,null,"4,9 - "]
[null,"4.10",null,"4.10 - "]
[null,"Vote 5","Sports and Recreation"]
[null,5.0999999999999996,"Community parks",{"$f":"CONCATENATE(B47, \" - \", C47)","v":"5,1 - Community parks"},"5,1 - Community parks"]
[null,5.2,null,"5,2 - "]
[null,5.3,null,"5,3 - "]
[null,5.4,null,"5,4 - "]
[null,5.5,null,"5,5 - "]
[null,5.6,null,"5,6 - "]
[null,5.7,null,"5,7 - "]
[null,5.8,null,"5,8 - "]
[null,5.9,null,"5,9 - "]
[null,"5.10",null,"5.10 - "]
[null,"Vote 6","Housing"]
[null,6.1,"Housing",{"$f":"CONCATENATE(B58, \" - \", C58)","v":"6,1 - Housing"},"6,1 - Housing"]
[null,6.2,null,"6,2 - "]
[null,6.3,null,"6,3 - "]
[null,6.4,null,"6,4 - "]
[null,6.5,null,"6,5 - "]
[null,6.6,null,"6,6 - "]
[null,6.7,null,"6,7 - "]
[null,6.8,null,"6,8 - "]
[null,6.9,null,"6,9 - "]
[null,"6.10",null,"6.10 - "]
[null,"Vote 7","Planning and development "]
[null,7.1,"Corporate Wide Strategic Planning (IDP & LED)",{"$f":"CONCATENATE(B69, \" - \", C69)","v":"7,1 - Corporate Wide Strategic Planning (IDP & LED)"},"7,1 - Corporate Wide Strategic Planning (IDP & LED)"]
[null,7.2,"Town Planning and Building Regulations","7,2 - Town Planning and Building Regulations","7,2 - Town Planning and Building Regulations"]
[null,7.3,"Project Management Unit","7,3 - Project Management Unit","7,3 - Project Management Unit"]
[null,7.4,null,"7,4 - "]
[null,7.5,null,"7,5 - "]
[null,7.6,null,"7,6 - "]
[null,7.7,null,"7,7 - "]
[null,7.8,null,"7,8 - "]
[null,7.9,null,"7,9 - "]
[null,"7.10",null,"7.10 - "]
[null,"Vote 8","Road Transport"]
[null,8.1,"Road and Traffic Regulations",{"$f":"CONCATENATE(B80, \" - \", C80)","v":"8,1 - Road and Traffic Regulations"},"8,1 - Road and Traffic Regulations"]
[null,8.1999999999999993,"Roads","8,2 - Roads","8,2 - Roads"]
[null,8.3000000000000007,"Taxi Ranks","8,3 - Taxi Ranks","8,3 - Taxi Ranks"]
[null,8.4,null,"8,4 - "]
[null,8.5,null,"8,5 - "]
[null,8.6,null,"8,6 - "]
[null,8.6999999999999993,null,"8,7 - "]
[null,8.8000000000000007,null,"8,8 - "]
[null,8.9,null,"8,9 - "]
[null,"8.10",null,"8.10 - "]
[null,"Vote 9","Energy Sources"]
[null,9.1,"Electricity",{"$f":"CONCATENATE(B91, \" - \", C91)","v":"9,1 - Electricity"},"9,1 - Electricity"]
[null,9.1999999999999993,"Street Lighting","9,2 - Street Lighting","9,2 - Street Lighting"]
[null,9.3000000000000007,null,"9,3 - "]
[null,9.4,null,"9,4 - "]
[null,9.5,null,"9,5 - "]
[null,9.6,null,"9,6 - "]
[null,9.6999999999999993,null,"9,7 - "]
[null,9.8000000000000007,null,"9,8 - "]
[null,9.9,null,"9,9 - "]
[null,"9.10",null,"9.10 - "]
[null,"Vote 10","Waste Water Management"]
[null,10.1,"Public Toilets",{"$f":"CONCATENATE(B102, \" - \", C102)","v":"10,1 - Public Toilets"},"10,1 - Public Toilets"]
[null,10.199999999999999,null,"10,2 - "]
[null,10.3,null,"10,3 - "]
[null,10.4,null,"10,4 - "]
[null,10.5,null,"10,5 - "]
[null,10.6,null,"10,6 - "]
[null,10.7,null,"10,7 - "]
[null,10.8,null,"10,8 - "]
[null,10.9,null,"10,9 - "]
[null,"10.10",null,"10.10 - "]
[null,"Vote 11","Waste Management"]
[null,11.1,"Solid Waste Removal",{"$f":"CONCATENATE(B113, \" - \", C113)","v":"11,1 - Solid Waste Removal"},"11,1 - Solid Waste Removal"]
[null,11.2,null,"11,2 - "]
[null,11.3,null,"11,3 - "]
[null,11.4,null,"11,4 - "]
[null,11.5,null,"11,5 - "]
[null,11.6,null,"11,6 - "]
[null,11.7,null,"11,7 - "]
[null,11.8,null,"11,8 - "]
[null,11.9,"[Name of sub-vote]","11,9 - [Name of sub-vote]"]
[null,"11.10","[Name of sub-vote]","11.10 - [Name of sub-vote]"]
[null,"Vote 12","[NAME OF VOTE 12]"]
[null,12.1,"[Name of sub-vote]",{"$f":"CONCATENATE(B124, \" - \", C124)","v":"12,1 - [Name of sub-vote]"},"12.1 - [Name of sub-vote]"]
[null,12.2,"[Name of sub-vote]","12,2 - [Name of sub-vote]"]
[null,12.3,"[Name of sub-vote]","12,3 - [Name of sub-vote]"]
[null,12.4,"[Name of sub-vote]","12,4 - [Name of sub-vote]"]
[null,12.5,"[Name of sub-vote]","12,5 - [Name of sub-vote]"]
[null,12.6,"[Name of sub-vote]","12,6 - [Name of sub-vote]"]
[null,12.7,"[Name of sub-vote]","12,7 - [Name of sub-vote]"]
[null,12.8,"[Name of sub-vote]","12,8 - [Name of sub-vote]"]
[null,12.9,"[Name of sub-vote]","12,9 - [Name of sub-vote]"]
[null,"12.10","[Name of sub-vote]","12.10 - [Name of sub-vote]"]
[null,"Vote 13","[NAME OF VOTE 13]"]
[null,13.1,"[Name of sub-vote]",{"$f":"CONCATENATE(B135, \" - \", C135)","v":"13,1 - [Name of sub-vote]"},"13.1 - [Name of sub-vote]"]
[null,13.2,"[Name of sub-vote]","13,2 - [Name of sub-vote]"]
[null,13.3,"[Name of sub-vote]","13,3 - [Name of sub-vote]"]
[null,13.4,"[Name of sub-vote]","13,4 - [Name of sub-vote]"]
[null,13.5,"[Name of sub-vote]","13,5 - [Name of sub-vote]"]
[null,13.6,"[Name of sub-vote]","13,6 - [Name of sub-vote]"]
[null,13.7,"[Name of sub-vote]","13,7 - [Name of sub-vote]"]
[null,13.8,"[Name of sub-vote]","13,8 - [Name of sub-vote]"]
[null,13.9,"[Name of sub-vote]","13,9 - [Name of sub-vote]"]
[null,"13.10","[Name of sub-vote]","13.10 - [Name of sub-vote]"]
[null,"Vote 14","[NAME OF VOTE 14]"]
[null,14.1,"[Name of sub-vote]",{"$f":"CONCATENATE(B146, \" - \", C146)","v":"14,1 - [Name of sub-vote]"},"14.1 - [Name of sub-vote]"]
[null,14.2,"[Name of sub-vote]","14,2 - [Name of sub-vote]"]
[null,14.3,"[Name of sub-vote]","14,3 - [Name of sub-vote]"]
[null,14.4,"[Name of sub-vote]","14,4 - [Name of sub-vote]"]
[null,14.5,"[Name of sub-vote]","14,5 - [Name of sub-vote]"]
[null,14.6,"[Name of sub-vote]","14,6 - [Name of sub-vote]"]
[null,14.7,"[Name of sub-vote]","14,7 - [Name of sub-vote]"]
[null,14.8,"[Name of sub-vote]","14,8 - [Name of sub-vote]"]
[null,14.9,"[Name of sub-vote]","14,9 - [Name of sub-vote]"]
[null,"14.10","[Name of sub-vote]","14.10 - [Name of sub-vote]"]
[null,"Vote 15","[NAME OF VOTE 15]"]
[null,15.1,"[Name of sub-vote]",{"$f":"CONCATENATE(B157, \" - \", C157)","v":"15,1 - [Name of sub-vote]"},"15.1 - [Name of sub-vote]"]
[null,15.2,"[Name of sub-vote]","15,2 - [Name of sub-vote]"]
[null,15.3,"[Name of sub-vote]","15,3 - [Name of sub-vote]"]
[null,15.4,"[Name of sub-vote]","15,4 - [Name of sub-vote]"]
[null,15.5,"[Name of sub-vote]","15,5 - [Name of sub-vote]"]
[null,15.6,"[Name of sub-vote]","15,6 - [Name of sub-vote]"]
[null,15.7,"[Name of sub-vote]","15,7 - [Name of sub-vote]"]
[null,15.8,"[Name of sub-vote]","15,8 - [Name of sub-vote]"]
[null,15.9,"[Name of sub-vote]","15,9 - [Name of sub-vote]"]
[null,"15.10","[Name of sub-vote]","15.10 - [Name of sub-vote]"]

{"sheet":"Contacts","index":5,"n_rows":140,"n_cols":4,"rows_kept":140,"cut":false,"hidden":false,"merged":[[7,2,7,3],[13,0,13,1],[29,0,29,1],[10,2,10,3],[12,2,12,3],[84,2,84,3],[30,2,30,3],[29,2,29,3],[48,0,48,1],[100,2,100,3],[39,2,39,3],[48,2,48,3],[57,2,57,3],[92,0,92,1],[39,0,39,1],[132,0,132,1],[132,2,132,3],[76,0,76,1],[57,0,57,1],[76,2,76,3],[92,2,92,3],[67,2,67,3],[124,0,124,1],[124,2,124,3],[116,0,116,1],[116,2,116,3],[108,0,108,1],[108,2,108,3],[100,0,100,1],[58,2,58,3],[84,0,84,1]]}
[{"$f":"muni&\" - \"&\" Contact Information\"","v":"LIM332 Greater Letaba -  Contact Information"}]
[]
["A. GENERAL INFORMATION"]
["Municipality",{"$f":"muni","v":"LIM332 Greater Letaba"},{"$f":"IF(B4=\"Choose name from List\",\"Set name on 'Instructions' sheet\", \"\")","v":""}]
[]
["Grade","3","1 Grade in terms of the Remuneration of Public Office Bearers Act."]
[]
["Province",{"$f":"IF(B4>\" \",VLOOKUP(B4,'Lookup and lists'!B29:C307,2, FALSE),\" \")","v":"LIM LIMPOPO"}]
[]
["Web Address","www.greaterletaba.gov.za"]
[]
["e-mail Address"]
[]
["B. CONTACT INFORMATION"]
["Postal address:"]
["P.O. Box",36]
["City / Town","Modjadjiskloof"]
["Postal Code",835]
[]
["Street address"]
["Building","Civic Centre"]
["Street No. & Name","44 Botha Street"]
["City / Town","Modjadjiskloof"]
["Postal Code",835]
[]
["General Contacts"]
["Telephone number","015 309 9246/7/8"]
["Fax number","015 309 9419"]
[]
["C. POLITICAL LEADERSHIP"]
["Speaker:",null,"Secretary/PA to the Speaker:"]
["ID Number","6704290418087","ID Number","\"7305100539085"]
["Title","Ms","Title","Ms"]
["Name","Makhananisa M.D","Name","Mutshendze TM"]
["Telephone number","015 309 9246","Telephone number","015 309 9246"]
["Cell number","082 418 8635","Cell number","073 227 7640"]
["Fax number","015 309 9419","Fax number","015 309 9419"]
["E-mail address","speaker@glm.gov.za","E-mail address","mollym@glm.gov.za"]
[]
["Mayor/Executive Mayor:",null,"Secretary/PA to the Mayor/Executive Mayor:"]
["ID Number","\"6302025730080","ID Number","\"7905070311082"]
["Title","Mr","Title","Ms"]
["Name","Matlou M.P","Name","Maapolela D.W"]
["Telephone number","015 309 9246","Telephone number","015 309 9246"]
["Cell number","079 153 5627","Cell number","083 977 3072"]
["Fax number","015 309 9419","Fax number","015 309 9419"]
["E-mail address","mayor@glm.gov.za","E-mail address","nkelem@glm.gov.za"]
[]
["Deputy Mayor/Executive Mayor:",null,"Secretary/PA to the Deputy Mayor/Executive Mayor:"]
["ID Number",null,"ID Number"]
["Title",null,"Title"]
["Name",null,"Name"]
["Telephone number",null,"Telephone number"]
["Cell number",null,"Cell number"]
["Fax number",null,"Fax number"]
["E-mail address",null,"E-mail address"]
[]
["D. MANAGEMENT LEADERSHIP"]
["Municipal Manager:",null,"Secretary/PA to the Municipal Manager:"]
["ID Number","'7209095504080","ID Number","7212280485081"]
["Title","Mr","Title","Ms"]
["Name","Dr K.I Sirovha","Name","M.F Masipa"]
["Telephone number","015 309 9451","Telephone number","0153099246"]
["Cell number","0721239734","Cell number","0828440350"]
["Fax number","015 309 9419","Fax number","0153099419"]
["E-mail address","InnocentS@glm.gov.za","E-mail address","secretarymm@glm.gov.za"]
[]
["Chief Financial Officer",null,"Secretary/PA to the Chief Financial Officer"]
["ID Number","\"7211080336080","ID Number","8601170703083"]
["Title","Mrs","Title","Ms"]
["Name","Mankgabe M.F","Name","Mmaseleka MP"]
["Telephone number","015 309 9246","Telephone number","015 309 9246"]
["Cell number","076 715 9510","Cell number","078 190 6886"]
["Fax number","015 309 9419","Fax number","015 309 9419"]
["E-mail address","florahm@glm.gov.za","E-mail address","matsiem@glm.gov.za"]
[]
["Official responsible for submitting financial information",null,"Official responsible for submitting financial information"]
["ID Number","\"8505230737082","ID Number","\"9006111065080"]
["Title","Ms","Title","Ms"]
["Name","Nomsa Makhubela","Name","Tracy Baloyi"]
["Telephone number","015 309 9246","Telephone number","015 309 9246"]
["Cell number","064 750 1437","Cell number","083 271 0762"]
["Fax number","015 309 9419","Fax number","015 309 9419"]
["E-mail address","nomsam@glm.gov.za","E-mail address","Tracyb@glm.gov.za"]
["Official responsible for submitting financial information",null,"Official responsible for submitting financial information"]
["ID Number",null,"ID Number"]
["Title","Mr","Title"]
["Name","Mamatlepa LM","Name"]
["Telephone number","015 309 9246","Telephone number"]
["Cell number","076 167 8941","Cell number"]
["Fax number","015 309 9419","Fax number"]
["E-mail address","lesleym@glm.gov.za","E-mail address"]
["Official responsible for submitting financial information",null,"Official responsible for submitting financial information"]
["ID Number",null,"ID Number"]
["Title",null,"Title"]
["Name",null,"Name"]
["Telephone number",null,"Telephone number"]
["Cell number",null,"Cell number"]
["Fax number",null,"Fax number"]
["E-mail address",null,"E-mail address"]
["Official responsible for submitting financial information",null,"Official responsible for submitting financial information"]
["ID Number",null,"ID Number"]
["Title",null,"Title"]
["Name",null,"Name"]
["Telephone number",null,"Telephone number"]
["Cell number",null,"Cell number"]
["Fax number",null,"Fax number"]
["E-mail address",null,"E-mail address"]
["Official responsible for submitting financial information",null,"Official responsible for submitting financial information"]
["ID Number",null,"ID Number"]
["Title",null,"Title"]
["Name",null,"Name"]
["Telephone number",null,"Telephone number"]
["Cell number",null,"Cell number"]
["Fax number",null,"Fax number"]
["E-mail address",null,"E-mail address"]
["Official responsible for submitting financial information",null,"Official responsible for submitting financial information"]
["ID Number",null,"ID Number"]
["Title",null,"Title"]
["Name",null,"Name"]
["Telephone number",null,"Telephone number"]
["Cell number",null,"Cell number"]
["Fax number",null,"Fax number"]
["E-mail address",null,"E-mail address"]
["Official responsible for submitting financial information",null,"Official responsible for submitting financial information"]
["ID Number",null,"ID Number"]
["Title",null,"Title"]
["Name",null,"Name"]
["Telephone number",null,"Telephone number"]
["Cell number",null,"Cell number"]
["Fax number",null,"Fax number"]
["E-mail address",null,"E-mail address"]
["Official responsible for submitting financial information"]
["ID Number"]
["Title"]
["Name"]
["Telephone number"]
["Cell number"]
["Fax number"]
["E-mail address"]

{"sheet":"A1-Sum","index":6,"n_rows":65,"n_cols":11,"rows_kept":65,"cut":false,"hidden":false,"merged":[[1,8,1,10],[1,4,1,7],[0,0,0,2]]}
[{"$f":"muni&\" - \"&Approve1","v":"LIM332 Greater Letaba - Table A1 Budget Summary"}]
[{"$f":"desc","v":"Description"},{"$f":"head1b","v":"2015/16"},{"$f":"head1A","v":"2016/17"},{"$f":"Head1","v":"2017/18"},{"$f":"Head2","v":"Current Year 2018/19"},null,null,null,{"$f":"Head3","v":"2019/20 Medium Term Revenue & Expenditure Framework"}]
["R thousands",{"$f":"Head5","v":"Audited Outcome"},{"$f":"Head5","v":"Audited Outcome"},{"$f":"Head5","v":"Audited Outcome"},{"$f":"Head6","v":"Original Budget"},{"$f":"Head7","v":"Adjusted Budget"},{"$f":"Head8","v":"Full Year Forecast"},{"$f":"Head5b","v":"Pre-audit outcome"},{"$f":"Head9","v":"Budget Year 2019/20"},{"$f":"Head10","v":"Budget Year +1 2020/21"},{"$f":"Head11","v":"Budget Year +2 2021/22"}]
["Financial Performance"]
["Property rates",{"$f":"'A4-FinPerf RE'!C5","v":8977594},{"$f":"'A4-FinPerf RE'!D5","v":11845856},{"$f":"'A4-FinPerf RE'!E5","v":8599768},{"$f":"'A4-FinPerf RE'!F5","v":12255327.57},{"$f":"'A4-FinPerf RE'!G5","v":16863286.57},{"$f":"'A4-FinPerf RE'!H5","v":16863286.57},{"$f":"'A4-FinPerf RE'!I5","v":16863286.57},{"$f":"'A4-FinPerf RE'!J5","v":17740178},{"$f":"'A4-FinPerf RE'!K5","v":18698147},{"$f":"'A4-FinPerf RE'!L5","v":19707847}]
["Service charges",{"$f":"SUM('A4-FinPerf RE'!C6:C9)","v":12929540},{"$f":"SUM('A4-FinPerf RE'!D6:D9)","v":13836020},{"$f":"SUM('A4-FinPerf RE'!E6:E9)","v":13861049},{"$f":"SUM('A4-FinPerf RE'!F6:F9)","v":18910040.030000001},{"$f":"SUM('A4-FinPerf RE'!G6:G9)","v":32718040.030000001},{"$f":"SUM('A4-FinPerf RE'!H6:H9)","v":32718040.030000001},{"$f":"SUM('A4-FinPerf RE'!I6:I9)","v":31671899.030000001},{"$f":"SUM('A4-FinPerf RE'!J6:J9)","v":34410962},{"$f":"SUM('A4-FinPerf RE'!K6:K9)","v":36269153},{"$f":"SUM('A4-FinPerf RE'!L6:L9)","v":38227689}]
["Investment revenue",{"$f":"'A4-FinPerf RE'!C12","v":3925076},{"$f":"'A4-FinPerf RE'!D12","v":5885924},{"$f":"'A4-FinPerf RE'!E12","v":4605544},{"$f":"'A4-FinPerf RE'!F12","v":4519515.4400000004},{"$f":"'A4-FinPerf RE'!G12","v":4519515.4400000004},{"$f":"'A4-FinPerf RE'!H12","v":4519515.4400000004},{"$f":"'A4-FinPerf RE'!I12","v":4519515.4400000004},{"$f":"'A4-FinPerf RE'!J12","v":4754530},{"$f":"'A4-FinPerf RE'!K12","v":5011275},{"$f":"'A4-FinPerf RE'!L12","v":5281884}]
["Transfers recognised - operational",{"$f":"'A4-FinPerf RE'!C18","v":212960000},{"$f":"'A4-FinPerf RE'!D18","v":209514001},{"$f":"'A4-FinPerf RE'!E18","v":227036999},{"$f":"'A4-FinPerf RE'!F18","v":248358000},{"$f":"'A4-FinPerf RE'!G18","v":248358000},{"$f":"'A4-FinPerf RE'!H18","v":248358000},{"$f":"'A4-FinPerf RE'!I18","v":248358000},{"$f":"'A4-FinPerf RE'!J18","v":281624000},{"$f":"'A4-FinPerf RE'!K18","v":300105000},{"$f":"'A4-FinPerf RE'!L18","v":321890000}]
["Other own revenue",{"$f":"'A4-FinPerf RE'!C11+'A4-FinPerf RE'!C13+'A4-FinPerf RE'!C14+'A4-FinPerf RE'!C15+'A4-FinPerf RE'!C16+'A4-FinPerf RE'!C17+'A4-FinPerf RE'!C19+'A4-FinPerf RE'!C20","v":17771115},{"$f":"'A4-FinPerf RE'!D11+'A4-FinPerf RE'!D13+'A4-FinPerf RE'!D14+'A4-FinPerf RE'!D15+'A4-FinPerf RE'!D16+'A4-FinPerf RE'!D17+'A4-FinPerf RE'!D19+'A4-FinPerf RE'!D20","v":18155055},{"$f":"'A4-FinPerf RE'!E11+'A4-FinPerf RE'!E13+'A4-FinPerf RE'!E14+'A4-FinPerf RE'!E15+'A4-FinPerf RE'!E16+'A4-FinPerf RE'!E17+'A4-FinPerf RE'!E19+'A4-FinPerf RE'!E20","v":25451461},{"$f":"'A4-FinPerf RE'!F11+'A4-FinPerf RE'!F13+'A4-FinPerf RE'!F14+'A4-FinPerf RE'!F15+'A4-FinPerf RE'!F16+'A4-FinPerf RE'!F17+'A4-FinPerf RE'!F19+'A4-FinPerf RE'!F20","v":56221797.189999998},{"$f":"'A4-FinPerf RE'!G11+'A4-FinPerf RE'!G13+'A4-FinPerf RE'!G14+'A4-FinPerf RE'!G15+'A4-FinPerf RE'!G16+'A4-FinPerf RE'!G17+'A4-FinPerf RE'!G19+'A4-FinPerf RE'!G20","v":84223039.189999998},{"$f":"'A4-FinPerf RE'!H11+'A4-FinPerf RE'!H13+'A4-FinPerf RE'!H14+'A4-FinPerf RE'!H15+'A4-FinPerf RE'!H16+'A4-FinPerf RE'!H17+'A4-FinPerf RE'!H19+'A4-FinPerf RE'!H20","v":84223039.189999998},{"$f":"'A4-FinPerf RE'!I11+'A4-FinPerf RE'!I13+'A4-FinPerf RE'!I14+'A4-FinPerf RE'!I15+'A4-FinPerf RE'!I16+'A4-FinPerf RE'!I17+'A4-FinPerf RE'!I19+'A4-FinPerf RE'!I20","v":84223039.189999998},{"$f":"'A4-FinPerf RE'!J11+'A4-FinPerf RE'!J13+'A4-FinPerf RE'!J14+'A4-FinPerf RE'!J15+'A4-FinPerf RE'!J16+'A4-FinPerf RE'!J17+'A4-FinPerf RE'!J19+'A4-FinPerf RE'!J20","v":64004773},{"$f":"'A4-FinPerf RE'!K11+'A4-FinPerf RE'!K13+'A4-FinPerf RE'!K14+'A4-FinPerf RE'!K15+'A4-FinPerf RE'!K16+'A4-FinPerf RE'!K17+'A4-FinPerf RE'!K19+'A4-FinPerf RE'!K20","v":67461033},{"$f":"'A4-FinPerf RE'!L11+'A4-FinPerf RE'!L13+'A4-FinPerf RE'!L14+'A4-FinPerf RE'!L15+'A4-FinPerf RE'!L16+'A4-FinPerf RE'!L17+'A4-FinPerf RE'!L19+'A4-FinPerf RE'!L20","v":71103926}]
[{"$f":"'A4-FinPerf RE'!A21","v":"Total Revenue (excluding capital transfers and contributions)"},{"$f":"SUM(B5:B9)","v":256563325},259236856,279554821,340264680.23000002,386681881.23000002,386681881.23000002,385635740.23000002,402534443,427544608,456211346]
["Employee costs",{"$f":"'A4-FinPerf RE'!C24","v":64406539},{"$f":"'A4-FinPerf RE'!D24","v":68377015},{"$f":"'A4-FinPerf RE'!E24","v":74714220},{"$f":"'A4-FinPerf RE'!F24","v":78303797.25},{"$f":"'A4-FinPerf RE'!G24","v":95266292.25},{"$f":"'A4-FinPerf RE'!H24","v":95266292.25},{"$f":"'A4-FinPerf RE'!I24","v":95266292.25},{"$f":"'A4-FinPerf RE'!J24","v":107636135},{"$f":"'A4-FinPerf RE'!K24","v":115063029},{"$f":"'A4-FinPerf RE'!L24","v":123002381}]
["Remuneration of councillors",{"$f":"'A4-FinPerf RE'!C25","v":17728499},{"$f":"'A4-FinPerf RE'!D25","v":18896474},{"$f":"'A4-FinPerf RE'!E25","v":20873647},{"$f":"'A4-FinPerf RE'!F25","v":22467855},{"$f":"'A4-FinPerf RE'!G25","v":22882032},{"$f":"'A4-FinPerf RE'!H25","v":22882032},{"$f":"'A4-FinPerf RE'!I25","v":22882032},{"$f":"'A4-FinPerf RE'!J25","v":24071901},{"$f":"'A4-FinPerf RE'!K25","v":25371784},{"$f":"'A4-FinPerf RE'!L25","v":26741860}]
["Depreciation & asset impairment",{"$f":"'A4-FinPerf RE'!C27","v":21569539},{"$f":"'A4-FinPerf RE'!D27","v":31106428},{"$f":"'A4-FinPerf RE'!E27","v":28680829},{"$f":"'A4-FinPerf RE'!F27","v":5043379.8099999996},{"$f":"'A4-FinPerf RE'!G27","v":5942210.8099999996},{"$f":"'A4-FinPerf RE'!H27","v":5942210.8099999996},{"$f":"'A4-FinPerf RE'!I27","v":5942210.8099999996},{"$f":"'A4-FinPerf RE'!J27","v":6251207},{"$f":"'A4-FinPerf RE'!K27","v":6588772},{"$f":"'A4-FinPerf RE'!L27","v":6944565}]
["Finance charges",{"$f":"'A4-FinPerf RE'!C28","v":0},{"$f":"'A4-FinPerf RE'!D28","v":0},{"$f":"'A4-FinPerf RE'!E28","v":0},{"$f":"'A4-FinPerf RE'!F28","v":0},{"$f":"'A4-FinPerf RE'!G28","v":0},{"$f":"'A4-FinPerf RE'!H28","v":0},{"$f":"'A4-FinPerf RE'!I28","v":0},{"$f":"'A4-FinPerf RE'!J28","v":0},{"$f":"'A4-FinPerf RE'!K28","v":0},{"$f":"'A4-FinPerf RE'!L28","v":0}]
["Materials and bulk purchases",{"$f":"'A4-FinPerf RE'!C29+'A4-FinPerf RE'!C30","v":8728768},{"$f":"'A4-FinPerf RE'!D29+'A4-FinPerf RE'!D30","v":13029942},{"$f":"'A4-FinPerf RE'!E29+'A4-FinPerf RE'!E30","v":14679655},{"$f":"'A4-FinPerf RE'!F29+'A4-FinPerf RE'!F30","v":17096559},{"$f":"'A4-FinPerf RE'!G29+'A4-FinPerf RE'!G30","v":17096559},{"$f":"'A4-FinPerf RE'!H29+'A4-FinPerf RE'!H30","v":17096559},{"$f":"'A4-FinPerf RE'!I29+'A4-FinPerf RE'!I30","v":17096559},{"$f":"'A4-FinPerf RE'!J29+'A4-FinPerf RE'!J30","v":17985580},{"$f":"'A4-FinPerf RE'!K29+'A4-FinPerf RE'!K30","v":18956801},{"$f":"'A4-FinPerf RE'!L29+'A4-FinPerf RE'!L30","v":19980468}]
["Transfers and grants",{"$f":"'A4-FinPerf RE'!C32","v":0},{"$f":"'A4-FinPerf RE'!D32","v":0},{"$f":"'A4-FinPerf RE'!E32","v":0},{"$f":"'A4-FinPerf RE'!F32","v":0},{"$f":"'A4-FinPerf RE'!G32","v":0},{"$f":"'A4-FinPerf RE'!H32","v":0},{"$f":"'A4-FinPerf RE'!I32","v":0},{"$f":"'A4-FinPerf RE'!J32","v":0},{"$f":"'A4-FinPerf RE'!K32","v":0},{"$f":"'A4-FinPerf RE'!L32","v":0}]
["Other expenditure",{"$f":"'A4-FinPerf RE'!C26+'A4-FinPerf RE'!C31+'A4-FinPerf RE'!C33+'A4-FinPerf RE'!C34","v":77085262},{"$f":"'A4-FinPerf RE'!D26+'A4-FinPerf RE'!D31+'A4-FinPerf RE'!D33+'A4-FinPerf RE'!D34","v":99080137},{"$f":"'A4-FinPerf RE'!E26+'A4-FinPerf RE'!E31+'A4-FinPerf RE'!E33+'A4-FinPerf RE'!E34","v":108717042},{"$f":"'A4-FinPerf RE'!F26+'A4-FinPerf RE'!F31+'A4-FinPerf RE'!F33+'A4-FinPerf RE'!F34","v":100518770.30239999},{"$f":"'A4-FinPerf RE'!G26+'A4-FinPerf RE'!G31+'A4-FinPerf RE'!G33+'A4-FinPerf RE'!G34","v":134276372.00240001},{"$f":"'A4-FinPerf RE'!H26+'A4-FinPerf RE'!H31+'A4-FinPerf RE'!H33+'A4-FinPerf RE'!H34","v":134276372.00240001},{"$f":"'A4-FinPerf RE'!I26+'A4-FinPerf RE'!I31+'A4-FinPerf RE'!I33+'A4-FinPerf RE'!I34","v":134276372.00240001},{"$f":"'A4-FinPerf RE'!J26+'A4-FinPerf RE'!J31+'A4-FinPerf RE'!J33+'A4-FinPerf RE'!J34","v":152643399},{"$f":"'A4-FinPerf RE'!K26+'A4-FinPerf RE'!K31+'A4-FinPerf RE'!K33+'A4-FinPerf RE'!K34","v":143524930},{"$f":"'A4-FinPerf RE'!L26+'A4-FinPerf RE'!L31+'A4-FinPerf RE'!L33+'A4-FinPerf RE'!L34","v":151341856}]
[{"$f":"'A4-FinPerf RE'!A35","v":"Total Expenditure"},{"$f":"SUM(B11:B17)","v":189518607},{"$f":"SUM(C11:C17)","v":230489996},247665393,223430361.3624,275463466.06239998,275463466.06239998,275463466.06239998,308588222,309505316,328011130]
[{"$f":"'A4-FinPerf RE'!A37","v":"Surplus/(Deficit)"},{"$f":"B10-B18","v":67044718},28746860,31889428,116834318.86760002,111218415.16760004,111218415.16760004,110172274.16760004,93946221,118039292,128200216]
[{"$f":"'A4-FinPerf RE'!A38","v":"Transfers and subsidies - capital (monetary allocations) (National / Provincial and District)"},{"$f":"'A4-FinPerf RE'!C38","v":89159710},{"$f":"'A4-FinPerf RE'!D38","v":61332323},{"$f":"'A4-FinPerf RE'!E38","v":64658124},{"$f":"'A4-FinPerf RE'!F38","v":62443000},{"$f":"'A4-FinPerf RE'!G38","v":82443000},{"$f":"'A4-FinPerf RE'!H38","v":82443000},{"$f":"'A4-FinPerf RE'!I38","v":82443000},{"$f":"'A4-FinPerf RE'!J38","v":57608000},{"$f":"'A4-FinPerf RE'!K38","v":67783000},{"$f":"'A4-FinPerf RE'!L38","v":72351000}]
["Contributions recognised - capital & contributed assets",{"$f":"'A4-FinPerf RE'!C39+'A4-FinPerf RE'!C40","v":0},{"$f":"'A4-FinPerf RE'!D39+'A4-FinPerf RE'!D40","v":0},{"$f":"'A4-FinPerf RE'!E39+'A4-FinPerf RE'!E40","v":0},{"$f":"'A4-FinPerf RE'!F39+'A4-FinPerf RE'!F40","v":0},{"$f":"'A4-FinPerf RE'!G39+'A4-FinPerf RE'!G40","v":0},{"$f":"'A4-FinPerf RE'!H39+'A4-FinPerf RE'!H40","v":0},{"$f":"'A4-FinPerf RE'!I39+'A4-FinPerf RE'!I40","v":0},{"$f":"'A4-FinPerf RE'!J39+'A4-FinPerf RE'!J40","v":0},{"$f":"'A4-FinPerf RE'!K39+'A4-FinPerf RE'!K40","v":0},{"$f":"'A4-FinPerf RE'!L39+'A4-FinPerf RE'!L40","v":0}]
[{"$f":"'A4-FinPerf RE'!A41","v":"Surplus/(Deficit) after capital transfers & contributions"},{"$f":"B19+SUM(B20:B21)","v":156204428},{"$f":"C19+SUM(C20:C21)","v":90079183},96547552,179277318.86760002,193661415.16760004,193661415.16760004,192615274.16760004,151554221,185822292,200551216]
[{"$f":"'A4-FinPerf RE'!A46","v":"Share of surplus/ (deficit) of associate"},{"$f":"'A4-FinPerf RE'!C46","v":0},{"$f":"'A4-FinPerf RE'!D46","v":0},{"$f":"'A4-FinPerf RE'!E46","v":0},{"$f":"'A4-FinPerf RE'!F46","v":0},{"$f":"'A4-FinPerf RE'!G46","v":0},{"$f":"'A4-FinPerf RE'!H46","v":0},{"$f":"'A4-FinPerf RE'!I46","v":0},{"$f":"'A4-FinPerf RE'!J46","v":0},{"$f":"'A4-FinPerf RE'!K46","v":0},{"$f":"'A4-FinPerf RE'!L46","v":0}]
[{"$f":"'A4-FinPerf RE'!A47","v":"Surplus/(Deficit) for the year"},{"$f":"B22+B23","v":156204428},{"$f":"C22+C23","v":90079183},96547552,179277318.86760002,193661415.16760004,193661415.16760004,192615274.16760004,151554221,185822292,200551216]
[]
["Capital expenditure & funds sources"]
["Capital expenditure",{"$f":"'A5-Capex'!C63","v":176242640},{"$f":"'A5-Capex'!D63","v":104957167},{"$f":"'A5-Capex'!E63","v":168679537},{"$f":"'A5-Capex'!F63","v":179277318.86000001},{"$f":"'A5-Capex'!G63","v":193661559.86000001},{"$f":"'A5-Capex'!H63","v":193661559.86000001},{"$f":"'A5-Capex'!I63","v":193661559.86000001},{"$f":"'A5-Capex'!J63","v":151554220},{"$f":"'A5-Capex'!K63","v":185822294},{"$f":"'A5-Capex'!L63","v":200551218}]
["Transfers recognised - capital",{"$f":"'A5-Capex'!C70","v":89314320},{"$f":"'A5-Capex'!D70","v":53446000},{"$f":"'A5-Capex'!E70","v":67162000},{"$f":"'A5-Capex'!F70","v":62443000},{"$f":"'A5-Capex'!G70","v":82443000},{"$f":"'A5-Capex'!H70","v":82443000},{"$f":"'A5-Capex'!I70","v":82443000},{"$f":"'A5-Capex'!J70","v":57608000},{"$f":"'A5-Capex'!K70","v":67783000},{"$f":"'A5-Capex'!L70","v":72351000}]
[]
[{"$f":"'A5-Capex'!A72","v":"Borrowing"},{"$f":"'A5-Capex'!C72","v":0},{"$f":"'A5-Capex'!D72","v":0},{"$f":"'A5-Capex'!E72","v":0},{"$f":"'A5-Capex'!F72","v":0},{"$f":"'A5-Capex'!G72","v":0},{"$f":"'A5-Capex'!H72","v":0},{"$f":"'A5-Capex'!I72","v":0},{"$f":"'A5-Capex'!J72","v":0},{"$f":"'A5-Capex'!K72","v":0},{"$f":"'A5-Capex'!L72","v":0}]
[{"$f":"'A5-Capex'!A73","v":"Internally generated funds"},{"$f":"'A5-Capex'!C73","v":86928320},{"$f":"'A5-Capex'!D73","v":51511167},{"$f":"'A5-Capex'!E73","v":101517537},{"$f":"'A5-Capex'!F73","v":116834318.86},{"$f":"'A5-Capex'!G73","v":111218559.86000001},{"$f":"'A5-Capex'!H73","v":111218559.86000001},{"$f":"'A5-Capex'!I73","v":111218559.86000001},{"$f":"'A5-Capex'!J73","v":93946220},{"$f":"'A5-Capex'!K73","v":118039294},{"$f":"'A5-Capex'!L73","v":128200218}]
["Total sources of capital funds",{"$f":"+B28+B30+B31","v":176242640},{"$f":"+C28+C30+C31","v":104957167},168679537,179277318.86000001,193661559.86000001,193661559.86000001,193661559.86000001,151554220,185822294,200551218]
[]
["Financial position"]
[{"$f":"'A6-FinPos'!A12","v":"Total current assets"},{"$f":"'A6-FinPos'!C12","v":137649368},{"$f":"'A6-FinPos'!D12","v":141996812},{"$f":"'A6-FinPos'!E12","v":127810541},{"$f":"'A6-FinPos'!F12","v":96189276.332602009},{"$f":"'A6-FinPos'!G12","v":70494276.332602009},{"$f":"'A6-FinPos'!H12","v":70494276.332602009},{"$f":"'A6-FinPos'!I12","v":70494276.332602009},{"$f":"'A6-FinPos'!J12","v":117064530},{"$f":"'A6-FinPos'!K12","v":118038571.58400001},{"$f":"'A6-FinPos'!L12","v":118077521.413536}]
[{"$f":"'A6-FinPos'!A24","v":"Total non current assets"},{"$f":"'A6-FinPos'!C24","v":613375059},{"$f":"'A6-FinPos'!D24","v":678800824},{"$f":"'A6-FinPos'!E24","v":815530256},{"$f":"'A6-FinPos'!F24","v":854921586.60473883},{"$f":"'A6-FinPos'!G24","v":849615673.60473883},{"$f":"'A6-FinPos'!H24","v":849615673.60473883},{"$f":"'A6-FinPos'!I24","v":849615673.60473883},{"$f":"'A6-FinPos'!J24","v":954101630},{"$f":"'A6-FinPos'!K24","v":1125732201},{"$f":"'A6-FinPos'!L24","v":1319840419}]
[{"$f":"'A6-FinPos'!A34","v":"Total current liabilities"},{"$f":"'A6-FinPos'!C34","v":55384231},{"$f":"'A6-FinPos'!D34","v":36700685},{"$f":"'A6-FinPos'!E34","v":56876426},{"$f":"'A6-FinPos'!F34","v":36063204.059},{"$f":"'A6-FinPos'!G34","v":36063204.059},{"$f":"'A6-FinPos'!H34","v":36063204.059},{"$f":"'A6-FinPos'!I34","v":36063204.059},{"$f":"'A6-FinPos'!J34","v":34517000},{"$f":"'A6-FinPos'!K34","v":29295000},{"$f":"'A6-FinPos'!L34","v":32395000}]
[{"$f":"'A6-FinPos'!A39","v":"Total non current liabilities"},{"$f":"'A6-FinPos'!C39","v":13419779},{"$f":"'A6-FinPos'!D39","v":12512637},{"$f":"'A6-FinPos'!E39","v":13958640},{"$f":"'A6-FinPos'!F39","v":14744449.647768002},{"$f":"'A6-FinPos'!G39","v":14744449.647768002},{"$f":"'A6-FinPos'!H39","v":14744449.647768002},{"$f":"'A6-FinPos'!I39","v":14744449.647768002},{"$f":"'A6-FinPos'!J39","v":17101289.280000001},{"$f":"'A6-FinPos'!K39","v":17894251.701120004},{"$f":"'A6-FinPos'!L39","v":18730034.092980482}]
["Community wealth/Equity",{"$f":"'A6-FinPos'!C48","v":682220417},{"$f":"'A6-FinPos'!D48","v":771584314},{"$f":"'A6-FinPos'!E48","v":872505731},{"$f":"'A6-FinPos'!F48","v":900303209.23057282},{"$f":"'A6-FinPos'!G48","v":869302296.23057282},{"$f":"'A6-FinPos'!H48","v":869302296.23057282},{"$f":"'A6-FinPos'!I48","v":869302296.23057282},{"$f":"'A6-FinPos'!J48","v":1019547870.72},{"$f":"'A6-FinPos'!K48","v":1196581520.8828802},{"$f":"'A6-FinPos'!L48","v":1386792906.3205557}]
[]
["Cash flows"]
["Net cash from (used) operating",{"$f":"'A7-CFlow'!C17","v":174519554},{"$f":"'A7-CFlow'!D17","v":90723268},{"$f":"'A7-CFlow'!E17","v":110879386},{"$f":"'A7-CFlow'!F17","v":151493540.45599997},{"$f":"'A7-CFlow'!G17","v":153112540.45599997},{"$f":"'A7-CFlow'!H17","v":153112540.45599997},{"$f":"'A7-CFlow'!I17","v":153112540.45599997},{"$f":"'A7-CFlow'!J17","v":137141746.98123205},{"$f":"'A7-CFlow'!K17","v":140226184.54369855},{"$f":"'A7-CFlow'!L17","v":152492918.25185823}]
["Net cash from (used) investing",{"$f":"'A7-CFlow'!C27","v":-174519554},{"$f":"'A7-CFlow'!D27","v":-95505284},{"$f":"'A7-CFlow'!E27","v":-153644721},{"$f":"'A7-CFlow'!F27","v":-144514397.96900001},{"$f":"'A7-CFlow'!G27","v":-162757397.96900001},{"$f":"'A7-CFlow'!H27","v":-162757397.96900001},{"$f":"'A7-CFlow'!I27","v":-162757397.96900001},{"$f":"'A7-CFlow'!J27","v":-134841798},{"$f":"'A7-CFlow'!K27","v":-139368000},{"$f":"'A7-CFlow'!L27","v":-152575000}]
["Net cash from (used) financing",{"$f":"'A7-CFlow'!C36","v":0},{"$f":"'A7-CFlow'!D36","v":0},{"$f":"'A7-CFlow'!E36","v":0},{"$f":"'A7-CFlow'!F36","v":0},{"$f":"'A7-CFlow'!G36","v":0},{"$f":"'A7-CFlow'!H36","v":0},{"$f":"'A7-CFlow'!I36","v":0},{"$f":"'A7-CFlow'!J36","v":0},{"$f":"'A7-CFlow'!K36","v":0},{"$f":"'A7-CFlow'!L36","v":0}]
[{"$f":"LEFT('A7-CFlow'!A40,37)","v":"Cash/cash equivalents at the year end"},{"$f":"'A7-CFlow'!C40","v":60714362},{"$f":"'A7-CFlow'!D40","v":55932345},{"$f":"'A7-CFlow'!E40","v":13167010},{"$f":"'A7-CFlow'!F40","v":37279142.486999959},{"$f":"'A7-CFlow'!G40","v":4026142.4869999588},{"$f":"'A7-CFlow'!H40","v":4026142.4869999588},{"$f":"'A7-CFlow'!I40","v":4026142.4869999588},{"$f":"'A7-CFlow'!J40","v":2421448.9812320471},{"$f":"'A7-CFlow'!K40","v":3279633.5249305964},{"$f":"'A7-CFlow'!L40","v":3197551.7767888308}]
[]
["Cash backing/surplus reconciliation"]
[{"$f":"'A8-ResRecon'!A4","v":"Cash and investments available"},{"$f":"'A8-ResRecon'!C8","v":60714361},{"$f":"'A8-ResRecon'!D8","v":55932345},{"$f":"'A8-ResRecon'!E8","v":13167011},{"$f":"'A8-ResRecon'!F8","v":29721281.529999997},{"$f":"'A8-ResRecon'!G8","v":4026281.5299999975},{"$f":"'A8-ResRecon'!H8","v":4026281.5299999975},{"$f":"'A8-ResRecon'!I8","v":4026281.5299999975},{"$f":"'A8-ResRecon'!J8","v":2421000},{"$f":"'A8-ResRecon'!K8","v":3280146},{"$f":"'A8-ResRecon'!L8","v":3197995.8840000001}]
[{"$f":"'A8-ResRecon'!A10","v":"Application of cash and investments"},{"$f":"'A8-ResRecon'!C18","v":11550928},{"$f":"'A8-ResRecon'!D18","v":8865959},{"$f":"'A8-ResRecon'!E18","v":39163092},{"$f":"'A8-ResRecon'!F18","v":24639831.647768002},{"$f":"'A8-ResRecon'!G18","v":18208831.647768002},{"$f":"'A8-ResRecon'!H18","v":18208831.647768002},{"$f":"'A8-ResRecon'!I18","v":17929831.647768002},{"$f":"'A8-ResRecon'!J18","v":1063405.2000000002},{"$f":"'A8-ResRecon'!K18","v":-4040744.9191999994},{"$f":"'A8-ResRecon'!L18","v":-816615.14483679924}]
["Balance - surplus (shortfall)",{"$f":"B48-B49","v":49163433},{"$f":"C48-C49","v":47066386},-25996081,5081449.8822319955,-14182550.117768005,-14182550.117768005,-13903550.117768005,1357594.7999999998,7320890.9191999994,4014611.0288367993]
[]
["Asset management"]
["Asset register summary (WDV)",{"$f":"'A9-Asset'!C165","v":678800559},{"$f":"'A9-Asset'!D165","v":814981868},{"$f":"'A9-Asset'!E165","v":854921362},{"$f":"'A9-Asset'!F165","v":849067086.60473883},{"$f":"'A9-Asset'!G165","v":849067173.60473883},{"$f":"'A9-Asset'!H165","v":849067173.60473883},{"$f":"'A9-Asset'!H165","v":849067173.60473883},{"$f":"'A9-Asset'!I165","v":953552546.63218522},{"$f":"'A9-Asset'!J165","v":1125182904.1503232},{"$f":"'A9-Asset'!K165","v":1319291288.9744413}]
[{"$f":"'A9-Asset'!A168","v":"Depreciation"},{"$f":"'A9-Asset'!C168","v":21569539},{"$f":"'A9-Asset'!D168","v":31106428},{"$f":"'A9-Asset'!E168","v":28680827},{"$f":"'A9-Asset'!F168","v":5043379.8119640006},{"$f":"'A9-Asset'!G168","v":5942211.5819640001},{"$f":"'A9-Asset'!H168","v":5942211.5819640001},{"$f":"'A9-Asset'!H168","v":5942211.5819640001},{"$f":"'A9-Asset'!I168","v":5941747.3117421279},{"$f":"'A9-Asset'!J168","v":6250755.666576203},{"$f":"'A9-Asset'!K168","v":6588492.472571318}]
["Renewal and Upgrading of Existing Assets",{"$f":"'A9-Asset'!C37+'A9-Asset'!C69","v":146294805},{"$f":"'A9-Asset'!D37+'A9-Asset'!D69","v":86979567},{"$f":"'A9-Asset'!E37+'A9-Asset'!E69","v":29229415},{"$f":"'A9-Asset'!F37+'A9-Asset'!F69","v":27083510.539999999},{"$f":"'A9-Asset'!G37+'A9-Asset'!G69","v":27083510.539999999},{"$f":"'A9-Asset'!H37+'A9-Asset'!H69","v":27083510.539999999},{"$f":"'A9-Asset'!H37+'A9-Asset'!H69","v":27083510.539999999},{"$f":"'A9-Asset'!I37+'A9-Asset'!I69","v":0},{"$f":"'A9-Asset'!J37+'A9-Asset'!J69","v":0},{"$f":"'A9-Asset'!K37+'A9-Asset'!K69","v":0}]
["Repairs and Maintenance",{"$f":"'A9-Asset'!C169","v":5754016},{"$f":"'A9-Asset'!D169","v":4102201},{"$f":"'A9-Asset'!E169","v":9246700},{"$f":"'A9-Asset'!F169","v":22098649.140000001},{"$f":"'A9-Asset'!G169","v":22767301.140000001},{"$f":"'A9-Asset'!H169","v":22767301.140000001},{"$f":"'A9-Asset'!H169","v":22767301.140000001},{"$f":"'A9-Asset'!I169","v":24093599.799280003},{"$f":"'A9-Asset'!J169","v":21394337.976969123},{"$f":"'A9-Asset'!K169","v":22763448.227725461}]
[]
["Free services"]
["Cost of Free Basic Services provided",{"$f":"'A10-SerDel'!C60","v":0},{"$f":"'A10-SerDel'!D60","v":0},{"$f":"'A10-SerDel'!E60","v":0},{"$f":"'A10-SerDel'!F60","v":0},{"$f":"'A10-SerDel'!G60","v":0},{"$f":"'A10-SerDel'!H60","v":0},{"$f":"'A10-SerDel'!I60","v":0},{"$f":"'A10-SerDel'!I60","v":0},{"$f":"'A10-SerDel'!J60","v":0},{"$f":"'A10-SerDel'!K60","v":0}]
["Revenue cost of free services provided",{"$f":"'A10-SerDel'!C79","v":3290182},{"$f":"'A10-SerDel'!D79","v":2756775},{"$f":"'A10-SerDel'!E79","v":2045637},{"$f":"'A10-SerDel'!F79","v":7952097.4099999992},{"$f":"'A10-SerDel'!G79","v":7952097.4099999992},{"$f":"'A10-SerDel'!H79","v":7952097.4099999992},{"$f":"'A10-SerDel'!I79","v":8365606},{"$f":"'A10-SerDel'!I79","v":8365606},{"$f":"'A10-SerDel'!J79","v":8817350},{"$f":"'A10-SerDel'!K79","v":9293486}]
["Households below minimum service level"]
[{"$f":"'A10-SerDel'!A5","v":"Water:"},{"$f":"'A10-SerDel'!C14","v":14718},{"$f":"'A10-SerDel'!D14","v":14718},{"$f":"'A10-SerDel'!E14","v":14718},{"$f":"'A10-SerDel'!F14","v":14718},{"$f":"'A10-SerDel'!G14","v":14718},{"$f":"'A10-SerDel'!H14","v":18522},{"$f":"'A10-SerDel'!I14","v":18522},{"$f":"'A10-SerDel'!I14","v":18522},{"$f":"'A10-SerDel'!J14","v":18522},{"$f":"'A10-SerDel'!K14","v":18522}]
[{"$f":"'A10-SerDel'!A16","v":"Sanitation/sewerage:"},{"$f":"'A10-SerDel'!C26","v":7408},{"$f":"'A10-SerDel'!D26","v":7408},{"$f":"'A10-SerDel'!E26","v":7408},{"$f":"'A10-SerDel'!F26","v":7408},{"$f":"'A10-SerDel'!G26","v":7408},{"$f":"'A10-SerDel'!H26","v":11021},{"$f":"'A10-SerDel'!I26","v":11021},{"$f":"'A10-SerDel'!I26","v":11021},{"$f":"'A10-SerDel'!J26","v":11021},{"$f":"'A10-SerDel'!K26","v":11021}]
[{"$f":"'A10-SerDel'!A28","v":"Energy:"},{"$f":"'A10-SerDel'!C35","v":3000},{"$f":"'A10-SerDel'!D35","v":3000},{"$f":"'A10-SerDel'!E35","v":3000},{"$f":"'A10-SerDel'!F35","v":3000},{"$f":"'A10-SerDel'!G35","v":3000},{"$f":"'A10-SerDel'!H35","v":4805},{"$f":"'A10-SerDel'!I35","v":4805},{"$f":"'A10-SerDel'!I35","v":4805},{"$f":"'A10-SerDel'!J35","v":4805},{"$f":"'A10-SerDel'!K35","v":4805}]
[{"$f":"'A10-SerDel'!A37","v":"Refuse:"},{"$f":"'A10-SerDel'!C45","v":53308},{"$f":"'A10-SerDel'!D45","v":53308},{"$f":"'A10-SerDel'!E45","v":53308},{"$f":"'A10-SerDel'!F45","v":53308},{"$f":"'A10-SerDel'!G45","v":53308},{"$f":"'A10-SerDel'!H45","v":59613},{"$f":"'A10-SerDel'!I45","v":59613},{"$f":"'A10-SerDel'!I45","v":59613},{"$f":"'A10-SerDel'!J45","v":59613},{"$f":"'A10-SerDel'!K45","v":59613}]

{"sheet":"A2-FinPerf SC","index":7,"n_rows":58,"n_cols":11,"rows_kept":58,"cut":false,"hidden":false,"merged":[[53,0,53,10],[1,5,1,7],[1,8,1,10]]}
[{"$f":"muni&\" - \"&Approve3","v":"LIM332 Greater Letaba - Table A2 Budgeted Financial Performance (revenue and expenditure by functional classification)"}]
[{"$f":"\"Functional Classification \"&desc","v":"Functional Classification Description"},{"$f":"head27","v":"Ref"},{"$f":"head1b","v":"2015/16"},{"$f":"head1A","v":"2016/17"},{"$f":"Head1","v":"2017/18"},{"$f":"Head2","v":"Current Year 2018/19"},null,null,{"$f":"Head3","v":"2019/20 Medium Term Revenue & Expenditure Framework"}]
["R thousand",1,{"$f":"Head5","v":"Audited Outcome"},{"$f":"Head5","v":"Audited Outcome"},{"$f":"Head5","v":"Audited Outcome"},{"$f":"Head6","v":"Original Budget"},{"$f":"Head7","v":"Adjusted Budget"},{"$f":"Head8","v":"Full Year Forecast"},{"$f":"Head9","v":"Budget Year 2019/20"},{"$f":"Head10","v":"Budget Year +1 2020/21"},{"$f":"Head11","v":"Budget Year +2 2021/22"}]
["Revenue - Functional"]
["Governance and administration",null,{"$f":"SUM(C6:C8)","v":326083235},{"$f":"SUM(D6:D8)","v":294548468.89999998},316672284,366195306.97000003,401589520.97000003,401589520.97000003,395389361,420077858,449627111]
["Executive and council",null,{"$f":"A2A!C6","v":0},{"$f":"A2A!D6","v":0},{"$f":"A2A!E6","v":0},{"$f":"A2A!F6","v":0},{"$f":"A2A!G6","v":0},{"$f":"A2A!H6","v":0},{"$f":"A2A!I6","v":0},{"$f":"A2A!J6","v":0},{"$f":"A2A!K6","v":0}]
["Finance and administration",null,{"$f":"A2A!C9","v":326083235},{"$f":"A2A!D9","v":294548468.89999998},{"$f":"A2A!E9","v":316672284},{"$f":"A2A!F9","v":366195306.97000003},{"$f":"A2A!G9","v":401589520.97000003},{"$f":"A2A!H9","v":401589520.97000003},{"$f":"A2A!I9","v":395389361},{"$f":"A2A!J9","v":420077858},{"$f":"A2A!K9","v":449627111}]
["Internal audit",null,{"$f":"A2A!C23","v":0},{"$f":"A2A!D23","v":0},{"$f":"A2A!E23","v":0},{"$f":"A2A!F23","v":0},{"$f":"A2A!G23","v":0},{"$f":"A2A!H23","v":0},{"$f":"A2A!I23","v":0},{"$f":"A2A!J23","v":0},{"$f":"A2A!K23","v":0}]
["Community and public safety",null,{"$f":"SUM(C10:C14)","v":0},{"$f":"SUM(D10:D14)","v":0},0,0,0,0,0,0,0]
["Community and social services",null,{"$f":"A2A!C26","v":0},{"$f":"A2A!D26","v":0},{"$f":"A2A!E26","v":0},{"$f":"A2A!F26","v":0},{"$f":"A2A!G26","v":0},{"$f":"A2A!H26","v":0},{"$f":"A2A!I26","v":0},{"$f":"A2A!J26","v":0},{"$f":"A2A!K26","v":0}]
["Sport and recreation",null,{"$f":"A2A!C48","v":0},{"$f":"A2A!D48","v":0},{"$f":"A2A!E48","v":0},{"$f":"A2A!F48","v":0},{"$f":"A2A!G48","v":0},{"$f":"A2A!H48","v":0},{"$f":"A2A!I48","v":0},{"$f":"A2A!J48","v":0},{"$f":"A2A!K48","v":0}]
["Public safety",null,{"$f":"A2A!C54","v":0},{"$f":"A2A!D54","v":0},{"$f":"A2A!E54","v":0},{"$f":"A2A!F54","v":0},{"$f":"A2A!G54","v":0},{"$f":"A2A!H54","v":0},{"$f":"A2A!I54","v":0},{"$f":"A2A!J54","v":0},{"$f":"A2A!K54","v":0}]
["Housing",null,{"$f":"A2A!C63","v":0},{"$f":"A2A!D63","v":0},{"$f":"A2A!E63","v":0},{"$f":"A2A!F63","v":0},{"$f":"A2A!G63","v":0},{"$f":"A2A!H63","v":0},{"$f":"A2A!I63","v":0},{"$f":"A2A!J63","v":0},{"$f":"A2A!K63","v":0}]
["Health",null,{"$f":"A2A!C66","v":0},{"$f":"A2A!D66","v":0},{"$f":"A2A!E66","v":0},{"$f":"A2A!F66","v":0},{"$f":"A2A!G66","v":0},{"$f":"A2A!H66","v":0},{"$f":"A2A!I66","v":0},{"$f":"A2A!J66","v":0},{"$f":"A2A!K66","v":0}]
["Economic and environmental services",null,{"$f":"SUM(C16:C18)","v":6646951},{"$f":"SUM(D16:D18)","v":6696371.4100000001},13679612,11461019,26061019,26061019,27416192,28896666,30457086]
["Planning and development",null,{"$f":"A2A!C75","v":0},{"$f":"A2A!D75","v":0},{"$f":"A2A!E75","v":0},{"$f":"A2A!F75","v":0},{"$f":"A2A!G75","v":0},{"$f":"A2A!H75","v":0},{"$f":"A2A!I75","v":0},{"$f":"A2A!J75","v":0},{"$f":"A2A!K75","v":0}]
["Road transport",null,{"$f":"A2A!C86","v":6646951},{"$f":"A2A!D86","v":6696371.4100000001},{"$f":"A2A!E86","v":13679612},{"$f":"A2A!F86","v":11461019},{"$f":"A2A!G86","v":26061019},{"$f":"A2A!H86","v":26061019},{"$f":"A2A!I86","v":27416192},{"$f":"A2A!J86","v":28896666},{"$f":"A2A!K86","v":30457086}]
["Environmental protection",null,{"$f":"A2A!C91","v":0},{"$f":"A2A!D91","v":0},{"$f":"A2A!E91","v":0},{"$f":"A2A!F91","v":0},{"$f":"A2A!G91","v":0},{"$f":"A2A!H91","v":0},{"$f":"A2A!I91","v":0},{"$f":"A2A!J91","v":0},{"$f":"A2A!K91","v":0}]
["Trading services",null,{"$f":"SUM(C20:C23)","v":12992849},{"$f":"SUM(D20:D23)","v":19324338.690000001},13861049,25051354.469999999,41474341.469999999,41474341.469999999,37336890,{"$f":"SUM(J20:J23)","v":46353082},48478149]
["Energy sources",null,{"$f":"A2A!C99","v":9346308},{"$f":"A2A!D99","v":15358297.15},{"$f":"A2A!E99","v":9667754},{"$f":"A2A!F99","v":18807957.469999999},{"$f":"A2A!G99","v":33230944.469999999},{"$f":"A2A!H99","v":33230944.469999999},{"$f":"A2A!I99","v":28664837},{"$f":"A2A!J99","v":37212738},{"$f":"A2A!K99","v":38844226}]
["Water management",null,{"$f":"A2A!C103","v":0},{"$f":"A2A!D103","v":0},{"$f":"A2A!E103","v":0},{"$f":"A2A!F103","v":0},{"$f":"A2A!G103","v":0},{"$f":"A2A!H103","v":0},{"$f":"A2A!I103","v":0},{"$f":"A2A!J103","v":0},{"$f":"A2A!K103","v":0}]
["Waste water management",null,{"$f":"A2A!C107","v":0},{"$f":"A2A!D107","v":0},{"$f":"A2A!E107","v":0},{"$f":"A2A!F107","v":0},{"$f":"A2A!G107","v":0},{"$f":"A2A!H107","v":0},{"$f":"A2A!I107","v":0},{"$f":"A2A!J107","v":0},{"$f":"A2A!K107","v":0}]
["Waste management",null,{"$f":"A2A!C112","v":3646541},{"$f":"A2A!D112","v":3966041.54},{"$f":"A2A!E112","v":4193295},{"$f":"A2A!F112","v":6243397},{"$f":"A2A!G112","v":8243397},{"$f":"A2A!H112","v":8243397},{"$f":"A2A!I112","v":8672053},{"$f":"A2A!J112","v":9140344},{"$f":"A2A!K112","v":9633923}]
["Other",4,{"$f":"A2A!C117","v":0},{"$f":"A2A!D117","v":0},{"$f":"A2A!E117","v":0},{"$f":"A2A!F117","v":0},{"$f":"A2A!G117","v":0},{"$f":"A2A!H117","v":0},{"$f":"A2A!I117","v":0},{"$f":"A2A!J117","v":0},{"$f":"A2A!K117","v":0}]
[{"$f":"\"Total \"&A4","v":"Total Revenue - Functional"},2,{"$f":"C5+C9+C15+C19+C24","v":345723035},{"$f":"D5+D9+D15+D19+D24","v":320569179},{"$f":"E5+E9+E15+E19+E24","v":344212945},402707680.44000006,469124881.44000006,469124881.44000006,{"$f":"I5+I9+I15+I19+I24","v":460142443},495327606,528562346]
[]
["Expenditure - Functional"]
["Governance and administration",null,{"$f":"SUM(C29:C31)","v":120886989},{"$f":"SUM(D29:D31)","v":143565005.91},147719392,124146230.87999998,145751668.88,145751668.88,156015915,164651092,174229418]
["Executive and council",null,{"$f":"A2A!C128","v":56239143},{"$f":"A2A!D128","v":71524875.870000005},{"$f":"A2A!E128","v":65494849},{"$f":"A2A!F128","v":47800391.169999994},{"$f":"A2A!G128","v":52383119.170000002},{"$f":"A2A!H128","v":52383119.170000002},{"$f":"A2A!I128","v":55042807},{"$f":"A2A!J128","v":58188850},{"$f":"A2A!K128","v":61461249}]
["Finance and administration",null,{"$f":"A2A!C131","v":64647846},{"$f":"A2A!D131","v":72040130.039999992},{"$f":"A2A!E131","v":80597238},{"$f":"A2A!F131","v":74406900.689999998},{"$f":"A2A!G131","v":90901596.689999983},{"$f":"A2A!H131","v":90901596.689999983},{"$f":"A2A!I131","v":98346377},{"$f":"A2A!J131","v":103669749},{"$f":"A2A!K131","v":109799312}]
["Internal audit",null,{"$f":"A2A!C145","v":0},{"$f":"A2A!D145","v":0},{"$f":"A2A!E145","v":1627305},{"$f":"A2A!F145","v":1938939.02},{"$f":"A2A!G145","v":2466953.02},{"$f":"A2A!H145","v":2466953.02},{"$f":"A2A!I145","v":2626731},{"$f":"A2A!J145","v":2792493},{"$f":"A2A!K145","v":2968857}]
["Community and public safety",null,{"$f":"SUM(C33:C37)","v":11895235},{"$f":"SUM(D33:D37)","v":12715924.58},12090250,12752759.719999999,18073645.719999999,18073645.719999999,26061793,23863781,25645779]
["Community and social services",null,{"$f":"A2A!C148","v":2389933},{"$f":"A2A!D148","v":3405469.5799999996},{"$f":"A2A!E148","v":3691577},{"$f":"A2A!F148","v":4334295.18},{"$f":"A2A!G148","v":5016218.18},{"$f":"A2A!H148","v":5016218.18},{"$f":"A2A!I148","v":10102909},{"$f":"A2A!J148","v":6712339},{"$f":"A2A!K148","v":7359085}]
["Sport and recreation",null,{"$f":"A2A!C170","v":8915763},{"$f":"A2A!D170","v":8657839.6999999993},{"$f":"A2A!E170","v":7707414},{"$f":"A2A!F170","v":7690965.4299999997},{"$f":"A2A!G170","v":12329928.43},{"$f":"A2A!H170","v":12329928.43},{"$f":"A2A!I170","v":15182096},{"$f":"A2A!J170","v":16321355},{"$f":"A2A!K170","v":17399646}]
["Public safety",null,{"$f":"A2A!C176","v":0},{"$f":"A2A!D176","v":0},{"$f":"A2A!E176","v":0},{"$f":"A2A!F176","v":0},{"$f":"A2A!G176","v":0},{"$f":"A2A!H176","v":0},{"$f":"A2A!I176","v":0},{"$f":"A2A!J176","v":0},{"$f":"A2A!K176","v":0}]
["Housing",null,{"$f":"A2A!C185","v":589539},{"$f":"A2A!D185","v":652615.30000000005},{"$f":"A2A!E185","v":691259},{"$f":"A2A!F185","v":727499.11},{"$f":"A2A!G185","v":727499.11},{"$f":"A2A!H185","v":727499.11},{"$f":"A2A!I185","v":776788},{"$f":"A2A!J185","v":830087},{"$f":"A2A!K185","v":887048}]
["Health",null,{"$f":"A2A!C188","v":0},{"$f":"A2A!D188","v":0},{"$f":"A2A!E188","v":0},{"$f":"A2A!F188","v":0},{"$f":"A2A!G188","v":0},{"$f":"A2A!H188","v":0},{"$f":"A2A!I188","v":0},{"$f":"A2A!J188","v":0},{"$f":"A2A!K188","v":0}]
["Economic and environmental services",null,{"$f":"SUM(C39:C41)","v":31868259},{"$f":"SUM(D39:D41)","v":46415239.519999996},56817006,48381784.74000001,65417929.74000001,65417929.74000001,77562952,73515624,77979221]
["Planning and development",null,{"$f":"A2A!C197","v":7322236},{"$f":"A2A!D197","v":9481093.040000001},{"$f":"A2A!E197","v":8030087},{"$f":"A2A!F197","v":13504109.48},{"$f":"A2A!G197","v":11586550.48},{"$f":"A2A!H197","v":11586550.48},{"$f":"A2A!I197","v":23542563},{"$f":"A2A!J197","v":16226548},{"$f":"A2A!K197","v":17220675}]
["Road transport",null,{"$f":"A2A!C208","v":24546023},{"$f":"A2A!D208","v":36934146.479999997},{"$f":"A2A!E208","v":48786919},{"$f":"A2A!F208","v":34877675.260000005},{"$f":"A2A!G208","v":53831379.260000005},{"$f":"A2A!H208","v":53831379.260000005},{"$f":"A2A!I208","v":54020389},{"$f":"A2A!J208","v":57289076},{"$f":"A2A!K208","v":60758546}]
["Environmental protection",null,{"$f":"A2A!C213","v":0},{"$f":"A2A!D213","v":0},{"$f":"A2A!E213","v":0},{"$f":"A2A!F213","v":0},{"$f":"A2A!G213","v":0},{"$f":"A2A!H213","v":0},{"$f":"A2A!I213","v":0},{"$f":"A2A!J213","v":0},{"$f":"A2A!K213","v":0}]
["Trading services",null,{"$f":"SUM(C43:C46)","v":24868124},{"$f":"SUM(D43:D46)","v":27793825.990000017},31038745,{"$f":"SUM(F43:F46)","v":38149586.189999998},46220222.189999998,46220222.189999998,48947566,47474815,{"$f":"SUM(K43:K46)","v":50156710}]
["Energy sources",null,{"$f":"A2A!C221","v":14364689},{"$f":"A2A!D221","v":22833616.450000018},{"$f":"A2A!E221","v":25833507},{"$f":"A2A!F221","v":32487354.719999999},{"$f":"A2A!G221","v":40450161.719999999},{"$f":"A2A!H221","v":40450161.719999999},{"$f":"A2A!I221","v":42686645},{"$f":"A2A!J221","v":40832094},{"$f":"A2A!K221","v":43108554}]
["Water management",null,{"$f":"A2A!C225","v":0},{"$f":"A2A!D225","v":0},{"$f":"A2A!E225","v":0},{"$f":"A2A!F225","v":0},{"$f":"A2A!G225","v":0},{"$f":"A2A!H225","v":0},{"$f":"A2A!I225","v":0},{"$f":"A2A!J225","v":0},{"$f":"A2A!K225","v":0}]
["Waste water management",null,{"$f":"A2A!C229","v":645353},{"$f":"A2A!D229","v":603338.95000000007},{"$f":"A2A!E229","v":636076},{"$f":"A2A!F229","v":686133},{"$f":"A2A!G229","v":700457},{"$f":"A2A!H229","v":700457},{"$f":"A2A!I229","v":751605},{"$f":"A2A!J229","v":802836},{"$f":"A2A!K229","v":857569}]
["Waste management",null,{"$f":"A2A!C234","v":9858082},{"$f":"A2A!D234","v":4356870.5899999989},{"$f":"A2A!E234","v":4569162},{"$f":"A2A!F234","v":4976098.47},{"$f":"A2A!G234","v":5069603.47},{"$f":"A2A!H234","v":5069603.47},{"$f":"A2A!I234","v":5509316},{"$f":"A2A!J234","v":5839885},{"$f":"A2A!K234","v":6190587}]
["Other",4,{"$f":"A2A!C239","v":0},{"$f":"A2A!D239","v":0},{"$f":"A2A!E239","v":0},{"$f":"A2A!F239","v":0},{"$f":"A2A!G239","v":0},{"$f":"A2A!H239","v":0},{"$f":"A2A!I239","v":0},{"$f":"A2A!J239","v":0},{"$f":"A2A!K239","v":0}]
[{"$f":"\"Total \"&A27","v":"Total Expenditure - Functional"},3,{"$f":"C28+C32+C38+C42+C47","v":189518607},{"$f":"D28+D32+D38+D42+D47","v":230489996},{"$f":"E28+E32+E38+E42+E47","v":247665393},{"$f":"F28+F32+F38+F42+F47","v":223430361.52999997},275463466.52999997,275463466.52999997,308588226,309505312,328011128]
[{"$f":"result","v":"Surplus/(Deficit) for the year"},null,{"$f":"C25-C48","v":156204428},{"$f":"D25-D48","v":90079183},96547552,179277318.91000009,193661414.91000009,193661414.91000009,151554217,185822294,200551218]
[{"$f":"head27a","v":"References"}]
["1. Government Finance Statistics Functions and Sub-functions are standardised to assist the compilation of national and international accounts for comparison purposes"]
["2. Total Revenue by functional classification must reconcile to Total Operating Revenue shown in Budgeted Financial Performance (revenue and expenditure)"]
["3. Total Expenditure by Functional Classification must reconcile to Total Operating Expenditure shown in Budgeted Financial Performance (revenue and expenditure)"]
["4. All amounts must be classified under a functional classification . The GFS function 'Other' is only for Abbatoirs, Air Transport,  Forestry, Licensing and Regulation, Markets and Tourism - and if used must be supported by footnotes. Nothing else may be placed under 'Other'. Assign associate share to relevant classification."]
[]
[]
["check oprev balance",null,{"$f":"C25-'A4-FinPerf RE'!C59","v":0},{"$f":"D25-'A4-FinPerf RE'!D59","v":0},{"$f":"E25-'A4-FinPerf RE'!E59","v":0},{"$f":"F25-'A4-FinPerf RE'!F59","v":0.21000003814697266},{"$f":"G25-'A4-FinPerf RE'!G59","v":0.21000003814697266},{"$f":"H25-'A4-FinPerf RE'!H59","v":0.21000003814697266},{"$f":"I25-'A4-FinPerf RE'!J59","v":0},{"$f":"J25-'A4-FinPerf RE'!K59","v":-2},{"$f":"K25-'A4-FinPerf RE'!L59","v":0}]
["check opexp balance",null,{"$f":"C48-'A4-FinPerf RE'!C35","v":0},{"$f":"D48-'A4-FinPerf RE'!D35","v":0},{"$f":"E48-'A4-FinPerf RE'!E35","v":0},{"$f":"F48-'A4-FinPerf RE'!F35","v":0.16759997606277466},{"$f":"G48-'A4-FinPerf RE'!G35","v":0.46759998798370361},{"$f":"H48-'A4-FinPerf RE'!H35","v":0.46759998798370361},{"$f":"I48-'A4-FinPerf RE'!J35","v":4},{"$f":"J48-'A4-FinPerf RE'!K35","v":-4},{"$f":"K48-'A4-FinPerf RE'!L35","v":-2}]

{"sheet":"A2A","index":8,"n_rows":256,"n_cols":11,"rows_kept":256,"cut":false,"hidden":false,"merged":[[1,5,1,7],[1,8,1,10],[251,0,251,10]]}
[{"$f":"muni&\" - \"&Approve3","v":"LIM332 Greater Letaba - Table A2 Budgeted Financial Performance (revenue and expenditure by functional classification)"}]
[{"$f":"\"Functional Classification \"&desc","v":"Functional Classification Description"},{"$f":"head27","v":"Ref"},{"$f":"head1b","v":"2015/16"},{"$f":"head1A","v":"2016/17"},{"$f":"Head1","v":"2017/18"},{"$f":"Head2","v":"Current Year 2018/19"},null,null,{"$f":"Head3","v":"2019/20 Medium Term Revenue & Expenditure Framework"}]
["R thousand",1,{"$f":"Head5","v":"Audited Outcome"},{"$f":"Head5","v":"Audited Outcome"},{"$f":"Head5","v":"Audited Outcome"},{"$f":"Head6","v":"Original Budget"},{"$f":"Head7","v":"Adjusted Budget"},{"$f":"Head8","v":"Full Year Forecast"},{"$f":"Head9","v":"Budget Year 2019/20"},{"$f":"Head10","v":"Budget Year +1 2020/21"},{"$f":"Head11","v":"Budget Year +2 2021/22"}]
["Revenue - Functional"]
["Municipal governance and administration",null,{"$f":"C6+C9+C23","v":326083235},294548468.89999998,316672284,366195306.97000003,401589520.97000003,401589520.97000003,395389361,420077858,449627111]
["Executive and council",null,{"$f":"SUM(C7:C8)","v":0},{"$f":"SUM(D7:D8)","v":0},0,0,0,0,0,0,0]
["Mayor and Council"]
["Municipal Manager, Town Secretary and Chief Executive"]
["Finance and administration",null,{"$f":"SUM(C10:C22)","v":326083235},294548468.89999998,316672284,366195306.97000003,401589520.97000003,401589520.97000003,395389361,420077858,449627111]
["Administrative and Corporate Support"]
["Asset Management"]
["Finance",null,326083235,294548468.89999998,316672284,366195306.97000003,{"$f":"381589520.97+20000000","v":401589520.97000003},{"$f":"381589520.97+20000000","v":401589520.97000003},395389361,420077858,449627111]
["Fleet Management"]
["Human Resources"]
["Information Technology"]
["Legal Services"]
["Marketing, Customer Relations, Publicity and Media Co-ordination"]
["Property Services"]
["Risk Management"]
["Security Services"]
["Supply Chain Management "]
["Valuation Service"]
["Internal audit",null,{"$f":"SUM(C24:C24)","v":0},0,0,0,0,0,0,0,0]
["Governance Function"]
["Community and public safety",null,{"$f":"C26+C48+C54+C63+C66","v":0},0,0,0,0,0,0,0,0]
["Community and social services",null,{"$f":"SUM(C27:C47)","v":0},{"$f":"SUM(D27:D47)","v":0},0,0,0,0,0,0,0]
["Aged Care"]
["Agricultural"]
["Animal Care and Diseases"]
["Cemeteries, Funeral Parlours and Crematoriums"]
["Child Care Facilities"]
["Community Halls and Facilities"]
["Consumer Protection"]
["Cultural Matters"]
["Disaster Management"]
["Education"]
["Indigenous and Customary Law"]
["Industrial Promotion"]
["Language Policy"]
["Libraries and Archives"]
["Literacy Programmes"]
["Media Services"]
["Museums and Art Galleries"]
["Population Development"]
["Provincial Cultural Matters"]
["Theatres"]
["Zoo's"]
["Sport and recreation",null,{"$f":"SUM(C49:C53)","v":0},{"$f":"SUM(D49:D53)","v":0},0,0,0,0,0,0,0]
["Beaches and Jetties "]
["Casinos, Racing, Gambling, Wagering"]
["Community Parks (including Nurseries)"]
["Recreational Facilities"]
["Sports Grounds and Stadiums"]
["Public safety",null,{"$f":"SUM(C55:C62)","v":0},0,0,0,0,0,0,0,0]
["Civil Defence"]
["Cleansing"]
["Control of Public Nuisances"]
["Fencing and Fences "]
["Fire Fighting and Protection"]
["Licensing and Control of Animals"]
["Police Forces, Traffic and Street Parking Control"]
["Pounds"]
["Housing",null,{"$f":"SUM(C64:C65)","v":0},{"$f":"SUM(D64:D65)","v":0},0,0,0,0,0,0,0]
["Housing"]
["Informal Settlements"]
["Health",null,{"$f":"SUM(C67:C73)","v":0},{"$f":"SUM(D67:D73)","v":0},0,0,0,0,0,0,0]
["Ambulance"]
["Health Services"]
["Laboratory Services"]
["Food Control"]
["Health Surveillance and Prevention of Communicable Diseases including immunizations"]
["Vector Control"]
["Chemical Safety"]
["Economic and environmental services",null,{"$f":"C75+C86+C91","v":6646951},6696371.4100000001,13679612,11461019,26061019,26061019,27416192,28896666,30457086]
["Planning and development",null,{"$f":"SUM(C76:C85)","v":0},{"$f":"SUM(D76:D85)","v":0},0,0,0,0,0,0,0]
["Billboards"]
["Corporate Wide Strategic Planning (IDPs, LEDs)"]
["Central City Improvement District"]
["Development Facilitation"]
["Economic Development/Planning"]
["Regional Planning and Development"]
["Town Planning, Building Regulations and Enforcement, and City Engineer"]
["Project Management Unit"]
["Provincial Planning"]
["Support to Local Municipalities"]
["Road transport",null,{"$f":"SUM(C87:C90)","v":6646951},6696371.4100000001,13679612,11461019,26061019,26061019,27416192,28896666,30457086]
["Public Transport"]
["Road and Traffic Regulation",null,6646951,6696371.4100000001,13679612,11461019,26061019,26061019,27416192,28896666,30457086]
["Roads"]
["Taxi Ranks"]
["Environmental protection",null,{"$f":"SUM(C92:C97)","v":0},{"$f":"SUM(D92:D97)","v":0},0,0,0,0,0,0,0]
["Biodiversity and Landscape"]
["Coastal Protection"]
["Indigenous Forests"]
["Nature Conservation"]
["Pollution Control"]
["Soil Conservation"]
["Trading services",null,{"$f":"C99+C103+C107+C112","v":12992849},{"$f":"D99+D103+D107+D112","v":19324338.690000001},13861049,25051354.469999999,41474341.469999999,41474341.469999999,37336890,46353082,{"$f":"K99+K103+K107+K112","v":48478149}]
["Energy sources",null,{"$f":"SUM(C100:C102)","v":9346308},{"$f":"SUM(D100:D102)","v":15358297.15},9667754,18807957.469999999,33230944.469999999,33230944.469999999,28664837,37212738,38844226]
["Electricity ",null,9346308,15358297.15,9667754,18807957.469999999,33230944.469999999,33230944.469999999,28664837,37212738,38844226]
["Street Lighting and Signal Systems"]
["Nonelectric Energy"]
["Water management",null,{"$f":"SUM(C104:C106)","v":0},{"$f":"SUM(D104:D106)","v":0},0,0,0,0,0,0,0]
["Water Treatment"]
["Water Distribution"]
["Water Storage"]
["Waste water management",null,{"$f":"SUM(C108:C111)","v":0},{"$f":"SUM(D108:D111)","v":0},0,0,0,0,0,0,0]
["Public Toilets"]
["Sewerage"]
["Storm Water Management"]
["Waste Water Treatment"]
["Waste management",null,{"$f":"SUM(C113:C116)","v":3646541},{"$f":"SUM(D113:D116)","v":3966041.54},4193295,6243397,8243397,8243397,8672053,9140344,9633923]
["Recycling"]
["Solid Waste Disposal (Landfill Sites)"]
["Solid Waste Removal",null,3646541,3966041.54,4193295,6243397,8243397,8243397,8672053,9140344,9633923]
["Street Cleaning"]
["Other",null,{"$f":"SUM(C118:C123)","v":0},{"$f":"SUM(D118:D123)","v":0},0,0,0,0,0,0,0]
["Abattoirs"]
["Air Transport"]
["Forestry "]
["Licensing and Regulation"]
["Markets"]
["Tourism"]
[{"$f":"\"Total \"&A4","v":"Total Revenue - Functional"},2,{"$f":"C5+C25+C74+C98+C117","v":345723035},320569179,344212945,402707680.44000006,469124881.44000006,469124881.44000006,460142443,495327606,528562346]
[]
["Expenditure - Functional"]
[{"$f":"A5","v":"Municipal governance and administration"},null,{"$f":"C128+C131+C145","v":120886989},143565005.91,147719392,124146230.87999998,145751668.88,145751668.88,156015915,164651092,174229418]
["Executive and council",null,{"$f":"SUM(C129:C130)","v":56239143},71524875.870000005,65494849,47800391.169999994,52383119.170000002,52383119.170000002,55042807,58188850,61461249]
["Mayor and Council",null,46697647,61666926.82,58053543,39561229.979999997,43261501.979999997,43261501.979999997,43765407,46191460,48752886]
["Municipal Manager, Town Secretary and Chief Executive",null,9541496,9857949.0500000007,7441306,8239161.1900000004,9121617.1900000013,9121617.1900000013,11277400,11997390,12708363]
["Finance and administration",null,{"$f":"SUM(C132:C144)","v":64647846},72040130.039999992,80597238,74406900.689999998,90901596.689999983,90901596.689999983,98346377,103669749,109799312]
["Administrative and Corporate Support",null,15367614,14080487.02,25731390,20206768.219999999,21178859.219999999,21178859.219999999,20840040,22058795,23349814]
["Asset Management",null,0,0,4088835,4087160.29,4276405.29,4276405.29,5306062,5644396,6004574]
["Finance",null,22859510,27485052.869999997,26820570,23968834.34,31766182.34,31766182.34,32503101,34317463,36241885]
["Fleet Management",null,0,0,0,0,0,0,0,0,0]
["Human Resources",null,4521657,3689633.19,5181285,6977174.9299999997,8062539.9299999997,8062539.9299999997,8903613,9420724,9968266]
["Information Technology",null,3453761,4603479.209999999,6364955,6403449.8200000003,5438745.8200000003,5438745.8200000003,6587608,6972965,7381176]
["Legal Services",null,0,0,6398289,4346185.0999999996,7090268.0999999996,7090268.0999999996,6674848,7026847,7433891]
["Marketing, Customer Relations, Publicity and Media Co-ordination",null,0,0,1427977,2151894.46,2151894.46,2151894.46,4059673,3858915,4091563]
["Property Services",null,18445304,22181477.75,1456662,3136452,7599612,7599612,10036054,10703398,11415432]
["Risk Management",null,0,0,826803,847756.79,864863.79,864863.79,1029647,1096302,1167319]
["Security Services",null,0,0,0,0,0,0,0,0,0]
["Supply Chain Management ",null,0,0,2300472,2281224.7400000002,2472225.7400000002,2472225.7400000002,2405731,2569944,2745392]
["Valuation Service",null,0,0,0,0,0,0,0,0,0]
["Internal audit",null,{"$f":"SUM(C146:C146)","v":0},0,1627305,1938939.02,2466953.02,2466953.02,2626731,2792493,2968857]
["Governance Function",null,0,0,1627305,1938939.02,2466953.02,2466953.02,2626731,2792493,2968857]
["Community and public safety",null,{"$f":"C148+C170+C176+C185+C188","v":11895235},12715924.58,12090250,12752759.719999999,18073645.719999999,18073645.719999999,26061793,23863781,25645779]
["Community and social services",null,{"$f":"SUM(C149:C169)","v":2389933},{"$f":"SUM(D149:D169)","v":3405469.5799999996},3691577,4334295.18,5016218.18,5016218.18,10102909,6712339,7359085]
["Aged Care"]
["Agricultural"]
["Animal Care and Diseases"]
["Cemeteries, Funeral Parlours and Crematoriums",null,220294,242251.59000000003,245534,257880.39,256562.39,256562.39,290922,310114,330583]
["Child Care Facilities",null,0,0,0,0,0,0,0,0,0]
["Community Halls and Facilities",null,291784,154214.69,717075,1484481.45,1502801.45,1502801.45,5551246,1862282,2190892]
["Consumer Protection",null,0,0,0,0,0,0,0,0,0]
["Cultural Matters",null,0,0,0,0,0,0,0,0,0]
["Disaster Management",null,575349,1422866.6999999997,1235173,1038276.39,1147517.3900000001,1147517.3900000001,1755688,1868331,1988287]
["Education",null,0,0,0,0,0,0,0,0,0]
[{"$f":"A37","v":"Indigenous and Customary Law"},null,0,0,0,0,0,0,0,0,0]
["Industrial Promotion",null,0,0,0,0,0,0,0,0,0]
["Language Policy",null,0,0,0,0,0,0,0,0,0]
["Libraries and Archives",null,1302506,1586136.5999999999,1493795,1553656.95,2109336.9500000002,2109336.9500000002,2505053,2671612,2849323]
["Literacy Programmes"]
["Media Services"]
["Museums and Art Galleries"]
["Population Development"]
["Provincial Cultural Matters"]
["Theatres"]
["Zoo's"]
["Sport and recreation",null,{"$f":"SUM(C171:C175)","v":8915763},8657839.6999999993,7707414,7690965.4299999997,12329928.43,12329928.43,15182096,16321355,17399646]
["Beaches and Jetties "]
["Casinos, Racing, Gambling, Wagering"]
["Community Parks (including Nurseries)"]
["Recreational Facilities"]
["Sports Grounds and Stadiums",null,8915763,8657839.6999999993,7707414,7690965.4299999997,12329928.43,12329928.43,15182096,16321355,17399646]
["Public safety",null,{"$f":"SUM(C177:C184)","v":0},0,0,0,0,0,0,0,0]
["Civil Defence"]
["Cleansing"]
[{"$f":"A57","v":"Control of Public Nuisances"}]
["Fencing and Fences "]
["Fire Fighting and Protection"]
["Licensing and Control of Animals"]
["Police Forces, Traffic and Street Parking Control"]
["Pounds"]
[{"$f":"A63","v":"Housing"},null,{"$f":"SUM(C186:C187)","v":589539},652615.30000000005,691259,727499.11,727499.11,727499.11,776788,830087,887048]
["Housing",null,589539,652615.30000000005,691259,727499.11,727499.11,727499.11,776788,830087,887048]
["Informal Settlements"]
["Health",null,{"$f":"SUM(C189:C195)","v":0},{"$f":"SUM(D189:D195)","v":0},0,0,0,0,0,0,0]
["Ambulance"]
["Health Services"]
["Laboratory Services"]
["Food Control"]
["Health Surveillance and Prevention of Communicable Diseases including immunizations"]
["Vector Control"]
["Chemical Safety"]
["Economic and environmental services",null,{"$f":"C197+C208+C213","v":31868259},46415239.519999996,56817006,48381784.74000001,65417929.74000001,65417929.74000001,77562952,73515624,77979221]
["Planning and development",null,{"$f":"SUM(C198:C207)","v":7322236},{"$f":"SUM(D198:D207)","v":9481093.040000001},8030087,13504109.48,11586550.48,11586550.48,23542563,16226548,17220675]
["Billboards"]
["Corporate Wide Strategic Planning (IDPs, LEDs)",null,7322236,9481093.040000001,4588968,8839649.2400000002,5621308.2400000002,5621308.2400000002,8744481,5367427,5657206]
["Central City Improvement District"]
["Development Facilitation"]
["Economic Development/Planning"]
["Regional Planning and Development"]
["Town Planning, Building Regulations and Enforcement, and City Engineer",null,0,0,1729270,2141460.2400000002,3176345.24,3176345.24,11285035,7111135,7564736]
["Project Management Unit",null,0,0,1711849,2523000,2788897,2788897,3513047,3747986,3998733]
["Provincial Planning"]
["Support to Local Municipalities"]
["Road transport",null,{"$f":"SUM(C209:C212)","v":24546023},36934146.479999997,48786919,34877675.260000005,53831379.260000005,53831379.260000005,54020389,57289076,60758546]
["Public Transport"]
["Road and Traffic Regulation",null,12211016,13777566.510000004,21084957,15612924.710000001,25736712.710000001,25736712.710000001,27957361,29713092,31580617]
["Roads",null,12125911,22968498.499999996,27474665,19031539.850000001,27622170.850000001,27622170.850000001,25801551,27296606,28879423]
["Taxi Ranks",null,209096,188081.46999999997,227297,233210.7,472495.7,472495.7,261477,279378,298506]
["Environmental protection",null,{"$f":"SUM(C214:C219)","v":0},{"$f":"SUM(D214:D219)","v":0},0,0,0,0,0,0,0]
["Biodiversity and Landscape"]
["Coastal Protection"]
["Indigenous Forests"]
[{"$f":"A95","v":"Nature Conservation"}]
["Pollution Control"]
["Soil Conservation"]
["Trading services",null,{"$f":"C221+C225+C229+C234","v":24868124},{"$f":"D221+D225+D229+D234","v":27793825.990000017},31038745,38149586.189999998,46220222.189999998,46220222.189999998,48947566,47474815,50156710]
["Energy sources",null,{"$f":"SUM(C222:C224)","v":14364689},{"$f":"SUM(D222:D224)","v":22833616.450000018},25833507,32487354.719999999,40450161.719999999,40450161.719999999,42686645,40832094,43108554]
["Electricity ",null,12834539,20169464.040000018,{"$f":"22365066+229266","v":22594332},24676142.140000001,34438473.140000001,34438473.140000001,32862349,34166286,36082793]
["Street Lighting and Signal Systems",null,1530150,2664152.4099999997,3239175,7811212.5800000001,6011688.5800000001,6011688.5800000001,9824296,6665808,7025761]
["Nonelectric Energy",null,null,null,null,null,null,null,0,0,0]
["Water management",null,{"$f":"SUM(C226:C228)","v":0},{"$f":"SUM(D226:D228)","v":0},0,0,0,0,0,0,0]
["Water Treatment"]
["Water Distribution"]
["Water Storage"]
["Waste water management",null,{"$f":"SUM(C230:C233)","v":645353},{"$f":"SUM(D230:D233)","v":603338.95000000007},636076,686133,700457,700457,751605,802836,857569]
["Public Toilets",null,645353,603338.95000000007,636076,686133,700457,700457,751605,802836,857569]
["Sewerage"]
["Storm Water Management"]
["Waste Water Treatment"]
["Waste management",null,{"$f":"SUM(C235:C238)","v":9858082},{"$f":"SUM(D235:D238)","v":4356870.5899999989},4569162,4976098.47,5069603.47,5069603.47,5509316,5839885,6190587]
["Recycling"]
["Solid Waste Disposal (Landfill Sites)"]
["Solid Waste Removal",null,9858082,4356870.5899999989,4569162,4976098.47,5069603.47,5069603.47,5509316,5839885,6190587]
["Street Cleaning"]
["Other",null,{"$f":"SUM(C240:C245)","v":0},{"$f":"SUM(D240:D245)","v":0},0,0,0,0,0,0,0]
["Abattoirs"]
["Air Transport"]
["Forestry "]
["Licensing and Regulation"]
["Markets"]
["Tourism"]
[{"$f":"\"Total \"&A126","v":"Total Expenditure - Functional"},3,{"$f":"C127+C147+C196+C220+C239","v":189518607},230489996,247665393,223430361.52999997,275463466.52999997,275463466.52999997,308588226,309505312,328011128]
[{"$f":"result","v":"Surplus/(Deficit) for the year"},null,{"$f":"C124-C246","v":156204428},90079183,96547552,179277318.91000009,193661414.91000009,193661414.91000009,151554217,185822294,200551218]
[{"$f":"head27a","v":"References"}]
["1. Government Finance Statistics Functions and Sub-functions are standardised to assist national and international accounts and comparison"]
["2. Total Revenue by Functional Classification must reconcile to total operating revenue shown in Financial Performance (revenue and expenditure)"]
["3. Total Expenditure by Functional Classification must reconcile to total operating expenditure shown in Financial Performance (revenue and expenditure)"]
["4. All amounts must be classified under a Functional classification. The GFS function 'Other' is only for Abbatoirs, Air Transport,  Forestry, Licensing and Regulation, Markets and Tourism - and if used must be supported by footnotes. Nothing else may be placed under 'Other'. Assign associate share to relevant classification"]
[]
[]
["check oprev balance",null,{"$f":"C124-'A4-FinPerf RE'!C59","v":0},{"$f":"D124-'A4-FinPerf RE'!D59","v":0},{"$f":"E124-'A4-FinPerf RE'!E59","v":0},{"$f":"F124-'A4-FinPerf RE'!F59","v":0.21000003814697266},{"$f":"G124-'A4-FinPerf RE'!G59","v":0.21000003814697266},{"$f":"H124-'A4-FinPerf RE'!H59","v":0.21000003814697266},{"$f":"I124-'A4-FinPerf RE'!J59","v":0},{"$f":"J124-'A4-FinPerf RE'!K59","v":-2},{"$f":"K124-'A4-FinPerf RE'!L59","v":0}]
["check opexp balance",null,{"$f":"C246-'A4-FinPerf RE'!C35","v":0},{"$f":"D246-'A4-FinPerf RE'!D35","v":0},{"$f":"E246-'A4-FinPerf RE'!E35","v":0},{"$f":"F246-'A4-FinPerf RE'!F35","v":0.16759997606277466},{"$f":"G246-'A4-FinPerf RE'!G35","v":0.46759998798370361},{"$f":"H246-'A4-FinPerf RE'!H35","v":0.46759998798370361},{"$f":"I246-'A4-FinPerf RE'!J35","v":4},{"$f":"J246-'A4-FinPerf RE'!K35","v":-4},{"$f":"K246-'A4-FinPerf RE'!L35","v":-2}]

{"sheet":"A3-FinPerf V","index":9,"n_rows":45,"n_cols":23,"rows_kept":45,"cut":false,"hidden":false,"merged":[[1,5,1,7],[1,8,1,10],[1,11,1,22]]}
[{"$f":"muni&\" - \"&Approve2","v":"LIM332 Greater Letaba - Table A3 Budgeted Financial Performance (revenue and expenditure by municipal vote)"}]
[{"$f":"Vdesc","v":"Vote Description"},{"$f":"head27","v":"Ref"},{"$f":"head1b","v":"2015/16"},{"$f":"head1A","v":"2016/17"},{"$f":"Head1","v":"2017/18"},{"$f":"Head2","v":"Current Year 2018/19"},null,null,{"$f":"Head3","v":"2019/20 Medium Term Revenue & Expenditure Framework"},null,null,{"$f":"Head4","v":"LTFS"}]
["R thousand",null,{"$f":"Head5","v":"Audited Outcome"},{"$f":"Head5","v":"Audited Outcome"},{"$f":"Head5","v":"Audited Outcome"},{"$f":"Head6","v":"Original Budget"},{"$f":"Head7","v":"Adjusted Budget"},{"$f":"Head8","v":"Full Year Forecast"},{"$f":"Head9","v":"Budget Year 2019/20"},{"$f":"Head10","v":"Budget Year +1 2020/21"},{"$f":"Head11","v":"Budget Year +2 2021/22"},{"$f":"Head12","v":"Forecast 2022/23"},{"$f":"Head13","v":"Forecast 2023/24"},{"$f":"Head14","v":"Forecast 2024/25"},{"$f":"Head15","v":"Forecast 2025/26"},{"$f":"Head16","v":"Forecast 2026/27"},{"$f":"Head17","v":"Forecast 2027/28"},{"$f":"Head18","v":"Forecast 2028/29"},{"$f":"Head19","v":"Forecast 2029/30"},{"$f":"Head20","v":"Forecast 2030/31"},{"$f":"Head21","v":"Forecast 2031/32"},{"$f":"Head22","v":"Forecast 2032/33"},{"$f":"Head23","v":"Forecast 2033/34"}]
["Revenue by Vote",1]
[{"$f":"A3A!A5","v":"Vote 1 - Executive & Council"},null,{"$f":"A3A!C5","v":0},{"$f":"A3A!D5","v":0},{"$f":"A3A!E5","v":0},{"$f":"A3A!F5","v":0},{"$f":"A3A!G5","v":0},{"$f":"A3A!H5","v":0},{"$f":"A3A!I5","v":0},{"$f":"A3A!J5","v":0},{"$f":"A3A!K5","v":0}]
[{"$f":"A3A!A16","v":"Vote 2 - Finance and Administration"},null,{"$f":"A3A!C16","v":326083235},{"$f":"A3A!D16","v":294548468.89999998},{"$f":"A3A!E16","v":316672284},{"$f":"A3A!F16","v":366195306.97000003},{"$f":"A3A!G16","v":401589520.97000003},{"$f":"A3A!H16","v":401589520.97000003},{"$f":"A3A!I16","v":395389361},{"$f":"A3A!J16","v":420077858},{"$f":"A3A!K16","v":449627111}]
[{"$f":"A3A!A27","v":"Vote 3 - Internal Audit"},null,{"$f":"A3A!C27","v":0},{"$f":"A3A!D27","v":0},{"$f":"A3A!E27","v":0},{"$f":"A3A!F27","v":0},{"$f":"A3A!G27","v":0},{"$f":"A3A!H27","v":0},{"$f":"A3A!I27","v":0},{"$f":"A3A!J27","v":0},{"$f":"A3A!K27","v":0}]
[{"$f":"A3A!A38","v":"Vote 4 - Community and Public Safety"},null,{"$f":"A3A!C38","v":0},{"$f":"A3A!D38","v":0},{"$f":"A3A!E38","v":0},{"$f":"A3A!F38","v":0},{"$f":"A3A!G38","v":0},{"$f":"A3A!H38","v":0},{"$f":"A3A!I38","v":0},{"$f":"A3A!J38","v":0},{"$f":"A3A!K38","v":0}]
[{"$f":"A3A!A49","v":"Vote 5 - Sports and Recreation"},null,{"$f":"A3A!C49","v":0},{"$f":"A3A!D49","v":0},{"$f":"A3A!E49","v":0},{"$f":"A3A!F49","v":0},{"$f":"A3A!G49","v":0},{"$f":"A3A!H49","v":0},{"$f":"A3A!I49","v":0},{"$f":"A3A!J49","v":0},{"$f":"A3A!K49","v":0}]
[{"$f":"A3A!A60","v":"Vote 6 - Housing"},null,{"$f":"A3A!C60","v":0},{"$f":"A3A!D60","v":0},{"$f":"A3A!E60","v":0},{"$f":"A3A!F60","v":0},{"$f":"A3A!G60","v":0},{"$f":"A3A!H60","v":0},{"$f":"A3A!I60","v":0},{"$f":"A3A!J60","v":0},{"$f":"A3A!K60","v":0}]
[{"$f":"A3A!A71","v":"Vote 7 - Planning and development "},null,{"$f":"A3A!C71","v":0},{"$f":"A3A!D71","v":0},{"$f":"A3A!E71","v":0},{"$f":"A3A!F71","v":0},{"$f":"A3A!G71","v":0},{"$f":"A3A!H71","v":0},{"$f":"A3A!I71","v":0},{"$f":"A3A!J71","v":0},{"$f":"A3A!K71","v":0}]
[{"$f":"A3A!A82","v":"Vote 8 - Road Transport"},null,{"$f":"A3A!C82","v":6646951},{"$f":"A3A!D82","v":6696371.4100000001},{"$f":"A3A!E82","v":13679612},{"$f":"A3A!F82","v":11461019},{"$f":"A3A!G82","v":26061019},{"$f":"A3A!H82","v":26061019},{"$f":"A3A!I82","v":27416192},{"$f":"A3A!J82","v":28896666},{"$f":"A3A!K82","v":30457086}]
[{"$f":"A3A!A93","v":"Vote 9 - Energy Sources"},null,{"$f":"A3A!C93","v":9346308},{"$f":"A3A!D93","v":15358297.15},{"$f":"A3A!E93","v":9667754},{"$f":"A3A!F93","v":18807957.469999999},{"$f":"A3A!G93","v":33230944.469999999},{"$f":"A3A!H93","v":33230944.469999999},{"$f":"A3A!I93","v":28664837},{"$f":"A3A!J93","v":37212738},{"$f":"A3A!K93","v":38844226}]
[{"$f":"A3A!A104","v":"Vote 10 - Waste Water Management"},null,{"$f":"A3A!C104","v":0},{"$f":"A3A!D104","v":0},{"$f":"A3A!E104","v":0},{"$f":"A3A!F104","v":0},{"$f":"A3A!G104","v":0},{"$f":"A3A!H104","v":0},{"$f":"A3A!I104","v":0},{"$f":"A3A!J104","v":0},{"$f":"A3A!K104","v":0}]
[{"$f":"A3A!A115","v":"Vote 11 - Waste Management"},null,{"$f":"A3A!C115","v":3646541},{"$f":"A3A!D115","v":3966041.54},{"$f":"A3A!E115","v":4193295},{"$f":"A3A!F115","v":6243397},{"$f":"A3A!G115","v":8243397},{"$f":"A3A!H115","v":8243397},{"$f":"A3A!I115","v":8672053},{"$f":"A3A!J115","v":9140344},{"$f":"A3A!K115","v":9633923},{"$f":"A5A!L115","v":0}]
[{"$f":"A3A!A126","v":"Vote 12 - [NAME OF VOTE 12]"},null,{"$f":"A3A!C126","v":0},{"$f":"A3A!D126","v":0},{"$f":"A3A!E126","v":0},{"$f":"A3A!F126","v":0},{"$f":"A3A!G126","v":0},{"$f":"A3A!H126","v":0},{"$f":"A3A!I126","v":0},{"$f":"A3A!J126","v":0},{"$f":"A3A!K126","v":0},{"$f":"A5A!L126","v":0}]
[{"$f":"A3A!A137","v":"Vote 13 - [NAME OF VOTE 13]"},null,{"$f":"A3A!C137","v":0},{"$f":"A3A!D137","v":0},{"$f":"A3A!E137","v":0},{"$f":"A3A!F137","v":0},{"$f":"A3A!G137","v":0},{"$f":"A3A!H137","v":0},{"$f":"A3A!I137","v":0},{"$f":"A3A!J137","v":0},{"$f":"A3A!K137","v":0},{"$f":"A5A!L137","v":0}]
[{"$f":"A3A!A148","v":"Vote 14 - [NAME OF VOTE 14]"},null,{"$f":"A3A!C148","v":0},{"$f":"A3A!D148","v":0},{"$f":"A3A!E148","v":0},{"$f":"A3A!F148","v":0},{"$f":"A3A!G148","v":0},{"$f":"A3A!H148","v":0},{"$f":"A3A!I148","v":0},{"$f":"A3A!J148","v":0},{"$f":"A3A!K148","v":0},{"$f":"A5A!L148","v":0}]
[{"$f":"A3A!A159","v":"Vote 15 - [NAME OF VOTE 15]"},null,{"$f":"A3A!C159","v":0},{"$f":"A3A!D159","v":0},{"$f":"A3A!E159","v":0},{"$f":"A3A!F159","v":0},{"$f":"A3A!G159","v":0},{"$f":"A3A!H159","v":0},{"$f":"A3A!I159","v":0},{"$f":"A3A!J159","v":0},{"$f":"A3A!K159","v":0},{"$f":"A5A!L159","v":0}]
["Total Revenue by Vote",2,{"$f":"SUM(C5:C19)","v":345723035},{"$f":"SUM(D5:D19)","v":320569179},344212945,402707680.44000006,469124881.44000006,469124881.44000006,460142443,495327606,528562346]
[]
["Expenditure by Vote to be appropriated",1]
[{"$f":"A3A!A173","v":"Vote 1 - Executive & Council"},null,{"$f":"A3A!C173","v":56239143},{"$f":"A3A!D173","v":71524875.870000005},{"$f":"A3A!E173","v":65494849},{"$f":"A3A!F173","v":47800391.169999994},{"$f":"A3A!G173","v":52383119.170000002},{"$f":"A3A!H173","v":52383119.170000002},{"$f":"A3A!I173","v":55042807},{"$f":"A3A!J173","v":58188850},{"$f":"A3A!K173","v":61461249}]
[{"$f":"A3A!A184","v":"Vote 2 - Finance and Administration"},null,{"$f":"A3A!C184","v":64647846},{"$f":"A3A!D184","v":72040130.039999992},{"$f":"A3A!E184","v":80597238},{"$f":"A3A!F184","v":74406900.689999998},{"$f":"A3A!G184","v":90901596.689999983},{"$f":"A3A!H184","v":90901596.689999983},{"$f":"A3A!I184","v":98346377},{"$f":"A3A!J184","v":103669749},{"$f":"A3A!K184","v":109799312}]
[{"$f":"A3A!A195","v":"Vote 3 - Internal Audit"},null,{"$f":"A3A!C195","v":0},{"$f":"A3A!D195","v":0},{"$f":"A3A!E195","v":1627305},{"$f":"A3A!F195","v":1938939.02},{"$f":"A3A!G195","v":2466953.02},{"$f":"A3A!H195","v":2466953.02},{"$f":"A3A!I195","v":2626731},{"$f":"A3A!J195","v":2792493},{"$f":"A3A!K195","v":2968857}]
[{"$f":"A3A!A206","v":"Vote 4 - Community and Public Safety"},null,{"$f":"A3A!C206","v":2389933},{"$f":"A3A!D206","v":3405469.5799999996},{"$f":"A3A!E206","v":3691577},{"$f":"A3A!F206","v":4334295.18},{"$f":"A3A!G206","v":5016218.18},{"$f":"A3A!H206","v":5016218.18},{"$f":"A3A!I206","v":10102909},{"$f":"A3A!J206","v":6712339},{"$f":"A3A!K206","v":7359085}]
[{"$f":"A3A!A217","v":"Vote 5 - Sports and Recreation"},null,{"$f":"A3A!C217","v":8915763},{"$f":"A3A!D217","v":8657839.6999999993},{"$f":"A3A!E217","v":7707414},{"$f":"A3A!F217","v":7690965.4299999997},{"$f":"A3A!G217","v":12329928.43},{"$f":"A3A!H217","v":12329928.43},{"$f":"A3A!I217","v":15182096},{"$f":"A3A!J217","v":16321355},{"$f":"A3A!K217","v":17399646}]
[{"$f":"A3A!A228","v":"Vote 6 - Housing"},null,{"$f":"A3A!C228","v":589539},{"$f":"A3A!D228","v":652615.30000000005},{"$f":"A3A!E228","v":691259},{"$f":"A3A!F228","v":727499.11},{"$f":"A3A!G228","v":727499.11},{"$f":"A3A!H228","v":727499.11},{"$f":"A3A!I228","v":776788},{"$f":"A3A!J228","v":830087},{"$f":"A3A!K228","v":887048}]
[{"$f":"A3A!A239","v":"Vote 7 - Planning and development "},null,{"$f":"A3A!C239","v":7322236},{"$f":"A3A!D239","v":9481093.040000001},{"$f":"A3A!E239","v":8030087},{"$f":"A3A!F239","v":13504109.48},{"$f":"A3A!G239","v":11586550.48},{"$f":"A3A!H239","v":11586550.48},{"$f":"A3A!I239","v":23542563},{"$f":"A3A!J239","v":16226548},{"$f":"A3A!K239","v":17220675}]
[{"$f":"A3A!A250","v":"Vote 8 - Road Transport"},null,{"$f":"A3A!C250","v":24546023},{"$f":"A3A!D250","v":36934146.479999997},{"$f":"A3A!E250","v":48786919},{"$f":"A3A!F250","v":34877675.260000005},{"$f":"A3A!G250","v":53831379.260000005},{"$f":"A3A!H250","v":53831379.260000005},{"$f":"A3A!I250","v":54020389},{"$f":"A3A!J250","v":57289076},{"$f":"A3A!K250","v":60758546}]
[{"$f":"A3A!A261","v":"Vote 9 - Energy Sources"},null,{"$f":"A3A!C261","v":14364689},{"$f":"A3A!D261","v":22833616.450000018},{"$f":"A3A!E261","v":25833507},{"$f":"A3A!F261","v":32487354.719999999},{"$f":"A3A!G261","v":40450161.719999999},{"$f":"A3A!H261","v":40450161.719999999},{"$f":"A3A!I261","v":42686645},{"$f":"A3A!J261","v":40832094},{"$f":"A3A!K261","v":43108554}]
[{"$f":"A3A!A272","v":"Vote 10 - Waste Water Management"},null,{"$f":"A3A!C272","v":645353},{"$f":"A3A!D272","v":603338.95000000007},{"$f":"A3A!E272","v":636076},{"$f":"A3A!F272","v":686133},{"$f":"A3A!G272","v":700457},{"$f":"A3A!H272","v":700457},{"$f":"A3A!I272","v":751605},{"$f":"A3A!J272","v":802836},{"$f":"A3A!K272","v":857569}]
[{"$f":"A3A!A283","v":"Vote 11 - Waste Management"},null,{"$f":"A3A!C283","v":9858082},{"$f":"A3A!D283","v":4356870.5899999989},{"$f":"A3A!E283","v":4569162},{"$f":"A3A!F283","v":4976098.47},{"$f":"A3A!G283","v":5069603.47},{"$f":"A3A!H283","v":5069603.47},{"$f":"A3A!I283","v":5509316},{"$f":"A3A!J283","v":5839885},{"$f":"A3A!K283","v":6190587},{"$f":"A3A!L284","v":0}]
[{"$f":"A3A!A294","v":"Vote 12 - [NAME OF VOTE 12]"},null,{"$f":"A3A!C294","v":0},{"$f":"A3A!D294","v":0},{"$f":"A3A!E294","v":0},{"$f":"A3A!F294","v":0},{"$f":"A3A!G294","v":0},{"$f":"A3A!H294","v":0},{"$f":"A3A!I294","v":0},{"$f":"A3A!J294","v":0},{"$f":"A3A!K294","v":0},{"$f":"A3A!L295","v":0}]
[{"$f":"A3A!A305","v":"Vote 13 - [NAME OF VOTE 13]"},null,{"$f":"A3A!C305","v":0},{"$f":"A3A!D305","v":0},{"$f":"A3A!E305","v":0},{"$f":"A3A!F305","v":0},{"$f":"A3A!G305","v":0},{"$f":"A3A!H305","v":0},{"$f":"A3A!I305","v":0},{"$f":"A3A!J305","v":0},{"$f":"A3A!K305","v":0},{"$f":"A3A!L306","v":0}]
[{"$f":"A3A!A316","v":"Vote 14 - [NAME OF VOTE 14]"},null,{"$f":"A3A!C316","v":0},{"$f":"A3A!D316","v":0},{"$f":"A3A!E316","v":0},{"$f":"A3A!F316","v":0},{"$f":"A3A!G316","v":0},{"$f":"A3A!H316","v":0},{"$f":"A3A!I316","v":0},{"$f":"A3A!J316","v":0},{"$f":"A3A!K316","v":0},{"$f":"A3A!L317","v":0}]
[{"$f":"A3A!A327","v":"Vote 15 - [NAME OF VOTE 15]"},null,{"$f":"A3A!C327","v":0},{"$f":"A3A!D327","v":0},{"$f":"A3A!E327","v":0},{"$f":"A3A!F327","v":0},{"$f":"A3A!G327","v":0},{"$f":"A3A!H327","v":0},{"$f":"A3A!I327","v":0},{"$f":"A3A!J327","v":0},{"$f":"A3A!K327","v":0},{"$f":"A3A!L328","v":0}]
["Total Expenditure by Vote",2,{"$f":"SUM(C23:C37)","v":189518607},{"$f":"SUM(D23:D37)","v":230489996},247665393,223430361.52999997,275463466.53000009,275463466.53000009,308588226,309505312,328011128,{"$f":"SUM(L23:L29)","v":0},0,0,0,0,0,0,0,0,0,0,0]
[{"$f":"result","v":"Surplus/(Deficit) for the year"},2,{"$f":"C20-C38","v":156204428},90079183,96547552,179277318.91000009,193661414.90999997,193661414.90999997,151554217,185822294,200551218,0,0,0,0,0,0,0,0,0,0,0,0]
[{"$f":"head27a","v":"References"}]
["1. Insert 'Vote'; e.g. department, if different to functional classification structure"]
["2. Must reconcile to Budgeted Financial Performance (revenue and expenditure)"]
["3. Assign share in 'associate' to relevant Vote"]
[]
[{"$f":"\"check \"&A39","v":"check Surplus/(Deficit) for the year"},null,{"$f":"C39-A3A!C340","v":0},{"$f":"D39-A3A!D340","v":0},{"$f":"E39-A3A!E340","v":0},{"$f":"F39-A3A!F340","v":0},{"$f":"G39-A3A!G340","v":0},{"$f":"H39-A3A!H340","v":0},{"$f":"I39-A3A!I340","v":0},{"$f":"J39-A3A!J340","v":0},{"$f":"K39-A3A!K340","v":0}]

{"sheet":"A3A","index":10,"n_rows":347,"n_cols":23,"rows_kept":347,"cut":false,"hidden":false,"merged":[[1,11,1,22],[1,5,1,7],[1,8,1,10]]}
[{"$f":"muni&\" - \"&Approve2&\"A\"","v":"LIM332 Greater Letaba - Table A3 Budgeted Financial Performance (revenue and expenditure by municipal vote)A"}]
[{"$f":"Vdesc","v":"Vote Description"},{"$f":"head27","v":"Ref"},{"$f":"head1b","v":"2015/16"},{"$f":"head1A","v":"2016/17"},{"$f":"Head1","v":"2017/18"},{"$f":"Head2","v":"Current Year 2018/19"},null,null,{"$f":"Head3","v":"2019/20 Medium Term Revenue & Expenditure Framework"},null,null,{"$f":"Head4","v":"LTFS"}]
["R thousand",null,{"$f":"Head5","v":"Audited Outcome"},{"$f":"Head5","v":"Audited Outcome"},{"$f":"Head5","v":"Audited Outcome"},{"$f":"Head6","v":"Original Budget"},{"$f":"Head7","v":"Adjusted Budget"},{"$f":"Head8","v":"Full Year Forecast"},{"$f":"Head9","v":"Budget Year 2019/20"},{"$f":"Head10","v":"Budget Year +1 2020/21"},{"$f":"Head11","v":"Budget Year +2 2021/22"},{"$f":"Head12","v":"Forecast 2022/23"},{"$f":"Head13","v":"Forecast 2023/24"},{"$f":"Head14","v":"Forecast 2024/25"},{"$f":"Head15","v":"Forecast 2025/26"},{"$f":"Head16","v":"Forecast 2026/27"},{"$f":"Head17","v":"Forecast 2027/28"},{"$f":"Head18","v":"Forecast 2028/29"},{"$f":"Head19","v":"Forecast 2029/30"},{"$f":"Head20","v":"Forecast 2030/31"},{"$f":"Head21","v":"Forecast 2031/32"},{"$f":"Head22","v":"Forecast 2032/33"},{"$f":"Head23","v":"Forecast 2033/34"}]
["Revenue by Vote",1]
[{"$f":"'Org structure'!A2","v":"Vote 1 - Executive & Council"},null,{"$f":"SUM(C6:C15)","v":0},{"$f":"SUM(D6:D15)","v":0},0,0,0,0,0,0,0]
[{"$f":"'Org structure'!E3","v":"1,1 - Mayor and Council"}]
[{"$f":"'Org structure'!E4","v":"1,2 - Municipal Manager"}]
[{"$f":"'Org structure'!E5","v":0}]
[{"$f":"'Org structure'!E6","v":0}]
[{"$f":"'Org structure'!E7","v":0}]
[{"$f":"'Org structure'!E8","v":0}]
[{"$f":"'Org structure'!E9","v":0}]
[{"$f":"'Org structure'!E10","v":0}]
[{"$f":"'Org structure'!E11","v":0}]
[{"$f":"'Org structure'!E12","v":0}]
[{"$f":"'Org structure'!A3","v":"Vote 2 - Finance and Administration"},null,{"$f":"SUM(C17:C26)","v":326083235},{"$f":"SUM(D17:D26)","v":294548468.89999998},316672284,366195306.97000003,401589520.97000003,401589520.97000003,395389361,420077858,449627111]
[{"$f":"'Org structure'!E14","v":"2,1 - Administrative and Corporate Support"}]
[{"$f":"'Org structure'!E15","v":"2,2 - Asset Management"}]
[{"$f":"'Org structure'!E16","v":"2,3 - Budget and Treasury Office"},null,326083235,294548468.89999998,316672284,366195306.97000003,{"$f":"381589520.97+20000000","v":401589520.97000003},{"$f":"381589520.97+20000000","v":401589520.97000003},395389361,420077858,449627111]
[{"$f":"'Org structure'!E17","v":"2,4 - Human Resource"}]
[{"$f":"'Org structure'!E18","v":"2,5 - Information Technology"}]
[{"$f":"'Org structure'!E19","v":"2,6 - Legal Services"}]
[{"$f":"'Org structure'!E20","v":"2,7 - Customer Relation and Coordination"}]
[{"$f":"'Org structure'!E21","v":"2,8 - Property Services"}]
[{"$f":"'Org structure'!E22","v":"2,9 - Risk Management"}]
[{"$f":"'Org structure'!E23","v":"2.10 - Supply Chain Management"}]
[{"$f":"'Org structure'!A4","v":"Vote 3 - Internal Audit"},null,{"$f":"SUM(C28:C37)","v":0},0,0,0,0,0,0,0,0]
[{"$f":"'Org structure'!E25","v":"3,1 - Governance Function"}]
[{"$f":"'Org structure'!E26","v":0}]
[{"$f":"'Org structure'!E27","v":0}]
[{"$f":"'Org structure'!E28","v":0}]
[{"$f":"'Org structure'!E29","v":0}]
[{"$f":"'Org structure'!E30","v":0}]
[{"$f":"'Org structure'!E31","v":0}]
[{"$f":"'Org structure'!E32","v":0}]
[{"$f":"'Org structure'!E33","v":0}]
[{"$f":"'Org structure'!E34","v":0}]
[{"$f":"'Org structure'!A5","v":"Vote 4 - Community and Public Safety"},null,{"$f":"SUM(C39:C48)","v":0},0,0,0,0,0,0,0,0]
[{"$f":"'Org structure'!E36","v":"4,1 - Cemetries and crematoriums"}]
[{"$f":"'Org structure'!E37","v":"4,2 - Community halls and Facilities"}]
[{"$f":"'Org structure'!E38","v":"4,3 - Disaster Management"}]
[{"$f":"'Org structure'!E39","v":"4,4 - Libraries and Archives"}]
[{"$f":"'Org structure'!E40","v":0}]
[{"$f":"'Org structure'!E41","v":0}]
[{"$f":"'Org structure'!E42","v":0}]
[{"$f":"'Org structure'!E43","v":0}]
[{"$f":"'Org structure'!E44","v":0}]
[{"$f":"'Org structure'!E45","v":0}]
[{"$f":"'Org structure'!A6","v":"Vote 5 - Sports and Recreation"},null,{"$f":"SUM(C50:C59)","v":0},{"$f":"SUM(D50:D59)","v":0},0,0,0,0,0,0,0]
[{"$f":"'Org structure'!E47","v":"5,1 - Community parks"}]
[{"$f":"'Org structure'!E48","v":0}]
[{"$f":"'Org structure'!E49","v":0}]
[{"$f":"'Org structure'!E50","v":0}]
[{"$f":"'Org structure'!E51","v":0}]
[{"$f":"'Org structure'!E52","v":0}]
[{"$f":"'Org structure'!E53","v":0}]
[{"$f":"'Org structure'!E54","v":0}]
[{"$f":"'Org structure'!E55","v":0}]
[{"$f":"'Org structure'!E56","v":0}]
[{"$f":"'Org structure'!A7","v":"Vote 6 - Housing"},null,{"$f":"SUM(C61:C70)","v":0},{"$f":"SUM(D61:D70)","v":0},0,0,0,0,0,0,0]
[{"$f":"'Org structure'!E58","v":"6,1 - Housing"}]
[{"$f":"'Org structure'!E59","v":0}]
[{"$f":"'Org structure'!E60","v":0}]
[{"$f":"'Org structure'!E61","v":0}]
[{"$f":"'Org structure'!E62","v":0}]
[{"$f":"'Org structure'!E63","v":0}]
[{"$f":"'Org structure'!E64","v":0}]
[{"$f":"'Org structure'!E65","v":0}]
[{"$f":"'Org structure'!E66","v":0}]
[{"$f":"'Org structure'!E67","v":0}]
[{"$f":"'Org structure'!A8","v":"Vote 7 - Planning and development "},null,{"$f":"SUM(C72:C81)","v":0},0,0,0,0,0,0,0,0]
[{"$f":"'Org structure'!E69","v":"7,1 - Corporate Wide Strategic Planning (IDP & LED)"}]
[{"$f":"'Org structure'!E70","v":"7,2 - Town Planning and Building Regulations"}]
[{"$f":"'Org structure'!E71","v":"7,3 - Project Management Unit"}]
[{"$f":"'Org structure'!E72","v":0}]
[{"$f":"'Org structure'!E73","v":0}]
[{"$f":"'Org structure'!E74","v":0}]
[{"$f":"'Org structure'!E75","v":0}]
[{"$f":"'Org structure'!E76","v":0}]
[{"$f":"'Org structure'!E77","v":0}]
[{"$f":"'Org structure'!E78","v":0}]
[{"$f":"'Org structure'!A9","v":"Vote 8 - Road Transport"},null,{"$f":"SUM(C83:C92)","v":6646951},{"$f":"SUM(D83:D92)","v":6696371.4100000001},13679612,11461019,26061019,26061019,27416192,28896666,30457086]
[{"$f":"'Org structure'!E80","v":"8,1 - Road and Traffic Regulations"},null,6646951,6696371.4100000001,13679612,11461019,26061019,26061019,27416192,28896666,30457086]
[{"$f":"'Org structure'!E81","v":"8,2 - Roads"}]
[{"$f":"'Org structure'!E82","v":"8,3 - Taxi Ranks"}]
[{"$f":"'Org structure'!E83","v":0}]
[{"$f":"'Org structure'!E84","v":0}]
[{"$f":"'Org structure'!E85","v":0}]
[{"$f":"'Org structure'!E86","v":0}]
[{"$f":"'Org structure'!E87","v":0}]
[{"$f":"'Org structure'!E88","v":0}]
[{"$f":"'Org structure'!E89","v":0}]
[{"$f":"'Org structure'!A10","v":"Vote 9 - Energy Sources"},null,{"$f":"SUM(C94:C103)","v":9346308},{"$f":"SUM(D94:D103)","v":15358297.15},9667754,18807957.469999999,33230944.469999999,33230944.469999999,28664837,37212738,38844226]
[{"$f":"'Org structure'!E91","v":"9,1 - Electricity"},null,9346308,15358297.15,9667754,18807957.469999999,33230944.469999999,33230944.469999999,28664837,37212738,38844226]
[{"$f":"'Org structure'!E92","v":"9,2 - Street Lighting"}]
[{"$f":"'Org structure'!E93","v":0}]
[{"$f":"'Org structure'!E94","v":0}]
[{"$f":"'Org structure'!E95","v":0}]
[{"$f":"'Org structure'!E96","v":0}]
[{"$f":"'Org structure'!E97","v":0}]
[{"$f":"'Org structure'!E98","v":0}]
[{"$f":"'Org structure'!E99","v":0}]
[{"$f":"'Org structure'!E100","v":0}]
[{"$f":"'Org structure'!A11","v":"Vote 10 - Waste Water Management"},null,{"$f":"SUM(C105:C114)","v":0},{"$f":"SUM(D105:D114)","v":0},0,0,0,0,0,0,0]
[{"$f":"'Org structure'!E102","v":"10,1 - Public Toilets"}]
[{"$f":"'Org structure'!E103","v":0}]
[{"$f":"'Org structure'!E104","v":0}]
[{"$f":"'Org structure'!E105","v":0}]
[{"$f":"'Org structure'!E106","v":0}]
[{"$f":"'Org structure'!E107","v":0}]
[{"$f":"'Org structure'!E108","v":0}]
[{"$f":"'Org structure'!E109","v":0}]
[{"$f":"'Org structure'!E110","v":0}]
[{"$f":"'Org structure'!E111","v":0}]
[{"$f":"'Org structure'!A12","v":"Vote 11 - Waste Management"},null,{"$f":"SUM(C116:C125)","v":3646541},{"$f":"SUM(D116:D125)","v":3966041.54},4193295,6243397,8243397,8243397,8672053,9140344,9633923]
[{"$f":"'Org structure'!E113","v":"11,1 - Solid Waste Removal"},null,3646541,3966041.54,4193295,6243397,8243397,8243397,8672053,9140344,9633923]
[{"$f":"'Org structure'!E114","v":0}]
[{"$f":"'Org structure'!E115","v":0}]
[{"$f":"'Org structure'!E116","v":0}]
[{"$f":"'Org structure'!E117","v":0}]
[{"$f":"'Org structure'!E118","v":0}]
[{"$f":"'Org structure'!E119","v":0}]
[{"$f":"'Org structure'!E120","v":0}]
[{"$f":"'Org structure'!E121","v":0}]
[{"$f":"'Org structure'!E122","v":0}]
[{"$f":"'Org structure'!A13","v":"Vote 12 - [NAME OF VOTE 12]"},null,{"$f":"SUM(C127:C136)","v":0},{"$f":"SUM(D127:D136)","v":0},0,0,0,0,0,0,0]
[{"$f":"'Org structure'!E124","v":"12.1 - [Name of sub-vote]"}]
[{"$f":"'Org structure'!E125","v":0}]
[{"$f":"'Org structure'!E126","v":0}]
[{"$f":"'Org structure'!E127","v":0}]
[{"$f":"'Org structure'!E128","v":0}]
[{"$f":"'Org structure'!E129","v":0}]
[{"$f":"'Org structure'!E130","v":0}]
[{"$f":"'Org structure'!E131","v":0}]
[{"$f":"'Org structure'!E132","v":0}]
[{"$f":"'Org structure'!E133","v":0}]
[{"$f":"'Org structure'!A14","v":"Vote 13 - [NAME OF VOTE 13]"},null,{"$f":"SUM(C138:C147)","v":0},{"$f":"SUM(D138:D147)","v":0},0,0,0,0,0,0,0]
[{"$f":"'Org structure'!E135","v":"13.1 - [Name of sub-vote]"}]
[{"$f":"'Org structure'!E136","v":0}]
[{"$f":"'Org structure'!E137","v":0}]
[{"$f":"'Org structure'!E138","v":0}]
[{"$f":"'Org structure'!E139","v":0}]
[{"$f":"'Org structure'!E140","v":0}]
[{"$f":"'Org structure'!E141","v":0}]
[{"$f":"'Org structure'!E142","v":0}]
[{"$f":"'Org structure'!E143","v":0}]
[{"$f":"'Org structure'!E144","v":0}]
[{"$f":"'Org structure'!A15","v":"Vote 14 - [NAME OF VOTE 14]"},null,{"$f":"SUM(C149:C158)","v":0},{"$f":"SUM(D149:D158)","v":0},0,0,0,0,0,0,0]
[{"$f":"'Org structure'!E146","v":"14.1 - [Name of sub-vote]"}]
[{"$f":"'Org structure'!E147","v":0}]
[{"$f":"'Org structure'!E148","v":0}]
[{"$f":"'Org structure'!E149","v":0}]
[{"$f":"'Org structure'!E150","v":0}]
[{"$f":"'Org structure'!E151","v":0}]
[{"$f":"'Org structure'!E152","v":0}]
[{"$f":"'Org structure'!E153","v":0}]
[{"$f":"'Org structure'!E154","v":0}]
[{"$f":"'Org structure'!E155","v":0}]
[{"$f":"'Org structure'!A16","v":"Vote 15 - [NAME OF VOTE 15]"},null,{"$f":"SUM(C160:C169)","v":0},{"$f":"SUM(D160:D169)","v":0},0,0,0,0,0,0,0]
[{"$f":"'Org structure'!E157","v":"15.1 - [Name of sub-vote]"}]
[{"$f":"'Org structure'!E158","v":0}]
[{"$f":"'Org structure'!E159","v":0}]
[{"$f":"'Org structure'!E160","v":0}]
[{"$f":"'Org structure'!E161","v":0}]
[{"$f":"'Org structure'!E162","v":0}]
[{"$f":"'Org structure'!E163","v":0}]
[{"$f":"'Org structure'!E164","v":0}]
[{"$f":"'Org structure'!E165","v":0}]
[{"$f":"'Org structure'!E166","v":0}]
["Total Revenue by Vote",2,{"$f":"C5+C16+C27+C38+C49+C60+C71+C82+C93+C104+C115+C126+C137+C148+C159","v":345723035},{"$f":"D5+D16+D27+D38+D49+D60+D71+D82+D93+D104+D115+D126+D137+D148+D159","v":320569179},{"$f":"E5+E16+E27+E38+E49+E60+E71+E82+E93+E104+E115+E126+E137+E148+E159","v":344212945},402707680.44000006,469124881.44000006,469124881.44000006,{"$f":"I5+I16+I27+I38+I49+I60+I71+I82+I93+I104+I115+I126+I137+I148+I159","v":460142443},495327606,528562346,{"$f":"SUM(L78:L81)","v":0},0,0,0,0,0,0,0,0,0,0,0]
[]
["Expenditure by Vote",1]
[{"$f":"A5","v":"Vote 1 - Executive & Council"},null,{"$f":"SUM(C174:C183)","v":56239143},71524875.870000005,65494849,47800391.169999994,52383119.170000002,52383119.170000002,55042807,58188850,61461249]
[{"$f":"A6","v":"1,1 - Mayor and Council"},null,46697647,61666926.82,58053543,39561229.979999997,43261501.979999997,43261501.979999997,43765407,46191460,48752886]
["1,2 - Municipal Manager",null,9541496,9857949.0500000007,7441306,8239161.1900000004,9121617.1900000013,9121617.1900000013,11277400,11997390,12708363]
[0]
[0]
[0]
[0]
[0]
[0]
[0]
[0]
[{"$f":"A16","v":"Vote 2 - Finance and Administration"},null,{"$f":"SUM(C185:C194)","v":64647846},{"$f":"SUM(D185:D194)","v":72040130.039999992},{"$f":"SUM(E185:E194)","v":80597238},74406900.689999998,90901596.689999983,90901596.689999983,98346377,103669749,109799312]
[{"$f":"A17","v":"2,1 - Administrative and Corporate Support"},null,15367614,14080487.02,25731390,20206768.219999999,21178859.219999999,21178859.219999999,20840040,22058795,23349814]
["2,2 - Asset Management",null,0,0,4088835,4087160.29,4276405.29,4276405.29,5306062,5644396,6004574]
["2,3 - Budget and Treasury Office",null,22859510,27485052.869999997,26820570,23968834.34,31766182.34,31766182.34,32503101,34317463,36241885]
["2,4 - Human Resource",null,4521657,3689633.19,5181285,6977174.9299999997,8062539.9299999997,8062539.9299999997,8903613,9420724,9968266]
["2,5 - Information Technology",null,3453761,4603479.209999999,6364955,6403449.8200000003,5438745.8200000003,5438745.8200000003,6587608,6972965,7381176]
["2,6 - Legal Services",null,0,0,6398289,4346185.0999999996,7090268.0999999996,7090268.0999999996,6674848,7026847,7433891]
["2,7 - Customer Relation and Coordination",null,0,0,1427977,2151894.46,2151894.46,2151894.46,4059673,3858915,4091563]
["2,8 - Property Services",null,18445304,22181477.75,1456662,3136452,7599612,7599612,10036054,10703398,11415432]
["2,9 - Risk Management",null,0,0,826803,847756.79,864863.79,864863.79,1029647,1096302,1167319]
["2.10 - Supply Chain Management",null,0,0,2300472,2281224.7400000002,2472225.7400000002,2472225.7400000002,2405731,2569944,2745392]
[{"$f":"A27","v":"Vote 3 - Internal Audit"},null,{"$f":"SUM(C196:C205)","v":0},0,1627305,1938939.02,2466953.02,2466953.02,2626731,2792493,2968857]
["3,1 - Governance Function",null,0,0,1627305,1938939.02,2466953.02,2466953.02,2626731,2792493,2968857]
[0]
[0]
[0]
[0]
[0]
[0]
[0]
[0]
[0]
["Vote 4 - Community and Public Safety",null,{"$f":"SUM(C207:C216)","v":2389933},3405469.5799999996,3691577,4334295.18,5016218.18,5016218.18,10102909,6712339,7359085]
[{"$f":"A39","v":"4,1 - Cemetries and crematoriums"},null,220294,242251.59000000003,245534,257880.39,256562.39,256562.39,290922,310114,330583]
["4,2 - Community halls and Facilities",null,291784,154214.69,717075,1484481.45,1502801.45,1502801.45,5551246,1862282,2190892]
["4,3 - Disaster Management",null,575349,1422866.6999999997,1235173,1038276.39,1147517.3900000001,1147517.3900000001,1755688,1868331,1988287]
["4,4 - Libraries and Archives",null,1302506,1586136.5999999999,1493795,1553656.95,2109336.9500000002,2109336.9500000002,2505053,2671612,2849323]
[0]
[0]
[0]
[0]
[0]
[0]
[{"$f":"A49","v":"Vote 5 - Sports and Recreation"},null,{"$f":"SUM(C218:C227)","v":8915763},8657839.6999999993,7707414,7690965.4299999997,12329928.43,12329928.43,15182096,16321355,17399646]
[{"$f":"A50","v":"5,1 - Community parks"},null,8915763,8657839.6999999993,7707414,7690965.4299999997,12329928.43,12329928.43,15182096,16321355,17399646]
[0]
[0]
[0]
[0]
[0]
[0]
[0]
[0]
[0]
[{"$f":"A60","v":"Vote 6 - Housing"},null,{"$f":"SUM(C229:C238)","v":589539},652615.30000000005,691259,727499.11,727499.11,727499.11,776788,830087,887048]
[{"$f":"A61","v":"6,1 - Housing"},null,589539,652615.30000000005,691259,727499.11,727499.11,727499.11,776788,830087,887048]
[0]
[0]
[0]
[0]
[0]
[0]
[0]
[0]
[0]
[{"$f":"A71","v":"Vote 7 - Planning and development "},null,{"$f":"SUM(C240:C249)","v":7322236},9481093.040000001,8030087,13504109.48,11586550.48,11586550.48,23542563,16226548,17220675]
[{"$f":"A72","v":"7,1 - Corporate Wide Strategic Planning (IDP & LED)"},null,7322236,9481093.040000001,4588968,8839649.2400000002,5621308.2400000002,5621308.2400000002,8744481,5367427,5657206]
["7,2 - Town Planning and Building Regulations",null,0,0,1729270,2141460.2400000002,3176345.24,3176345.24,11285035,7111135,7564736]
["7,3 - Project Management Unit",null,0,0,1711849,2523000,2788897,2788897,3513047,3747986,3998733]
[0]
[0]
[0]
[0]
[0]
[0]
[0]
[{"$f":"A82","v":"Vote 8 - Road Transport"},null,{"$f":"SUM(C251:C260)","v":24546023},36934146.479999997,48786919,34877675.260000005,53831379.260000005,53831379.260000005,54020389,57289076,60758546]
[{"$f":"A83","v":"8,1 - Road and Traffic Regulations"},null,12211016,13777566.510000004,21084957,15612924.710000001,25736712.710000001,25736712.710000001,27957361,29713092,31580617]
["8,2 - Roads",null,12125911,22968498.499999996,27474665,19031539.850000001,27622170.850000001,27622170.850000001,25801551,27296606,28879423]
["8,3 - Taxi Ranks",null,209096,188081.46999999997,227297,233210.7,472495.7,472495.7,261477,279378,298506]
[0]
[0]
[0]
[0]
[0]
[0]
[0]
["Vote 9 - Energy Sources",null,{"$f":"SUM(C262:C271)","v":14364689},22833616.450000018,25833507,32487354.719999999,40450161.719999999,40450161.719999999,42686645,40832094,43108554]
["9,1 - Electricity",null,12834539,20169464.040000018,22594332,24676142.140000001,34438473.140000001,34438473.140000001,32862349,34166286,36082793]
["9,2 - Street Lighting",null,1530150,2664152.4099999997,3239175,7811212.5800000001,6011688.5800000001,6011688.5800000001,9824296,6665808,7025761]
[0]
[0]
[0]
[0]
[0]
[0]
[0]
[0]
[{"$f":"A104","v":"Vote 10 - Waste Water Management"},null,{"$f":"SUM(C273:C282)","v":645353},603338.95000000007,636076,686133,700457,700457,751605,802836,857569]
[{"$f":"A105","v":"10,1 - Public Toilets"},null,645353,603338.95000000007,636076,686133,700457,700457,751605,802836,857569]
[{"$f":"A106","v":0}]
[0]
[0]
[0]
[0]
[0]
[0]
[0]
[{"$f":"A114","v":0}]
[{"$f":"A115","v":"Vote 11 - Waste Management"},null,{"$f":"SUM(C284:C293)","v":9858082},4356870.5899999989,4569162,4976098.47,5069603.47,5069603.47,5509316,5839885,6190587]
[{"$f":"A116","v":"11,1 - Solid Waste Removal"},null,9858082,4356870.5899999989,4569162,4976098.47,5069603.47,5069603.47,5509316,5839885,6190587]
[{"$f":"A117","v":0}]
[0]
[0]
[0]
[0]
[0]
[0]
[0]
[0]
["Vote 12 - [NAME OF VOTE 12]",null,{"$f":"SUM(C295:C304)","v":0},0,0,0,0,0,0,0,0]
["12.1 - [Name of sub-vote]"]
[0]
[0]
[0]
[0]
[0]
[0]
[0]
[0]
[0]
["Vote 13 - [NAME OF VOTE 13]",null,{"$f":"SUM(C306:C315)","v":0},0,0,0,0,0,0,0,0]
["13.1 - [Name of sub-vote]"]
[0]
[0]
[0]
[0]
[0]
[0]
[0]
[0]
[0]
["Vote 14 - [NAME OF VOTE 14]",null,{"$f":"SUM(C317:C326)","v":0},0,0,0,0,0,0,0,0]
["14.1 - [Name of sub-vote]"]
[0]
[0]
[0]
[0]
[0]
[0]
[0]
[0]
[0]
["Vote 15 - [NAME OF VOTE 15]",null,{"$f":"SUM(C328:C337)","v":0},0,0,0,0,0,0,0,0]
["15.1 - [Name of sub-vote]"]
[0]
[0]
[0]
[0]
[0]
[0]
[0]
[0]
[0]
["Total Expenditure by Vote",2,{"$f":"C173+C184+C195+C206+C217+C228+C239+C250+C261+C283+C294+C305+C316+C327+C272","v":189518607},{"$f":"D173+D184+D195+D206+D217+D228+D239+D250+D261+D283+D294+D305+D316+D327+D272","v":230489996},{"$f":"E173+E184+E195+E206+E217+E228+E239+E250+E261+E283+E294+E305+E316+E327+E272","v":247665393},223430361.52999997,275463466.53000009,275463466.53000009,308588226,309505312,328011128,{"$f":"SUM(L173:L249)","v":0},0,0,0,0,0,0,0,0,0,0,0]
[]
[{"$f":"result","v":"Surplus/(Deficit) for the year"},2,{"$f":"C170-C338","v":156204428},90079183,96547552,179277318.91000009,193661414.90999997,193661414.90999997,151554217,185822294,200551218,0,0,0,0,0,0,0,0,0,0,0,0]
[{"$f":"head27a","v":"References"}]
["1. Insert 'Vote'; e.g. Department, if different to Functional structure"]
["2. Must reconcile to Financial Performance ('Revenue and Expenditure by Functional Classification' and 'Revenue and Expenditure')"]
["3. Assign share in 'associate' to relevant Vote"]
[]
["check revenue",null,{"$f":"C170-'A4-FinPerf RE'!C59","v":0},{"$f":"D170-'A4-FinPerf RE'!D59","v":0},{"$f":"E170-'A4-FinPerf RE'!E59","v":0},{"$f":"F170-'A4-FinPerf RE'!F59","v":0.21000003814697266},{"$f":"G170-'A4-FinPerf RE'!G59","v":0.21000003814697266},{"$f":"H170-'A4-FinPerf RE'!H59","v":0.21000003814697266},{"$f":"I170-'A4-FinPerf RE'!J59","v":0},{"$f":"J170-'A4-FinPerf RE'!K59","v":-2},{"$f":"K170-'A4-FinPerf RE'!L59","v":0}]
["check expenditure",null,{"$f":"C338-'A4-FinPerf RE'!C35","v":0},{"$f":"D338-'A4-FinPerf RE'!D35","v":0},{"$f":"E338-'A4-FinPerf RE'!E35","v":0},{"$f":"F338-'A4-FinPerf RE'!F35","v":0.16759997606277466},{"$f":"G338-'A4-FinPerf RE'!G35","v":0.46760010719299316},{"$f":"H338-'A4-FinPerf RE'!H35","v":0.46760010719299316},{"$f":"I338-'A4-FinPerf RE'!J35","v":4},{"$f":"J338-'A4-FinPerf RE'!K35","v":-4},{"$f":"K338-'A4-FinPerf RE'!L35","v":-2}]

{"sheet":"A4-FinPerf RE","index":11,"n_rows":59,"n_cols":24,"rows_kept":59,"cut":false,"hidden":false,"merged":[[1,12,1,23],[1,9,1,11],[1,5,1,8]]}
[{"$f":"muni&\" - \"&Approve4","v":"LIM332 Greater Letaba - Table A4 Budgeted Financial Performance (revenue and expenditure)"}]
[{"$f":"desc","v":"Description"},{"$f":"head27","v":"Ref"},{"$f":"head1b","v":"2015/16"},{"$f":"head1A","v":"2016/17"},{"$f":"Head1","v":"2017/18"},{"$f":"Head2","v":"Current Year 2018/19"},null,null,null,{"$f":"Head3","v":"2019/20 Medium Term Revenue & Expenditure Framework"},null,null,{"$f":"Head4","v":"LTFS"}]
["R thousand",1,{"$f":"Head5","v":"Audited Outcome"},{"$f":"Head5","v":"Audited Outcome"},{"$f":"Head5","v":"Audited Outcome"},{"$f":"Head6","v":"Original Budget"},{"$f":"Head7","v":"Adjusted Budget"},{"$f":"Head8","v":"Full Year Forecast"},{"$f":"Head5b","v":"Pre-audit outcome"},{"$f":"Head9","v":"Budget Year 2019/20"},{"$f":"Head10","v":"Budget Year +1 2020/21"},{"$f":"Head11","v":"Budget Year +2 2021/22"},{"$f":"Head12","v":"Forecast 2022/23"},{"$f":"Head13","v":"Forecast 2023/24"},{"$f":"Head14","v":"Forecast 2024/25"},{"$f":"Head15","v":"Forecast 2025/26"},{"$f":"Head16","v":"Forecast 2026/27"},{"$f":"Head17","v":"Forecast 2027/28"},{"$f":"Head18","v":"Forecast 2028/29"},{"$f":"Head19","v":"Forecast 2029/30"},{"$f":"Head20","v":"Forecast 2030/31"},{"$f":"Head21","v":"Forecast 2031/32"},{"$f":"Head22","v":"Forecast 2032/33"},{"$f":"Head23","v":"Forecast 2033/34"}]
["Revenue By Source"]
["Property rates",2,{"$f":"'SA1'!C9","v":8977594},{"$f":"'SA1'!D9","v":11845856},{"$f":"'SA1'!E9","v":8599768},{"$f":"'SA1'!F9","v":12255327.57},{"$f":"'SA1'!G9","v":16863286.57},{"$f":"'SA1'!H9","v":16863286.57},{"$f":"'SA1'!I9","v":16863286.57},{"$f":"'SA1'!J9","v":17740178},{"$f":"'SA1'!K9","v":18698147},{"$f":"'SA1'!L9","v":19707847}]
["Service charges - electricity revenue",2,{"$f":"'SA1'!C15","v":9282999},{"$f":"'SA1'!D15","v":9782575},{"$f":"'SA1'!E15","v":9667754},{"$f":"'SA1'!F15","v":12666643.210000001},{"$f":"'SA1'!G15","v":24474643.210000001},{"$f":"'SA1'!H15","v":24474643.210000001},{"$f":"'SA1'!I15","v":23428502.210000001},{"$f":"'SA1'!J15","v":25738909},{"$f":"'SA1'!K15","v":27128809},{"$f":"'SA1'!L15","v":28593766}]
["Service charges - water revenue",2,{"$f":"'SA1'!C21","v":0},{"$f":"'SA1'!D21","v":0},{"$f":"'SA1'!E21","v":0},{"$f":"'SA1'!F21","v":0},{"$f":"'SA1'!G21","v":0},{"$f":"'SA1'!H21","v":0},{"$f":"'SA1'!I21","v":0},{"$f":"'SA1'!J21","v":0},{"$f":"'SA1'!K21","v":0},{"$f":"'SA1'!L21","v":0}]
["Service charges - sanitation revenue",2,{"$f":"'SA1'!C27","v":0},{"$f":"'SA1'!D27","v":0},{"$f":"'SA1'!E27","v":0},{"$f":"'SA1'!F27","v":0},{"$f":"'SA1'!G27","v":0},{"$f":"'SA1'!H27","v":0},{"$f":"'SA1'!I27","v":0},{"$f":"'SA1'!J27","v":0},{"$f":"'SA1'!K27","v":0},{"$f":"'SA1'!L27","v":0}]
["Service charges - refuse revenue",2,{"$f":"'SA1'!C34","v":3646541},{"$f":"'SA1'!D34","v":4053445},{"$f":"'SA1'!E34","v":4193295},{"$f":"'SA1'!F34","v":6243396.8199999994},{"$f":"'SA1'!G34","v":8243396.8199999994},{"$f":"'SA1'!H34","v":8243396.8199999994},{"$f":"'SA1'!I34","v":8243396.8199999994},{"$f":"'SA1'!J34","v":8672053},{"$f":"'SA1'!K34","v":9140344},{"$f":"'SA1'!L34","v":9633923}]
[]
["Rental of facilities and equipment",null,90519,142097,169074,956797.77,956797.77,956797.77,956797.77,1006551,1060905,1118194]
["Interest earned - external investments",null,3925076,5885924,4605544,4519515.4400000004,4519515.4400000004,4519515.4400000004,4519515.4400000004,4754530,5011275,5281884]
["Interest earned - outstanding debtors",null,7752685,9162216,10309711,8441397.7699999996,19227652.77,19227652.77,19227652.77,20227491,21319776,22471044]
["Dividends received",null,0,0,0,0,0,0,0,0,0,0]
["Fines, penalties and forfeits",null,1932180,1373405,993006,1200000,1200000,1200000,1200000,1262400,1330570,1402420]
["Licences and permits",null,2901591,4261961,10675069,8085004.6399999997,22685004.640000001,22685004.640000001,22685004.640000001,23864625,25153315,26511594]
["Agency services",null,1813180,1975516,2258635,2176014.33,2176014.33,2176014.33,2176014.33,2289167,2412782,2543072]
["Transfers and subsidies",null,212960000,209514001,{"$f":"291695123-64658124","v":227036999},248358000,248358000,248358000,248358000,281624000,300105000,321890000]
["Other revenue",2,{"$f":"'SA1'!C49","v":3280960},{"$f":"'SA1'!D49","v":1239860},{"$f":"'SA1'!E49","v":842364},{"$f":"'SA1'!F49","v":34785582.68},{"$f":"'SA1'!G49","v":37400569.68},{"$f":"'SA1'!H49","v":37400569.68},{"$f":"'SA1'!I49","v":37400569.68},{"$f":"'SA1'!J49","v":14747535},{"$f":"'SA1'!K49","v":15543903},{"$f":"'SA1'!L49","v":16383272}]
["Gains on disposal of PPE",null,0,0,203602,577000,577000,577000,577000,607004,639782,674330]
["Total Revenue (excluding capital transfers and contributions)",null,{"$f":"SUM(C5:C9)+SUM(C11:C20)","v":256563325},{"$f":"SUM(D5:D9)+SUM(D11:D20)","v":259236856},279554821,340264680.23000002,386681881.23000002,386681881.23000002,385635740.23000002,402534443,427544608,456211346,{"$f":"SUM(M5:M20)","v":0},0,0,0,0,0,0,0,0,0,0,0]
[]
["Expenditure By Type"]
["Employee related costs",2,{"$f":"'SA1'!C67","v":64406539},{"$f":"'SA1'!D67","v":68377015},{"$f":"'SA1'!E67","v":74714220},{"$f":"'SA1'!F67","v":78303797.25},{"$f":"'SA1'!G67","v":95266292.25},{"$f":"'SA1'!H67","v":95266292.25},{"$f":"'SA1'!I67","v":95266292.25},{"$f":"'SA1'!J67","v":107636135},{"$f":"'SA1'!K67","v":115063029},{"$f":"'SA1'!L67","v":123002381}]
["Remuneration of councillors",null,17728499,18896474,20873647,22467855,22882032,22882032,22882032,24071901,25371784,26741860]
["Debt impairment",3,9513612,24545889,19199926,1956620.19,1956620.19,1956620.19,1956620.19,2058364,2169516,2286670]
["Depreciation & asset impairment",2,{"$f":"'SA1'!C83","v":21569539},{"$f":"'SA1'!D83","v":31106428},{"$f":"'SA1'!E83","v":28680829},{"$f":"'SA1'!F83","v":5043379.8099999996},{"$f":"'SA1'!G83","v":5942210.8099999996},{"$f":"'SA1'!H83","v":5942210.8099999996},{"$f":"'SA1'!I83","v":5942210.8099999996},{"$f":"'SA1'!J83","v":6251207},{"$f":"'SA1'!K83","v":6588772},{"$f":"'SA1'!L83","v":6944565}]
["Finance charges",null,0,0,0,0,0,0,0,0,0,0]
["Bulk purchases",2,{"$f":"'SA1'!C88","v":8728768},{"$f":"'SA1'!D88","v":13029942},{"$f":"'SA1'!E88","v":14679655},{"$f":"'SA1'!F88","v":17096559},{"$f":"'SA1'!G88","v":17096559},{"$f":"'SA1'!H88","v":17096559},{"$f":"'SA1'!I88","v":17096559},{"$f":"'SA1'!J88","v":17985580},{"$f":"'SA1'!K88","v":18956801},{"$f":"'SA1'!L88","v":19980468}]
["Other materials",8,0,0,0,0,0,0,0,0,0,0]
["Contracted services",null,{"$f":"'SA1'!C127","v":9272936},{"$f":"'SA1'!D127","v":13404220},{"$f":"'SA1'!E127","v":13883089},{"$f":"'SA1'!F127","v":15119136.5024},{"$f":"'SA1'!G127","v":19376165.5024},{"$f":"'SA1'!H127","v":19376165.5024},{"$f":"'SA1'!I127","v":19376165.5024},{"$f":"'SA1'!J127","v":19459626},{"$f":"'SA1'!K127","v":20510449},{"$f":"'SA1'!L127","v":21618010}]
["Transfers and subsidies",null,{"$f":"'SA1'!C93","v":0},{"$f":"'SA1'!D93","v":0},{"$f":"'SA1'!E93","v":0},{"$f":"'SA1'!F93","v":0},{"$f":"'SA1'!G93","v":0},{"$f":"'SA1'!H93","v":0},{"$f":"'SA1'!I93","v":0},{"$f":"'SA1'!J93","v":0},{"$f":"'SA1'!K93","v":0},{"$f":"'SA1'!L93","v":0}]
["Other expenditure","4, 5",{"$f":"'SA1'!C157","v":58298714},{"$f":"'SA1'!D157","v":61130028},{"$f":"'SA1'!E157","v":75634027},{"$f":"'SA1'!F157","v":83443013.609999999},{"$f":"'SA1'!G157","v":112943586.31},{"$f":"'SA1'!H157","v":112943586.31},{"$f":"'SA1'!I157","v":112943586.31},{"$f":"'SA1'!J157","v":131125409},{"$f":"'SA1'!K157","v":120844965},{"$f":"'SA1'!L157","v":127437176}]
["Loss on disposal of PPE",null,null,null,null,null,null,null,null,0,0,0]
["Total Expenditure",null,{"$f":"SUM(C24:C34)","v":189518607},{"$f":"SUM(D24:D34)","v":230489996},247665393,223430361.3624,275463466.06239998,275463466.06239998,275463466.06239998,308588222,309505316,328011130,{"$f":"SUM(M24:M34)","v":0},0,0,0,0,0,0,0,0,0,0,0]
[]
["Surplus/(Deficit)",null,{"$f":"C21-C35","v":67044718},28746860,31889428,116834318.86760002,111218415.16760004,111218415.16760004,110172274.16760004,93946221,118039292,128200216,{"$f":"M21+M35","v":0},0,0,0,0,0,0,0,0,0,0,0]
["Transfers and subsidies - capital (monetary allocations) (National / Provincial and District)",null,89159710,61332323,64658124,62443000,{"$f":"62443000+20000000","v":82443000},{"$f":"62443000+20000000","v":82443000},{"$f":"62443000+20000000","v":82443000},57608000,{"$f":"60783000+7000000","v":67783000},{"$f":"65351000+7000000","v":72351000}]
["Transfers and subsidies - capital (monetary allocations) (National / Provincial Departmental Agencies, Households, Non-profit Institutions, Private Enterprises, Public Corporatons, Higher Educational Institutions)",6,{"$f":"'SA1'!C76","v":0},{"$f":"'SA1'!D76","v":0},{"$f":"'SA1'!E76","v":0},{"$f":"'SA1'!F76","v":0},{"$f":"'SA1'!G76","v":0},{"$f":"'SA1'!H76","v":0},{"$f":"'SA1'!I76","v":0},{"$f":"'SA1'!J76","v":0},{"$f":"'SA1'!K76","v":0},{"$f":"'SA1'!L76","v":0}]
["Transfers and subsidies - capital (in-kind - all) "]
["Surplus/(Deficit) after capital transfers & contributions",null,{"$f":"SUM(C37:C40)","v":156204428},90079183,96547552,179277318.86760002,193661415.16760004,193661415.16760004,192615274.16760004,151554221,185822292,200551216]
["Taxation"]
["Surplus/(Deficit) after taxation",null,{"$f":"C41-C42","v":156204428},90079183,96547552,179277318.86760002,193661415.16760004,193661415.16760004,192615274.16760004,151554221,185822292,200551216]
["Attributable to minorities"]
["Surplus/(Deficit) attributable to municipality",null,{"$f":"SUM(C43:C44)","v":156204428},90079183,96547552,179277318.86760002,193661415.16760004,193661415.16760004,192615274.16760004,151554221,185822292,200551216]
["Share of surplus/ (deficit) of associate",7]
[{"$f":"result","v":"Surplus/(Deficit) for the year"},null,{"$f":"SUM(C45:C46)","v":156204428},90079183,96547552,179277318.86760002,193661415.16760004,193661415.16760004,192615274.16760004,151554221,185822292,200551216,{"$f":"M25+M46","v":0},0,0,0,0,0,0,0,0,0,0,0]
[{"$f":"head27a","v":"References"}]
["1. Classifications are revenue sources and expenditure type"]
["2. Detail to be provided in Table SA1"]
["3. Previously described as 'bad or doubtful debts' - amounts shown should reflect the change in the provision for debt impairment"]
["4. Expenditure type components previously shown under repairs and maintenance should be allocated back to the originating expenditure group/item; e.g. employee costs"]
["5. Repairs & maintenance detailed in Table A9 and Table SA34c"]
["6. Contributions are funds provided by external organisations to assist with infrastructure development; e.g. developer contributions (detail to be provided in Table SA1)"]
["7. Equity method ( Includes Joint Ventures)"]
["8. All materials not part of 'bulk' e.g  road making materials, pipe, cable etc."]
["check balance",null,{"$f":"C45-'A3-FinPerf V'!C39","v":0},{"$f":"D45-'A3-FinPerf V'!D39","v":0},{"$f":"E45-'A3-FinPerf V'!E39","v":0},{"$f":"F45-'A3-FinPerf V'!F39","v":-4.2400062084197998E-2},{"$f":"G45-'A3-FinPerf V'!G39","v":0.25760006904602051},{"$f":"H45-'A3-FinPerf V'!H39","v":0.25760006904602051},null,{"$f":"J45-'A3-FinPerf V'!I39","v":4},{"$f":"K45-'A3-FinPerf V'!J39","v":-2},{"$f":"L45-'A3-FinPerf V'!K39","v":-2}]
[]
["Total revenue",null,{"$f":"C21+SUM(C38:C40)","v":345723035},320569179,344212945,402707680.23000002,469124881.23000002,469124881.23000002,468078740.23000002,460142443,495327608,528562346]

{"sheet":"A5-Capex","index":12,"n_rows":85,"n_cols":12,"rows_kept":85,"cut":false,"hidden":false,"merged":[[1,9,1,11],[1,5,1,8],[82,0,82,11],[77,0,77,11],[76,0,76,11],[78,0,78,11]]}
[" "]
[{"$f":"Vdesc","v":"Vote Description"},{"$f":"head27","v":"Ref"},{"$f":"head1b","v":"2015/16"},{"$f":"head1A","v":"2016/17"},{"$f":"Head1","v":"2017/18"},{"$f":"Head2","v":"Current Year 2018/19"},null,null,null,{"$f":"Head3","v":"2019/20 Medium Term Revenue & Expenditure Framework"}]
["R thousand",1,{"$f":"Head5","v":"Audited Outcome"},{"$f":"Head5","v":"Audited Outcome"},{"$f":"Head5","v":"Audited Outcome"},{"$f":"Head6","v":"Original Budget"},{"$f":"Head7","v":"Adjusted Budget"},{"$f":"Head8","v":"Full Year Forecast"},{"$f":"Head5b","v":"Pre-audit outcome"},{"$f":"Head9","v":"Budget Year 2019/20"},{"$f":"Head10","v":"Budget Year +1 2020/21"},{"$f":"Head11","v":"Budget Year +2 2021/22"}]
["Capital expenditure - Vote"]
["Multi-year expenditure  to be appropriated",2]
[{"$f":"A5A!A6","v":"Vote 1 - Executive & Council"},null,{"$f":"A5A!C6","v":0},{"$f":"A5A!D6","v":0},{"$f":"A5A!E6","v":0},{"$f":"A5A!F6","v":0},{"$f":"A5A!G6","v":0},{"$f":"A5A!H6","v":0},{"$f":"A5A!I6","v":0},{"$f":"A5A!J6","v":0},{"$f":"A5A!K6","v":0},{"$f":"A5A!L6","v":0}]
[{"$f":"A5A!A17","v":"Vote 2 - Finance and Administration"},null,{"$f":"A5A!C17","v":0},{"$f":"A5A!D17","v":0},{"$f":"A5A!E17","v":0},{"$f":"A5A!F17","v":0},{"$f":"A5A!G17","v":0},{"$f":"A5A!H17","v":0},{"$f":"A5A!I17","v":0},{"$f":"A5A!J17","v":0},{"$f":"A5A!K17","v":0},{"$f":"A5A!L17","v":0}]
[{"$f":"A5A!A28","v":"Vote 3 - Internal Audit"},null,{"$f":"A5A!C28","v":0},{"$f":"A5A!D28","v":0},{"$f":"A5A!E28","v":0},{"$f":"A5A!F28","v":0},{"$f":"A5A!G28","v":0},{"$f":"A5A!H28","v":0},{"$f":"A5A!I28","v":0},{"$f":"A5A!J28","v":0},{"$f":"A5A!K28","v":0},{"$f":"A5A!L28","v":0}]
[{"$f":"A5A!A39","v":"Vote 4 - Community and Public Safety"},null,{"$f":"A5A!C39","v":9816354},{"$f":"A5A!D39","v":18440000},{"$f":"A5A!E39","v":8865104},{"$f":"A5A!F39","v":3218446},{"$f":"A5A!G39","v":1718446},{"$f":"A5A!H39","v":1718446},{"$f":"A5A!I39","v":1718446},{"$f":"A5A!J39","v":3100000},{"$f":"A5A!K39","v":3900000},{"$f":"A5A!L39","v":0}]
[{"$f":"A5A!A50","v":"Vote 5 - Sports and Recreation"},null,{"$f":"A5A!C50","v":3193643},{"$f":"A5A!D50","v":6740167},{"$f":"A5A!E50","v":46132125},{"$f":"A5A!F50","v":63505497},{"$f":"A5A!G50","v":66671312},{"$f":"A5A!H50","v":66671312},{"$f":"A5A!I50","v":66671312},{"$f":"A5A!J50","v":43635415},{"$f":"A5A!K50","v":38582889},{"$f":"A5A!L50","v":21681111}]
[{"$f":"A5A!A61","v":"Vote 6 - Housing"},null,{"$f":"A5A!C61","v":0},{"$f":"A5A!D61","v":0},{"$f":"A5A!E61","v":0},{"$f":"A5A!F61","v":0},{"$f":"A5A!G61","v":0},{"$f":"A5A!H61","v":0},{"$f":"A5A!I61","v":0},{"$f":"A5A!J61","v":0},{"$f":"A5A!K61","v":0},{"$f":"A5A!L61","v":0}]
[{"$f":"A5A!A72","v":"Vote 7 - Planning and development "},null,{"$f":"A5A!C72","v":4111760},{"$f":"A5A!D72","v":0},{"$f":"A5A!E72","v":0},{"$f":"A5A!F72","v":0},{"$f":"A5A!G72","v":0},{"$f":"A5A!H72","v":0},{"$f":"A5A!I72","v":0},{"$f":"A5A!J72","v":0},{"$f":"A5A!K72","v":0},{"$f":"A5A!L72","v":0}]
[{"$f":"A5A!A83","v":"Vote 8 - Road Transport"},null,{"$f":"A5A!C83","v":135906114},{"$f":"A5A!D83","v":56929000},{"$f":"A5A!E83","v":0},{"$f":"A5A!F83","v":57269303.810000002},{"$f":"A5A!G83","v":60856960.810000002},{"$f":"A5A!H83","v":60856960.810000002},{"$f":"A5A!I83","v":60856960.810000002},{"$f":"A5A!J83","v":56740758},{"$f":"A5A!K83","v":126765055},{"$f":"A5A!L83","v":141871156}]
[{"$f":"A5A!A94","v":"Vote 9 - Energy Sources"},null,{"$f":"A5A!C94","v":0},{"$f":"A5A!D94","v":0},{"$f":"A5A!E94","v":55248315},{"$f":"A5A!F94","v":0},{"$f":"A5A!G94","v":0},{"$f":"A5A!H94","v":0},{"$f":"A5A!I94","v":0},{"$f":"A5A!J94","v":0},{"$f":"A5A!K94","v":0},{"$f":"A5A!L94","v":0}]
[{"$f":"A5A!A105","v":"Vote 10 - Waste Water Management"},null,{"$f":"A5A!C105","v":0},{"$f":"A5A!D105","v":0},{"$f":"A5A!E105","v":0},{"$f":"A5A!F105","v":0},{"$f":"A5A!G105","v":0},{"$f":"A5A!H105","v":0},{"$f":"A5A!I105","v":0},{"$f":"A5A!J105","v":0},{"$f":"A5A!K105","v":0},{"$f":"A5A!L105","v":0}]
[{"$f":"A5A!A116","v":"Vote 11 - Waste Management"},null,{"$f":"A5A!C116","v":0},{"$f":"A5A!D116","v":0},{"$f":"A5A!E116","v":0},{"$f":"A5A!F116","v":0},{"$f":"A5A!G116","v":0},{"$f":"A5A!H116","v":0},{"$f":"A5A!I116","v":0},{"$f":"A5A!J116","v":0},{"$f":"A5A!K116","v":0},{"$f":"A5A!L116","v":0}]
[{"$f":"A5A!A127","v":"Vote 12 - [NAME OF VOTE 12]"},null,{"$f":"A5A!C127","v":0},{"$f":"A5A!D127","v":0},{"$f":"A5A!E127","v":0},{"$f":"A5A!F127","v":0},{"$f":"A5A!G127","v":0},{"$f":"A5A!H127","v":0},{"$f":"A5A!I127","v":0},{"$f":"A5A!J127","v":0},{"$f":"A5A!K127","v":0},{"$f":"A5A!L127","v":0}]
[{"$f":"A5A!A138","v":"Vote 13 - [NAME OF VOTE 13]"},null,{"$f":"A5A!C138","v":0},{"$f":"A5A!D138","v":0},{"$f":"A5A!E138","v":0},{"$f":"A5A!F138","v":0},{"$f":"A5A!G138","v":0},{"$f":"A5A!H138","v":0},{"$f":"A5A!I138","v":0},{"$f":"A5A!J138","v":0},{"$f":"A5A!K138","v":0},{"$f":"A5A!L138","v":0}]
[{"$f":"A5A!A149","v":"Vote 14 - [NAME OF VOTE 14]"},null,{"$f":"A5A!C149","v":0},{"$f":"A5A!D149","v":0},{"$f":"A5A!E149","v":0},{"$f":"A5A!F149","v":0},{"$f":"A5A!G149","v":0},{"$f":"A5A!H149","v":0},{"$f":"A5A!I149","v":0},{"$f":"A5A!J149","v":0},{"$f":"A5A!K149","v":0},{"$f":"A5A!L149","v":0}]
[{"$f":"A5A!A160","v":"Vote 15 - [NAME OF VOTE 15]"},null,{"$f":"A5A!C160","v":0},{"$f":"A5A!D160","v":0},{"$f":"A5A!E160","v":0},{"$f":"A5A!F160","v":0},{"$f":"A5A!G160","v":0},{"$f":"A5A!H160","v":0},{"$f":"A5A!I160","v":0},{"$f":"A5A!J160","v":0},{"$f":"A5A!K160","v":0},{"$f":"A5A!L160","v":0}]
["Capital multi-year expenditure sub-total",7,{"$f":"SUM(C6:C20)","v":153027871},{"$f":"SUM(D6:D20)","v":82109167},110245544,123993246.81,129246718.81,{"$f":"SUM(H6:H20)","v":129246718.81},129246718.81,103476173,169247944,163552267]
[]
["Single-year expenditure to be appropriated",2]
[{"$f":"A6","v":"Vote 1 - Executive & Council"},null,{"$f":"A5A!C175","v":0},{"$f":"A5A!D175","v":0},{"$f":"A5A!E175","v":1959142},{"$f":"A5A!F175","v":0},{"$f":"A5A!G175","v":0},{"$f":"A5A!H175","v":0},{"$f":"A5A!I175","v":0},{"$f":"A5A!J175","v":525000},{"$f":"A5A!K175","v":0},{"$f":"A5A!L175","v":0}]
[{"$f":"A7","v":"Vote 2 - Finance and Administration"},null,{"$f":"A5A!C186","v":1631093},{"$f":"A5A!D186","v":3922000},{"$f":"A5A!E186","v":1653375},{"$f":"A5A!F186","v":7086000},{"$f":"A5A!G186","v":6419665},{"$f":"A5A!H186","v":6419665},{"$f":"A5A!I186","v":6419665},{"$f":"A5A!J186","v":4417000},{"$f":"A5A!K186","v":0},{"$f":"A5A!L186","v":0}]
["Vote 3 - Internal Audit",null,{"$f":"A5A!C197","v":0},{"$f":"A5A!D197","v":0},{"$f":"A5A!E197","v":0},{"$f":"A5A!F197","v":0},{"$f":"A5A!G197","v":0},{"$f":"A5A!H197","v":0},{"$f":"A5A!I197","v":0},{"$f":"A5A!J197","v":0},{"$f":"A5A!K197","v":0},{"$f":"A5A!L197","v":0}]
["Vote 4 - Community and Public Safety",null,{"$f":"A5A!C208","v":314568},{"$f":"A5A!D208","v":0},{"$f":"A5A!E208","v":7226812},{"$f":"A5A!F208","v":400000},{"$f":"A5A!G208","v":400000},{"$f":"A5A!H208","v":400000},{"$f":"A5A!I208","v":400000},{"$f":"A5A!J208","v":1863000},{"$f":"A5A!K208","v":0},{"$f":"A5A!L208","v":0}]
["Vote 5 - Sports and Recreation",null,{"$f":"A5A!C219","v":104312},{"$f":"A5A!D219","v":0},{"$f":"A5A!E219","v":0},{"$f":"A5A!F219","v":0},{"$f":"A5A!G219","v":0},{"$f":"A5A!H219","v":0},{"$f":"A5A!I219","v":0},{"$f":"A5A!J219","v":0},{"$f":"A5A!K219","v":0},{"$f":"A5A!L219","v":0}]
["Vote 6 - Housing",null,{"$f":"A5A!C230","v":0},{"$f":"A5A!D230","v":0},{"$f":"A5A!E230","v":0},{"$f":"A5A!F230","v":0},{"$f":"A5A!G230","v":0},{"$f":"A5A!H230","v":0},{"$f":"A5A!I230","v":0},{"$f":"A5A!J230","v":0},{"$f":"A5A!K230","v":0},{"$f":"A5A!L230","v":0}]
["Vote 7 - Planning and development ",null,{"$f":"A5A!C241","v":0},{"$f":"A5A!D241","v":1011000},{"$f":"A5A!E241","v":0},{"$f":"A5A!F241","v":0},{"$f":"A5A!G241","v":0},{"$f":"A5A!H241","v":0},{"$f":"A5A!I241","v":0},{"$f":"A5A!J241","v":0},{"$f":"A5A!K241","v":0},{"$f":"A5A!L241","v":0}]
["Vote 8 - Road Transport",null,{"$f":"A5A!C252","v":15600255},{"$f":"A5A!D252","v":230000},{"$f":"A5A!E252","v":23092981},{"$f":"A5A!F252","v":17659306.260000002},{"$f":"A5A!G252","v":19529000.260000002},{"$f":"A5A!H252","v":19529000.260000002},{"$f":"A5A!I252","v":19529000.260000002},{"$f":"A5A!J252","v":15643047},{"$f":"A5A!K252","v":3747986},{"$f":"A5A!L252","v":3998733}]
["Vote 9 - Energy Sources",null,{"$f":"A5A!C263","v":3873785},{"$f":"A5A!D263","v":14080000},{"$f":"A5A!E263","v":13201925},{"$f":"A5A!F263","v":18334111.600000001},{"$f":"A5A!G263","v":26461367.600000001},{"$f":"A5A!H263","v":26461367.600000001},{"$f":"A5A!I263","v":26461367.600000001},{"$f":"A5A!J263","v":15100000},{"$f":"A5A!K263","v":9500000},{"$f":"A5A!L263","v":17491920}]
["Vote 10 - Waste Water Management",null,{"$f":"A5A!C274","v":1638257},{"$f":"A5A!D274","v":0},{"$f":"A5A!E274","v":2278685},{"$f":"A5A!F274","v":5664654.4500000002},{"$f":"A5A!G274","v":6464654.4500000002},{"$f":"A5A!H274","v":6464654.4500000002},{"$f":"A5A!I274","v":6464654.4500000002},{"$f":"A5A!J274","v":3680000},{"$f":"A5A!K274","v":3326364},{"$f":"A5A!L274","v":15508298}]
["Vote 11 - Waste Management",null,{"$f":"A5A!C285","v":52500},{"$f":"A5A!D285","v":3605000},{"$f":"A5A!E285","v":3160235},{"$f":"A5A!F285","v":6140000},{"$f":"A5A!G285","v":5140000},{"$f":"A5A!H285","v":5140000},{"$f":"A5A!I285","v":5140000},{"$f":"A5A!J285","v":6850000},{"$f":"A5A!K285","v":0},{"$f":"A5A!L285","v":0}]
["Vote 12 - [NAME OF VOTE 12]",null,{"$f":"A5A!C296","v":0},{"$f":"A5A!D296","v":0},{"$f":"A5A!E296","v":0},{"$f":"A5A!F296","v":0},{"$f":"A5A!G296","v":0},{"$f":"A5A!H296","v":0},{"$f":"A5A!I296","v":0},{"$f":"A5A!J296","v":0},{"$f":"A5A!K296","v":0},{"$f":"A5A!L296","v":0}]
["Vote 13 - [NAME OF VOTE 13]",null,{"$f":"A5A!C307","v":0},{"$f":"A5A!D307","v":0},{"$f":"A5A!E307","v":0},{"$f":"A5A!F307","v":0},{"$f":"A5A!G307","v":0},{"$f":"A5A!H307","v":0},{"$f":"A5A!I307","v":0},{"$f":"A5A!J307","v":0},{"$f":"A5A!K307","v":0},{"$f":"A5A!L307","v":0}]
["Vote 14 - [NAME OF VOTE 14]",null,{"$f":"A5A!C318","v":0},{"$f":"A5A!D318","v":0},{"$f":"A5A!E318","v":0},{"$f":"A5A!F318","v":0},{"$f":"A5A!G318","v":0},{"$f":"A5A!H318","v":0},{"$f":"A5A!I318","v":0},{"$f":"A5A!J318","v":0},{"$f":"A5A!K318","v":0},{"$f":"A5A!L318","v":0}]
[{"$f":"A20","v":"Vote 15 - [NAME OF VOTE 15]"},null,{"$f":"A5A!C329","v":0},{"$f":"A5A!D329","v":0},{"$f":"A5A!E329","v":0},{"$f":"A5A!F329","v":0},{"$f":"A5A!G329","v":0},{"$f":"A5A!H329","v":0},{"$f":"A5A!I329","v":0},{"$f":"A5A!J329","v":0},{"$f":"A5A!K329","v":0},{"$f":"A5A!L329","v":0}]
["Capital single-year expenditure sub-total",null,{"$f":"SUM(C24:C38)","v":23214770},{"$f":"SUM(D24:D38)","v":22848000},52573155,55284072.310000002,64414687.310000002,64414687.310000002,64414687.310000002,48078047,16574350,36998951]
["Total Capital Expenditure - Vote",null,{"$f":"C39+C21","v":176242641},{"$f":"D39+D21","v":104957167},162818699,179277319.12,193661406.12,193661406.12,193661406.12,151554220,185822294,200551218]
[]
["Capital Expenditure - Functional"]
["Governance and administration",null,{"$f":"SUM(C44:C46)","v":1631093},{"$f":"SUM(D44:D46)","v":3922000},3612517,7086000,6419665,6419665,6419665,4942000,0,0]
["Executive and council",null,0,0,1959142,0,0,0,0,525000,0,0]
["Finance and administration",null,1631093,3922000,1653375,7086000,6419665,6419665,6419665,{"$f":"2167000+35000+1250000+965000","v":4417000},0,0]
["Internal audit",null,0,0,0,0,0,0,0,0,0,0]
["Community and public safety",null,{"$f":"SUM(C48:C52)","v":17087437},{"$f":"SUM(D48:D52)","v":27244167},64302342,44240432.199999996,44262227.199999996,44262227.199999996,44262227.199999996,51598415,55259253,76173031]
["Community and social services",null,10131222,18440000,16091916,3618446.4,2118446.4,2118446.4,2118446.4,{"$f":"3000+4630000+330000","v":4963000},3900000,0]
["Sport and recreation",null,3297955,6740167,46132125,36421985.799999997,36466371.799999997,36466371.799999997,36466371.799999997,{"$f":"15402226+8233189+10000000+10000000","v":43635415},{"$f":"8750000+14681858+15151031","v":38582889},{"$f":"11325142+10355969","v":21681111}]
["Public safety",null,3658260,2064000,2078301,4200000,5677409,5677409,5677409,3000000,12776364,54491920]
["Housing",null,0,0,0,0,0,0,0,0,0,0]
["Health",null,0,0,0,0,0,0,0,0,0,0]
["Economic and environmental services",null,{"$f":"SUM(C54:C56)","v":155617828},{"$f":"SUM(D54:D56)","v":58170000},78341296,102012120.61000001,110590901.61,110590901.61,110590901.61,72683805,110513041,85869889]
["Planning and development",null,5991032,1011000,0,0,0,0,0,0,0,0]
["Road transport",null,149626796,57159000,78341296,102012120.61000001,{"$f":"90590901.61+20000000","v":110590901.61},{"$f":"90590901.61+20000000","v":110590901.61},{"$f":"90590901.61+20000000","v":110590901.61},{"$f":"40478994+2830000+9861764+8000000+1000000+7000000+3513047","v":72683805},{"$f":"79562930+14002125+600000+600000+4000000+8000000+3747986","v":110513041},{"$f":"42200000+6113111+15700000+15458045+2400000+3998733","v":85869889}]
["Environmental protection",null,0,0,0,0,0,0,0,0,0,0]
["Trading services",null,{"$f":"SUM(C58:C61)","v":1906282},{"$f":"SUM(D58:D61)","v":15621000},22423382,25938766.050000001,32388766.050000001,32388766.050000001,32388766.050000001,22330000,20050000,38508298]
["Energy sources",null,215525,12016000,16984462,14134111.6,20784111.600000001,20784111.600000001,20784111.600000001,11800000,7000000,7000000]
["Water management",null,0,0,0,0,0,0,0,0,0,0]
["Waste water management",null,52500,0,2278685,5664654.4500000002,6464654.4500000002,6464654.4500000002,6464654.4500000002,3680000,13050000,31508298]
["Waste management",null,1638257,3605000,3160235,6140000,5140000,5140000,5140000,6850000,0,0]
["Other",null,null,null,null,0,0,0,0,0,0,0]
["Total Capital Expenditure - Functional",3,{"$f":"C43+C47+C53+C57+C62","v":176242640},{"$f":"D43+D47+D53+D57+D62","v":104957167},168679537,179277318.86000001,193661559.86000001,193661559.86000001,193661559.86000001,151554220,185822294,{"$f":"L43+L47+L53+L57+L62","v":200551218}]
[]
["Funded by:"]
["National Government",null,89314320,{"$f":"48341000+5105000","v":53446000},{"$f":"61162000","v":61162000},56460000,{"$f":"56460000+20000000","v":76460000},{"$f":"56460000+20000000","v":76460000},{"$f":"56460000+20000000","v":76460000},57608000,60783000,65351000]
["Provincial Government",null,null,null,null,null,0,0,0]
["District Municipality",null,null,null,null,null,0,0,0]
["Other transfers and grants",null,null,null,6000000,5983000,5983000,5983000,5983000,0,7000000,7000000]
["Transfers recognised - capital",4,{"$f":"SUM(C66:C69)","v":89314320},53446000,67162000,62443000,82443000,82443000,82443000,57608000,67783000,72351000]
[]
["Borrowing",6]
["Internally generated funds",null,86928320,51511167,101517537,116834318.86,111218559.86000001,111218559.86000001,111218559.86000001,93946220,118039294,128200218]
["Total Capital Funding",7,{"$f":"+C70+C72+C73","v":176242640},{"$f":"+D70+D72+D73","v":104957167},168679537,179277318.86000001,193661559.86000001,193661559.86000001,193661559.86000001,151554220,185822294,200551218]
[{"$f":"head27a","v":"References"}]
["1. Municipalities may choose to appropriate for capital expenditure for three years or for one year (if one year appropriation projected expenditure required for yr2 and yr3)."]
["2. Include capital component of PPP unitary payment. Note that capital transfers are only appropriated to municipalities for the budget year"]
["3. Capital expenditure by functional classification must reconcile to the appropriations by vote"]
["4. Must reconcile to supporting table SA20 and to Budgeted Financial Performance (revenue and expenditure)"]
[]
["6. Include finance leases and PPP capital funding component of unitary payment - total borrowing/repayments to reconcile to changes in Table SA17"]
["7. Total Capital Funding must balance with Total Capital Expenditure"]
["8. Include any capitalised interest (MFMA section 46) as part of relevant capital budget"]
[]
["check balance",null,{"$f":"IF((C63-C74)=0,0,\"Unbalanced\")","v":0},{"$f":"IF((D63-D74)=0,0,\"Unbalanced\")","v":0},0,0,0,0,0,0,0,0]

{"sheet":"A5A","index":13,"n_rows":341,"n_cols":24,"rows_kept":341,"cut":false,"hidden":false,"merged":[[1,5,1,8],[1,9,1,11],[1,13,1,16],[1,17,1,20],[1,21,1,23]]}
[{"$f":"muni&\" - \"&Approve5","v":"LIM332 Greater Letaba - Table A5 Budgeted Capital Expenditure by vote, functional classification and funding"}]
[{"$f":"Vdesc","v":"Vote Description"},{"$f":"head27","v":"Ref"},{"$f":"head1b","v":"2015/16"},{"$f":"head1A","v":"2016/17"},{"$f":"Head1","v":"2017/18"},{"$f":"Head2","v":"Current Year 2018/19"},null,null,null,{"$f":"Head3","v":"2019/20 Medium Term Revenue & Expenditure Framework"},null,null,null,{"$f":"\"Multi-year appropriation for \"&Head9&\n\"\n in the \"&Head2A&\" Annual Budget\"","v":"Multi-year appropriation for Budget Year 2019/20\n in the 2018/19 Annual Budget"},null,null,null,{"$f":"\"Multi-year appropriation for \"&RIGHT(Head10,7)&\n\"\n in the \"&Head2A&\" Annual Budget\"","v":"Multi-year appropriation for 2020/21\n in the 2018/19 Annual Budget"},null,null,null,"New multi-year appropriations \n(funds for new and existing projects) "]
["R thousand",1,{"$f":"Head5","v":"Audited Outcome"},{"$f":"Head5","v":"Audited Outcome"},{"$f":"Head5","v":"Audited Outcome"},{"$f":"Head6","v":"Original Budget"},{"$f":"Head7","v":"Adjusted Budget"},{"$f":"Head8","v":"Full Year Forecast"},{"$f":"Head5b","v":"Pre-audit outcome"},{"$f":"Head9","v":"Budget Year 2019/20"},{"$f":"Head10","v":"Budget Year +1 2020/21"},{"$f":"Head11","v":"Budget Year +2 2021/22"},null,{"$f":"\"Appropriation for \"&RIGHT(Head9,7)","v":"Appropriation for 2019/20"},{"$f":"\"Adjustments in \"&Head2A","v":"Adjustments in 2018/19"},{"$f":"\"Downward adjustments for \"&RIGHT(Head9,7)","v":"Downward adjustments for 2019/20"},"Appropriation carried forward",{"$f":"\"Appropriation for \"&RIGHT(Head9,7)","v":"Appropriation for 2019/20"},{"$f":"\"Adjustments in \"&Head2A","v":"Adjustments in 2018/19"},{"$f":"\"Downward adjustments for \"&RIGHT(Head9,7)","v":"Downward adjustments for 2019/20"},"Appropriation carried forward",{"$f":"Head9","v":"Budget Year 2019/20"},{"$f":"Head10","v":"Budget Year +1 2020/21"},{"$f":"Head11","v":"Budget Year +2 2021/22"}]
["Capital expenditure - Municipal Vote"]
["Multi-year expenditure appropriation",2]
[{"$f":"'Org structure'!A2","v":"Vote 1 - Executive & Council"},null,{"$f":"SUM(C7:C16)","v":0},{"$f":"SUM(D7:D16)","v":0},0,0,0,0,{"$f":"SUM(I7:I16)","v":0},0,0,0,null,{"$f":"SUM(N7:N16)","v":0},0,0,0,0,0,0,0,{"$f":"SUM(V7:V16)","v":0},{"$f":"SUM(W7:W16)","v":0},{"$f":"SUM(X7:X16)","v":0}]
[{"$f":"'Org structure'!E3","v":"1,1 - Mayor and Council"},null,null,null,null,null,null,null,null,{"$f":"Q7+V7","v":0},{"$f":"U7+W7","v":0},{"$f":"X7","v":0},null,null,null,null,{"$f":"SUM(N7:P7)","v":0},null,null,null,{"$f":"SUM(R7:T7)","v":0}]
[{"$f":"'Org structure'!E4","v":"1,2 - Municipal Manager"},null,null,null,null,null,null,null,null,{"$f":"Q8+V8","v":0},{"$f":"U8+W8","v":0},{"$f":"X8","v":0},null,null,null,null,{"$f":"SUM(N8:P8)","v":0},null,null,null,{"$f":"SUM(R8:T8)","v":0}]
[{"$f":"'Org structure'!E5","v":0},null,null,null,null,null,null,null,null,{"$f":"Q9+V9","v":0},{"$f":"U9+W9","v":0},0,null,null,null,null,0,null,null,null,0]
[{"$f":"'Org structure'!E6","v":0},null,null,null,null,null,null,null,null,0,0,0,null,null,null,null,0,null,null,null,0]
[{"$f":"'Org structure'!E7","v":0},null,null,null,null,null,null,null,null,0,0,{"$f":"X11","v":0},null,null,null,null,0,null,null,null,0]
[{"$f":"'Org structure'!E8","v":0},null,null,null,null,null,null,null,null,0,0,0,null,null,null,null,0,null,null,null,0]
[{"$f":"'Org structure'!E9","v":0},null,null,null,null,null,null,null,null,0,0,0,null,null,null,null,0,null,null,null,0]
[{"$f":"'Org structure'!E10","v":0},null,null,null,null,null,null,null,null,0,0,0,null,null,null,null,0,null,null,null,0]
[{"$f":"'Org structure'!E11","v":0},null,null,null,null,null,null,null,null,0,0,0,null,null,null,null,0,null,null,null,0]
[{"$f":"'Org structure'!E12","v":0},null,null,null,null,null,null,null,null,0,0,0,null,null,null,null,0,null,null,null,0]
[{"$f":"'Org structure'!A3","v":"Vote 2 - Finance and Administration"},null,{"$f":"SUM(C18:C27)","v":0},{"$f":"SUM(D18:D27)","v":0},0,0,0,0,{"$f":"SUM(I18:I27)","v":0},0,0,0,null,{"$f":"SUM(N18:N27)","v":0},0,0,0,0,0,0,0,0,0,0]
[{"$f":"'Org structure'!E14","v":"2,1 - Administrative and Corporate Support"},null,null,null,null,null,null,null,null,{"$f":"Q18+V18","v":0},{"$f":"U18+W18","v":0},{"$f":"X18","v":0},null,null,null,null,{"$f":"SUM(N18:P18)","v":0},null,null,null,0]
[{"$f":"'Org structure'!E15","v":"2,2 - Asset Management"},null,null,null,null,null,null,null,null,{"$f":"Q19+V19","v":0},{"$f":"U19+W19","v":0},0,null,null,null,null,0,null,null,null,0]
[{"$f":"'Org structure'!E16","v":"2,3 - Budget and Treasury Office"},null,null,null,null,null,null,null,null,0,0,0,null,null,null,null,0,null,null,null,0]
[{"$f":"'Org structure'!E17","v":"2,4 - Human Resource"},null,null,null,null,null,null,null,null,0,{"$f":"U21+W21","v":0},0,null,null,null,null,0,null,null,null,0]
[{"$f":"'Org structure'!E18","v":"2,5 - Information Technology"},null,null,null,null,null,null,null,null,0,0,0,null,null,null,null,0,null,null,null,0]
[{"$f":"'Org structure'!E19","v":"2,6 - Legal Services"},null,null,null,null,null,null,null,null,0,0,0,null,null,null,null,0,null,null,null,0]
[{"$f":"'Org structure'!E20","v":"2,7 - Customer Relation and Coordination"},null,null,null,null,null,null,null,null,0,0,0,null,null,null,null,0,null,null,null,0]
[{"$f":"'Org structure'!E21","v":"2,8 - Property Services"},null,null,null,null,null,null,null,null,0,0,0,null,null,null,null,0,null,null,null,0]
[{"$f":"'Org structure'!E22","v":"2,9 - Risk Management"},null,null,null,null,null,null,null,null,0,0,0,null,null,null,null,0,null,null,null,0]
[{"$f":"'Org structure'!E23","v":"2.10 - Supply Chain Management"},null,null,null,null,null,null,null,null,0,0,0,null,null,null,null,0,null,null,null,0]
[{"$f":"'Org structure'!A4","v":"Vote 3 - Internal Audit"},null,{"$f":"SUM(C29:C38)","v":0},{"$f":"SUM(D29:D38)","v":0},0,0,0,0,{"$f":"SUM(I29:I38)","v":0},0,0,0,null,{"$f":"SUM(N29:N38)","v":0},0,0,0,0,0,0,0,0,0,0]
[{"$f":"'Org structure'!E25","v":"3,1 - Governance Function"},null,null,null,null,null,null,null,null,{"$f":"Q29+V29","v":0},{"$f":"U29+W29","v":0},{"$f":"X29","v":0},null,null,null,null,{"$f":"SUM(N29:P29)","v":0},null,null,null,0]
[{"$f":"'Org structure'!E26","v":0},null,null,null,null,null,null,null,null,0,0,0,null,null,null,null,0,null,null,null,0]
[{"$f":"'Org structure'!E27","v":0},null,null,null,null,null,null,null,null,0,0,0,null,null,null,null,0,null,null,null,{"$f":"SUM(R31:T31)","v":0}]
[{"$f":"'Org structure'!E28","v":0},null,null,null,null,null,null,null,null,0,{"$f":"U32+W32","v":0},0,null,null,null,null,0,null,null,null,0]
[{"$f":"'Org structure'!E29","v":0},null,null,null,null,null,null,null,null,{"$f":"Q33+V33","v":0},0,0,null,null,null,null,0,null,null,null,0]
[{"$f":"'Org structure'!E30","v":0},null,null,null,null,null,null,null,null,0,0,0,null,null,null,null,0,null,null,null,0]
[{"$f":"'Org structure'!E31","v":0},null,null,null,null,null,null,null,null,0,0,0,null,null,null,null,0,null,null,null,0]
[{"$f":"'Org structure'!E32","v":0},null,null,null,null,null,null,null,null,0,0,0,null,null,null,null,0,null,null,null,0]
[{"$f":"'Org structure'!E33","v":0},null,null,null,null,null,null,null,null,0,0,0,null,null,null,null,0,null,null,null,0]
[{"$f":"'Org structure'!E34","v":0},null,null,null,null,null,null,null,null,0,0,0,null,null,null,null,0,null,null,null,0]
[{"$f":"'Org structure'!A5","v":"Vote 4 - Community and Public Safety"},null,{"$f":"SUM(C40:C49)","v":9816354},{"$f":"SUM(D40:D49)","v":18440000},8865104,3218446,1718446,1718446,{"$f":"SUM(I40:I49)","v":1718446},3100000,3900000,0,null,{"$f":"SUM(N40:N49)","v":0},0,0,0,0,0,0,0,3100000,3900000,0]
[{"$f":"'Org structure'!E36","v":"4,1 - Cemetries and crematoriums"},null,null,null,null,0,0,0,0,{"$f":"Q40+V40","v":0},{"$f":"U40+W40","v":0},{"$f":"X40","v":0},null,null,null,null,{"$f":"SUM(N40:P40)","v":0},null,null,null,0]
[{"$f":"'Org structure'!E37","v":"4,2 - Community halls and Facilities"},null,7088575,17252000,5033257,1600000,600000,600000,600000,3100000,3900000,0,null,null,null,null,0,null,null,null,0,3100000,3900000,0]
[{"$f":"'Org structure'!E38","v":"4,3 - Disaster Management"},null,null,null,null,0,0,0,0,0,0,0,null,null,null,null,0,null,null,null,0,0,0,0]
[{"$f":"'Org structure'!E39","v":"4,4 - Libraries and Archives"},null,2727779,1188000,3831847,1618446,1118446,1118446,1118446,0,0,0,null,null,null,null,0,null,null,null,0,0,0,0]
[{"$f":"'Org structure'!E40","v":0},null,null,null,null,null,null,null,null,0,0,0,null,null,null,null,0,null,null,null,0]
[{"$f":"'Org structure'!E41","v":0},null,null,null,null,null,null,null,null,0,0,0,null,null,null,null,0,null,null,null,0]
[{"$f":"'Org structure'!E42","v":0},null,null,null,null,null,null,null,null,0,0,0,null,null,null,null,0,null,null,null,0]
[{"$f":"'Org structure'!E43","v":0},null,null,null,null,null,null,null,null,0,0,0,null,null,null,null,0,null,null,null,0]
[{"$f":"'Org structure'!E44","v":0},null,null,null,null,null,null,null,null,0,0,0,null,null,null,null,0,null,null,null,0]
[{"$f":"'Org structure'!E45","v":0},null,null,null,null,null,null,null,null,0,0,0,null,null,null,null,0,null,null,null,0]
[{"$f":"'Org structure'!A6","v":"Vote 5 - Sports and Recreation"},null,{"$f":"SUM(C51:C60)","v":3193643},{"$f":"SUM(D51:D60)","v":6740167},46132125,63505497,66671312,66671312,{"$f":"SUM(I51:I60)","v":66671312},43635415,38582889,21681111,null,{"$f":"SUM(N51:N60)","v":0},0,0,0,0,0,0,0,43635415,38582889,21681111]
[{"$f":"'Org structure'!E47","v":"5,1 - Community parks"},null,3193643,6740167,46132125,63505497,66671312,66671312,66671312,{"$f":"Q51+V51","v":43635415},{"$f":"U51+W51","v":38582889},{"$f":"X51","v":21681111},null,null,null,null,{"$f":"SUM(N51:P51)","v":0},null,null,null,0,{"$f":"15402226+10000000+10000000+8233189","v":43635415},{"$f":"8750000+14681858+15151031","v":38582889},{"$f":"11325142+10355969","v":21681111}]
[{"$f":"'Org structure'!E48","v":0},null,null,null,null,null,null,null,null,0,0,0,null,null,null,null,0,null,null,null,0]
[{"$f":"'Org structure'!E49","v":0},null,null,null,null,null,null,null,null,0,0,0,null,null,null,null,0,null,null,null,0]
[{"$f":"'Org structure'!E50","v":0},null,null,null,null,null,null,null,null,0,0,0,null,null,null,null,0,null,null,null,0]
[{"$f":"'Org structure'!E51","v":0},null,null,null,null,null,null,null,null,0,0,0,null,null,null,null,0,null,null,null,0]
[{"$f":"'Org structure'!E52","v":0},null,null,null,null,null,null,null,null,0,0,0,null,null,null,null,0,null,null,null,0]
[{"$f":"'Org structure'!E53","v":0},null,null,null,null,null,null,null,null,0,0,0,null,null,null,null,0,null,null,null,0]
[{"$f":"'Org structure'!E54","v":0},null,null,null,null,null,null,null,null,0,0,0,null,null,null,null,0,null,null,null,0]
[{"$f":"'Org structure'!E55","v":0},null,null,null,null,null,null,null,null,0,0,0,null,null,null,null,0,null,null,null,0]
[{"$f":"'Org structure'!E56","v":0},null,null,null,null,null,null,null,null,0,0,0,null,null,null,null,0,null,null,null,0]
[{"$f":"'Org structure'!A7","v":"Vote 6 - Housing"},null,{"$f":"SUM(C62:C71)","v":0},{"$f":"SUM(D62:D71)","v":0},0,0,0,0,{"$f":"SUM(I62:I71)","v":0},0,0,0,null,{"$f":"SUM(N62:N71)","v":0},0,0,0,0,0,0,0,0,0,0]
[{"$f":"'Org structure'!E58","v":"6,1 - Housing"},null,null,null,null,null,null,null,null,{"$f":"Q62+V62","v":0},{"$f":"U62+W62","v":0},{"$f":"X62","v":0},null,null,null,null,{"$f":"SUM(N62:P62)","v":0},null,null,null,0]
[{"$f":"'Org structure'!E59","v":0},null,null,null,null,null,null,null,null,0,0,0,null,null,null,null,0,null,null,null,0]
[{"$f":"'Org structure'!E60","v":0},null,null,null,null,null,null,null,null,0,0,0,null,null,null,null,0,null,null,null,0]
[{"$f":"'Org structure'!E61","v":0},null,null,null,null,null,null,null,null,0,0,0,null,null,null,null,0,null,null,null,0]
[{"$f":"'Org structure'!E62","v":0},null,null,null,null,null,null,null,null,0,0,0,null,null,null,null,0,null,null,null,0]
[{"$f":"'Org structure'!E63","v":0},null,null,null,null,null,null,null,null,0,0,0,null,null,null,null,0,null,null,null,0]
[{"$f":"'Org structure'!E64","v":0},null,null,null,null,null,null,null,null,0,0,0,null,null,null,null,0,null,null,null,0]
[{"$f":"'Org structure'!E65","v":0},null,null,null,null,null,null,null,null,0,0,0,null,null,null,null,0,null,null,null,0]
[{"$f":"'Org structure'!E66","v":0},null,null,null,null,null,null,null,null,0,0,0,null,null,null,null,0,null,null,null,0]
[{"$f":"'Org structure'!E67","v":0},null,null,null,null,null,null,null,null,0,0,0,null,null,null,null,0,null,null,null,0]
[{"$f":"'Org structure'!A8","v":"Vote 7 - Planning and development "},null,{"$f":"SUM(C73:C82)","v":4111760},0,0,0,0,0,0,0,0,0,null,{"$f":"SUM(N73:N82)","v":0},0,0,0,0,0,0,0,0,0,0]
[{"$f":"'Org structure'!E69","v":"7,1 - Corporate Wide Strategic Planning (IDP & LED)"},null,4111760,0,null,0,0,0,0,{"$f":"Q73+V73","v":0},{"$f":"U73+W73","v":0},{"$f":"X73","v":0},null,null,null,null,{"$f":"SUM(N73:P73)","v":0},null,null,null,{"$f":"SUM(R73:T73)","v":0}]
[{"$f":"'Org structure'!E70","v":"7,2 - Town Planning and Building Regulations"},null,null,null,null,null,null,null,null,0,0,0,null,null,null,null,0,null,null,null,0]
[{"$f":"'Org structure'!E71","v":"7,3 - Project Management Unit"},null,null,null,null,null,null,null,null,0,0,0,null,null,null,null,0,null,null,null,0]
[{"$f":"'Org structure'!E72","v":0},null,null,null,null,null,null,null,null,0,0,0,null,null,null,null,0,null,null,null,0]
[{"$f":"'Org structure'!E73","v":0},null,null,null,null,null,null,null,null,0,0,0,null,null,null,null,0,null,null,null,0]
[{"$f":"'Org structure'!E74","v":0},null,null,null,null,null,null,null,null,0,0,0,null,null,null,null,0,null,null,null,0]
[{"$f":"'Org structure'!E75","v":0},null,null,null,null,null,null,null,null,0,0,0,null,null,null,null,0,null,null,null,0]
[{"$f":"'Org structure'!E76","v":0},null,null,null,null,null,null,null,null,0,0,0,null,null,null,null,0,null,null,null,0]
[{"$f":"'Org structure'!E77","v":0},null,null,null,null,null,null,null,null,0,0,0,null,null,null,null,0,null,null,null,0]
[{"$f":"'Org structure'!E78","v":0},null,null,null,null,null,null,null,null,0,0,0,null,null,null,null,0,null,null,null,0]
[{"$f":"'Org structure'!A9","v":"Vote 8 - Road Transport"},null,{"$f":"SUM(C84:C93)","v":135906114},56929000,0,57269303.810000002,60856960.810000002,60856960.810000002,60856960.810000002,56740758,126765055,141871156,null,{"$f":"SUM(N84:N93)","v":0},0,0,0,0,0,0,0,56740758,126765055,141871156]
[{"$f":"'Org structure'!E80","v":"8,1 - Road and Traffic Regulations"},null,0,0,0,0,0,0,0,{"$f":"Q84+V84","v":0},{"$f":"U84+W84","v":0},{"$f":"X84","v":0},null,null,null,null,{"$f":"SUM(N84:P84)","v":0},null,null,null,0]
[{"$f":"'Org structure'!E81","v":"8,2 - Roads"},null,135906114,56929000,null,57269303.810000002,{"$f":"40856960.81+20000000","v":60856960.810000002},{"$f":"40856960.81+20000000","v":60856960.810000002},{"$f":"40856960.81+20000000","v":60856960.810000002},56740758,126765055,141871156,null,null,null,null,0,null,null,null,0,{"$f":"3000000+3000000+5700000+3000000+7178994+4000000+400000+300000+300000+400000+400000+400000+400000+400000+400000+400000+400000+400000+400000+9861764+8000000+1000000+7000000","v":56740758},{"$f":"10000000+10000000+7644261+8454525+5600000+12332072+12332072+2500000+2500000+2500000+2500000+2500000+2500000+2500000+2500000+6600000+6600000+14002125+600000+600000+4000000+8000000","v":126765055},{"$f":"5500000+4200000+3000000+3000000+4000000+5500000+4000000+4000000+7500000+7500000+7500000+7500000+7500000+7500000+7500000+7500000+4500000+4500000+6113111+15700000+15458045+2400000","v":141871156}]
[{"$f":"'Org structure'!E82","v":"8,3 - Taxi Ranks"},null,0,0,0,0,0,0,0,0,0,0,null,null,null,null,0,null,null,null,0]
[{"$f":"'Org structure'!E83","v":0},null,null,null,null,null,null,null,null,0,0,0,null,null,null,null,0,null,null,null,0]
[{"$f":"'Org structure'!E84","v":0},null,null,null,null,null,null,null,null,0,0,0,null,null,null,null,0,null,null,null,0]
[{"$f":"'Org structure'!E85","v":0},null,null,null,null,null,null,null,null,0,0,0,null,null,null,null,0,null,null,null,0]
[{"$f":"'Org structure'!E86","v":0},null,null,null,null,null,null,null,null,0,0,0,null,null,null,null,0,null,null,null,0]
[{"$f":"'Org structure'!E87","v":0},null,null,null,null,null,null,null,null,0,0,0,null,null,null,null,0,null,null,null,0]
[{"$f":"'Org structure'!E88","v":0},null,null,null,null,null,null,null,null,0,0,0,null,null,null,null,0,null,null,null,0]
[{"$f":"'Org structure'!E89","v":0},null,null,null,null,null,null,null,null,0,0,0,null,null,null,null,0,null,null,null,0]
[{"$f":"'Org structure'!A10","v":"Vote 9 - Energy Sources"},null,{"$f":"SUM(C95:C104)","v":0},{"$f":"SUM(D95:D104)","v":0},55248315,0,0,0,0,0,0,0,null,{"$f":"SUM(N95:N104)","v":0},0,0,0,0,0,0,0,0,0,0]
[{"$f":"'Org structure'!E91","v":"9,1 - Electricity"},null,null,null,55248315,null,null,null,null,{"$f":"Q95+V95","v":0},{"$f":"U95+W95","v":0},{"$f":"X95","v":0},null,null,null,null,{"$f":"SUM(N95:P95)","v":0},null,null,null,0]
[{"$f":"'Org structure'!E92","v":"9,2 - Street Lighting"},null,null,null,null,null,null,null,null,0,0,0,null,null,null,null,0,null,null,null,0]
[{"$f":"'Org structure'!E93","v":0},null,null,null,null,null,null,null,null,0,0,0,null,null,null,null,0,null,null,null,0]
[{"$f":"'Org structure'!E94","v":0},null,null,null,null,null,null,null,null,0,0,0,null,null,null,null,0,null,null,null,0]
[{"$f":"'Org structure'!E95","v":0},null,null,null,null,null,null,null,null,0,0,0,null,null,null,null,0,null,null,null,0]
[{"$f":"'Org structure'!E96","v":0},null,null,null,null,null,null,null,null,0,0,0,null,null,null,null,0,null,null,null,0]
[{"$f":"'Org structure'!E97","v":0},null,null,null,null,null,null,null,null,0,0,0,null,null,null,null,0,null,null,null,0]
[{"$f":"'Org structure'!E98","v":0},null,null,null,null,null,null,null,null,0,0,0,null,null,null,null,0,null,null,null,0]
[{"$f":"'Org structure'!E99","v":0},null,null,null,null,null,null,null,null,0,0,0,null,null,null,null,0,null,null,null,0]
[{"$f":"'Org structure'!E100","v":0},null,null,null,null,null,null,null,null,0,0,0,null,null,null,null,0,null,null,null,0]
[{"$f":"'Org structure'!A11","v":"Vote 10 - Waste Water Management"},null,{"$f":"SUM(C106:C115)","v":0},{"$f":"SUM(D106:D115)","v":0},0,0,0,0,0,0,0,0,null,{"$f":"SUM(N106:N115)","v":0},0,0,0,0,0,0,0,0,0,0]
[{"$f":"'Org structure'!E102","v":"10,1 - Public Toilets"},null,null,null,null,null,null,null,null,{"$f":"Q106+V106","v":0},{"$f":"U106+W106","v":0},{"$f":"X106","v":0},null,null,null,null,{"$f":"SUM(N106:P106)","v":0},null,null,null,0]
[{"$f":"'Org structure'!E103","v":0},null,null,null,null,null,null,null,null,0,0,0,null,null,null,null,0,null,null,null,0]
[{"$f":"'Org structure'!E104","v":0},null,null,null,null,null,null,null,null,0,0,0,null,null,null,null,0,null,null,null,0]
[{"$f":"'Org structure'!E105","v":0},null,null,null,null,null,null,null,null,0,0,0,null,null,null,null,0,null,null,null,0]
[{"$f":"'Org structure'!E106","v":0},null,null,null,null,null,null,null,null,0,0,0,null,null,null,null,0,null,null,null,0]
[{"$f":"'Org structure'!E107","v":0},null,null,null,null,null,null,null,null,0,0,0,null,null,null,null,0,null,null,null,0]
[{"$f":"'Org structure'!E108","v":0},null,null,null,null,null,null,null,null,0,0,0,null,null,null,null,0,null,null,null,0]
[{"$f":"'Org structure'!E109","v":0},null,null,null,null,null,null,null,null,0,0,0,null,null,null,null,0,null,null,null,0]
[{"$f":"'Org structure'!E110","v":0},null,null,null,null,null,null,null,null,0,0,0,null,null,null,null,0,null,null,null,0]
[{"$f":"'Org structure'!E111","v":0},null,null,null,null,null,null,null,null,0,0,0,null,null,null,null,0,null,null,null,0]
[{"$f":"'Org structure'!A12","v":"Vote 11 - Waste Management"},null,{"$f":"SUM(C117:C126)","v":0},0,0,0,0,0,0,0,0,0,null,{"$f":"SUM(N117:N126)","v":0},0,0,0,0,0,0,0,0,0,0]
[{"$f":"'Org structure'!E113","v":"11,1 - Solid Waste Removal"},null,null,null,null,null,null,null,null,{"$f":"Q117+V117","v":0},{"$f":"U117+W117","v":0},{"$f":"X117","v":0},null,null,null,null,{"$f":"SUM(N117:P117)","v":0},null,null,null,0]
[{"$f":"'Org structure'!E114","v":0},null,null,null,null,null,null,null,null,0,0,0,null,null,null,null,0,null,null,null,0]
[{"$f":"'Org structure'!E115","v":0},null,null,null,null,null,null,null,null,0,0,0,null,null,null,null,0,null,null,null,0]
[{"$f":"'Org structure'!E116","v":0},null,null,null,null,null,null,null,null,0,0,0,null,null,null,null,0,null,null,null,0]
[{"$f":"'Org structure'!E117","v":0},null,null,null,null,null,null,null,null,0,0,0,null,null,null,null,0,null,null,null,0]
[{"$f":"'Org structure'!E118","v":0},null,null,null,null,null,null,null,null,0,0,0,null,null,null,null,0,null,null,null,0]
[{"$f":"'Org structure'!E119","v":0},null,null,null,null,null,null,null,null,0,0,0,null,null,null,null,0,null,null,null,0]
[{"$f":"'Org structure'!E120","v":0},null,null,null,null,null,null,null,null,0,0,0,null,null,null,null,0,null,null,null,0]
[{"$f":"'Org structure'!E121","v":0},null,null,null,null,null,null,null,null,0,0,0,null,null,null,null,0,null,null,null,0]
[{"$f":"'Org structure'!E122","v":0},null,null,null,null,null,null,null,null,0,0,0,null,null,null,null,0,null,null,null,0]
[{"$f":"'Org structure'!A13","v":"Vote 12 - [NAME OF VOTE 12]"},null,{"$f":"SUM(C128:C137)","v":0},0,0,0,0,0,0,0,0,0,null,{"$f":"SUM(N128:N137)","v":0},0,0,0,0,0,0,0,0,0,0]
[{"$f":"'Org structure'!E124","v":"12.1 - [Name of sub-vote]"},null,null,null,null,null,null,null,null,{"$f":"Q128+V128","v":0},{"$f":"U128+W128","v":0},{"$f":"X128","v":0},null,null,null,null,{"$f":"SUM(N128:P128)","v":0},null,null,null,0]
[{"$f":"'Org structure'!E125","v":0},null,null,null,null,null,null,null,null,0,0,0,null,null,null,null,0,null,null,null,0]
[{"$f":"'Org structure'!E126","v":0},null,null,null,null,null,null,null,null,0,0,0,null,null,null,null,0,null,null,null,0]
[{"$f":"'Org structure'!E127","v":0},null,null,null,null,null,null,null,null,0,0,0,null,null,null,null,0,null,null,null,0]
[{"$f":"'Org structure'!E128","v":0},null,null,null,null,null,null,null,null,0,0,0,null,null,null,null,0,null,null,null,0]
[{"$f":"'Org structure'!E129","v":0},null,null,null,null,null,null,null,null,{"$f":"Q133+V133","v":0},0,0,null,null,null,null,0,null,null,null,0]
[{"$f":"'Org structure'!E130","v":0},null,null,null,null,null,null,null,null,0,0,0,null,null,null,null,0,null,null,null,0]
[{"$f":"'Org structure'!E131","v":0},null,null,null,null,null,null,null,null,0,0,0,null,null,null,null,0,null,null,null,0]
[{"$f":"'Org structure'!E132","v":0},null,null,null,null,null,null,null,null,0,0,0,null,null,null,null,0,null,null,null,{"$f":"SUM(R136:T136)","v":0}]
[{"$f":"'Org structure'!E133","v":0},null,null,null,null,null,null,null,null,0,0,0,null,null,null,null,0,null,null,null,0]
[{"$f":"'Org structure'!A14","v":"Vote 13 - [NAME OF VOTE 13]"},null,{"$f":"SUM(C139:C148)","v":0},0,0,0,0,0,0,0,0,0,null,{"$f":"SUM(N139:N148)","v":0},0,0,0,0,0,0,0,0,0,0]
[{"$f":"'Org structure'!E135","v":"13.1 - [Name of sub-vote]"},null,null,null,null,null,null,null,null,{"$f":"Q139+V139","v":0},{"$f":"U139+W139","v":0},{"$f":"X139","v":0},null,null,null,null,{"$f":"SUM(N139:P139)","v":0},null,null,null,0]
[{"$f":"'Org structure'!E136","v":0},null,null,null,null,null,null,null,null,0,0,0,null,null,null,null,0,null,null,null,0]
[{"$f":"'Org structure'!E137","v":0},null,null,null,null,null,null,null,null,0,0,0,null,null,null,null,0,null,null,null,0]
[{"$f":"'Org structure'!E138","v":0},null,null,null,null,null,null,null,null,0,0,0,null,null,null,null,0,null,null,null,0]
[{"$f":"'Org structure'!E139","v":0},null,null,null,null,null,null,null,null,0,0,0,null,null,null,null,0,null,null,null,0]
[{"$f":"'Org structure'!E140","v":0},null,null,null,null,null,null,null,null,0,0,0,null,null,null,null,0,null,null,null,0]
[{"$f":"'Org structure'!E141","v":0},null,null,null,null,null,null,null,null,0,0,0,null,null,null,null,0,null,null,null,0]
[{"$f":"'Org structure'!E142","v":0},null,null,null,null,null,null,null,null,0,0,0,null,null,null,null,0,null,null,null,0]
[{"$f":"'Org structure'!E143","v":0},null,null,null,null,null,null,null,null,0,0,0,null,null,null,null,0,null,null,null,0]
[{"$f":"'Org structure'!E144","v":0},null,null,null,null,null,null,null,null,0,0,0,null,null,null,null,0,null,null,null,0]
[{"$f":"'Org structure'!A15","v":"Vote 14 - [NAME OF VOTE 14]"},null,{"$f":"SUM(C150:C159)","v":0},0,0,0,0,0,0,0,0,0,null,{"$f":"SUM(N150:N159)","v":0},0,0,0,0,0,0,0,0,0,0]
[{"$f":"'Org structure'!E146","v":"14.1 - [Name of sub-vote]"},null,null,null,null,null,null,null,null,{"$f":"Q150+V150","v":0},{"$f":"U150+W150","v":0},{"$f":"X150","v":0},null,null,null,null,{"$f":"SUM(N150:P150)","v":0},null,null,null,0]
[{"$f":"'Org structure'!E147","v":0},null,null,null,null,null,null,null,null,0,0,0,null,null,null,null,0,null,null,null,0]
[{"$f":"'Org structure'!E148","v":0},null,null,null,null,null,null,null,null,0,0,0,null,null,null,null,0,null,null,null,0]
[{"$f":"'Org structure'!E149","v":0},null,null,null,null,null,null,null,null,0,0,0,null,null,null,null,0,null,null,null,0]
[{"$f":"'Org structure'!E150","v":0},null,null,null,null,null,null,null,null,0,0,0,null,null,null,null,0,null,null,null,0]
[{"$f":"'Org structure'!E151","v":0},null,null,null,null,null,null,null,null,0,0,0,null,null,null,null,0,null,null,null,0]
[{"$f":"'Org structure'!E152","v":0},null,null,null,null,null,null,null,null,0,0,0,null,null,null,null,0,null,null,null,0]
[{"$f":"'Org structure'!E153","v":0},null,null,null,null,null,null,null,null,0,0,0,null,null,null,null,0,null,null,null,0]
[{"$f":"'Org structure'!E154","v":0},null,null,null,null,null,null,null,null,0,0,0,null,null,null,null,0,null,null,null,0]
[{"$f":"'Org structure'!E155","v":0},null,null,null,null,null,null,null,null,0,0,0,null,null,null,null,0,null,null,null,0]
[{"$f":"'Org structure'!A16","v":"Vote 15 - [NAME OF VOTE 15]"},null,{"$f":"SUM(C161:C170)","v":0},0,0,0,0,0,0,0,0,0,null,{"$f":"SUM(N161:N170)","v":0},0,0,0,0,0,0,0,0,0,0]
[{"$f":"'Org structure'!E157","v":"15.1 - [Name of sub-vote]"},null,null,null,null,null,null,null,null,{"$f":"Q161+V161","v":0},{"$f":"U161+W161","v":0},{"$f":"X161","v":0},null,null,null,null,{"$f":"SUM(N161:P161)","v":0},null,null,null,0]
[{"$f":"'Org structure'!E158","v":0},null,null,null,null,null,null,null,null,0,0,0,null,null,null,null,0,null,null,null,0]
[{"$f":"'Org structure'!E159","v":0},null,null,null,null,null,null,null,null,0,0,0,null,null,null,null,0,null,null,null,0]
[{"$f":"'Org structure'!E160","v":0},null,null,null,null,null,null,null,null,0,0,0,null,null,null,null,0,null,null,null,0]
[{"$f":"'Org structure'!E161","v":0},null,null,null,null,null,null,null,null,0,0,0,null,null,null,null,0,null,null,null,0]
[{"$f":"'Org structure'!E162","v":0},null,null,null,null,null,null,null,null,0,0,0,null,null,null,null,0,null,null,null,0]
[{"$f":"'Org structure'!E163","v":0},null,null,null,null,null,null,null,null,0,0,0,null,null,null,null,0,null,null,null,0]
[{"$f":"'Org structure'!E164","v":0},null,null,null,null,null,null,null,null,0,0,0,null,null,null,null,0,null,null,null,0]
[{"$f":"'Org structure'!E165","v":0},null,null,null,null,null,null,null,null,0,0,0,null,null,null,null,0,null,null,null,0]
[{"$f":"'Org structure'!E166","v":0},null,null,null,null,null,null,null,null,0,0,0,null,null,null,null,0,null,null,null,0]
["Capital multi-year expenditure sub-total",null,{"$f":"C6+C17+C28+C39+C50+C61+C72+C83+C94+C105+C116+C127+C138+C149+C160","v":153027871},{"$f":"D6+D17+D28+D39+D50+D61+D72+D83+D94+D105+D116+D127+D138+D149+D160","v":82109167},110245544,123993246.81,129246718.81,129246718.81,129246718.81,103476173,169247944,163552267,null,{"$f":"N6+N17+N28+N39+N50+N61+N72+N83+N94+N105+N116+N127+N138+N149+N160","v":0},0,0,0,0,0,null,0,{"$f":"V6+V17+V28+V39+V50+V61+V72+V83+V94+V105+V116+V127+V138+V149+V160","v":103476173},{"$f":"W6+W17+W28+W39+W50+W61+W72+W83+W94+W105+W116+W127+W138+W149+W160","v":169247944}]
[]
["Capital expenditure - Municipal Vote"]
["Single-year expenditure appropriation",2]
[{"$f":"A6","v":"Vote 1 - Executive & Council"},null,{"$f":"SUM(C176:C185)","v":0},0,1959142,0,0,0,0,525000,0,0]
[{"$f":"A7","v":"1,1 - Mayor and Council"},null,null,null,1959142,null,null,null,null,525000,0,0]
["1,2 - Municipal Manager",null,null,null,null,null,null,null,null,0,0,0]
[0]
[0]
[0]
[0]
[0]
[0]
[0]
[0]
["Vote 2 - Finance and Administration",null,{"$f":"SUM(C187:C196)","v":1631093},3922000,1653375,7086000,6419665,6419665,6419665,4417000,0,0]
["2,1 - Administrative and Corporate Support",null,null,null,null,0,0,0,0,0,0,0]
["2,2 - Asset Management",null,null,null,null,0,0,0,0,0,0,0]
["2,3 - Budget and Treasury Office",null,101222,3922000,null,730000,900000,900000,900000,2167000,0,0]
["2,4 - Human Resource",null,475650,null,505214,1300000,2106838,2106838,2106838,0,0,0]
["2,5 - Information Technology",null,215988,null,530822,1446000,2402827,2402827,2402827,1250000,0,0]
["2,6 - Legal Services",null,null,null,null,0,0,0,0,0,0,0]
["2,7 - Customer Relation and Coordination",null,null,null,null,0,0,0,0,35000,0,0]
["2,8 - Property Services",null,838233,null,617339,3610000,1010000,1010000,1010000,965000,0,0]
["2,9 - Risk Management",null,null,null,null,0,0,0,0,0,0,0]
["2.10 - Supply Chain Management",null,null,null,null,0,0,0,0,0,0,0]
["Vote 3 - Internal Audit",null,{"$f":"SUM(C198:C207)","v":0},0,0,0,0,0,0,0,0,0]
["3,1 - Governance Function",null,0,0,0,0,0,0,0,0,0,0]
[0]
[0]
[0]
[0]
[0]
[0]
[0]
[0]
[0]
["Vote 4 - Community and Public Safety",null,{"$f":"SUM(C209:C218)","v":314568},0,7226812,400000,400000,400000,400000,1863000,0,0]
["4,1 - Cemetries and crematoriums",null,314568,0,null,400000,400000,400000,400000,0,0,0]
["4,2 - Community halls and Facilities",null,0,0,7226812,0,0,0,0,{"$f":"1500000+30000","v":1530000},0,0]
["4,3 - Disaster Management",null,0,0,null,0,0,0,0,330000,0,0]
["4,4 - Libraries and Archives",null,0,0,null,0,0,0,0,3000,0,0]
[0]
[0]
[0]
[0]
[0]
[0]
["Vote 5 - Sports and Recreation",null,{"$f":"SUM(C220:C229)","v":104312},0,0,0,0,0,0,0,0,0]
["5,1 - Community parks",null,104312,0,null,0,0,0,0,0,0,0]
[0]
[0]
[0]
[0]
[0]
[0]
[0]
[0]
[0]
["Vote 6 - Housing",null,{"$f":"SUM(C231:C240)","v":0},0,0,0,0,0,0,0,0,0]
["6,1 - Housing",null,0,0,0,0,0,0,0,0,0,0]
[0]
[0]
[0]
[0]
[0]
[0]
[0]
[0]
[{"$f":"A71","v":0}]
["Vote 7 - Planning and development ",null,{"$f":"SUM(C242:C251)","v":0},1011000,0,0,0,0,0,0,0,0]
["7,1 - Corporate Wide Strategic Planning (IDP & LED)",null,0,1011000,null,0,0,0,0,0,0,0]
["7,2 - Town Planning and Building Regulations"]
["7,3 - Project Management Unit"]
[0]
[0]
[0]
[0]
[0]
[0]
[0]
["Vote 8 - Road Transport",null,{"$f":"SUM(C253:C262)","v":15600255},230000,23092981,17659306.260000002,19529000.260000002,19529000.260000002,19529000.260000002,15643047,3747986,3998733]
["8,1 - Road and Traffic Regulations",null,1879272,230000,143940,1486306.26,156000.26,156000.26,156000.26,2830000,0,0]
["8,2 - Roads",null,13720983,0,22949041,16173000,19373000,19373000,19373000,{"$f":"350000+1050000+2500000+2500000+1500000+600000+3513047","v":12013047},3747986,3998733]
["8,3 - Taxi Ranks",null,0,0,null,0,0,0,0,800000,0,0]
[0]
[0]
[0]
[0]
[0]
[0]
[0]
["Vote 9 - Energy Sources",null,{"$f":"SUM(C264:C273)","v":3873785},14080000,13201925,18334111.600000001,26461367.600000001,26461367.600000001,26461367.600000001,15100000,9500000,17491920]
["9,1 - Electricity",null,215525,5225000,{"$f":"10984462+6000000-5860838","v":11123624},14134111.6,20784111.600000001,20784111.600000001,20784111.600000001,11800000,7000000,7000000]
["9,2 - Street Lighting",null,3658260,8855000,2078301,4200000,5677256,5677256,5677256,3300000,2500000,10491920]
[0]
[0]
[0]
[0]
[0]
[0]
[0]
[0]
["Vote 10 - Waste Water Management",null,{"$f":"SUM(C275:C284)","v":1638257},0,2278685,5664654.4500000002,6464654.4500000002,6464654.4500000002,6464654.4500000002,3680000,3326364,15508298]
["10,1 - Public Toilets",null,1638257,0,2278685,5664654.4500000002,6464654.4500000002,6464654.4500000002,6464654.4500000002,3680000,3326364,15508298]
[0]
[0]
[0]
[0]
[0]
[0]
[0]
[0]
[0]
["Vote 11 - Waste Management",null,{"$f":"SUM(C286:C295)","v":52500},3605000,3160235,6140000,5140000,5140000,5140000,6850000,0,0]
["11,1 - Solid Waste Removal",null,52500,3605000,3160235,6140000,5140000,5140000,5140000,6850000,0,0]
[0]
[0]
[0]
[0]
[0]
[0]
[0]
[0]
[0]
["Vote 12 - [NAME OF VOTE 12]",null,{"$f":"SUM(C297:C306)","v":0},0,0,0,0,0,0,0,0,0]
["12.1 - [Name of sub-vote]"]
[0]
[0]
[0]
[0]
[0]
[0]
[{"$f":"A135","v":0}]
[0]
[0]
["Vote 13 - [NAME OF VOTE 13]",null,{"$f":"SUM(C308:C317)","v":0},0,0,0,0,0,0,0,0,0]
["13.1 - [Name of sub-vote]"]
[0]
[0]
[0]
[0]
[0]
[0]
[0]
[0]
[0]
["Vote 14 - [NAME OF VOTE 14]",null,{"$f":"SUM(C319:C328)","v":0},0,0,0,0,0,0,0,0,0]
["14.1 - [Name of sub-vote]"]
[0]
[0]
[0]
[0]
[0]
[0]
[0]
[0]
[0]
["Vote 15 - [NAME OF VOTE 15]",null,{"$f":"SUM(C330:C339)","v":0},0,0,0,0,0,0,0,0,0]
["15.1 - [Name of sub-vote]"]
[0]
[0]
[0]
[0]
[0]
[0]
[0]
[0]
[0]
["Capital single-year expenditure sub-total",null,{"$f":"C175+C186+C197+C208+C219+C230+C241+C252+C263+C274+C285+C296+C307+C318+C329","v":23214770},{"$f":"D175+D186+D197+D208+D219+D230+D241+D252+D263+D274+D285+D296+D307+D318+D329","v":22848000},52573155,55284072.310000002,64414687.310000002,64414687.310000002,64414687.310000002,48078047,16574350,36998951]
["Total Capital Expenditure",null,{"$f":"C171+C340","v":176242641},{"$f":"D171+D340","v":104957167},162818699,179277319.12,193661406.12,193661406.12,193661406.12,151554220,185822294,200551218]

{"sheet":"A6-FinPos","index":15,"n_rows":71,"n_cols":12,"rows_kept":71,"cut":false,"hidden":false,"merged":[[49,0,49,11],[1,9,1,11],[1,5,1,8]]}
[{"$f":"muni&\" - \"&Approve6","v":"LIM332 Greater Letaba - Table A6 Budgeted Financial Position"}]
[{"$f":"desc","v":"Description"},{"$f":"head27","v":"Ref"},{"$f":"head1b","v":"2015/16"},{"$f":"head1A","v":"2016/17"},{"$f":"Head1","v":"2017/18"},{"$f":"Head2","v":"Current Year 2018/19"},null,null,null,{"$f":"Head3","v":"2019/20 Medium Term Revenue & Expenditure Framework"}]
["R thousand",null,{"$f":"Head5","v":"Audited Outcome"},{"$f":"Head5","v":"Audited Outcome"},{"$f":"Head5","v":"Audited Outcome"},{"$f":"Head6","v":"Original Budget"},{"$f":"Head7","v":"Adjusted Budget"},{"$f":"Head8","v":"Full Year Forecast"},{"$f":"Head5b","v":"Pre-audit outcome"},{"$f":"Head9","v":"Budget Year 2019/20"},{"$f":"Head10","v":"Budget Year +1 2020/21"},{"$f":"Head11","v":"Budget Year +2 2021/22"}]
["ASSETS"]
["Current assets"]
["Cash",null,1234000,2301712,451661,1200000,505000,505000,505000,122000,857000,644000]
["Call investment deposits",1,{"$f":"'SA3'!C9","v":59480361},{"$f":"'SA3'!D9","v":53630633},{"$f":"'SA3'!E9","v":12715350},{"$f":"'SA3'!F9","v":28521281.529999997},{"$f":"'SA3'!G9","v":3521281.5299999975},{"$f":"'SA3'!H9","v":3521281.5299999975},{"$f":"'SA3'!I9","v":3521281.5299999975},{"$f":"'SA3'!J9","v":2299000},{"$f":"'SA3'!K9","v":2423146},{"$f":"'SA3'!L9","v":2553995.8840000001}]
["Consumer debtors",1,{"$f":"'SA3'!C14","v":11150895},{"$f":"'SA3'!D14","v":6883323},{"$f":"'SA3'!E14","v":2127696},{"$f":"'SA3'!F14","v":6900000},{"$f":"'SA3'!G14","v":6900000},{"$f":"'SA3'!H14","v":6900000},{"$f":"'SA3'!I14","v":6900000},{"$f":"'SA3'!J14","v":2127696},{"$f":"'SA3'!K14","v":2242591.5840000003},{"$f":"'SA3'!L14","v":2363691.5295360005}]
["Other debtors",null,23378286,62569544,74918907,44274458.958912,44274458.958912,44274458.958912,44274458.958912,74918907,74918907,74918907]
["Current portion of long-term receivables",null,39516936,10175655,25673707,12078140.607000001,12078140.607000001,12078140.607000001,12078140.607000001,25673707,25673707,25673707]
["Inventory",2,2888890,6435945,11923220,3215395.2366899997,3215395.2366899997,3215395.2366899997,3215395.2366899997,11923220,11923220,11923220]
["Total current assets",null,{"$f":"SUM(C6:C11)","v":137649368},141996812,127810541,96189276.332602009,70494276.332602009,70494276.332602009,70494276.332602009,117064530,118038571.58400001,118077521.413536]
[]
["Non current assets"]
["Long-term receivables"]
["Investments"]
["Investment property",null,249048,240057,231065,249045,249045,249045,249045,241000,245000,245000]
["Investment in Associate"]
["Property, plant and equipment",3,{"$f":"'SA3'!C26","v":612369408},{"$f":"'SA3'!D26","v":677895023},{"$f":"'SA3'!E26","v":814565410},{"$f":"'SA3'!F26","v":853915938.60473883},{"$f":"'SA3'!G26","v":848610025.60473883},{"$f":"'SA3'!H26","v":848610025.60473883},{"$f":"'SA3'!I26","v":848610025.60473883},{"$f":"'SA3'!J26","v":953119630},{"$f":"'SA3'!K26","v":1124743201},{"$f":"'SA3'!L26","v":1318845419}]
[]
["Biological"]
["Intangible",null,208103,117244,185281,208103,208103,208103,208103,192000,195000,201000]
["Other non-current assets",null,548500,548500,548500,548500,548500,548500,548500,549000,549000,549000]
["Total non current assets",null,{"$f":"SUM(C15:C19)+SUM(C21:C23)","v":613375059},{"$f":"SUM(D15:D19)+SUM(D21:D23)","v":678800824},815530256,854921586.60473883,849615673.60473883,849615673.60473883,849615673.60473883,954101630,1125732201,1319840419]
["TOTAL ASSETS",null,{"$f":"C12+C24","v":751024427},{"$f":"D12+D24","v":820797636},{"$f":"E12+E24","v":943340797},{"$f":"F12+F24","v":951110862.93734086},920109949.93734086,920109949.93734086,920109949.93734086,1071166160,1243770772.5840001,1437917940.4135361]
[]
["LIABILITIES"]
["Current liabilities"]
["Bank overdraft",1,0,0,0,0,0,0,0,0,0,0]
["Borrowing",4,{"$f":"'SA3'!C32","v":0},{"$f":"'SA3'!D32","v":0},{"$f":"'SA3'!E32","v":0},{"$f":"'SA3'!F32","v":0},{"$f":"'SA3'!G32","v":0},{"$f":"'SA3'!H32","v":0},{"$f":"'SA3'!I32","v":0},{"$f":"'SA3'!J32","v":0},{"$f":"'SA3'!K32","v":0},{"$f":"'SA3'!L32","v":0}]
["Consumer deposits",null,351303,363726,383334,369922.05900000001,369922.05900000001,369922.05900000001,369922.05900000001,395000,395000,395000]
["Trade and other payables",4,{"$f":"'SA3'!C39","v":55032928},{"$f":"'SA3'!D39","v":36336959},{"$f":"'SA3'!E39","v":56493092},{"$f":"'SA3'!F39","v":35693282},{"$f":"'SA3'!G39","v":35693282},{"$f":"'SA3'!H39","v":35693282},{"$f":"'SA3'!I39","v":35693282},{"$f":"'SA3'!J39","v":34122000},{"$f":"'SA3'!K39","v":28900000},{"$f":"'SA3'!L39","v":32000000}]
["Provisions"]
["Total current liabilities",null,{"$f":"SUM(C29:C33)","v":55384231},36700685,56876426,36063204.059,36063204.059,36063204.059,36063204.059,34517000,29295000,32395000]
[]
["Non current liabilities"]
["Borrowing",null,{"$f":"'SA3'!C44","v":0},{"$f":"'SA3'!D44","v":0},{"$f":"'SA3'!E44","v":0},{"$f":"'SA3'!F44","v":0},{"$f":"'SA3'!G44","v":0},{"$f":"'SA3'!H44","v":0},{"$f":"'SA3'!I44","v":0},{"$f":"'SA3'!J44","v":0},{"$f":"'SA3'!K44","v":0},{"$f":"'SA3'!L44","v":0}]
["Provisions",null,{"$f":"'SA3'!C51","v":13419779},{"$f":"'SA3'!D51","v":12512637},{"$f":"'SA3'!E51","v":13958640},{"$f":"'SA3'!F51","v":14744449.647768002},{"$f":"'SA3'!G51","v":14744449.647768002},{"$f":"'SA3'!H51","v":14744449.647768002},{"$f":"'SA3'!I51","v":14744449.647768002},{"$f":"'SA3'!J51","v":17101289.280000001},{"$f":"'SA3'!K51","v":17894251.701120004},{"$f":"'SA3'!L51","v":18730034.092980482}]
["Total non current liabilities",null,{"$f":"SUM(C37:C38)","v":13419779},{"$f":"SUM(D37:D38)","v":12512637},{"$f":"SUM(E37:E38)","v":13958640},{"$f":"SUM(F37:F38)","v":14744449.647768002},14744449.647768002,14744449.647768002,14744449.647768002,17101289.280000001,{"$f":"SUM(K37:K38)","v":17894251.701120004},18730034.092980482]
["TOTAL LIABILITIES",null,{"$f":"C34+C39","v":68804010},{"$f":"D34+D39","v":49213322},{"$f":"E34+E39","v":70835066},{"$f":"F34+F39","v":50807653.706768006},50807653.706768006,50807653.706768006,50807653.706768006,51618289.280000001,{"$f":"K34+K39","v":47189251.701120004},51125034.092980482]
[]
["NET ASSETS",5,{"$f":"C25-C40","v":682220417},771584314,872505731,900303209.23057282,869302296.23057282,869302296.23057282,869302296.23057282,1019547870.72,1196581520.8828802,1386792906.3205557]
[]
["COMMUNITY WEALTH/EQUITY"]
["Accumulated Surplus/(Deficit)",null,682220417,771584314,872505731,900303209.23057282,869302296.23057282,869302296.23057282,869302296.23057282,1019547870.72,1196581520.8828802,1386792906.3205557]
["Reserves",4,{"$f":"'SA3'!C70","v":0},{"$f":"'SA3'!D70","v":0},{"$f":"'SA3'!E70","v":0},{"$f":"'SA3'!F70","v":0},{"$f":"'SA3'!G70","v":0},{"$f":"'SA3'!H70","v":0},{"$f":"'SA3'!I70","v":0},{"$f":"'SA3'!J70","v":0},{"$f":"'SA3'!K70","v":0},{"$f":"'SA3'!L70","v":0}]
[]
["TOTAL COMMUNITY WEALTH/EQUITY",5,{"$f":"SUM(C45:C46)","v":682220417},{"$f":"SUM(D45:D46)","v":771584314},872505731,900303209.23057282,869302296.23057282,869302296.23057282,869302296.23057282,1019547870.72,1196581520.8828802,1386792906.3205557]
[{"$f":"head27a","v":"References"}]
["1. Detail to be provided in Table SA3"]
["2. Include completed low cost housing to be transferred to beneficiaries within 12 months"]
["3. Include 'Construction-work-in-progress' (disclosed separately in annual financial statements)"]
["4. Detail to be provided in Table SA3. Includes reserves to be funded by statute."]
["5. Net assets must balance with Total Community Wealth/Equity"]
["check balance",null,{"$f":"IF((C42-C48)=0,0,\"Unbalanced\")","v":0},{"$f":"IF((D42-D48)=0,0,\"Unbalanced\")","v":0},0,0,0,0,0,0,0,0]
[]
[]
[]
[]
[]
[]
[]
[]
[]
[]
[]
[]
[]
[]
[]
["Test",null,{"$f":"IF(C25<>C40,\"Unbalanced\",0)","v":"Unbalanced"},{"$f":"IF(D25<>D40,\"Unbalanced\",0)","v":"Unbalanced"},"Unbalanced","Unbalanced","Unbalanced","Unbalanced","Unbalanced","Unbalanced","Unbalanced","Unbalanced"]

{"sheet":"A7-CFlow","index":16,"n_rows":51,"n_cols":12,"rows_kept":51,"cut":false,"hidden":false,"merged":[[1,9,1,11],[1,5,1,8]]}
[{"$f":"muni&\" - \"&Approve7","v":"LIM332 Greater Letaba - Table A7 Budgeted Cash Flows"}]
[{"$f":"desc","v":"Description"},{"$f":"head27","v":"Ref"},{"$f":"head1b","v":"2015/16"},{"$f":"head1A","v":"2016/17"},{"$f":"Head1","v":"2017/18"},{"$f":"Head2","v":"Current Year 2018/19"},null,null,null,{"$f":"Head3","v":"2019/20 Medium Term Revenue & Expenditure Framework"}]
["R thousand",null,{"$f":"Head5","v":"Audited Outcome"},{"$f":"Head5","v":"Audited Outcome"},{"$f":"Head5","v":"Audited Outcome"},{"$f":"Head6","v":"Original Budget"},{"$f":"Head7","v":"Adjusted Budget"},{"$f":"Head8","v":"Full Year Forecast"},{"$f":"Head5b","v":"Pre-audit outcome"},{"$f":"Head9","v":"Budget Year 2019/20"},{"$f":"Head10","v":"Budget Year +1 2020/21"},{"$f":"Head11","v":"Budget Year +2 2021/22"}]
["CASH FLOW FROM OPERATING ACTIVITIES"]
["Receipts"]
["Property rates",null,8977595,0,0,6453196.5420000004,10118196.541999999,10118196.541999999,10118196.541999999,{"$f":"'SA30'!N5","v":10644106.602911999},{"$f":"'SA30'!O5","v":11218888.359469259},{"$f":"'SA30'!P5","v":11824708.330880579}]
["Service charges",null,13039518,11029921,9888443,13879352.660000002,24519352.660000004,24519352.660000004,24519352.660000004,{"$f":"'SA30'!N6+'SA30'!N7+'SA30'!N8+'SA30'!N9","v":25794358.998320002},{"$f":"'SA30'!O6+'SA30'!O7+'SA30'!O8+'SA30'!O9","v":27187254.384229295},{"$f":"'SA30'!P6+'SA30'!P7+'SA30'!P8+'SA30'!P9","v":28655366.120977633}]
["Other revenue",null,27949360,6309284,842363,28562039.651999999,57142039.651999995,57142039.651999995,57142039.651999995,{"$f":"'SA30'!N11+'SA30'!N15+'SA30'!N16+'SA30'!N17+'SA30'!N19","v":17913129.800000001},{"$f":"'SA30'!O11+'SA30'!O15+'SA30'!O16+'SA30'!O17+'SA30'!O19","v":18880439.199999999},{"$f":"'SA30'!P11+'SA30'!P15+'SA30'!P16+'SA30'!P17+'SA30'!P19","v":19899981.999999996}]
["Government - operating",1,212960000,{"$f":"206299000+1810000+1405000+7000000","v":216514000},{"$f":"291405000-67162000","v":224243000},248358000,248358000,248358000,248358000,{"$f":"'SA30'!N18","v":281624000},{"$f":"'SA30'!O18","v":300105000},{"$f":"'SA30'!P18","v":321890000}]
["Government - capital",1,64870000,54976000,{"$f":"61162000+6000000","v":67162000},62443000,62443000,62443000,62443000,{"$f":"'SA30'!N23","v":57608000},{"$f":"'SA30'!O23","v":67783000},{"$f":"'SA30'!P23","v":72351000}]
["Interest",null,11677760,5918591,4605544,9584354.102,18097354.101999998,18097354.101999998,18097354.101999998,{"$f":"'SA30'!N12+'SA30'!N13","v":14989212.6},{"$f":"'SA30'!O12+'SA30'!O13","v":15798630.6},{"$f":"'SA30'!P12+'SA30'!P13","v":16651756.800000001}]
["Dividends",null,null,null,null,null,null,null,null,{"$f":"'SA30'!N14","v":0},{"$f":"'SA30'!O14","v":0},{"$f":"'SA30'!P14","v":0}]
["Payments"]
["Suppliers and employees",null,-164954679,{"$f":"-119050070-84974458","v":-204024528},-195861964,-217786402.5,-267565402.5,-267565402.5,-267565402.5,{"$f":"-('SA30'!N35+'SA30'!N36+'SA30'!N38+'SA30'!N39+'SA30'!N40+'SA30'!N41+'SA30'!N44+'SA30'!N50)","v":-271431061.01999998},{"$f":"-('SA30'!O35+'SA30'!O36+'SA30'!O38+'SA30'!O39+'SA30'!O40+'SA30'!O41+'SA30'!O44+'SA30'!O50)","v":-300747028},{"$f":"-('SA30'!P35+'SA30'!P36+'SA30'!P38+'SA30'!P39+'SA30'!P40+'SA30'!P41+'SA30'!P44+'SA30'!P50)","v":-318779895}]
["Finance charges",null,0,0,null,0,0,0,0,{"$f":"-('SA30'!N37)","v":0},{"$f":"-('SA30'!O37)","v":0},{"$f":"-('SA30'!P37)","v":0}]
["Transfers and Grants",1,0,0,null,0,0,0,0,{"$f":"-('SA30'!N42+'SA30'!N43)","v":0},{"$f":"-('SA30'!O42+'SA30'!O43)","v":0},{"$f":"-('SA30'!P42+'SA30'!P43)","v":0}]
["NET CASH FROM/(USED) OPERATING ACTIVITIES",null,{"$f":"SUM(C6:C12)+SUM(C14:C16)","v":174519554},90723268,110879386,151493540.45599997,153112540.45599997,153112540.45599997,153112540.45599997,137141746.98123205,140226184.54369855,152492918.25185823]
[]
["CASH FLOWS FROM INVESTING ACTIVITIES"]
["Receipts"]
["Proceeds on disposal of PPE",null,74496,115417,577756,577000,577000,577000,577000,{"$f":"'SA30'!N24+'SA30'!N25","v":577000},{"$f":"'SA30'!O24+'SA30'!O25","v":577000},{"$f":"'SA30'!P24+'SA30'!P25","v":577000}]
["Decrease (Increase) in non-current debtors",null,null,null,null,null,null,null,null,{"$f":"'SA30'!N29","v":0},{"$f":"'SA30'!O29","v":0},{"$f":"'SA30'!P29","v":0}]
["Decrease (increase) other non-current receivables",null,null,null,null,null,null,null,null,{"$f":"'SA30'!N30","v":0},{"$f":"'SA30'!O30","v":0},{"$f":"'SA30'!P30","v":0}]
["Decrease (increase) in non-current investments",null,null,null,null,null,null,null,null,{"$f":"'SA30'!N31","v":0},{"$f":"'SA30'!O31","v":0},{"$f":"'SA30'!P31","v":0}]
["Payments"]
["Capital assets",null,-174594050,{"$f":"-95600150-20551","v":-95620701},{"$f":"-153768699-148800-304978","v":-154222477},-145091397.96900001,-163334397.96900001,-163334397.96900001,-163334397.96900001,{"$f":"-('SA30'!N48)","v":-135418798},{"$f":"-('SA30'!O48)","v":-139945000},{"$f":"-('SA30'!P48)","v":-153152000}]
["NET CASH FROM/(USED) INVESTING ACTIVITIES",null,{"$f":"SUM(C21:C24)+C26","v":-174519554},{"$f":"SUM(D21:D24)+D26","v":-95505284},-153644721,-144514397.96900001,-162757397.96900001,-162757397.96900001,-162757397.96900001,-134841798,-139368000,-152575000]
[]
["CASH FLOWS FROM FINANCING ACTIVITIES"]
["Receipts"]
["Short term loans",null,0,0,0,0,0,0,0,{"$f":"'SA30'!N26","v":0},{"$f":"'SA30'!O26","v":0},{"$f":"'SA30'!P26","v":0}]
["Borrowing long term/refinancing",null,0,0,0,0,0,0,0,{"$f":"'SA30'!N27","v":0},{"$f":"'SA30'!O27","v":0},{"$f":"'SA30'!P27","v":0}]
["Increase (decrease) in consumer deposits",null,0,0,0,0,0,0,0,{"$f":"'SA30'!N28","v":0},{"$f":"'SA30'!O28","v":0},{"$f":"'SA30'!P28","v":0}]
["Payments"]
["Repayment of borrowing",null,0,0,0,0,0,0,0,{"$f":"-('SA30'!N49)","v":0},{"$f":"-('SA30'!O49)","v":0},{"$f":"-('SA30'!P49)","v":0}]
["NET CASH FROM/(USED) FINANCING ACTIVITIES",null,{"$f":"SUM(C31:C33)+C35","v":0},{"$f":"SUM(D31:D33)+D35","v":0},0,0,0,0,0,0,0,0]
[]
["NET INCREASE/ (DECREASE) IN CASH HELD",null,{"$f":"C17+C27+C36","v":0},{"$f":"D17+D27+D36","v":-4782016},-42765335,6979142.4869999588,-9644857.5130000412,-9644857.5130000412,-9644857.5130000412,2299948.9812320471,858184.54369854927,-82081.748141765594]
["Cash/cash equivalents at the year begin:",2,60714362,60714361,55932345,30300000,13671000,13671000,13671000,{"$f":"'SA30'!N54","v":121500},{"$f":"J40","v":2421448.9812320471},{"$f":"K40","v":3279633.5249305964}]
["Cash/cash equivalents at the year end:",2,{"$f":"C38+C39","v":60714362},{"$f":"D38+D39","v":55932345},{"$f":"E38+E39","v":13167010},{"$f":"F38+F39","v":37279142.486999959},4026142.4869999588,4026142.4869999588,4026142.4869999588,2421448.9812320471,3279633.5249305964,3197551.7767888308]
[{"$f":"head27a","v":"References"}]
["1. Local/District municipalities to include transfers from/to District/Local Municipalities"]
["2. Cash equivalents includes investments with maturities of 3 months or less"]
["3. The MTREF is populated directly from SA30."]
["Total receipts",null,{"$f":"SUM(C6:C12)+SUM(C21:C23)","v":339548729},294863213,307319106,369856942.95599997,421254942.95599997,421254942.95599997,421254942.95599997,409149808.00123203,441550212.54369855,471849813.25185823]
["Total payments",null,{"$f":"SUM(C14:C16)+C26","v":-339548729},{"$f":"SUM(D14:D16)+D26","v":-299645229},-350084441,-362877800.46899998,-430899800.46899998,-430899800.46899998,-430899800.46899998,-406849859.01999998,-440692028,-471931895]
[null,null,{"$f":"C45+C46","v":0},{"$f":"D45+D46","v":-4782016},-42765335,6979142.4869999886,-9644857.5130000114,-9644857.5130000114,-9644857.5130000114,2299948.9812320471,858184.54369854927,-82081.748141765594]
["Borrowings & investments & c.deposits",null,{"$f":"C24+C32+C33","v":0},{"$f":"D24+D32+D33","v":0},0,0,0,0,0,0,0,0]
[{"$f":"A35","v":"Repayment of borrowing"},null,{"$f":"C35","v":0},{"$f":"D35","v":0},0,0,0,0,{"$f":"I35","v":0},0,0,0]
[null,null,{"$f":"C47+C48+C49","v":0},{"$f":"D47+D48+D49","v":-4782016},-42765335,6979142.4869999886,-9644857.5130000114,-9644857.5130000114,-9644857.5130000114,2299948.9812320471,858184.54369854927,-82081.748141765594]
[null,null,{"$f":"C38-C50","v":0},0,0,-2.9802322387695313E-8,-2.9802322387695313E-8,-2.9802322387695313E-8,-2.9802322387695313E-8,0,0,0]

{"sheet":"A8-ResRecon","index":17,"n_rows":67,"n_cols":12,"rows_kept":67,"cut":false,"hidden":false,"merged":[[1,9,1,11],[1,5,1,8]]}
[{"$f":"muni&\" - \"&Approve8","v":"LIM332 Greater Letaba - Table A8 Cash backed reserves/accumulated surplus reconciliation"}]
[{"$f":"desc","v":"Description"},{"$f":"head27","v":"Ref"},{"$f":"head1b","v":"2015/16"},{"$f":"head1A","v":"2016/17"},{"$f":"Head1","v":"2017/18"},{"$f":"Head2","v":"Current Year 2018/19"},null,null,null,{"$f":"Head3","v":"2019/20 Medium Term Revenue & Expenditure Framework"}]
["R thousand",null,{"$f":"Head5","v":"Audited Outcome"},{"$f":"Head5","v":"Audited Outcome"},{"$f":"Head5","v":"Audited Outcome"},{"$f":"Head6","v":"Original Budget"},{"$f":"Head7","v":"Adjusted Budget"},{"$f":"Head8","v":"Full Year Forecast"},{"$f":"Head5b","v":"Pre-audit outcome"},{"$f":"Head9","v":"Budget Year 2019/20"},{"$f":"Head10","v":"Budget Year +1 2020/21"},{"$f":"Head11","v":"Budget Year +2 2021/22"}]
["Cash and investments available"]
[{"$f":"LEFT('A7-CFlow'!A40,37)","v":"Cash/cash equivalents at the year end"},1,{"$f":"'A7-CFlow'!C40","v":60714362},{"$f":"'A7-CFlow'!D40","v":55932345},{"$f":"'A7-CFlow'!E40","v":13167010},{"$f":"'A7-CFlow'!F40","v":37279142.486999959},{"$f":"'A7-CFlow'!G40","v":4026142.4869999588},{"$f":"'A7-CFlow'!H40","v":4026142.4869999588},{"$f":"'A7-CFlow'!I40","v":4026142.4869999588},{"$f":"'A7-CFlow'!J40","v":2421448.9812320471},{"$f":"'A7-CFlow'!K40","v":3279633.5249305964},{"$f":"'A7-CFlow'!L40","v":3197551.7767888308}]
["Other current investments  > 90 days",null,{"$f":"'A6-FinPos'!C6+'A6-FinPos'!C7-'A6-FinPos'!C29-'A8-ResRecon'!C5","v":-1},{"$f":"'A6-FinPos'!D6+'A6-FinPos'!D7-'A6-FinPos'!D29-'A8-ResRecon'!D5","v":0},{"$f":"'A6-FinPos'!E6+'A6-FinPos'!E7-'A6-FinPos'!E29-'A8-ResRecon'!E5","v":1},{"$f":"'A6-FinPos'!F6+'A6-FinPos'!F7-'A6-FinPos'!F29-'A8-ResRecon'!F5","v":-7557860.9569999613},{"$f":"'A6-FinPos'!G6+'A6-FinPos'!G7-'A6-FinPos'!G29-'A8-ResRecon'!G5","v":139.04300003871322},{"$f":"'A6-FinPos'!H6+'A6-FinPos'!H7-'A6-FinPos'!H29-'A8-ResRecon'!H5","v":139.04300003871322},{"$f":"'A6-FinPos'!I6+'A6-FinPos'!I7-'A6-FinPos'!I29-'A8-ResRecon'!I5","v":139.04300003871322},{"$f":"'A6-FinPos'!J6+'A6-FinPos'!J7-'A6-FinPos'!J29-'A8-ResRecon'!J5","v":-448.98123204708099},{"$f":"'A6-FinPos'!K6+'A6-FinPos'!K7-'A6-FinPos'!K29-'A8-ResRecon'!K5","v":512.47506940364838},{"$f":"'A6-FinPos'!L6+'A6-FinPos'!L7-'A6-FinPos'!L29-'A8-ResRecon'!L5","v":444.10721116932109}]
[{"$f":"'A6-FinPos'!A14&\" - \"&'A6-FinPos'!A16","v":"Non current assets - Investments"},1,{"$f":"'A6-FinPos'!C16","v":0},{"$f":"'A6-FinPos'!D16","v":0},{"$f":"'A6-FinPos'!E16","v":0},{"$f":"'A6-FinPos'!F16","v":0},{"$f":"'A6-FinPos'!G16","v":0},{"$f":"'A6-FinPos'!H16","v":0},{"$f":"'A6-FinPos'!I16","v":0},{"$f":"'A6-FinPos'!J16","v":0},{"$f":"'A6-FinPos'!K16","v":0},{"$f":"'A6-FinPos'!L16","v":0}]
["Cash and investments available:",null,{"$f":"SUM(C5:C7)","v":60714361},{"$f":"SUM(D5:D7)","v":55932345},13167011,29721281.529999997,4026281.5299999975,4026281.5299999975,4026281.5299999975,2421000,3280146,3197995.8840000001]
[]
["Application of cash and investments"]
[{"$f":"'SA3'!A37","v":"Unspent conditional transfers"},null,{"$f":"'SA3'!C37","v":0},{"$f":"'SA3'!D37","v":643677},{"$f":"'SA3'!E37","v":0},{"$f":"'SA3'!F37","v":0},{"$f":"'SA3'!G37","v":0},{"$f":"'SA3'!H37","v":0},{"$f":"'SA3'!I37","v":0},{"$f":"'SA3'!J37","v":0},{"$f":"'SA3'!K37","v":0},{"$f":"'SA3'!L37","v":0}]
["Unspent borrowing",null,{"$f":"'SA17'!C67","v":0},{"$f":"'SA17'!D67","v":0},{"$f":"'SA17'!E67","v":0},{"$f":"'SA17'!F67","v":0},{"$f":"'SA17'!G67","v":0},{"$f":"'SA17'!H67","v":0},null,{"$f":"'SA17'!I67","v":0},{"$f":"'SA17'!J67","v":0},{"$f":"'SA17'!K67","v":0}]
["Statutory requirements",2,0,0,0,3025100,3025100,3025100,3025100,{"$f":"I13*1.052","v":3182405.2},{"$f":"J13*1.054","v":3354255.0808000006},{"$f":"K13*1.054","v":3535384.8551632008}]
["Other working capital requirements",3,{"$f":"-C32","v":11550928},{"$f":"-D32","v":8222282},39163092,{"$f":"-F32","v":6870282},439282,439282,160282,-2119000,-7395000,-4352000]
["Other provisions",null,0,0,0,14744449.647768002,14744449.647768002,14744449.647768002,14744449.647768002,0,0,0]
["Long term investments committed",4,{"$f":"C52","v":0},{"$f":"D52","v":0},0,0,0,0,0,0,0,0]
["Reserves to be backed by cash/investments",5,0,0,0,0,0,0,0,0,0,0]
[{"$f":"\"Total \"&A10&\":\"","v":"Total Application of cash and investments:"},null,{"$f":"SUM(C11:C17)","v":11550928},{"$f":"SUM(D11:D17)","v":8865959},39163092,24639831.647768002,18208831.647768002,18208831.647768002,17929831.647768002,1063405.2000000002,-4040744.9191999994,-816615.14483679924]
["Surplus(shortfall)",null,{"$f":"C8-C18","v":49163433},{"$f":"D8-D18","v":47066386},-25996081,5081449.8822319955,-14182550.117768005,-14182550.117768005,-13903550.117768005,1357594.7999999998,7320890.9191999994,4014611.0288367993]
[{"$f":"head27a","v":"References"}]
["1. Must reconcile with Budgeted Cash Flows"]
["2. For example: VAT, taxation"]
["3. Council approval for policy required - include sufficient working capital (e.g. allowing for a % of current debtors > 90 days as uncollectable)"]
["4. For example: sinking fund requirements for borrowing"]
["5. Council approval required for each reserve created and basis of cash backing of reserves"]
[]
[]
["Other working capital requirements"]
["Debtors",null,{"$f":"IF(ISERROR(ROUND(C35*C36,-3)),0,(ROUND(C35*C36,-3)))","v":43482000},{"$f":"IF(ISERROR(ROUND(D35*D36,-3)),0,(ROUND(D35*D36,-3)))","v":27471000},17330000,28823000,35254000,35254000,35533000,36241000,36295000,36352000]
[]
["Creditors due",null,{"$f":"'SA3'!C35+'SA3'!C36","v":55032928},{"$f":"'SA3'!D35+'SA3'!D36","v":35693282},{"$f":"'SA3'!E35+'SA3'!E36","v":56493092},{"$f":"'SA3'!F35+'SA3'!F36","v":35693282},{"$f":"'SA3'!G35+'SA3'!G36","v":35693282},{"$f":"'SA3'!H35+'SA3'!H36","v":35693282},{"$f":"'SA3'!I35+'SA3'!I36","v":35693282},{"$f":"'SA3'!J35+'SA3'!J36","v":34122000},{"$f":"'SA3'!K35+'SA3'!K36","v":28900000},{"$f":"'SA3'!L35+'SA3'!L36","v":32000000}]
["Total",null,{"$f":"C29-C31","v":-11550928},{"$f":"D29-D31","v":-8222282},-39163092,-6870282,-439282,-439282,-160282,2119000,7395000,4352000]
[]
["Debtors collection assumptions"]
["Balance outstanding - debtors",null,{"$f":"'A6-FinPos'!C8+'A6-FinPos'!C9+'A6-FinPos'!C15","v":34529181},{"$f":"'A6-FinPos'!D8+'A6-FinPos'!D9+'A6-FinPos'!D15","v":69452867},{"$f":"'A6-FinPos'!E8+'A6-FinPos'!E9+'A6-FinPos'!E15","v":77046603},{"$f":"'A6-FinPos'!F8+'A6-FinPos'!F9+'A6-FinPos'!F15","v":51174458.958912},{"$f":"'A6-FinPos'!G8+'A6-FinPos'!G9+'A6-FinPos'!G15","v":51174458.958912},{"$f":"'A6-FinPos'!H8+'A6-FinPos'!H9+'A6-FinPos'!H15","v":51174458.958912},{"$f":"'A6-FinPos'!I8+'A6-FinPos'!I9+'A6-FinPos'!I15","v":51174458.958912},{"$f":"'A6-FinPos'!J8+'A6-FinPos'!J9+'A6-FinPos'!J15","v":77046603},{"$f":"'A6-FinPos'!K8+'A6-FinPos'!K9+'A6-FinPos'!K15","v":77161498.584000006},{"$f":"'A6-FinPos'!L8+'A6-FinPos'!L9+'A6-FinPos'!L15","v":77282598.529535994}]
["Estimate of debtors collection rate",null,{"$f":"IF(ISERROR('SA10'!D10),0,('SA10'!D10))","v":1.2592912807215864},{"$f":"IF(ISERROR('SA10'!E10),0,('SA10'!E10))","v":0.39553875247334264},{"$f":"IF(ISERROR('SA10'!F10),0,('SA10'!F10))","v":0.22492357574542626},{"$f":"IF(ISERROR('SA10'!G10),0,('SA10'!G10))","v":0.56323575669139114},{"$f":"IF(ISERROR('SA10'!H10),0,('SA10'!H10))","v":0.68889441977459676},{"$f":"IF(ISERROR('SA10'!I10),0,('SA10'!I10))","v":0.68889441977459676},{"$f":"IF(ISERROR('SA10'!J10),0,('SA10'!J10))","v":0.69434663659542273},{"$f":"IF(ISERROR('SA10'!K10),0,('SA10'!K10))","v":0.47037740011229362},{"$f":"IF(ISERROR('SA10'!L10),0,('SA10'!L10))","v":0.47037739979104076},{"$f":"IF(ISERROR('SA10'!M10),0,('SA10'!M10))","v":0.47037739541184914}]
[]
[]
[null,null,null,null,null,null,null,null,null,null,"`"]
[{"$f":"A16","v":"Long term investments committed"}]
["Balance (Insert description; eg sinking fund)"]
[]
[]
[]
[]
[]
[]
[]
[]
[]
[]
[null,null,{"$f":"SUM(C41:C51)","v":0},{"$f":"SUM(D41:D51)","v":0},0,0,0,0,0,0,0,0]
[{"$f":"A17","v":"Reserves to be backed by cash/investments"}]
[{"$f":"'SA3'!A65","v":"Housing Development Fund"},null,{"$f":"'SA3'!C65","v":0},{"$f":"'SA3'!D65","v":0},{"$f":"'SA3'!E65","v":0},{"$f":"'SA3'!F65","v":0},{"$f":"'SA3'!G65","v":0},{"$f":"'SA3'!H65","v":0},{"$f":"'SA3'!I65","v":0},{"$f":"'SA3'!J65","v":0},{"$f":"'SA3'!K65","v":0},{"$f":"'SA3'!L65","v":0}]
[{"$f":"'SA3'!A66","v":"Capital replacement"}]
[{"$f":"'SA3'!A67","v":"Self-insurance"}]
["Other (list)"]
[]
[]
[]
[]
[]
[]
[]
[]
[]
[null,null,{"$f":"SUM(C54:C65)","v":0},0,0,0,0,0,0,0,0,0]

{"sheet":"A9-Asset","index":18,"n_rows":217,"n_cols":11,"rows_kept":217,"cut":false,"hidden":false,"merged":[[1,5,1,7],[1,8,1,10]]}
[{"$f":"muni&\" - \"&Approve9","v":"LIM332 Greater Letaba - Table A9 Asset Management"}]
[{"$f":"desc","v":"Description"},{"$f":"head27","v":"Ref"},{"$f":"head1b","v":"2015/16"},{"$f":"head1A","v":"2016/17"},{"$f":"Head1","v":"2017/18"},{"$f":"Head2","v":"Current Year 2018/19"},null,null,{"$f":"Head3","v":"2019/20 Medium Term Revenue & Expenditure Framework"}]
["R thousand",null,{"$f":"Head5","v":"Audited Outcome"},{"$f":"Head5","v":"Audited Outcome"},{"$f":"Head5","v":"Audited Outcome"},{"$f":"Head6","v":"Original Budget"},{"$f":"Head7","v":"Adjusted Budget"},{"$f":"Head8","v":"Full Year Forecast"},{"$f":"Head9","v":"Budget Year 2019/20"},{"$f":"Head10","v":"Budget Year +1 2020/21"},{"$f":"Head11","v":"Budget Year +2 2021/22"}]
["CAPITAL EXPENDITURE"]
["Total New Assets",1,{"$f":"C15+C18+C19+C22+C25+C26+SUM(C29:C35)","v":29947836},{"$f":"D15+D18+D19+D22+D25+D26+SUM(D29:D35)","v":17977600},139450122,152192808.31999999,166577203.31999999,166577203.31999999,151554220,185822169,200551107]
["Roads Infrastructure",null,{"$f":"SA34a!C7","v":3223432},{"$f":"SA34a!D7","v":2154000},{"$f":"SA34a!E7","v":76356418},{"$f":"SA34a!F7","v":65206303.810000002},{"$f":"SA34a!G7","v":71993960.810000002},{"$f":"SA34a!H7","v":71993960.810000002},{"$f":"SA34a!I7","v":57540758},{"$f":"SA34a!J7","v":126854930},{"$f":"SA34a!K7","v":135758045}]
["Storm water Infrastructure",null,{"$f":"SA34a!C12","v":0},{"$f":"SA34a!D12","v":0},{"$f":"SA34a!E12","v":3160235},{"$f":"SA34a!F12","v":5664654.4500000002},{"$f":"SA34a!G12","v":5664654.4500000002},{"$f":"SA34a!H12","v":5664654.4500000002},{"$f":"SA34a!I12","v":3680000},{"$f":"SA34a!J12","v":3236364},{"$f":"SA34a!K12","v":15508298}]
["Electrical Infrastructure",null,{"$f":"SA34a!C16","v":3873785},{"$f":"SA34a!D16","v":7289000},{"$f":"SA34a!E16","v":10984462},{"$f":"SA34a!F16","v":15457760},{"$f":"SA34a!G16","v":22107760},{"$f":"SA34a!H16","v":22107760},{"$f":"SA34a!I16","v":15100000},{"$f":"SA34a!J16","v":9500000},{"$f":"SA34a!K16","v":17491920}]
["Water Supply Infrastructure",null,{"$f":"SA34a!C26","v":0},{"$f":"SA34a!D26","v":0},{"$f":"SA34a!E26","v":0},{"$f":"SA34a!F26","v":0},{"$f":"SA34a!G26","v":0},{"$f":"SA34a!H26","v":0},{"$f":"SA34a!I26","v":0},{"$f":"SA34a!J26","v":0},{"$f":"SA34a!K26","v":0}]
["Sanitation Infrastructure",null,{"$f":"SA34a!C37","v":0},{"$f":"SA34a!D37","v":0},{"$f":"SA34a!E37","v":0},{"$f":"SA34a!F37","v":0},{"$f":"SA34a!G37","v":0},{"$f":"SA34a!H37","v":0},{"$f":"SA34a!I37","v":0},{"$f":"SA34a!J37","v":0},{"$f":"SA34a!K37","v":0}]
["Solid Waste Infrastructure",null,{"$f":"SA34a!C44","v":104223},{"$f":"SA34a!D44","v":3602000},{"$f":"SA34a!E44","v":2278685},{"$f":"SA34a!F44","v":1700000},{"$f":"SA34a!G44","v":0},{"$f":"SA34a!H44","v":0},{"$f":"SA34a!I44","v":3300000},{"$f":"SA34a!J44","v":0},{"$f":"SA34a!K44","v":0}]
["Rail Infrastructure",null,{"$f":"SA34a!C52","v":0},{"$f":"SA34a!D52","v":0},{"$f":"SA34a!E52","v":0},{"$f":"SA34a!F52","v":0},{"$f":"SA34a!G52","v":0},{"$f":"SA34a!H52","v":0},{"$f":"SA34a!I52","v":0},{"$f":"SA34a!J52","v":0},{"$f":"SA34a!K52","v":0}]
["Coastal Infrastructure",null,{"$f":"SA34a!C62","v":0},{"$f":"SA34a!D62","v":0},{"$f":"SA34a!E62","v":0},{"$f":"SA34a!F62","v":0},{"$f":"SA34a!G62","v":0},{"$f":"SA34a!H62","v":0},{"$f":"SA34a!I62","v":0},{"$f":"SA34a!J62","v":0},{"$f":"SA34a!K62","v":0}]
["Information and Communication Infrastructure",null,{"$f":"SA34a!C68","v":0},{"$f":"SA34a!D68","v":0},{"$f":"SA34a!E68","v":0},{"$f":"SA34a!F68","v":0},{"$f":"SA34a!G68","v":0},{"$f":"SA34a!H68","v":0},{"$f":"SA34a!I68","v":0},{"$f":"SA34a!J68","v":0},{"$f":"SA34a!K68","v":0}]
["Infrastructure",null,{"$f":"SUM(C6:C14)","v":7201440},{"$f":"SUM(D6:D14)","v":13045000},92779800,88028718.260000005,99766375.260000005,99766375.260000005,79620758,139591294,168758263]
["Community Facilities",null,{"$f":"SA34a!C75","v":6771504},{"$f":"SA34a!D75","v":0},{"$f":"SA34a!E75","v":8865104},{"$f":"SA34a!F75","v":4418446.4000000004},{"$f":"SA34a!G75","v":2118446.4},{"$f":"SA34a!H75","v":2118446.4},{"$f":"SA34a!I75","v":3100000},{"$f":"SA34a!J75","v":3900000},{"$f":"SA34a!K75","v":0}]
["Sport and Recreation Facilities",null,{"$f":"SA34a!C98","v":0},{"$f":"SA34a!D98","v":0},{"$f":"SA34a!E98","v":34192701},{"$f":"SA34a!F98","v":36421985.799999997},{"$f":"SA34a!G98","v":39361885.799999997},{"$f":"SA34a!H98","v":39361885.799999997},{"$f":"SA34a!I98","v":43635415},{"$f":"SA34a!J98","v":38582889},{"$f":"SA34a!K98","v":27794111}]
["Community Assets",null,{"$f":"SUM(C16:C17)","v":6771504},{"$f":"SUM(D16:D17)","v":0},43057805,40840432.199999996,41480332.199999996,41480332.199999996,46735415,42482889,27794111]
["Heritage Assets",null,{"$f":"SA34a!C103","v":0},{"$f":"SA34a!D103","v":0},{"$f":"SA34a!E103","v":0},{"$f":"SA34a!F103","v":0},{"$f":"SA34a!G103","v":0},{"$f":"SA34a!H103","v":0},{"$f":"SA34a!I103","v":0},{"$f":"SA34a!J103","v":0},{"$f":"SA34a!K103","v":0}]
["Revenue Generating",null,{"$f":"SA34a!C111","v":0},{"$f":"SA34a!D111","v":0},{"$f":"SA34a!E111","v":0},{"$f":"SA34a!F111","v":0},{"$f":"SA34a!G111","v":0},{"$f":"SA34a!H111","v":0},{"$f":"SA34a!I111","v":0},{"$f":"SA34a!J111","v":0},{"$f":"SA34a!K111","v":0}]
["Non-revenue Generating",null,{"$f":"SA34a!C114","v":0},{"$f":"SA34a!D114","v":0},{"$f":"SA34a!E114","v":0},{"$f":"SA34a!F114","v":0},{"$f":"SA34a!G114","v":0},{"$f":"SA34a!H114","v":0},{"$f":"SA34a!I114","v":0},{"$f":"SA34a!J114","v":0},{"$f":"SA34a!K114","v":0}]
["Investment properties",null,{"$f":"SUM(C20:C21)","v":0},{"$f":"SUM(D20:D21)","v":0},0,0,0,0,0,0,0]
["Operational Buildings",null,{"$f":"SA34a!C119","v":15952719},{"$f":"SA34a!D119","v":1011116},{"$f":"SA34a!E119","v":617339},{"$f":"SA34a!F119","v":9383657.8599999994},{"$f":"SA34a!G119","v":8583657.8599999994},{"$f":"SA34a!H119","v":8583657.8599999994},{"$f":"SA34a!I119","v":7100047},{"$f":"SA34a!J119","v":3747986},{"$f":"SA34a!K119","v":3998733}]
["Housing",null,{"$f":"SA34a!C131","v":0},{"$f":"SA34a!D131","v":0},{"$f":"SA34a!E131","v":0},{"$f":"SA34a!F131","v":0},{"$f":"SA34a!G131","v":0},{"$f":"SA34a!H131","v":0},{"$f":"SA34a!I131","v":0},{"$f":"SA34a!J131","v":0},{"$f":"SA34a!K131","v":0}]
["Other Assets",null,{"$f":"SUM(C23:C24)","v":15952719},{"$f":"SUM(D23:D24)","v":1011116},617339,9383657.8599999994,8583657.8599999994,8583657.8599999994,7100047,3747986,3998733]
["Biological or Cultivated Assets",null,{"$f":"SA34a!C136","v":0},{"$f":"SA34a!D136","v":0},{"$f":"SA34a!E136","v":0},{"$f":"SA34a!F136","v":0},{"$f":"SA34a!G136","v":0},{"$f":"SA34a!H136","v":0},{"$f":"SA34a!I136","v":0},{"$f":"SA34a!J136","v":0},{"$f":"SA34a!K136","v":0}]
["Servitudes",null,{"$f":"SA34a!C140","v":0},{"$f":"SA34a!D140","v":0},{"$f":"SA34a!E140","v":0},{"$f":"SA34a!F140","v":0},{"$f":"SA34a!G140","v":0},{"$f":"SA34a!H140","v":0},{"$f":"SA34a!I140","v":0},{"$f":"SA34a!J140","v":0},{"$f":"SA34a!K140","v":0}]
["Licences and Rights",null,{"$f":"SA34a!C141","v":0},{"$f":"SA34a!D141","v":20551},{"$f":"SA34a!E141","v":0},{"$f":"SA34a!F141","v":1050000},{"$f":"SA34a!G141","v":1050000},{"$f":"SA34a!H141","v":1050000},{"$f":"SA34a!I141","v":0},{"$f":"SA34a!J141","v":0},{"$f":"SA34a!K141","v":0}]
["Intangible Assets",null,{"$f":"SUM(C27:C28)","v":0},{"$f":"SUM(D27:D28)","v":20551},0,1050000,1050000,1050000,0,0,0]
["Computer Equipment",null,{"$f":"SA34a!C149","v":0},{"$f":"SA34a!D149","v":369179},{"$f":"SA34a!E149","v":530822},{"$f":"SA34a!F149","v":380000},{"$f":"SA34a!G149","v":380000},{"$f":"SA34a!H149","v":380000},{"$f":"SA34a!I149","v":600000},{"$f":"SA34a!J149","v":0},{"$f":"SA34a!K149","v":0}]
["Furniture and Office Equipment",null,{"$f":"SA34a!C152","v":22173},{"$f":"SA34a!D152","v":31754},{"$f":"SA34a!E152","v":505214},{"$f":"SA34a!F152","v":1660000},{"$f":"SA34a!G152","v":2466838},{"$f":"SA34a!H152","v":2466838},{"$f":"SA34a!I152","v":2618000},{"$f":"SA34a!J152","v":0},{"$f":"SA34a!K152","v":0}]
["Machinery and Equipment",null,{"$f":"SA34a!C155","v":0},{"$f":"SA34a!D155","v":3500000},{"$f":"SA34a!E155","v":0},{"$f":"SA34a!F155","v":9750000},{"$f":"SA34a!G155","v":11750000},{"$f":"SA34a!H155","v":11750000},{"$f":"SA34a!I155","v":13430000},{"$f":"SA34a!J155","v":0},{"$f":"SA34a!K155","v":0}]
["Transport Assets",null,{"$f":"SA34a!C158","v":0},{"$f":"SA34a!D158","v":0},{"$f":"SA34a!E158","v":1959142},{"$f":"SA34a!F158","v":1100000},{"$f":"SA34a!G158","v":1100000},{"$f":"SA34a!H158","v":1100000},{"$f":"SA34a!I158","v":1450000},{"$f":"SA34a!J158","v":0},{"$f":"SA34a!K158","v":0}]
["Land",null,{"$f":"SA34a!C161","v":0},{"$f":"SA34a!D161","v":0},{"$f":"SA34a!E161","v":0},{"$f":"SA34a!F161","v":0},{"$f":"SA34a!G161","v":0},{"$f":"SA34a!H161","v":0},{"$f":"SA34a!I161","v":0},{"$f":"SA34a!J161","v":0},{"$f":"SA34a!K161","v":0}]
["Zoo's, Marine and Non-biological Animals",null,{"$f":"SA34a!C164","v":0},{"$f":"SA34a!D164","v":0},{"$f":"SA34a!E164","v":0},{"$f":"SA34a!F164","v":0},{"$f":"SA34a!G164","v":0},{"$f":"SA34a!H164","v":0},{"$f":"SA34a!I164","v":0},{"$f":"SA34a!J164","v":0},{"$f":"SA34a!K164","v":0}]
[]
["Total Renewal of Existing Assets",2,{"$f":"C47+C50+C51+C54+C57+C58+SUM(C61:C67)","v":146294805},{"$f":"D47+D50+D51+D54+D57+D58+SUM(D61:D67)","v":86979567},29212415,27083510.539999999,27083510.539999999,27083510.539999999,0,0,0]
["Roads Infrastructure",null,{"$f":"SA34b!C7","v":144516617},{"$f":"SA34b!D7","v":55008400},{"$f":"SA34b!E7","v":7967877},{"$f":"SA34b!F7","v":0},{"$f":"SA34b!G7","v":0},{"$f":"SA34b!H7","v":0},{"$f":"SA34b!I7","v":0},{"$f":"SA34b!J7","v":0},{"$f":"SA34b!K7","v":0}]
["Storm water Infrastructure",null,{"$f":"SA34b!C12","v":0},{"$f":"SA34b!D12","v":0},{"$f":"SA34b!E12","v":0},{"$f":"SA34b!F12","v":0},{"$f":"SA34b!G12","v":0},{"$f":"SA34b!H12","v":0},{"$f":"SA34b!I12","v":0},{"$f":"SA34b!J12","v":0},{"$f":"SA34b!K12","v":0}]
["Electrical Infrastructure",null,{"$f":"SA34b!C16","v":0},{"$f":"SA34b!D16","v":6791000},{"$f":"SA34b!E16","v":2078301},{"$f":"SA34b!F16","v":0},{"$f":"SA34b!G16","v":0},{"$f":"SA34b!H16","v":0},{"$f":"SA34b!I16","v":0},{"$f":"SA34b!J16","v":0},{"$f":"SA34b!K16","v":0}]
["Water Supply Infrastructure",null,{"$f":"SA34b!C26","v":0},{"$f":"SA34b!D26","v":0},{"$f":"SA34b!E26","v":0},{"$f":"SA34b!F26","v":0},{"$f":"SA34b!G26","v":0},{"$f":"SA34b!H26","v":0},{"$f":"SA34b!I26","v":0},{"$f":"SA34b!J26","v":0},{"$f":"SA34b!K26","v":0}]
["Sanitation Infrastructure",null,{"$f":"SA34b!C37","v":0},{"$f":"SA34b!D37","v":0},{"$f":"SA34b!E37","v":0},{"$f":"SA34b!F37","v":0},{"$f":"SA34b!G37","v":0},{"$f":"SA34b!H37","v":0},{"$f":"SA34b!I37","v":0},{"$f":"SA34b!J37","v":0},{"$f":"SA34b!K37","v":0}]
["Solid Waste Infrastructure",null,{"$f":"SA34b!C44","v":0},{"$f":"SA34b!D44","v":0},{"$f":"SA34b!E44","v":0},{"$f":"SA34b!F44","v":0},{"$f":"SA34b!G44","v":0},{"$f":"SA34b!H44","v":0},{"$f":"SA34b!I44","v":0},{"$f":"SA34b!J44","v":0},{"$f":"SA34b!K44","v":0}]
["Rail Infrastructure",null,{"$f":"SA34b!C52","v":0},{"$f":"SA34b!D52","v":0},{"$f":"SA34b!E52","v":0},{"$f":"SA34b!F52","v":0},{"$f":"SA34b!G52","v":0},{"$f":"SA34b!H52","v":0},{"$f":"SA34b!I52","v":0},{"$f":"SA34b!J52","v":0},{"$f":"SA34b!K52","v":0}]
["Coastal Infrastructure",null,{"$f":"SA34b!C62","v":0},{"$f":"SA34b!D62","v":0},{"$f":"SA34b!E62","v":0},{"$f":"SA34b!F62","v":0},{"$f":"SA34b!G62","v":0},{"$f":"SA34b!H62","v":0},{"$f":"SA34b!I62","v":0},{"$f":"SA34b!J62","v":0},{"$f":"SA34b!K62","v":0}]
["Information and Communication Infrastructure",null,{"$f":"SA34b!C68","v":0},{"$f":"SA34b!D68","v":0},{"$f":"SA34b!E68","v":0},{"$f":"SA34b!F68","v":0},{"$f":"SA34b!G68","v":0},{"$f":"SA34b!H68","v":0},{"$f":"SA34b!I68","v":0},{"$f":"SA34b!J68","v":0},{"$f":"SA34b!K68","v":0}]
["Infrastructure",null,{"$f":"SUM(C38:C46)","v":144516617},{"$f":"SUM(D38:D46)","v":61799400},10046178,0,0,0,0,0,0]
["Community Facilities",null,{"$f":"SA34b!C75","v":0},{"$f":"SA34b!D75","v":18440000},{"$f":"SA34b!E75","v":7226813},{"$f":"SA34b!F75","v":0},{"$f":"SA34b!G75","v":0},{"$f":"SA34b!H75","v":0},{"$f":"SA34b!I75","v":0},{"$f":"SA34b!J75","v":0},{"$f":"SA34b!K75","v":0}]
["Sport and Recreation Facilities",null,{"$f":"SA34b!C98","v":1778188},{"$f":"SA34b!D98","v":6740167},{"$f":"SA34b!E98","v":11939424},{"$f":"SA34b!F98","v":27083510.539999999},{"$f":"SA34b!G98","v":27083510.539999999},{"$f":"SA34b!H98","v":27083510.539999999},{"$f":"SA34b!I98","v":0},{"$f":"SA34b!J98","v":0},{"$f":"SA34b!K98","v":0}]
["Community Assets",null,{"$f":"SUM(C48:C49)","v":1778188},{"$f":"SUM(D48:D49)","v":25180167},19166237,27083510.539999999,27083510.539999999,27083510.539999999,0,0,0]
["Heritage Assets",null,{"$f":"SA34b!C103","v":0},{"$f":"SA34b!D103","v":0},{"$f":"SA34b!E103","v":0},{"$f":"SA34b!F103","v":0},{"$f":"SA34b!G103","v":0},{"$f":"SA34b!H103","v":0},{"$f":"SA34b!I103","v":0},{"$f":"SA34b!J103","v":0},{"$f":"SA34b!K103","v":0}]
["Revenue Generating",null,{"$f":"SA34b!C111","v":0},{"$f":"SA34b!D111","v":0},{"$f":"SA34b!E111","v":0},{"$f":"SA34b!F111","v":0},{"$f":"SA34b!G111","v":0},{"$f":"SA34b!H111","v":0},{"$f":"SA34b!I111","v":0},{"$f":"SA34b!J111","v":0},{"$f":"SA34b!K111","v":0}]
["Non-revenue Generating",null,{"$f":"SA34b!C114","v":0},{"$f":"SA34b!D114","v":0},{"$f":"SA34b!E114","v":0},{"$f":"SA34b!F114","v":0},{"$f":"SA34b!G114","v":0},{"$f":"SA34b!H114","v":0},{"$f":"SA34b!I114","v":0},{"$f":"SA34b!J114","v":0},{"$f":"SA34b!K114","v":0}]
["Investment properties",null,{"$f":"SUM(C52:C53)","v":0},{"$f":"SUM(D52:D53)","v":0},0,0,0,0,0,0,0]
["Operational Buildings",null,{"$f":"SA34b!C119","v":0},{"$f":"SA34b!D119","v":0},{"$f":"SA34b!E119","v":0},{"$f":"SA34b!F119","v":0},{"$f":"SA34b!G119","v":0},{"$f":"SA34b!H119","v":0},{"$f":"SA34b!I119","v":0},{"$f":"SA34b!J119","v":0},{"$f":"SA34b!K119","v":0}]
["Housing",null,{"$f":"SA34b!C131","v":0},{"$f":"SA34b!D131","v":0},{"$f":"SA34b!E131","v":0},{"$f":"SA34b!F131","v":0},{"$f":"SA34b!G131","v":0},{"$f":"SA34b!H131","v":0},{"$f":"SA34b!I131","v":0},{"$f":"SA34b!J131","v":0},{"$f":"SA34b!K131","v":0}]
["Other Assets",null,{"$f":"SUM(C55:C56)","v":0},{"$f":"SUM(D55:D56)","v":0},0,0,0,0,0,0,0]
["Biological or Cultivated Assets",null,{"$f":"SA34b!C136","v":0},{"$f":"SA34b!D136","v":0},{"$f":"SA34b!E136","v":0},{"$f":"SA34b!F136","v":0},{"$f":"SA34b!G136","v":0},{"$f":"SA34b!H136","v":0},{"$f":"SA34b!I136","v":0},{"$f":"SA34b!J136","v":0},{"$f":"SA34b!K136","v":0}]
["Servitudes",null,{"$f":"SA34b!C140","v":0},{"$f":"SA34b!D140","v":0},{"$f":"SA34b!E140","v":0},{"$f":"SA34b!F140","v":0},{"$f":"SA34b!G140","v":0},{"$f":"SA34b!H140","v":0},{"$f":"SA34b!I140","v":0},{"$f":"SA34b!J140","v":0},{"$f":"SA34b!K140","v":0}]
["Licences and Rights",null,{"$f":"SA34b!C141","v":0},{"$f":"SA34b!D141","v":0},{"$f":"SA34b!E141","v":0},{"$f":"SA34b!F141","v":0},{"$f":"SA34b!G141","v":0},{"$f":"SA34b!H141","v":0},{"$f":"SA34b!I141","v":0},{"$f":"SA34b!J141","v":0},{"$f":"SA34b!K141","v":0}]
["Intangible Assets",null,{"$f":"SUM(C59:C60)","v":0},{"$f":"SUM(D59:D60)","v":0},0,0,0,0,0,0,0]
["Computer Equipment",null,{"$f":"SA34b!C149","v":0},{"$f":"SA34b!D149","v":0},{"$f":"SA34b!E149","v":0},{"$f":"SA34b!F149","v":0},{"$f":"SA34b!G149","v":0},{"$f":"SA34b!H149","v":0},{"$f":"SA34b!I149","v":0},{"$f":"SA34b!J149","v":0},{"$f":"SA34b!K149","v":0}]
["Furniture and Office Equipment",null,{"$f":"SA34b!C152","v":0},{"$f":"SA34b!D152","v":0},{"$f":"SA34b!E152","v":0},{"$f":"SA34b!F152","v":0},{"$f":"SA34b!G152","v":0},{"$f":"SA34b!H152","v":0},{"$f":"SA34b!I152","v":0},{"$f":"SA34b!J152","v":0},{"$f":"SA34b!K152","v":0}]
["Machinery and Equipment",null,{"$f":"SA34b!C155","v":0},{"$f":"SA34b!D155","v":0},{"$f":"SA34b!E155","v":0},{"$f":"SA34b!F155","v":0},{"$f":"SA34b!G155","v":0},{"$f":"SA34b!H155","v":0},{"$f":"SA34b!I155","v":0},{"$f":"SA34b!J155","v":0},{"$f":"SA34b!K155","v":0}]
["Transport Assets",null,{"$f":"SA34b!C158","v":0},{"$f":"SA34b!D158","v":0},{"$f":"SA34b!E158","v":0},{"$f":"SA34b!F158","v":0},{"$f":"SA34b!G158","v":0},{"$f":"SA34b!H158","v":0},{"$f":"SA34b!I158","v":0},{"$f":"SA34b!J158","v":0},{"$f":"SA34b!K158","v":0}]
["Land",null,{"$f":"SA34b!C161","v":0},{"$f":"SA34b!D161","v":0},{"$f":"SA34b!E161","v":0},{"$f":"SA34b!F161","v":0},{"$f":"SA34b!G161","v":0},{"$f":"SA34b!H161","v":0},{"$f":"SA34b!I161","v":0},{"$f":"SA34b!J161","v":0},{"$f":"SA34b!K161","v":0}]
["Zoo's, Marine and Non-biological Animals",null,{"$f":"SA34b!C164","v":0},{"$f":"SA34b!D164","v":0},{"$f":"SA34b!E164","v":0},{"$f":"SA34b!F164","v":0},{"$f":"SA34b!G164","v":0},{"$f":"SA34b!H164","v":0},{"$f":"SA34b!I164","v":0},{"$f":"SA34b!J164","v":0},{"$f":"SA34b!K164","v":0}]
[]
["Total Upgrading of Existing Assets",6,{"$f":"C79+C82+C83+C86+C89+C90+SUM(C93:C99)","v":0},{"$f":"D79+D82+D83+D86+D89+D90+SUM(D93:D99)","v":0},17000,0,0,0,0,0,0]
["Roads Infrastructure",null,{"$f":"SA34e!C7","v":0},{"$f":"SA34e!D7","v":0},{"$f":"SA34e!E7","v":17000},{"$f":"SA34e!F7","v":0},{"$f":"SA34e!G7","v":0},{"$f":"SA34e!H7","v":0},{"$f":"SA34e!I7","v":0},{"$f":"SA34e!J7","v":0},{"$f":"SA34e!K7","v":0}]
["Storm water Infrastructure",null,{"$f":"SA34e!C12","v":0},{"$f":"SA34e!D12","v":0},{"$f":"SA34e!E12","v":0},{"$f":"SA34e!F12","v":0},{"$f":"SA34e!G12","v":0},{"$f":"SA34e!H12","v":0},{"$f":"SA34e!I12","v":0},{"$f":"SA34e!J12","v":0},{"$f":"SA34e!K12","v":0}]
["Electrical Infrastructure",null,{"$f":"SA34e!C16","v":0},{"$f":"SA34e!D16","v":0},{"$f":"SA34e!E16","v":0},{"$f":"SA34e!F16","v":0},{"$f":"SA34e!G16","v":0},{"$f":"SA34e!H16","v":0},{"$f":"SA34e!I16","v":0},{"$f":"SA34e!J16","v":0},{"$f":"SA34e!K16","v":0}]
["Water Supply Infrastructure",null,{"$f":"SA34e!C26","v":0},{"$f":"SA34e!D26","v":0},{"$f":"SA34e!E26","v":0},{"$f":"SA34e!F26","v":0},{"$f":"SA34e!G26","v":0},{"$f":"SA34e!H26","v":0},{"$f":"SA34e!I26","v":0},{"$f":"SA34e!J26","v":0},{"$f":"SA34e!K26","v":0}]
["Sanitation Infrastructure",null,{"$f":"SA34e!C37","v":0},{"$f":"SA34e!D37","v":0},{"$f":"SA34e!E37","v":0},{"$f":"SA34e!F37","v":0},{"$f":"SA34e!G37","v":0},{"$f":"SA34e!H37","v":0},{"$f":"SA34e!I37","v":0},{"$f":"SA34e!J37","v":0},{"$f":"SA34e!K37","v":0}]
["Solid Waste Infrastructure",null,{"$f":"SA34e!C44","v":0},{"$f":"SA34e!D44","v":0},{"$f":"SA34e!E44","v":0},{"$f":"SA34e!F44","v":0},{"$f":"SA34e!G44","v":0},{"$f":"SA34e!H44","v":0},{"$f":"SA34e!I44","v":0},{"$f":"SA34e!J44","v":0},{"$f":"SA34e!K44","v":0}]
["Rail Infrastructure",null,{"$f":"SA34e!C52","v":0},{"$f":"SA34e!D52","v":0},{"$f":"SA34e!E52","v":0},{"$f":"SA34e!F52","v":0},{"$f":"SA34e!G52","v":0},{"$f":"SA34e!H52","v":0},{"$f":"SA34e!I52","v":0},{"$f":"SA34e!J52","v":0},{"$f":"SA34e!K52","v":0}]
["Coastal Infrastructure",null,{"$f":"SA34e!C62","v":0},{"$f":"SA34e!D62","v":0},{"$f":"SA34e!E62","v":0},{"$f":"SA34e!F62","v":0},{"$f":"SA34e!G62","v":0},{"$f":"SA34e!H62","v":0},{"$f":"SA34e!I62","v":0},{"$f":"SA34e!J62","v":0},{"$f":"SA34e!K62","v":0}]
["Information and Communication Infrastructure",null,{"$f":"SA34e!C68","v":0},{"$f":"SA34e!D68","v":0},{"$f":"SA34e!E68","v":0},{"$f":"SA34e!F68","v":0},{"$f":"SA34e!G68","v":0},{"$f":"SA34e!H68","v":0},{"$f":"SA34e!I68","v":0},{"$f":"SA34e!J68","v":0},{"$f":"SA34e!K68","v":0}]
["Infrastructure",null,{"$f":"SUM(C70:C78)","v":0},0,17000,0,0,0,0,0,0]
["Community Facilities",null,{"$f":"SA34e!C75","v":0},{"$f":"SA34e!D75","v":0},{"$f":"SA34e!E75","v":0},{"$f":"SA34e!F75","v":0},{"$f":"SA34e!G75","v":0},{"$f":"SA34e!H75","v":0},{"$f":"SA34e!I75","v":0},{"$f":"SA34e!J75","v":0},{"$f":"SA34e!K75","v":0}]
["Sport and Recreation Facilities",null,{"$f":"SA34e!C98","v":0},{"$f":"SA34e!D98","v":0},{"$f":"SA34e!E98","v":0},{"$f":"SA34e!F98","v":0},{"$f":"SA34e!G98","v":0},{"$f":"SA34e!H98","v":0},{"$f":"SA34e!I98","v":0},{"$f":"SA34e!J98","v":0},{"$f":"SA34e!K98","v":0}]
["Community Assets",null,{"$f":"SUM(C80:C81)","v":0},0,0,0,0,0,0,0,0]
["Heritage Assets",null,{"$f":"SA34e!C103","v":0},{"$f":"SA34e!D103","v":0},{"$f":"SA34e!E103","v":0},{"$f":"SA34e!F103","v":0},{"$f":"SA34e!G103","v":0},{"$f":"SA34e!H103","v":0},{"$f":"SA34e!I103","v":0},{"$f":"SA34e!J103","v":0},{"$f":"SA34e!K103","v":0}]
["Revenue Generating",null,{"$f":"SA34e!C111","v":0},{"$f":"SA34e!D111","v":0},{"$f":"SA34e!E111","v":0},{"$f":"SA34e!F111","v":0},{"$f":"SA34e!G111","v":0},{"$f":"SA34e!H111","v":0},{"$f":"SA34e!I111","v":0},{"$f":"SA34e!J111","v":0},{"$f":"SA34e!K111","v":0}]
["Non-revenue Generating",null,{"$f":"SA34e!C114","v":0},{"$f":"SA34e!D114","v":0},{"$f":"SA34e!E114","v":0},{"$f":"SA34e!F114","v":0},{"$f":"SA34e!G114","v":0},{"$f":"SA34e!H114","v":0},{"$f":"SA34e!I114","v":0},{"$f":"SA34e!J114","v":0},{"$f":"SA34e!K114","v":0}]
["Investment properties",null,{"$f":"SUM(C84:C85)","v":0},0,0,0,0,0,0,0,0]
["Operational Buildings",null,{"$f":"SA34e!C119","v":0},{"$f":"SA34e!D119","v":0},{"$f":"SA34e!E119","v":0},{"$f":"SA34e!F119","v":0},{"$f":"SA34e!G119","v":0},{"$f":"SA34e!H119","v":0},{"$f":"SA34e!I119","v":0},{"$f":"SA34e!J119","v":0},{"$f":"SA34e!K119","v":0}]
["Housing",null,{"$f":"SA34e!C131","v":0},{"$f":"SA34e!D131","v":0},{"$f":"SA34e!E131","v":0},{"$f":"SA34e!F131","v":0},{"$f":"SA34e!G131","v":0},{"$f":"SA34e!H131","v":0},{"$f":"SA34e!I131","v":0},{"$f":"SA34e!J131","v":0},{"$f":"SA34e!K131","v":0}]
["Other Assets",null,{"$f":"SUM(C87:C88)","v":0},0,0,0,0,0,0,0,0]
["Biological or Cultivated Assets",null,{"$f":"SA34e!C136","v":0},{"$f":"SA34e!D136","v":0},{"$f":"SA34e!E136","v":0},{"$f":"SA34e!F136","v":0},{"$f":"SA34e!G136","v":0},{"$f":"SA34e!H136","v":0},{"$f":"SA34e!I136","v":0},{"$f":"SA34e!J136","v":0},{"$f":"SA34e!K136","v":0}]
["Servitudes",null,{"$f":"SA34e!C140","v":0},{"$f":"SA34e!D140","v":0},{"$f":"SA34e!E140","v":0},{"$f":"SA34e!F140","v":0},{"$f":"SA34e!G140","v":0},{"$f":"SA34e!H140","v":0},{"$f":"SA34e!I140","v":0},{"$f":"SA34e!J140","v":0},{"$f":"SA34e!K140","v":0}]
["Licences and Rights",null,{"$f":"SA34e!C141","v":0},{"$f":"SA34e!D141","v":0},{"$f":"SA34e!E141","v":0},{"$f":"SA34e!F141","v":0},{"$f":"SA34e!G141","v":0},{"$f":"SA34e!H141","v":0},{"$f":"SA34e!I141","v":0},{"$f":"SA34e!J141","v":0},{"$f":"SA34e!K141","v":0}]
["Intangible Assets",null,{"$f":"SUM(C91:C92)","v":0},0,0,0,0,0,0,0,0]
["Computer Equipment",null,{"$f":"SA34e!C149","v":0},{"$f":"SA34e!D149","v":0},{"$f":"SA34e!E149","v":0},{"$f":"SA34e!F149","v":0},{"$f":"SA34e!G149","v":0},{"$f":"SA34e!H149","v":0},{"$f":"SA34e!I149","v":0},{"$f":"SA34e!J149","v":0},{"$f":"SA34e!K149","v":0}]
["Furniture and Office Equipment",null,{"$f":"SA34e!C152","v":0},{"$f":"SA34e!D152","v":0},{"$f":"SA34e!E152","v":0},{"$f":"SA34e!F152","v":0},{"$f":"SA34e!G152","v":0},{"$f":"SA34e!H152","v":0},{"$f":"SA34e!I152","v":0},{"$f":"SA34e!J152","v":0},{"$f":"SA34e!K152","v":0}]
["Machinery and Equipment",null,{"$f":"SA34e!C155","v":0},{"$f":"SA34e!D155","v":0},{"$f":"SA34e!E155","v":0},{"$f":"SA34e!F155","v":0},{"$f":"SA34e!G155","v":0},{"$f":"SA34e!H155","v":0},{"$f":"SA34e!I155","v":0},{"$f":"SA34e!J155","v":0},{"$f":"SA34e!K155","v":0}]
["Transport Assets",null,{"$f":"SA34e!C158","v":0},{"$f":"SA34e!D158","v":0},{"$f":"SA34e!E158","v":0},{"$f":"SA34e!F158","v":0},{"$f":"SA34e!G158","v":0},{"$f":"SA34e!H158","v":0},{"$f":"SA34e!I158","v":0},{"$f":"SA34e!J158","v":0},{"$f":"SA34e!K158","v":0}]
["Land",null,{"$f":"SA34e!C161","v":0},{"$f":"SA34e!D161","v":0},{"$f":"SA34e!E161","v":0},{"$f":"SA34e!F161","v":0},{"$f":"SA34e!G161","v":0},{"$f":"SA34e!H161","v":0},{"$f":"SA34e!I161","v":0},{"$f":"SA34e!J161","v":0},{"$f":"SA34e!K161","v":0}]
["Zoo's, Marine and Non-biological Animals",null,{"$f":"SA34e!C164","v":0},{"$f":"SA34e!D164","v":0},{"$f":"SA34e!E164","v":0},{"$f":"SA34e!F164","v":0},{"$f":"SA34e!G164","v":0},{"$f":"SA34e!H164","v":0},{"$f":"SA34e!I164","v":0},{"$f":"SA34e!J164","v":0},{"$f":"SA34e!K164","v":0}]
[]
["Total Capital Expenditure",4,{"$f":"+C5+C37+C69","v":176242641},{"$f":"+D5+D37+D69","v":104957167},168679537,179276318.85999998,193660713.85999998,193660713.85999998,151554220,185822169,200551107]
["Roads Infrastructure",null,{"$f":"+C6+C38+C70","v":147740049},{"$f":"+D6+D38+D70","v":57162400},84341295,65206303.810000002,71993960.810000002,71993960.810000002,57540758,126854930,135758045]
["Storm water Infrastructure",null,{"$f":"+C7+C39+C71","v":0},0,3160235,5664654.4500000002,5664654.4500000002,5664654.4500000002,3680000,3236364,15508298]
["Electrical Infrastructure",null,3873785,14080000,13062763,15457760,22107760,22107760,15100000,9500000,17491920]
["Water Supply Infrastructure",null,0,0,0,0,0,0,0,0,0]
["Sanitation Infrastructure",null,0,0,0,0,0,0,0,0,0]
["Solid Waste Infrastructure",null,104223,3602000,2278685,1700000,0,0,3300000,0,0]
["Rail Infrastructure",null,0,0,0,0,0,0,0,0,0]
["Coastal Infrastructure",null,0,0,0,0,0,0,0,0,0]
["Information and Communication Infrastructure",null,0,0,0,0,0,0,0,0,0]
["Infrastructure",null,{"$f":"SUM(C102:C110)","v":151718057},{"$f":"SUM(D102:D110)","v":74844400},102842978,88028718.260000005,99766375.260000005,99766375.260000005,79620758,139591294,168758263]
["Community Facilities",null,{"$f":"+C16+C48+C80","v":6771504},{"$f":"+D16+D48+D80","v":18440000},16091917,4418446.4000000004,2118446.4,2118446.4,3100000,3900000,0]
["Sport and Recreation Facilities",null,{"$f":"+C17+C49+C81","v":1778188},{"$f":"+D17+D49+D81","v":6740167},46132125,63505496.339999996,66445396.339999996,66445396.339999996,43635415,38582889,27794111]
["Community Assets",null,{"$f":"SUM(C112:C113)","v":8549692},{"$f":"SUM(D112:D113)","v":25180167},62224042,67923942.739999995,68563842.739999995,68563842.739999995,46735415,42482889,27794111]
["Heritage Assets",null,{"$f":"+C19+C51+C83","v":0},{"$f":"+D19+D51+D83","v":0},0,0,0,0,0,0,0]
["Revenue Generating",null,{"$f":"+C20+C52+C84","v":0},{"$f":"+D20+D52+D84","v":0},0,0,0,0,0,0,0]
["Non-revenue Generating",null,{"$f":"+C21+C53+C85","v":0},{"$f":"+D21+D53+D85","v":0},0,0,0,0,0,0,0]
["Investment properties",null,{"$f":"SUM(C116:C117)","v":0},{"$f":"SUM(D116:D117)","v":0},0,0,0,0,0,0,0]
["Operational Buildings",null,{"$f":"+C23+C55+C87","v":15952719},{"$f":"+D23+D55+D87","v":1011116},617339,9383657.8599999994,8583657.8599999994,8583657.8599999994,7100047,3747986,3998733]
["Housing",null,{"$f":"+C24+C56+C88","v":0},{"$f":"+D24+D56+D88","v":0},0,0,0,0,0,0,0]
["Other Assets",null,{"$f":"SUM(C119:C120)","v":15952719},1011116,617339,9383657.8599999994,8583657.8599999994,8583657.8599999994,7100047,3747986,3998733]
["Biological or Cultivated Assets",null,{"$f":"+C26+C58+C90","v":0},{"$f":"+D26+D58+D90","v":0},0,0,0,0,0,0,0]
["Servitudes",null,{"$f":"+C27+C59+C91","v":0},{"$f":"+D27+D59+D91","v":0},0,0,0,0,0,0,0]
["Licences and Rights",null,{"$f":"+C28+C60+C92","v":0},{"$f":"+D28+D60+D92","v":20551},0,1050000,1050000,1050000,0,0,0]
["Intangible Assets",null,{"$f":"SUM(C123:C124)","v":0},{"$f":"SUM(D123:D124)","v":20551},0,1050000,1050000,1050000,0,0,0]
["Computer Equipment",null,{"$f":"+C30+C62+C94","v":0},{"$f":"+D30+D62+D94","v":369179},530822,380000,380000,380000,600000,0,0]
["Furniture and Office Equipment",null,{"$f":"+C31+C63+C95","v":22173},31754,505214,1660000,2466838,2466838,2618000,0,0]
["Machinery and Equipment",null,0,3500000,0,9750000,11750000,11750000,13430000,0,0]
["Transport Assets",null,0,0,1959142,1100000,1100000,1100000,1450000,0,0]
["Land",null,0,0,0,0,0,0,0,0,0]
["Zoo's, Marine and Non-biological Animals",null,0,0,0,0,0,0,0,0,0]
["TOTAL CAPITAL EXPENDITURE - Asset class",null,{"$f":"+C5+C37+C69","v":176242641},{"$f":"+D5+D37+D69","v":104957167},168679537,179276318.85999998,193660713.85999998,193660713.85999998,151554220,185822169,200551107]
[]
["ASSET REGISTER SUMMARY - PPE (WDV)",5,{"$f":"C144+C147+C148+C151+C154+C155+C158+C159+C160+C161+C162+C163+C164","v":678800559},{"$f":"D144+D147+D148+D151+D154+D155+D158+D159+D160+D161+D162+D163+D164","v":814981868},854921362,849067086.60473883,849067173.60473883,849067173.60473883,953552546.63218522,1125182904.1503232,1319291288.9744413]
["Roads Infrastructure",null,{"$f":"363041506+65974000","v":429015506},{"$f":"422618639+6255845+130831000","v":559705484},{"$f":"494156676-26715000","v":467441676},{"$f":"534835863-5306000","v":529529863},{"$f":"519623520+20000000-19690000","v":519933520},{"$f":"519623520+20000000-19690000","v":519933520},{"$f":"567683943.04+40169000-549000","v":607303943.03999996},{"$f":"598338875.96416+161898000","v":760236875.96415997},{"$f":"630649175.266225+303989000","v":934638175.26622498}]
["Storm water Infrastructure",null,0,0,0,0,0,0]
["Electrical Infrastructure",null,32599262,20664079,61595970,73629157.604738832,81756413.604738832,81756413.604738832,86007747.112185255,90652165.456243262,95547382.390880406]
["Water Supply Infrastructure",null,0,0,0,0,0,0]
["Sanitation Infrastructure",null,0,0,0,0,0,0]
["Solid Waste Infrastructure",null,5290278,0,{"$f":"6000935+169730","v":6170665},4997102,4797102,4797102,5046551.3040000005,5319065.0744160004,5606294.5884344643]
["Rail Infrastructure",null,0,0,0,0,0,0]
["Coastal Infrastructure",null,0,0,0,0,0,0]
["Information and Communication Infrastructure",null,0,0,0,0,0,0]
["Infrastructure",null,{"$f":"SUM(C135:C143)","v":466905046},{"$f":"SUM(D135:D143)","v":580369563},535208311,608156122.60473883,606487035.60473883,606487035.60473883,698358241.45618522,856208106.49481928,1035791852.2455399]
[]
[]
["Community Assets",null,210889862,234612305,1186274,201568321,203234136,203234136,213802311.072,225347635.86988801,237516408.20686197]
["Heritage Assets",null,548500,0,548500,0,0,0,0,0,0]
[]
[]
["Investment properties",null,249048,0,226559,0,0,0,0,0,0]
[]
[]
["Other Assets",null,0,0,259759100,0,0,0,0,0,0]
["Biological or Cultivated Assets"]
[]
[]
["Intangible Assets",null,208103,0,137774,0,0,0,0,0,0]
["Computer Equipment",null,0,0,3885554,{"$f":"2497928+180000+200000","v":2877928},3834755,3834755,4034162.2600000002,4252007.0220400002,4481615.4012301601]
["Furniture and Office Equipment",null,0,0,4241945,{"$f":"6607690+390000","v":6997690},7374528,7374528,7758003.4560000002,8176935.642624001,8618490.1673256978]
["Machinery and Equipment",null,0,0,6824904,{"$f":"1500000+400000+13443574+820000","v":16163574},14833268,14833268,15604597.936000001,16447246.224544002,17335397.520669378]
["Transport Assets",null,0,0,9072364,{"$f":"12703451+600000","v":13303451},13303451,13303451,13995230.452000001,14750972.896408003,15547525.432814036]
["Land",null,0,0,33830077,0,0,0,0,0,0]
["Zoo's, Marine and Non-biological Animals",null,0,0,0,0,0,0,0,0,0]
["TOTAL ASSET REGISTER SUMMARY - PPE (WDV)",5,{"$f":"C144+C147+C148+C151+C154+C155+C158+C159+C160+C161+C162+C163+C164","v":678800559},{"$f":"D144+D147+D148+D151+D154+D155+D158+D159+D160+D161+D162+D163+D164","v":814981868},854921362,849067086.60473883,849067173.60473883,849067173.60473883,953552546.63218522,1125182904.1503232,1319291288.9744413]
[]
["EXPENDITURE OTHER ITEMS",null,{"$f":"SUM(C168:C169)","v":27323555},{"$f":"SUM(D168:D169)","v":35208629},37927527,27142028.951964002,28709512.721964002,28709512.721964002,30035347.11102213,27645093.643545326,29351940.700296778]
["Depreciation",7,{"$f":"SA34d!C167","v":21569539},{"$f":"SA34d!D167","v":31106428},{"$f":"SA34d!E167","v":28680827},{"$f":"SA34d!F167","v":5043379.8119640006},{"$f":"SA34d!G167","v":5942211.5819640001},{"$f":"SA34d!H167","v":5942211.5819640001},{"$f":"SA34d!I167","v":5941747.3117421279},{"$f":"SA34d!J167","v":6250755.666576203},{"$f":"SA34d!K167","v":6588492.472571318}]
["Repairs and Maintenance by Asset Class",3,{"$f":"C179+C182+C183+C186+C189+C190+SUM(C193:C199)","v":5754016},{"$f":"D179+D182+D183+D186+D189+D190+SUM(D193:D199)","v":4102201},9246700,22098649.140000001,22767301.140000001,22767301.140000001,24093599.799280003,21394337.976969123,22763448.227725461]
["Roads Infrastructure",null,{"$f":"SA34c!C7","v":1045141},{"$f":"SA34c!D7","v":4102201},{"$f":"SA34c!E7","v":3785000},{"$f":"SA34c!F7","v":9315704},{"$f":"SA34c!G7","v":9984356},{"$f":"SA34c!H7","v":9984356},{"$f":"SA34c!I7","v":10503542.512},{"$f":"SA34c!J7","v":8666733.8076479994},{"$f":"SA34c!K7","v":9348553.4332609996}]
["Storm water Infrastructure",null,{"$f":"SA34c!C12","v":0},{"$f":"SA34c!D12","v":0},{"$f":"SA34c!E12","v":0},{"$f":"SA34c!F12","v":0},{"$f":"SA34c!G12","v":0},{"$f":"SA34c!H12","v":0},{"$f":"SA34c!I12","v":0},{"$f":"SA34c!J12","v":0},{"$f":"SA34c!K12","v":0}]
["Electrical Infrastructure",null,{"$f":"SA34c!C16","v":446360},{"$f":"SA34c!D16","v":0},{"$f":"SA34c!E16","v":1523000},{"$f":"SA34c!F16","v":4752470},{"$f":"SA34c!G16","v":4752470},{"$f":"SA34c!H16","v":4752470},{"$f":"SA34c!I16","v":4999598.4400000004},{"$f":"SA34c!J16","v":5269576.7557600001},{"$f":"SA34c!K16","v":5554133.9005710408}]
["Water Supply Infrastructure",null,{"$f":"SA34c!C26","v":0},{"$f":"SA34c!D26","v":0},{"$f":"SA34c!E26","v":0},{"$f":"SA34c!F26","v":0},{"$f":"SA34c!G26","v":0},{"$f":"SA34c!H26","v":0},{"$f":"SA34c!I26","v":0},{"$f":"SA34c!J26","v":0},{"$f":"SA34c!K26","v":0}]
["Sanitation Infrastructure",null,{"$f":"SA34c!C37","v":0},{"$f":"SA34c!D37","v":0},{"$f":"SA34c!E37","v":0},{"$f":"SA34c!F37","v":0},{"$f":"SA34c!G37","v":0},{"$f":"SA34c!H37","v":0},{"$f":"SA34c!I37","v":0},{"$f":"SA34c!J37","v":0},{"$f":"SA34c!K37","v":0}]
["Solid Waste Infrastructure",null,{"$f":"SA34c!C44","v":0},{"$f":"SA34c!D44","v":0},{"$f":"SA34c!E44","v":0},{"$f":"SA34c!F44","v":0},{"$f":"SA34c!G44","v":0},{"$f":"SA34c!H44","v":0},{"$f":"SA34c!I44","v":0},{"$f":"SA34c!J44","v":0},{"$f":"SA34c!K44","v":0}]
["Rail Infrastructure",null,{"$f":"SA34c!C52","v":0},{"$f":"SA34c!D52","v":0},{"$f":"SA34c!E52","v":0},{"$f":"SA34c!F52","v":0},{"$f":"SA34c!G52","v":0},{"$f":"SA34c!H52","v":0},{"$f":"SA34c!I52","v":0},{"$f":"SA34c!J52","v":0},{"$f":"SA34c!K52","v":0}]
["Coastal Infrastructure",null,{"$f":"SA34c!C62","v":0},{"$f":"SA34c!D62","v":0},{"$f":"SA34c!E62","v":0},{"$f":"SA34c!F62","v":0},{"$f":"SA34c!G62","v":0},{"$f":"SA34c!H62","v":0},{"$f":"SA34c!I62","v":0},{"$f":"SA34c!J62","v":0},{"$f":"SA34c!K62","v":0}]
["Information and Communication Infrastructure",null,{"$f":"SA34c!C68","v":0},{"$f":"SA34c!D68","v":0},{"$f":"SA34c!E68","v":0},{"$f":"SA34c!F68","v":0},{"$f":"SA34c!G68","v":0},{"$f":"SA34c!H68","v":0},{"$f":"SA34c!I68","v":0},{"$f":"SA34c!J68","v":0},{"$f":"SA34c!K68","v":0}]
["Infrastructure",null,{"$f":"SUM(C170:C178)","v":1491501},{"$f":"SUM(D170:D178)","v":4102201},5308000,14068174,14736826,14736826,15503140.952,13936310.563407999,14902687.33383204]
["Community Facilities",null,{"$f":"SA34c!C75","v":0},{"$f":"SA34c!D75","v":0},{"$f":"SA34c!E75","v":1032700},{"$f":"SA34c!F75","v":549933},{"$f":"SA34c!G75","v":549933},{"$f":"SA34c!H75","v":549933},{"$f":"SA34c!I75","v":578529.51600000006},{"$f":"SA34c!J75","v":609770.10986400011},{"$f":"SA34c!K75","v":642697.69579665619}]
["Sport and Recreation Facilities",null,{"$f":"SA34c!C98","v":0},{"$f":"SA34c!D98","v":0},{"$f":"SA34c!E98","v":745000},{"$f":"SA34c!F98","v":200000},{"$f":"SA34c!G98","v":200000},{"$f":"SA34c!H98","v":200000},{"$f":"SA34c!I98","v":210400},{"$f":"SA34c!J98","v":221761.6},{"$f":"SA34c!K98","v":233736.72640000001}]
["Community Assets",null,{"$f":"SUM(C180:C181)","v":0},0,1777700,749933,749933,749933,788929.51600000006,831531.70986400009,876434.42219665623]
["Heritage Assets",null,{"$f":"SA34c!C103","v":0},{"$f":"SA34c!D103","v":0},{"$f":"SA34c!E103","v":0},{"$f":"SA34c!F103","v":0},{"$f":"SA34c!G103","v":0},{"$f":"SA34c!H103","v":0},{"$f":"SA34c!I103","v":0},{"$f":"SA34c!J103","v":0},{"$f":"SA34c!K103","v":0}]
["Revenue Generating",null,{"$f":"SA34c!C111","v":0},{"$f":"SA34c!D111","v":0},{"$f":"SA34c!E111","v":0},{"$f":"SA34c!F111","v":0},{"$f":"SA34c!G111","v":0},{"$f":"SA34c!H111","v":0},{"$f":"SA34c!I111","v":0},{"$f":"SA34c!J111","v":0},{"$f":"SA34c!K111","v":0}]
["Non-revenue Generating",null,{"$f":"SA34c!C114","v":0},{"$f":"SA34c!D114","v":0},{"$f":"SA34c!E114","v":0},{"$f":"SA34c!F114","v":0},{"$f":"SA34c!G114","v":0},{"$f":"SA34c!H114","v":0},{"$f":"SA34c!I114","v":0},{"$f":"SA34c!J114","v":0},{"$f":"SA34c!K114","v":0}]
["Investment properties",null,{"$f":"SUM(C184:C185)","v":0},0,0,0,0,0,0,0,0]
["Operational Buildings",null,{"$f":"SA34c!C119","v":4251318},{"$f":"SA34c!D119","v":0},{"$f":"SA34c!E119","v":849000},{"$f":"SA34c!F119","v":1765731},{"$f":"SA34c!G119","v":1765731},{"$f":"SA34c!H119","v":1765731},{"$f":"SA34c!I119","v":1999948.0120000001},{"$f":"SA34c!J119","v":2107945.2046480002},{"$f":"SA34c!K119","v":2221774.2456989922}]
["Housing",null,{"$f":"SA34c!C131","v":0},{"$f":"SA34c!D131","v":0},{"$f":"SA34c!E131","v":0},{"$f":"SA34c!F131","v":0},{"$f":"SA34c!G131","v":0},{"$f":"SA34c!H131","v":0},{"$f":"SA34c!I131","v":0},{"$f":"SA34c!J131","v":0},{"$f":"SA34c!K131","v":0}]
["Other Assets",null,{"$f":"SUM(C187:C188)","v":4251318},0,849000,1765731,1765731,1765731,1999948.0120000001,2107945.2046480002,2221774.2456989922]
["Biological or Cultivated Assets",null,{"$f":"SA34c!C136","v":0},{"$f":"SA34c!D136","v":0},{"$f":"SA34c!E136","v":0},{"$f":"SA34c!F136","v":0},{"$f":"SA34c!G136","v":0},{"$f":"SA34c!H136","v":0},{"$f":"SA34c!I136","v":0},{"$f":"SA34c!J136","v":0},{"$f":"SA34c!K136","v":0}]
["Servitudes",null,{"$f":"SA34c!C140","v":0},{"$f":"SA34c!D140","v":0},{"$f":"SA34c!E140","v":0},{"$f":"SA34c!F140","v":0},{"$f":"SA34c!G140","v":0},{"$f":"SA34c!H140","v":0},{"$f":"SA34c!I140","v":0},{"$f":"SA34c!J140","v":0},{"$f":"SA34c!K140","v":0}]
["Licences and Rights",null,{"$f":"SA34c!C141","v":0},{"$f":"SA34c!D141","v":0},{"$f":"SA34c!E141","v":0},{"$f":"SA34c!F141","v":0},{"$f":"SA34c!G141","v":0},{"$f":"SA34c!H141","v":0},{"$f":"SA34c!I141","v":0},{"$f":"SA34c!J141","v":0},{"$f":"SA34c!K141","v":0}]
["Intangible Assets",null,{"$f":"SUM(C191:C192)","v":0},0,0,0,0,0,0,0,0]
["Computer Equipment",null,{"$f":"SA34c!C149","v":0},{"$f":"SA34c!D149","v":0},{"$f":"SA34c!E149","v":785000},{"$f":"SA34c!F149","v":1801663},{"$f":"SA34c!G149","v":1801663},{"$f":"SA34c!H149","v":1801663},{"$f":"SA34c!I149","v":1895349.476},{"$f":"SA34c!J149","v":1598000},{"$f":"SA34c!K149","v":1684292}]
["Furniture and Office Equipment",null,{"$f":"SA34c!C152","v":0},{"$f":"SA34c!D152","v":0},{"$f":"SA34c!E152","v":0},{"$f":"SA34c!F152","v":0},{"$f":"SA34c!G152","v":0},{"$f":"SA34c!H152","v":0},{"$f":"SA34c!I152","v":0},{"$f":"SA34c!J152","v":0},{"$f":"SA34c!K152","v":0}]
["Machinery and Equipment",null,{"$f":"SA34c!C155","v":0},{"$f":"SA34c!D155","v":0},{"$f":"SA34c!E155","v":312000},{"$f":"SA34c!F155","v":1100777.1400000011},{"$f":"SA34c!G155","v":1100777.1400000011},{"$f":"SA34c!H155","v":1100777.1400000011},{"$f":"SA34c!I155","v":1158017.5512800012},{"$f":"SA34c!J155","v":1220550.4990491213},{"$f":"SA34c!K155","v":1286460.2259977739}]
["Transport Assets",null,{"$f":"SA34c!C158","v":11197},{"$f":"SA34c!D158","v":0},{"$f":"SA34c!E158","v":215000},{"$f":"SA34c!F158","v":2612371},{"$f":"SA34c!G158","v":2612371},{"$f":"SA34c!H158","v":2612371},{"$f":"SA34c!I158","v":2748214.2919999999},{"$f":"SA34c!J158","v":1700000},{"$f":"SA34c!K158","v":1791800}]
["Land",null,{"$f":"SA34c!C161","v":0},{"$f":"SA34c!D161","v":0},{"$f":"SA34c!E161","v":0},{"$f":"SA34c!F161","v":0},{"$f":"SA34c!G161","v":0},{"$f":"SA34c!H161","v":0},{"$f":"SA34c!I161","v":0},{"$f":"SA34c!J161","v":0},{"$f":"SA34c!K161","v":0}]
["Zoo's, Marine and Non-biological Animals",null,{"$f":"SA34c!C164","v":0},{"$f":"SA34c!D164","v":0},{"$f":"SA34c!E164","v":0},{"$f":"SA34c!F164","v":0},{"$f":"SA34c!G164","v":0},{"$f":"SA34c!H164","v":0},{"$f":"SA34c!I164","v":0},{"$f":"SA34c!J164","v":0},{"$f":"SA34c!K164","v":0}]
[]
["TOTAL EXPENDITURE OTHER ITEMS",null,{"$f":"SUM(C168:C169)","v":27323555},35208629,37927527,27142028.951964002,28709512.721964002,28709512.721964002,30035347.11102213,27645093.643545326,29351940.700296778]
[]
["Renewal and upgrading of Existing Assets as % of total capex",null,{"$f":"IF(ISERROR((C37+C69)/C132),0,((C37+C69)/C132))","v":0.83007610513507912},{"$f":"IF(ISERROR((D37+D69)/D132),0,((D37+D69)/D132))","v":0.82871488899848067},0.17328370423497191,0.15107132225952266,0.13985030830558151,0.13985030830558151,0,0,0]
["Renewal and upgrading of Existing Assets as % of deprecn",null,{"$f":"IF(ISERROR((C37+C69)/C168),0,((C37+C69)/C168))","v":6.7824724951237947},{"$f":"IF(ISERROR((D37+D69)/D168),0,((D37+D69)/D168))","v":2.7961927033216414},1.0191273424577332,5.3701112249670322,4.5578165917559685,4.5578165917559685,0,0,0]
["R&M as a % of PPE",null,{"$f":"IF(ISERROR(ROUND(C169/'A6-FinPos'!C19,3)),0,(ROUND(C169/'A6-FinPos'!C19,3)))","v":8.9999999999999993E-3},{"$f":"IF(ISERROR(ROUND(D169/'A6-FinPos'!D19,3)),0,(ROUND(D169/'A6-FinPos'!D19,3)))","v":6.0000000000000001E-3},{"$f":"IF(ISERROR(ROUND(E169/'A6-FinPos'!E19,3)),0,(ROUND(E169/'A6-FinPos'!E19,3)))","v":1.0999999999999999E-2},{"$f":"IF(ISERROR(ROUND(F169/'A6-FinPos'!F19,3)),0,(ROUND(F169/'A6-FinPos'!F19,3)))","v":2.5999999999999999E-2},{"$f":"IF(ISERROR(ROUND(G169/'A6-FinPos'!G19,3)),0,(ROUND(G169/'A6-FinPos'!G19,3)))","v":2.7E-2},{"$f":"IF(ISERROR(ROUND(H169/'A6-FinPos'!H19,3)),0,(ROUND(H169/'A6-FinPos'!H19,3)))","v":2.7E-2},{"$f":"IF(ISERROR(ROUND(I169/'A6-FinPos'!J19,3)),0,(ROUND(I169/'A6-FinPos'!J19,3)))","v":2.5000000000000001E-2},{"$f":"IF(ISERROR(ROUND(J169/'A6-FinPos'!K19,3)),0,(ROUND(J169/'A6-FinPos'!K19,3)))","v":1.9E-2},{"$f":"IF(ISERROR(ROUND(K169/'A6-FinPos'!L19,3)),0,(ROUND(K169/'A6-FinPos'!L19,3)))","v":1.7000000000000001E-2}]
["Renewal and upgrading and R&M as a % of PPE",null,{"$f":"IF(ISERROR(ROUND((C37+C69+C169)/C165,2)),0,(ROUND((C37+C69+C169)/C165,2)))","v":0.22},{"$f":"IF(ISERROR(ROUND((D37+D69+D169)/D165,2)),0,(ROUND((D37+D69+D169)/D165,2)))","v":0.11},0.05,0.06,0.06,0.06,0.03,0.02,0.02]
[]
[{"$f":"head27a","v":"References"}]
["1. Detail of new assets provided in Table SA34a"]
["2. Detail of renewal of existing assets provided in Table SA34b"]
["3. Detail of Repairs and Maintenance by Asset Class provided in Table SA34c"]
["4. Must reconcile to total capital expenditure on Budgeted Capital Expenditure"]
["5. Must reconcile to 'Budgeted Financial Position' (written down value)"]
["6. Detail of upgrading of existing assets provided in Table SA34e"]
["7. Detail of depreciation provided in Table SA34d"]
[]
["Check balance to A6",null,{"$f":"C165-'A6-FinPos'!D17-'A6-FinPos'!D19-'A6-FinPos'!D20-'A6-FinPos'!D21-'A6-FinPos'!D22-C148","v":-265},{"$f":"D165-'A6-FinPos'!E17-'A6-FinPos'!E19-'A6-FinPos'!E20-'A6-FinPos'!E21-'A6-FinPos'!E22-D148","v":112},{"$f":"E165-'A6-FinPos'!F17-'A6-FinPos'!F19-'A6-FinPos'!F20-'A6-FinPos'!F21-'A6-FinPos'!F22-E148","v":-224.60473883152008},{"$f":"F165-'A6-FinPos'!G17-'A6-FinPos'!G19-'A6-FinPos'!G20-'A6-FinPos'!G21-'A6-FinPos'!G22-F148","v":-87},{"$f":"G165-'A6-FinPos'!H17-'A6-FinPos'!H19-'A6-FinPos'!H20-'A6-FinPos'!H21-'A6-FinPos'!H22-G148","v":0},{"$f":"H165-'A6-FinPos'!I17-'A6-FinPos'!I19-'A6-FinPos'!I20-'A6-FinPos'!I21-'A6-FinPos'!I22-H148","v":0},{"$f":"I165-'A6-FinPos'!J17-'A6-FinPos'!J19-'A6-FinPos'!J20-'A6-FinPos'!J21-'A6-FinPos'!J22-I148","v":-83.367814779281616},{"$f":"J165-'A6-FinPos'!K17-'A6-FinPos'!K19-'A6-FinPos'!K20-'A6-FinPos'!K21-'A6-FinPos'!K22-J148","v":-296.84967684745789},{"$f":"K165-'A6-FinPos'!L17-'A6-FinPos'!L19-'A6-FinPos'!L20-'A6-FinPos'!L21-'A6-FinPos'!L22-K148","v":-130.02555871009827}]

{"sheet":"A10-SerDel","index":19,"n_rows":89,"n_cols":11,"rows_kept":89,"cut":false,"hidden":false,"merged":[[1,5,1,7],[1,8,1,10],[1,0,2,0],[1,1,2,1]]}
[{"$f":"muni&\" - \"&Approve10","v":"LIM332 Greater Letaba - Table A10 Basic service delivery measurement"}]
[{"$f":"desc","v":"Description"},{"$f":"head27","v":"Ref"},{"$f":"head1b","v":"2015/16"},{"$f":"head1A","v":"2016/17"},{"$f":"Head1","v":"2017/18"},{"$f":"Head2","v":"Current Year 2018/19"},null,null,{"$f":"Head3","v":"2019/20 Medium Term Revenue & Expenditure Framework"}]
[null,null,{"$f":"Head5A","v":"Outcome"},{"$f":"Head5A","v":"Outcome"},{"$f":"Head5A","v":"Outcome"},{"$f":"Head6","v":"Original Budget"},{"$f":"Head7","v":"Adjusted Budget"},{"$f":"Head8","v":"Full Year Forecast"},{"$f":"Head9","v":"Budget Year 2019/20"},{"$f":"Head10","v":"Budget Year +1 2020/21"},{"$f":"Head11","v":"Budget Year +2 2021/22"}]
["Household service targets",1]
["Water:"]
["Piped water inside dwelling",null,{"$f":"'SA9'!E67","v":5948},{"$f":"'SA9'!F67","v":5948},{"$f":"'SA9'!G67","v":5948},{"$f":"'SA9'!H67","v":5948},{"$f":"'SA9'!I67","v":5948},{"$f":"'SA9'!J67","v":7948},{"$f":"'SA9'!K67","v":7948},{"$f":"'SA9'!L67","v":7948},{"$f":"'SA9'!M67","v":7948}]
["Piped water inside yard (but not in dwelling)",null,{"$f":"'SA9'!E68","v":20320},{"$f":"'SA9'!F68","v":20320},{"$f":"'SA9'!G68","v":20320},{"$f":"'SA9'!H68","v":20320},{"$f":"'SA9'!I68","v":20320},{"$f":"'SA9'!J68","v":21320},{"$f":"'SA9'!K68","v":21320},{"$f":"'SA9'!L68","v":21320},{"$f":"'SA9'!M68","v":21320}]
["Using public tap (at least min.service level)",2,{"$f":"'SA9'!E69","v":17276},{"$f":"'SA9'!F69","v":17276},{"$f":"'SA9'!G69","v":17276},{"$f":"'SA9'!H69","v":17276},{"$f":"'SA9'!I69","v":17276},{"$f":"'SA9'!J69","v":19277},{"$f":"'SA9'!K69","v":19277},{"$f":"'SA9'!L69","v":19277},{"$f":"'SA9'!M69","v":19277}]
["Other water supply (at least min.service level)",4,{"$f":"'SA9'!E70","v":0},{"$f":"'SA9'!F70","v":0},{"$f":"'SA9'!G70","v":0},{"$f":"'SA9'!H70","v":0},{"$f":"'SA9'!I70","v":0},{"$f":"'SA9'!J70","v":0},{"$f":"'SA9'!K70","v":0},{"$f":"'SA9'!L70","v":0},{"$f":"'SA9'!M70","v":0}]
["Minimum Service Level and Above sub-total",null,{"$f":"SUM(C6:C9)","v":43544},{"$f":"SUM(D6:D9)","v":43544},43544,43544,43544,48545,48545,48545,48545]
["Using public tap (< min.service level)",3,{"$f":"'SA9'!E72","v":7560},{"$f":"'SA9'!F72","v":7560},{"$f":"'SA9'!G72","v":7560},{"$f":"'SA9'!H72","v":7560},{"$f":"'SA9'!I72","v":7560},{"$f":"'SA9'!J72","v":9462},{"$f":"'SA9'!K72","v":9462},{"$f":"'SA9'!L72","v":9462},{"$f":"'SA9'!M72","v":9462}]
["Other water supply (< min.service level)",{"$f":"B9","v":4},{"$f":"'SA9'!E73","v":0},{"$f":"'SA9'!F73","v":0},{"$f":"'SA9'!G73","v":0},{"$f":"'SA9'!H73","v":0},{"$f":"'SA9'!I73","v":0},{"$f":"'SA9'!J73","v":9060},{"$f":"'SA9'!K73","v":9060},{"$f":"'SA9'!L73","v":9060},{"$f":"'SA9'!M73","v":9060}]
["No water supply",null,{"$f":"'SA9'!E74","v":7158},{"$f":"'SA9'!F74","v":7158},{"$f":"'SA9'!G74","v":7158},{"$f":"'SA9'!H74","v":7158},{"$f":"'SA9'!I74","v":7158},{"$f":"'SA9'!J74","v":0},{"$f":"'SA9'!K74","v":0},{"$f":"'SA9'!L74","v":0},{"$f":"'SA9'!M74","v":0}]
["Below Minimum Service Level sub-total",null,{"$f":"SUM(C11:C13)","v":14718},{"$f":"SUM(D11:D13)","v":14718},14718,14718,14718,18522,18522,18522,18522]
["Total number of households",5,{"$f":"C10+C14","v":58262},{"$f":"D10+D14","v":58262},58262,58262,58262,67067,67067,67067,67067]
["Sanitation/sewerage:"]
["Flush toilet (connected to sewerage)",null,{"$f":"'SA9'!E78","v":9458},{"$f":"'SA9'!F78","v":9458},{"$f":"'SA9'!G78","v":9458},{"$f":"'SA9'!H78","v":9458},{"$f":"'SA9'!I78","v":9458},{"$f":"'SA9'!J78","v":9003},{"$f":"'SA9'!K78","v":9003},{"$f":"'SA9'!L78","v":9003},{"$f":"'SA9'!M78","v":9003}]
["Flush toilet (with septic tank)",null,{"$f":"'SA9'!E79","v":7510},{"$f":"'SA9'!F79","v":7510},{"$f":"'SA9'!G79","v":7510},{"$f":"'SA9'!H79","v":7510},{"$f":"'SA9'!I79","v":7510},{"$f":"'SA9'!J79","v":8011},{"$f":"'SA9'!K79","v":8011},{"$f":"'SA9'!L79","v":8011},{"$f":"'SA9'!M79","v":8011}]
["Chemical toilet",null,{"$f":"'SA9'!E80","v":11477},{"$f":"'SA9'!F80","v":11477},{"$f":"'SA9'!G80","v":11477},{"$f":"'SA9'!H80","v":11477},{"$f":"'SA9'!I80","v":11477},{"$f":"'SA9'!J80","v":12012},{"$f":"'SA9'!K80","v":12012},{"$f":"'SA9'!L80","v":12012},{"$f":"'SA9'!M80","v":12012}]
["Pit toilet (ventilated)",null,{"$f":"'SA9'!E81","v":22409},{"$f":"'SA9'!F81","v":22409},{"$f":"'SA9'!G81","v":22409},{"$f":"'SA9'!H81","v":22409},{"$f":"'SA9'!I81","v":22409},{"$f":"'SA9'!J81","v":21012},{"$f":"'SA9'!K81","v":21012},{"$f":"'SA9'!L81","v":21012},{"$f":"'SA9'!M81","v":21012}]
["Other toilet provisions (> min.service level)",null,{"$f":"'SA9'!E82","v":0},{"$f":"'SA9'!F82","v":0},{"$f":"'SA9'!G82","v":0},{"$f":"'SA9'!H82","v":0},{"$f":"'SA9'!I82","v":0},{"$f":"'SA9'!J82","v":6008},{"$f":"'SA9'!K82","v":6008},{"$f":"'SA9'!L82","v":6008},{"$f":"'SA9'!M82","v":6008}]
[{"$f":"$A$10","v":"Minimum Service Level and Above sub-total"},null,{"$f":"SUM(C17:C21)","v":50854},{"$f":"SUM(D17:D21)","v":50854},50854,50854,50854,56046,56046,56046,56046]
["Bucket toilet",null,{"$f":"'SA9'!E84","v":336},{"$f":"'SA9'!F84","v":336},{"$f":"'SA9'!G84","v":336},{"$f":"'SA9'!H84","v":336},{"$f":"'SA9'!I84","v":336},{"$f":"'SA9'!J84","v":1000},{"$f":"'SA9'!K84","v":1000},{"$f":"'SA9'!L84","v":1000},{"$f":"'SA9'!M84","v":1000}]
["Other toilet provisions (< min.service level)",null,{"$f":"'SA9'!E85","v":791},{"$f":"'SA9'!F85","v":791},{"$f":"'SA9'!G85","v":791},{"$f":"'SA9'!H85","v":791},{"$f":"'SA9'!I85","v":791},{"$f":"'SA9'!J85","v":2011},{"$f":"'SA9'!K85","v":2011},{"$f":"'SA9'!L85","v":2011},{"$f":"'SA9'!M85","v":2011}]
["No toilet provisions",null,{"$f":"'SA9'!E86","v":6281},{"$f":"'SA9'!F86","v":6281},{"$f":"'SA9'!G86","v":6281},{"$f":"'SA9'!H86","v":6281},{"$f":"'SA9'!I86","v":6281},{"$f":"'SA9'!J86","v":8010},{"$f":"'SA9'!K86","v":8010},{"$f":"'SA9'!L86","v":8010},{"$f":"'SA9'!M86","v":8010}]
[{"$f":"$A$14","v":"Below Minimum Service Level sub-total"},null,{"$f":"SUM(C23:C25)","v":7408},{"$f":"SUM(D23:D25)","v":7408},7408,7408,7408,11021,11021,11021,11021]
[{"$f":"$A$15","v":"Total number of households"},{"$f":"$B$15","v":5},{"$f":"C22+C26","v":58262},{"$f":"D22+D26","v":58262},58262,58262,58262,67067,67067,67067,67067]
["Energy:"]
["Electricity (at least min.service level)",null,{"$f":"'SA9'!E90","v":53260},{"$f":"'SA9'!F90","v":53260},{"$f":"'SA9'!G90","v":53260},{"$f":"'SA9'!H90","v":53260},{"$f":"'SA9'!I90","v":53260},{"$f":"'SA9'!J90","v":56260},{"$f":"'SA9'!K90","v":56260},{"$f":"'SA9'!L90","v":56260},{"$f":"'SA9'!M90","v":56260}]
["Electricity - prepaid (min.service level)",null,{"$f":"'SA9'!E91","v":2002},{"$f":"'SA9'!F91","v":2002},{"$f":"'SA9'!G91","v":2002},{"$f":"'SA9'!H91","v":2002},{"$f":"'SA9'!I91","v":2002},{"$f":"'SA9'!J91","v":6002},{"$f":"'SA9'!K91","v":6002},{"$f":"'SA9'!L91","v":6002},{"$f":"'SA9'!M91","v":6002}]
[{"$f":"$A$10","v":"Minimum Service Level and Above sub-total"},null,{"$f":"SUM(C29:C30)","v":55262},{"$f":"SUM(D29:D30)","v":55262},55262,55262,55262,62262,62262,62262,62262]
["Electricity (< min.service level)",null,{"$f":"'SA9'!E93","v":0},{"$f":"'SA9'!F93","v":0},{"$f":"'SA9'!G93","v":0},{"$f":"'SA9'!H93","v":0},{"$f":"'SA9'!I93","v":0},{"$f":"'SA9'!J93","v":0},{"$f":"'SA9'!K93","v":0},{"$f":"'SA9'!L93","v":0},{"$f":"'SA9'!M93","v":0}]
["Electricity - prepaid (< min. service level)",null,{"$f":"'SA9'!E94","v":3000},{"$f":"'SA9'!F94","v":3000},{"$f":"'SA9'!G94","v":3000},{"$f":"'SA9'!H94","v":3000},{"$f":"'SA9'!I94","v":3000},{"$f":"'SA9'!J94","v":4805},{"$f":"'SA9'!K94","v":4805},{"$f":"'SA9'!L94","v":4805},{"$f":"'SA9'!M94","v":4805}]
["Other energy sources",null,{"$f":"'SA9'!E95","v":0},{"$f":"'SA9'!F95","v":0},{"$f":"'SA9'!G95","v":0},{"$f":"'SA9'!H95","v":0},{"$f":"'SA9'!I95","v":0},{"$f":"'SA9'!J95","v":0},{"$f":"'SA9'!K95","v":0},{"$f":"'SA9'!L95","v":0},{"$f":"'SA9'!M95","v":0}]
[{"$f":"$A$14","v":"Below Minimum Service Level sub-total"},null,{"$f":"SUM(C32:C34)","v":3000},{"$f":"SUM(D32:D34)","v":3000},3000,3000,3000,4805,4805,4805,4805]
[{"$f":"$A$15","v":"Total number of households"},{"$f":"$B$15","v":5},{"$f":"C31+C35","v":58262},{"$f":"D31+D35","v":58262},58262,58262,58262,67067,67067,67067,67067]
["Refuse:"]
["Removed at least once a week",null,{"$f":"'SA9'!E99","v":4954},{"$f":"'SA9'!F99","v":4954},{"$f":"'SA9'!G99","v":4954},{"$f":"'SA9'!H99","v":4954},{"$f":"'SA9'!I99","v":4954},{"$f":"'SA9'!J99","v":7454},{"$f":"'SA9'!K99","v":7454},{"$f":"'SA9'!L99","v":7454},{"$f":"'SA9'!M99","v":7454}]
[{"$f":"$A$10","v":"Minimum Service Level and Above sub-total"},null,{"$f":"SUM(C38)","v":4954},{"$f":"SUM(D38)","v":4954},4954,4954,4954,7454,7454,7454,7454]
["Removed less frequently than once a week",null,{"$f":"'SA9'!E101","v":478},{"$f":"'SA9'!F101","v":478},{"$f":"'SA9'!G101","v":478},{"$f":"'SA9'!H101","v":478},{"$f":"'SA9'!I101","v":478},{"$f":"'SA9'!J101","v":978},{"$f":"'SA9'!K101","v":978},{"$f":"'SA9'!L101","v":978},{"$f":"'SA9'!M101","v":978}]
["Using communal refuse dump",null,{"$f":"'SA9'!E102","v":651},{"$f":"'SA9'!F102","v":651},{"$f":"'SA9'!G102","v":651},{"$f":"'SA9'!H102","v":651},{"$f":"'SA9'!I102","v":651},{"$f":"'SA9'!J102","v":1051},{"$f":"'SA9'!K102","v":1051},{"$f":"'SA9'!L102","v":1051},{"$f":"'SA9'!M102","v":1051}]
["Using own refuse dump",null,{"$f":"'SA9'!E103","v":42815},{"$f":"'SA9'!F103","v":42815},{"$f":"'SA9'!G103","v":42815},{"$f":"'SA9'!H103","v":42815},{"$f":"'SA9'!I103","v":42815},{"$f":"'SA9'!J103","v":45815},{"$f":"'SA9'!K103","v":45815},{"$f":"'SA9'!L103","v":45815},{"$f":"'SA9'!M103","v":45815}]
["Other rubbish disposal",null,{"$f":"'SA9'!E104","v":8554},{"$f":"'SA9'!F104","v":8554},{"$f":"'SA9'!G104","v":8554},{"$f":"'SA9'!H104","v":8554},{"$f":"'SA9'!I104","v":8554},{"$f":"'SA9'!J104","v":10554},{"$f":"'SA9'!K104","v":10554},{"$f":"'SA9'!L104","v":10554},{"$f":"'SA9'!M104","v":10554}]
["No rubbish disposal",null,{"$f":"'SA9'!E105","v":810},{"$f":"'SA9'!F105","v":810},{"$f":"'SA9'!G105","v":810},{"$f":"'SA9'!H105","v":810},{"$f":"'SA9'!I105","v":810},{"$f":"'SA9'!J105","v":1215},{"$f":"'SA9'!K105","v":1215},{"$f":"'SA9'!L105","v":1215},{"$f":"'SA9'!M105","v":1215}]
[{"$f":"$A$14","v":"Below Minimum Service Level sub-total"},null,{"$f":"SUM(C40:C44)","v":53308},53308,53308,53308,53308,59613,59613,59613,59613]
[{"$f":"$A$15","v":"Total number of households"},{"$f":"$B$15","v":5},{"$f":"C39+C45","v":58262},{"$f":"D39+D45","v":58262},58262,58262,58262,67067,67067,67067,67067]
[]
["Households receiving Free Basic Service",7]
["Water (6 kilolitres per household per month)",null,{"$f":"'SA9'!E263","v":0},{"$f":"'SA9'!F263","v":0},{"$f":"'SA9'!G263","v":0},{"$f":"'SA9'!H263","v":120},{"$f":"'SA9'!I263","v":120},{"$f":"'SA9'!J263","v":120},{"$f":"'SA9'!K263","v":120},{"$f":"'SA9'!L263","v":120},{"$f":"'SA9'!M263","v":120}]
["Sanitation (free minimum level service)",null,{"$f":"'SA9'!E275","v":0},{"$f":"'SA9'!F275","v":0},{"$f":"'SA9'!G275","v":0},{"$f":"'SA9'!H275","v":0},{"$f":"'SA9'!I275","v":0},{"$f":"'SA9'!J275","v":0},{"$f":"'SA9'!K275","v":120},{"$f":"'SA9'!L275","v":120},{"$f":"'SA9'!M275","v":120}]
["Electricity/other energy (50kwh per household per month)",null,{"$f":"'SA9'!E251","v":0},{"$f":"'SA9'!F251","v":0},{"$f":"'SA9'!G251","v":0},{"$f":"'SA9'!H251","v":8000},{"$f":"'SA9'!I251","v":8000},{"$f":"'SA9'!J251","v":8000},{"$f":"'SA9'!K251","v":8000},{"$f":"'SA9'!L251","v":8000},{"$f":"'SA9'!M251","v":8000}]
["Refuse (removed at least once a week)",null,{"$f":"'SA9'!E287","v":0},{"$f":"'SA9'!F287","v":0},{"$f":"'SA9'!G287","v":0},{"$f":"'SA9'!H287","v":0},{"$f":"'SA9'!I287","v":0},{"$f":"'SA9'!J287","v":0},{"$f":"'SA9'!K287","v":120},{"$f":"'SA9'!L287","v":120},{"$f":"'SA9'!M287","v":120}]
[]
["Cost of Free Basic Services provided - Formal Settlements (R'000)",8]
["Water (6 kilolitres per indigent household per month)",null,{"$f":"'SA1'!C20","v":0},{"$f":"'SA1'!D20","v":0},{"$f":"'SA1'!E20","v":0},{"$f":"'SA1'!F20","v":0},{"$f":"'SA1'!G20","v":0},{"$f":"'SA1'!H20","v":0},{"$f":"'SA1'!J20","v":0},{"$f":"'SA1'!K20","v":0},{"$f":"'SA1'!L20","v":0}]
["Sanitation (free sanitation service to indigent households)",null,{"$f":"'SA1'!C26","v":0},{"$f":"'SA1'!D26","v":0},{"$f":"'SA1'!E26","v":0},{"$f":"'SA1'!F26","v":0},{"$f":"'SA1'!G26","v":0},{"$f":"'SA1'!H26","v":0},{"$f":"'SA1'!J26","v":0},{"$f":"'SA1'!K26","v":0},{"$f":"'SA1'!L26","v":0}]
["Electricity/other energy (50kwh per indigent household per month)",null,{"$f":"'SA1'!C14","v":0},{"$f":"'SA1'!D14","v":0},{"$f":"'SA1'!E14","v":0},{"$f":"'SA1'!F14","v":0},{"$f":"'SA1'!G14","v":0},{"$f":"'SA1'!H14","v":0},{"$f":"'SA1'!J14","v":0},{"$f":"'SA1'!K14","v":0},{"$f":"'SA1'!L14","v":0}]
["Refuse (removed once a week for indigent households)",null,{"$f":"'SA1'!C33","v":0},{"$f":"'SA1'!D33","v":0},{"$f":"'SA1'!E33","v":0},{"$f":"'SA1'!F33","v":0},{"$f":"'SA1'!G33","v":0},{"$f":"'SA1'!H33","v":0},{"$f":"'SA1'!J33","v":0},{"$f":"'SA1'!K33","v":0},{"$f":"'SA1'!L33","v":0}]
["Cost of Free Basic Services provided - Informal Formal Settlements (R'000)",null,{"$f":"'SA9'!E260+'SA9'!E272+'SA9'!E284+'SA9'!E296","v":0},{"$f":"'SA9'!F260+'SA9'!F272+'SA9'!F284+'SA9'!F296","v":0},{"$f":"'SA9'!G260+'SA9'!G272+'SA9'!G284+'SA9'!G296","v":0},{"$f":"'SA9'!H260+'SA9'!H272+'SA9'!H284+'SA9'!H296","v":0},{"$f":"'SA9'!I260+'SA9'!I272+'SA9'!I284+'SA9'!I296","v":0},{"$f":"'SA9'!J260+'SA9'!J272+'SA9'!J284+'SA9'!J296","v":0},{"$f":"'SA9'!K260+'SA9'!K272+'SA9'!K284+'SA9'!K296","v":0},{"$f":"'SA9'!L260+'SA9'!L272+'SA9'!L284+'SA9'!L296","v":0},{"$f":"'SA9'!M260+'SA9'!M272+'SA9'!M284+'SA9'!M296","v":0}]
["Total cost of FBS provided  ",null,{"$f":"SUM(C55:C59)","v":0},0,0,0,0,0,0,0,0]
[]
["Highest level of free service provided per household"]
["Property rates (R value threshold)"]
["Water (kilolitres per household per month)",null,8706000,8706000,8706000,3759.6,3759.6,3759.6,3759.6,3759.6,3759.6]
["Sanitation (kilolitres per household per month)",null,0,0]
["Sanitation (Rand per household per month)",null,72618000,72618000,72618000,24051.600000000002,24051.600000000002,24051.600000000002,24051.600000000002,24051.600000000002,24051.600000000002]
["Electricity (kwh per household per month)",null,9000,9000,9000,412400,412400,412400,412400,412400,412400]
["Refuse (average litres per week)"]
["Revenue  cost of subsidised services provided (R'000)",9]
["Property rates (tariff adjustment) ( impermissable values per section 17 of MPRA)"]
["Property rates  exemptions, reductions and rebates and impermissable values in excess of section 17 of MPRA)",null,{"$f":"'SA1'!C8","v":3243513},{"$f":"'SA1'!D8","v":2756775},{"$f":"'SA1'!E8","v":2045637},{"$f":"'SA1'!F8","v":3239430.07},{"$f":"'SA1'!G8","v":3239430.07},{"$f":"'SA1'!H8","v":3239430.07},{"$f":"'SA1'!J8","v":3407880},{"$f":"'SA1'!K8","v":3591906},{"$f":"'SA1'!L8","v":3785869}]
["Water (in excess of 6 kilolitres per indigent household per month)",null,{"$f":"'SA1'!C19","v":0},{"$f":"'SA1'!D19","v":0},{"$f":"'SA1'!E19","v":0},{"$f":"'SA1'!F19","v":0},{"$f":"'SA1'!G19","v":0},{"$f":"'SA1'!H19","v":0},{"$f":"'SA1'!J19","v":0},{"$f":"'SA1'!K19","v":0},{"$f":"'SA1'!L19","v":0}]
["Sanitation (in excess of free sanitation service to indigent households)",null,{"$f":"'SA1'!C25","v":0},{"$f":"'SA1'!D25","v":0},{"$f":"'SA1'!E25","v":0},{"$f":"'SA1'!F25","v":0},{"$f":"'SA1'!G25","v":0},{"$f":"'SA1'!H25","v":0},{"$f":"'SA1'!J25","v":0},{"$f":"'SA1'!K25","v":0},{"$f":"'SA1'!L25","v":0}]
["Electricity/other energy (in excess of 50 kwh per indigent household per month)",null,{"$f":"'SA1'!C13","v":0},{"$f":"'SA1'!D13","v":0},{"$f":"'SA1'!E13","v":0},{"$f":"'SA1'!F13","v":4220837.8099999996},{"$f":"'SA1'!G13","v":4220837.8099999996},{"$f":"'SA1'!H13","v":4220837.8099999996},{"$f":"'SA1'!J13","v":4440321},{"$f":"'SA1'!K13","v":4680099},{"$f":"'SA1'!L13","v":4932824}]
["Refuse (in excess of one removal a week for indigent households)",null,{"$f":"'SA1'!C32","v":46669},{"$f":"'SA1'!D32","v":0},{"$f":"'SA1'!E32","v":0},{"$f":"'SA1'!F32","v":491829.53},{"$f":"'SA1'!G32","v":491829.53},{"$f":"'SA1'!H32","v":491829.53},{"$f":"'SA1'!J32","v":517405},{"$f":"'SA1'!K32","v":545345},{"$f":"'SA1'!L32","v":574793}]
["Municipal Housing - rental rebates"]
["Housing - top structure subsidies",6]
["Other"]
["Total revenue cost of subsidised services provided ",null,{"$f":"SUM(C70:C78)","v":3290182},{"$f":"SUM(D70:D78)","v":2756775},2045637,7952097.4099999992,7952097.4099999992,7952097.4099999992,8365606,{"$f":"SUM(J70:J78)","v":8817350},{"$f":"SUM(K70:K78)","v":9293486}]
[{"$f":"head27a","v":"References"}]
["1. Include services provided by another entity; e.g. Eskom"]
["2. Stand distance <= 200m from dwelling"]
["3. Stand distance > 200m from dwelling"]
["4. Borehole, spring, rain-water tank etc."]
["5. Must agree to total number of households in municipal area (informal settlements receiving services must be included)"]
["6. Include value of subsidy provided by municipality above provincial subsidy level"]
["7. Show number of households receiving at least these levels of services completely free (informal settlements must be included)"]
["8. Must reflect the cost to the municipality of providing the Free Basic Service"]
["9. Reflect the cost to the municipality in terms of 'revenue foregone' of providing free services (note this will not equal 'Revenue Foregone' on SA1)"]

{"sheet":"SA1","index":20,"n_rows":179,"n_cols":12,"rows_kept":179,"cut":false,"hidden":false,"merged":[[1,9,1,11],[1,5,1,8],[1,0,2,0],[1,1,2,1]]}
[{"$f":"muni&\" - \"&TableA1","v":"LIM332 Greater Letaba - Supporting Table SA1 Supportinging detail to 'Budgeted Financial Performance'"}]
[{"$f":"desc","v":"Description"},{"$f":"head27","v":"Ref"},{"$f":"head1b","v":"2015/16"},{"$f":"head1A","v":"2016/17"},{"$f":"Head1","v":"2017/18"},{"$f":"Head2","v":"Current Year 2018/19"},null,null,null,{"$f":"Head3","v":"2019/20 Medium Term Revenue & Expenditure Framework"}]
[null,null,{"$f":"Head5","v":"Audited Outcome"},{"$f":"Head5","v":"Audited Outcome"},{"$f":"Head5","v":"Audited Outcome"},{"$f":"Head6","v":"Original Budget"},{"$f":"Head7","v":"Adjusted Budget"},{"$f":"Head8","v":"Full Year Forecast"},{"$f":"Head5b","v":"Pre-audit outcome"},{"$f":"Head9","v":"Budget Year 2019/20"},{"$f":"Head10","v":"Budget Year +1 2020/21"},{"$f":"Head11","v":"Budget Year +2 2021/22"}]
["R thousand"]
["REVENUE ITEMS:"]
[{"$f":"'A4-FinPerf RE'!A5","v":"Property rates"},6]
["Total Property Rates",null,12221107,{"$f":"11845856+2756775","v":14602631},{"$f":"8599768+2045637","v":10645405},15494757.640000001,20102716.640000001,20102716.640000001,20102716.640000001,21148058,22290053,23493716]
["less Revenue Foregone (exemptions, reductions and rebates and impermissable values in excess of section 17 of MPRA)",null,3243513,2756775,2045637,3239430.07,3239430.07,3239430.07,3239430.07,3407880,3591906,3785869]
["Net Property Rates",null,{"$f":"C7-C8","v":8977594},{"$f":"D7-D8","v":11845856},8599768,12255327.57,16863286.57,16863286.57,16863286.57,17740178,18698147,19707847]
[]
[{"$f":"'A4-FinPerf RE'!A6","v":"Service charges - electricity revenue"},6]
[{"$f":"\"Total \"&A11","v":"Total Service charges - electricity revenue"},null,9282999,9782575,9667754,16887481.02,28695481.02,28695481.02,28695481.02,30179230,31808908,33526590]
["less Revenue Foregone (in excess of 50 kwh per indigent household per month)",null,0,0,0,4220837.8099999996,4220837.8099999996,4220837.8099999996,4220837.8099999996,4440321,4680099,4932824]
["less Cost of Free Basis Services (50 kwh per indigent household per month)",null,{"$f":"'SA9'!E250","v":0},{"$f":"'SA9'!F250","v":0},{"$f":"'SA9'!G250","v":0},{"$f":"'SA9'!H250","v":0},{"$f":"'SA9'!I250","v":0},{"$f":"'SA9'!J250","v":0},1046141,{"$f":"'SA9'!K250","v":0},{"$f":"'SA9'!L250","v":0},{"$f":"'SA9'!M250","v":0}]
[{"$f":"\"Net \"& A11","v":"Net Service charges - electricity revenue"},null,{"$f":"C12-C13-C14","v":9282999},{"$f":"D12-D13-D14","v":9782575},9667754,12666643.210000001,24474643.210000001,24474643.210000001,23428502.210000001,25738909,27128809,28593766]
[]
[{"$f":"'A4-FinPerf RE'!A7","v":"Service charges - water revenue"},6]
[{"$f":"\"Total \"&A17","v":"Total Service charges - water revenue"}]
["less Revenue Foregone (in excess of 6 kilolitres per indigent household per month)"]
["less Cost of Free Basis Services (6 kilolitres per indigent household per month)",null,{"$f":"'SA9'!E262","v":0},{"$f":"'SA9'!F262","v":0},{"$f":"'SA9'!G262","v":0},{"$f":"'SA9'!H262","v":0},{"$f":"'SA9'!I262","v":0},{"$f":"'SA9'!J262","v":0},null,{"$f":"'SA9'!K262","v":0},{"$f":"'SA9'!L262","v":0},{"$f":"'SA9'!M262","v":0}]
[{"$f":"\"Net \"& A17","v":"Net Service charges - water revenue"},null,{"$f":"C18-C19-C20","v":0},{"$f":"D18-D19-D20","v":0},0,0,0,0,0,0,0,0]
[]
[{"$f":"'A4-FinPerf RE'!A8","v":"Service charges - sanitation revenue"}]
[{"$f":"\"Total \"&A23","v":"Total Service charges - sanitation revenue"}]
["less Revenue Foregone (in excess of free sanitation service to indigent households)"]
["less Cost of Free Basis Services (free sanitation service to indigent households)",null,{"$f":"'SA9'!E274","v":0},{"$f":"'SA9'!F274","v":0},{"$f":"'SA9'!G274","v":0},{"$f":"'SA9'!H274","v":0},{"$f":"'SA9'!I274","v":0},{"$f":"'SA9'!J274","v":0},null,{"$f":"'SA9'!K274","v":0},{"$f":"'SA9'!L274","v":0},{"$f":"'SA9'!M274","v":0}]
[{"$f":"\"Net \"& A23","v":"Net Service charges - sanitation revenue"},null,{"$f":"C24-C25-C26","v":0},{"$f":"D24-D25-D26","v":0},0,0,0,0,0,0,0,0]
[]
[{"$f":"'A4-FinPerf RE'!A9","v":"Service charges - refuse revenue"},6]
["Total refuse removal revenue",null,3693210,4053445,4193295,6735226.3499999996,8735226.3499999996,8735226.3499999996,8735226.3499999996,9189458,9685689,10208716]
["Total landfill revenue",null,0,0,0,null,0,0,0,0,0,0]
["less Revenue Foregone (in excess of one removal a week to indigent households)",null,46669,null,null,491829.53,491829.53,491829.53,491829.53,517405,545345,574793]
["less Cost of Free Basis Services  (removed once a week to indigent households)",null,{"$f":"'SA9'!E286","v":0},{"$f":"'SA9'!F286","v":0},{"$f":"'SA9'!G286","v":0},{"$f":"'SA9'!H286","v":0},{"$f":"'SA9'!I286","v":0},{"$f":"'SA9'!J286","v":0},0,{"$f":"'SA9'!K286","v":0},{"$f":"'SA9'!L286","v":0},{"$f":"'SA9'!M286","v":0}]
[{"$f":"\"Net \"& A29","v":"Net Service charges - refuse revenue"},null,{"$f":"SUM(C30:C31)-C32-C33","v":3646541},{"$f":"SUM(D30:D31)-D32-D33","v":4053445},4193295,6243396.8199999994,8243396.8199999994,8243396.8199999994,8243396.8199999994,8672053,9140344,9633923]
[]
["Other Revenue by source"]
["Prepaid Electricity",null,63309,0,0,158314.26,2781300.26,2781300.26,2781300.26,2925929,3083929,3250461]
["Interest FNB",null,1993515,0,0,3602066.89,3602066.89,3602066.89,3602066.89,3789374,3994001,4209677]
["Sale of Tender documents",null,879976,0,0,1376799.43,1376799.43,1376799.43,1376799.43,1448393,1526606,1609043]
["Other revenue",null,344160,1239860,842364,1058402.1000000001,{"$f":"1058402.1-7999","v":1050403.1000000001},{"$f":"1058402.1-7999","v":1050403.1000000001},{"$f":"1058402.1-7999","v":1050403.1000000001},1113439,1173565,1236937]
["Investment witdrawals",null,0,0,0,23390000,23390000,23390000,23390000,0,0,0]
["Income: Awards",null,0,0,0,0,0,0,0,0,0,0]
["Debt collection services",null,0,0,0,2000000,2000000,2000000,2000000,2104000,2217616,2337367]
["Revenue from outdoor adverts",null,0,0,0,1200000,1200000,1200000,1200000,1262400,1330570,1402420]
["Ga-Kgapane Ext 5 loan accounts",null,0,0,0,2000000,2000000,2000000,2000000,2104000,2217616,2337367]
[]
[]
[null,3]
["Total 'Other' Revenue",1,{"$f":"SUM(C37:C48)","v":3280960},{"$f":"SUM(D37:D48)","v":1239860},842364,34785582.68,37400569.68,37400569.68,37400569.68,14747535,15543903,16383272]
[]
["EXPENDITURE ITEMS:"]
[{"$f":"'A4-FinPerf RE'!A24","v":"Employee related costs"}]
["Basic Salaries and Wages",2,40648962,42332560,45210928,49033296.490000002,63079148.490000002,63079148.490000002,63079148.490000002,66697279,71299392,76219050]
["Pension and UIF Contributions",null,8633797,9340584,10137519,9941819.1400000006,10963921.140000001,10963921.140000001,10963921.140000001,12700717,13577067,14513885]
["Medical Aid Contributions",null,2774478,3230794,3723940,3788001.87,4315789.87,4315789.87,4315789.87,5705868,6099573,6520444]
["Overtime",null,4264517,4619370,4557051,2767431.78,3902753.78,3902753.78,3902753.78,5404937,5777877,6176551]
["Performance Bonus",null,3001520,3092283,3589321,4651085.8099999996,3770739.8099999996,3770739.8099999996,3770739.8099999996,5412000,5785428,6184623]
["Motor Vehicle Allowance",null,3049722,3309934,4333619,4658216.47,5173353.47,5173353.47,5173353.47,6206321,6634557,7092342]
["Cellphone Allowance",null,0,0,0,0,0,0,0,0,0,0]
["Housing Allowances",null,584944,661691,419332,494732.71,717566.71,717566.71,717566.71,745999,797473,852499]
["Other benefits and allowances",null,374751,400323,1201410,{"$f":"382582.41+25671.73+304149.52+164025.39","v":876429.04999999993},1154988.0499999998,1154988.0499999998,1154988.0499999998,{"$f":"624389+28568+620852+960000","v":2233809},{"$f":"667472+30540+663690+1026240","v":2387942},{"$f":"713528+32647+709485+1097051","v":2552711}]
["Payments in lieu of leave",null,1073848,1389476,1541100,2092783.93,2188030.9299999997,2188030.9299999997,2188030.9299999997,2529205,2703720,2890276]
["Long service awards",null,0,0,0,0,0,0,0,0,0,0]
["Post-retirement benefit obligations",4]
["sub-total",5,{"$f":"SUM(C53:C64)","v":64406539},{"$f":"SUM(D53:D64)","v":68377015},74714220,78303797.25,95266292.25,95266292.25,95266292.25,107636135,115063029,123002381]
["Less: Employees costs capitalised to PPE"]
[{"$f":"\"Total \"&A52","v":"Total Employee related costs"},1,{"$f":"C65-C66","v":64406539},{"$f":"D65-D66","v":68377015},74714220,78303797.25,95266292.25,95266292.25,95266292.25,107636135,115063029,123002381]
[]
["Contributions recognised - capital"]
["List contributions by contract"]
[]
[]
[]
[]
[]
[{"$f":"\"Total \"&A69","v":"Total Contributions recognised - capital"},null,{"$f":"SUM(C70:C75)","v":0},0,0,0,0,0,0,0,0,0]
[]
[{"$f":"'A4-FinPerf RE'!A27","v":"Depreciation & asset impairment"}]
["Depreciation of Property, Plant & Equipment",null,21569539,31106428,28680829,5043379.8099999996,5942210.8099999996,5942210.8099999996,5942210.8099999996,6251207,6588772,6944565]
["Lease amortisation"]
["Capital asset impairment"]
["Depreciation resulting from revaluation of PPE",10]
[{"$f":"\"Total \"&LEFT(A78,35)","v":"Total Depreciation & asset impairment"},1,{"$f":"SUM(C79:C81)-C82","v":21569539},{"$f":"SUM(D79:D81)-D82","v":31106428},28680829,5043379.8099999996,5942210.8099999996,5942210.8099999996,5942210.8099999996,{"$f":"SUM(J79:J81)-J82","v":6251207},6588772,6944565]
[]
[{"$f":"'A4-FinPerf RE'!A29","v":"Bulk purchases"}]
["Electricity Bulk Purchases",null,8728768,13029942,14679655,17096559,17096559,17096559,17096559,17985580,18956801,19980468]
["Water Bulk Purchases"]
["Total bulk purchases",1,{"$f":"SUM(C86:C87)","v":8728768},{"$f":"SUM(D86:D87)","v":13029942},14679655,17096559,17096559,17096559,17096559,17985580,18956801,19980468]
[]
["Transfers and grants"]
["Cash transfers and grants",null,{"$f":"'SA21'!C32","v":0},{"$f":"'SA21'!D32","v":0},{"$f":"'SA21'!E32","v":0},{"$f":"'SA21'!F32","v":0},{"$f":"'SA21'!G32","v":0},{"$f":"'SA21'!H32","v":0},{"$f":"'SA21'!I32","v":0},{"$f":"'SA21'!J32","v":0},{"$f":"'SA21'!K32","v":0},{"$f":"'SA21'!L32","v":0}]
["Non-cash transfers and grants",null,{"$f":"'SA21'!C63","v":0},{"$f":"'SA21'!D63","v":0},{"$f":"'SA21'!E63","v":0},{"$f":"'SA21'!F63","v":0},{"$f":"'SA21'!G63","v":0},{"$f":"'SA21'!H63","v":0},{"$f":"'SA21'!I63","v":0},{"$f":"'SA21'!J63","v":0},{"$f":"'SA21'!K63","v":0},{"$f":"'SA21'!L63","v":0}]
["Total transfers and grants",1,{"$f":"SUM(C91:C92)","v":0},{"$f":"SUM(D91:D92)","v":0},0,0,0,0,0,0,0,0]
[]
[{"$f":"'A4-FinPerf RE'!A31","v":"Contracted services"}]
["Security services",null,null,6389496,null,7365025.4714000002,11622054.4714,11622054.4714,11622054.4714,8470325,8927723,9409820]
["Operating lease",null,null,307381,null,2638500,2638500,2638500,2638500,6841629,7211077,7600475]
["Meter readings",null,null,50077,null,400000,400000,400000,400000,0,0,0]
["Refuse removal",null,null,1609327,null,1605011.031,1605011.031,1605011.031,1605011.031,605477,638173,672634]
["Valuation services",null,null,null,null,0,0,0,0,0,0,0]
["Unbundling of assets",null,null,null,null,1500000,1500000,1500000,1500000,1500000,1581000,1666374]
["Annual Financial Statements",null,null,null,null,800000,800000,800000,800000,853900,900011,948611]
["Banking Services",null,null,null,null,105300,105300,105300,105300,105300,110986,116979]
["Accounts printing services",null,null,null,null,250000,250000,250000,250000,0,0,0]
["Debt collection services",null,null,null,null,100000,100000,100000,100000,0,0,0]
["Easy Pay services",null,null,null,null,250000,250000,250000,250000,0,0,0]
["Temporary Workers",null,null,null,null,105300,105300,105300,105300,65300,68826,72543]
["Other contractors",null,9272936,4975100,13883089,0,0,0,0,1017695,1072653,1130574]
["Specialist services",null,null,72839,null,0,0,0,0,0,0,0]
[]
[]
[]
[]
[]
[]
[]
[]
[]
[]
[]
["sub-total",1,{"$f":"SUM(C96:C120)","v":9272936},13404220,13883089,15119136.5024,19376165.5024,19376165.5024,19376165.5024,19459626,20510449,21618010]
["Allocations to organs of state:"]
["Electricity"]
["Water"]
["Sanitation"]
["Other"]
["Total contracted services",null,{"$f":"SUM(C121:C126)","v":9272936},{"$f":"SUM(D121:D126)","v":13404220},13883089,15119136.5024,19376165.5024,19376165.5024,19376165.5024,19459626,20510449,21618010]
[]
["Other Expenditure By Type"]
["Collection costs"]
["Contributions to 'other' provisions"]
["Consultant fees"]
["Audit fees",null,null,null,null,4742067.26,4742067.26,4742067.26,4742067.26]
["General expenses",3,52526051,56929820,{"$f":"75634027","v":75634027},52012568.960000001,{"$f":"80891488.96+649","v":80892137.959999993},{"$f":"80891488.96+649","v":80892137.959999993},80892137.959999993,107032010,99450522,104671433]
[" Ward Committee Meetings & Workshops",null,0,0,null,3910052.25,3610052.25,3610052.25,3610052.25]
[" Bursary Scheme",null,0,0,null,2234676,1634676,1634676,1634676]
[" Internship Program (Finance)",null,0,0,null,2145000,2145000,2145000,2145000]
["Imbizos",null,0,0,null,400000,400000,400000,400000]
["Public Participation",null,0,0,null,500000,1452350.7,1452350.7,1452350.7]
[" Repair and maintenance",null,5754017,4102201,null,17098649.140000001,17767302.140000001,17767302.140000001,17767302.140000001,24093399,21394443,22765743]
["Mayor Excellence Award",null,18646,98007,null,400000,300000,300000,300000]
[]
[]
[]
[]
[]
[]
[]
[]
[]
[]
[]
[]
[]
[]
[]
["Total 'Other' Expenditure",1,{"$f":"SUM(C130:C156)","v":58298714},{"$f":"SUM(D130:D156)","v":61130028},75634027,83443013.609999999,112943586.31,112943586.31,112943586.31,131125409,120844965,127437176]
[]
["Repairs and Maintenance \nby Expenditure Item",8]
["Employee related costs"]
["Other materials"]
["Contracted Services"]
["Other Expenditure"]
["Total Repairs and Maintenance Expenditure",9,{"$f":"SUM(C160:C163)","v":0},{"$f":"SUM(D160:D163)","v":0},0,0,0,0,0,0,0,0]
[]
["check",null,{"$f":"C164-SA34c!C167","v":-5754016},{"$f":"D164-SA34c!D167","v":-4102201},{"$f":"E164-SA34c!E167","v":-9246700},{"$f":"F164-SA34c!F167","v":-22098649.140000001},{"$f":"G164-SA34c!G167","v":-22767301.140000001},{"$f":"H164-SA34c!H167","v":-22767301.140000001},null,{"$f":"J164-SA34c!I167","v":-24093599.799279999},{"$f":"K164-SA34c!J167","v":-21394337.976969119},{"$f":"L164-SA34c!K167","v":-22763448.227725461}]
[]
[]
[{"$f":"head27a","v":"References"}]
["1. Must reconcile with 'Budgeted Financial Performance (Revenue and Expenditure)"]
["2. Must reconcile to supporting documentation on staff salaries"]
["3. Insert other categories where revenue or expenditure is of a material nature (list separate items until 'General expenses' is not > 10% of Total Expenditure)"]
["4. Expenditure to meet any 'unfunded obligations'"]
["5 This sub-total must agree with the total on SA22, but excluding councillor and board member items"]
["6. Include a note for each revenue item that is affected by 'revenue foregone'"]
["7. Special consideration may have to be given to including 'goodwill arising' or 'joint venture' budgets where circumstances require this (include separately under relevant notes)"]
["8. Repairs and Maintenance is not a GRAP item. However to facilitate transparency, municipalities must provide a breakdown of the amounts included in the relevant GRAP items that will be spent on Repairs and Maintenance."]
["9. Must reconcile with Repairs and Maintenance by Asset Class (Total Repairs and Maintenance) on Table SA34c."]
["10. Only applicable to municipalities that have adopted the 'revaluation method' in GRAP 17. The aim is to prevent overstating 'depreciation and asset impairment'"]

{"sheet":"SA2","index":21,"n_rows":44,"n_cols":18,"rows_kept":44,"cut":false,"hidden":false,"merged":[[1,6,2,6],[1,7,2,7],[1,2,2,2],[1,3,2,3],[1,4,2,4],[1,5,2,5],[1,16,2,16],[1,17,2,17],[1,8,2,8],[1,9,2,9],[1,10,2,10],[1,11,2,11],[1,12,2,12],[1,13,2,13],[1,14,2,14],[1,15,2,15]]}
[{"$f":"muni&\" - \"&TableA2","v":"LIM332 Greater Letaba - Supporting Table SA2 Matrix Financial Performance Budget (revenue source/expenditure type and dept.)"}]
[{"$f":"desc","v":"Description"},{"$f":"head27","v":"Ref"},{"$f":"'A3-FinPerf V'!A5","v":"Vote 1 - Executive & Council"},{"$f":"'A3-FinPerf V'!A6","v":"Vote 2 - Finance and Administration"},{"$f":"'A3-FinPerf V'!A7","v":"Vote 3 - Internal Audit"},{"$f":"'A3-FinPerf V'!A8","v":"Vote 4 - Community and Public Safety"},{"$f":"'A3-FinPerf V'!A9","v":"Vote 5 - Sports and Recreation"},{"$f":"'A3-FinPerf V'!A10","v":"Vote 6 - Housing"},{"$f":"'A3-FinPerf V'!A11","v":"Vote 7 - Planning and development "},{"$f":"'A3-FinPerf V'!A12","v":"Vote 8 - Road Transport"},{"$f":"'A3-FinPerf V'!A13","v":"Vote 9 - Energy Sources"},{"$f":"'A3-FinPerf V'!A14","v":"Vote 10 - Waste Water Management"},{"$f":"'A3-FinPerf V'!A15","v":"Vote 11 - Waste Management"},{"$f":"'A3-FinPerf V'!A16","v":"Vote 12 - [NAME OF VOTE 12]"},{"$f":"'A3-FinPerf V'!A17","v":"Vote 13 - [NAME OF VOTE 13]"},{"$f":"'A3-FinPerf V'!A18","v":"Vote 14 - [NAME OF VOTE 14]"},{"$f":"'A3-FinPerf V'!A19","v":"Vote 15 - [NAME OF VOTE 15]"},"Total"]
["R thousand",1,"R'000","R'000","R'000","R'000","R'000","R'000",null,null,null,null,null,null,null,null,"R'000","R'000"]
[{"$f":"'A4-FinPerf RE'!A4","v":"Revenue By Source"}]
[{"$f":"'A4-FinPerf RE'!A5","v":"Property rates"},null,null,17740178,null,null,null,null,null,null,null,null,null,null,null,null,null,{"$f":"SUM(C5:Q5)","v":17740178}]
[{"$f":"'A4-FinPerf RE'!A6","v":"Service charges - electricity revenue"},null,null,null,null,null,null,null,null,null,25738909,null,null,null,null,null,null,{"$f":"SUM(C6:Q6)","v":25738909}]
[{"$f":"'A4-FinPerf RE'!A7","v":"Service charges - water revenue"},null,null,null,null,null,null,null,null,null,null,null,null,null,null,null,null,0]
[{"$f":"'A4-FinPerf RE'!A8","v":"Service charges - sanitation revenue"},null,null,null,null,null,null,null,null,null,null,null,null,null,null,null,null,0]
[{"$f":"'A4-FinPerf RE'!A9","v":"Service charges - refuse revenue"},null,null,null,null,null,null,null,null,null,null,null,8672053,null,null,null,null,8672053]
[]
[{"$f":"'A4-FinPerf RE'!A11","v":"Rental of facilities and equipment"},null,null,1006551,null,null,null,null,null,null,null,null,null,null,null,null,null,1006551]
[{"$f":"'A4-FinPerf RE'!A12","v":"Interest earned - external investments"},null,null,4754530,null,null,null,null,null,null,null,null,null,null,null,null,null,4754530]
[{"$f":"'A4-FinPerf RE'!A13","v":"Interest earned - outstanding debtors"},null,null,20227491,null,null,null,null,null,null,null,null,null,null,null,null,null,20227491]
[{"$f":"'A4-FinPerf RE'!A14","v":"Dividends received"},null,null,null,null,null,null,null,null,null,null,null,null,null,null,null,null,0]
[{"$f":"'A4-FinPerf RE'!A15","v":"Fines, penalties and forfeits"},null,null,null,null,null,null,null,null,1262400,null,null,null,null,null,null,null,1262400]
[{"$f":"'A4-FinPerf RE'!A16","v":"Licences and permits"},null,null,null,null,null,null,null,null,23864625,null,null,null,null,null,null,null,23864625]
[{"$f":"'A4-FinPerf RE'!A17","v":"Agency services"},null,null,null,null,null,null,null,null,2289167,null,null,null,null,null,null,null,2289167]
[{"$f":"'A4-FinPerf RE'!A19","v":"Other revenue"},null,null,281624000,null,null,null,null,null,null,null,null,null,null,null,null,null,281624000]
[{"$f":"'A4-FinPerf RE'!A18","v":"Transfers and subsidies"},null,null,14747535,null,null,null,null,null,null,null,null,null,null,null,null,null,14747535]
[{"$f":"'A4-FinPerf RE'!A20","v":"Gains on disposal of PPE"},null,null,607004,null,null,null,null,null,null,null,null,null,null,null,null,null,607004]
[{"$f":"'A4-FinPerf RE'!A21","v":"Total Revenue (excluding capital transfers and contributions)"},null,{"$f":"SUM(C5:C9)+SUM(C11:C20)","v":0},{"$f":"SUM(D5:D9)+SUM(D11:D20)","v":340707289},0,0,0,0,0,27416192,25738909,0,8672053,0,0,0,0,{"$f":"SUM(R5:R9)+SUM(R11:R20)","v":402534443}]
[]
[{"$f":"'A4-FinPerf RE'!A23","v":"Expenditure By Type"}]
[{"$f":"'A4-FinPerf RE'!A24","v":"Employee related costs"},null,{"$f":"4217434.61+3942720.83388","v":8160155.4438800002},40376737.775140002,1594608.3729100002,{"$f":"2085716.57168+1189049.73+751264.57+232173.06","v":4258203.9316799995},12281731.501239998,756842.38153000001,{"$f":"2023463.99359+4340516.83836+3015625.85","v":9379606.681950001},{"$f":"252080.53+16409465.25254+6791924.71","v":23453470.492539998},4460697.17,709638.12913000002,2204443.12,0,0,0,0,{"$f":"SUM(C24:Q24)","v":107636135.00000001}]
[{"$f":"'A4-FinPerf RE'!A25","v":"Remuneration of councillors"},null,24071901,0,0,0,0,0,0,0,0,0,0,0,0,0,0,{"$f":"SUM(C25:Q25)","v":24071901}]
[{"$f":"'A4-FinPerf RE'!A26","v":"Debt impairment"},null,0,1038391.4121599999,0,0,0,0,0,0,369332.96192000003,0,650640.0658000001,0,0,0,0,2058364.43988]
[{"$f":"'A4-FinPerf RE'!A27","v":"Depreciation & asset impairment"},null,850000,1750000,0,750000,625000,0,187000,{"$f":"1557272+107000","v":1664272},298000,0,82000,null,null,null,null,6206272]
[{"$f":"'A4-FinPerf RE'!A28","v":"Finance charges"},null,0,0,0,0,0,0,0,0,0,0,0,0,0,0,0,0]
[{"$f":"'A4-FinPerf RE'!A29","v":"Bulk purchases"},null,0,0,0,0,0,0,0,0,17985580,0,0,0,0,0,0,17985580]
[{"$f":"'A4-FinPerf RE'!A30","v":"Other materials"},null,0,0,0,0,0,0,0,0,0,0,0,0,0,0,0,0]
[{"$f":"'A4-FinPerf RE'!A31","v":"Contracted services"},null,0,19459626,0,0,0,0,0,0,0,0,0,0,0,0,0,19459626]
[{"$f":"'A4-FinPerf RE'!A32","v":"Transfers and subsidies"},null,0,0,0,0,0,0,0,0,0,0,0,0,0,0,0,0]
[{"$f":"'A4-FinPerf RE'!A33","v":"Other expenditure"},null,{"$f":"55043000-33082000","v":21961000},{"$f":"98346000-62625564-2292000","v":33428436},{"$f":"2627000-1595000","v":1032000},{"$f":"10102908-5008000","v":5094908},{"$f":"15182000-12907000","v":2275000},20000,{"$f":"23543000-9567000","v":13976000},{"$f":"54020000-25118000","v":28902000},{"$f":"42686000-23114000","v":19572000},42000,{"$f":"5509000-2937000","v":2572000},0,0,0,0,128875344]
[{"$f":"'A4-FinPerf RE'!A34","v":"Loss on disposal of PPE"},null,0,0,0,0,{"$f":"15182000-12907000","v":2275000},20000,0,0,0,0,0,0,0,0,0,2295000]
["Total Expenditure",null,{"$f":"SUM(C24:C34)","v":55043056.443879999},96053191.187299997,2626608.3729100004,10103111.931679999,17456731.50124,796842.38153000001,23542606.681950003,54019742.492540002,42685610.131919995,751638.12913000002,5509083.1858000001,0,0,0,0,308588222.43988001]
[]
[{"$f":"'A4-FinPerf RE'!A37","v":"Surplus/(Deficit)"},null,{"$f":"C21-C35","v":-55043056.443879999},244654097.8127,-2626608.3729100004,-10103111.931679999,-17456731.50124,-796842.38153000001,{"$f":"I21-I35","v":-23542606.681950003},-26603550.492540002,-16946701.131919995,-751638.12913000002,3162969.8141999999,0,0,0,0,{"$f":"R21-R35","v":93946220.560119987}]
[{"$f":"'A4-FinPerf RE'!A38","v":"Transfers and subsidies - capital (monetary allocations) (National / Provincial and District)"},null,null,57608000,null,null,null,null,null,null,null,null,null,null,null,null,null,{"$f":"SUM(C38:Q38)","v":57608000}]
[{"$f":"'A4-FinPerf RE'!A39","v":"Transfers and subsidies - capital (monetary allocations) (National / Provincial Departmental Agencies, Households, Non-profit Institutions, Private Enterprises, Public Corporatons, Higher Educational Institutions)"},null,null,null,null,null,null,null,null,null,null,null,null,null,null,null,null,{"$f":"SUM(C39:Q39)","v":0}]
[{"$f":"'A4-FinPerf RE'!A40","v":"Transfers and subsidies - capital (in-kind - all) "},null,null,null,null,null,null,null,null,null,null,null,null,null,null,null,null,{"$f":"SUM(C40:Q40)","v":0}]
[{"$f":"'A4-FinPerf RE'!A41","v":"Surplus/(Deficit) after capital transfers & contributions"},null,{"$f":"SUM(C37:C40)","v":-55043056.443879999},302262097.81270003,-2626608.3729100004,-10103111.931679999,-17456731.50124,-796842.38153000001,-23542606.681950003,-26603550.492540002,-16946701.131919995,-751638.12913000002,3162969.8141999999,0,0,0,{"$f":"SUM(Q37:Q40)","v":0},{"$f":"SUM(R37:R40)","v":151554220.56011999}]
[{"$f":"head27a","v":"References"}]
["1. Departmental columns to be based on municipal organisation structure"]
["check balance",null,null,null,null,null,null,null,null,null,null,null,null,null,null,null,null,{"$f":"'A4-FinPerf RE'!J41-'SA2'!R41","v":0.43988001346588135}]

{"sheet":"SA3","index":22,"n_rows":84,"n_cols":12,"rows_kept":84,"cut":false,"hidden":false,"merged":[[1,0,2,0],[1,1,2,1],[1,9,1,11],[1,5,1,8]]}
[{"$f":"muni&\" - \"&TableA3","v":"LIM332 Greater Letaba - Supporting Table SA3 Supportinging detail to 'Budgeted Financial Position'"}]
[{"$f":"desc","v":"Description"},{"$f":"head27","v":"Ref"},{"$f":"head1b","v":"2015/16"},{"$f":"head1A","v":"2016/17"},{"$f":"Head1","v":"2017/18"},{"$f":"Head2","v":"Current Year 2018/19"},null,null,null,{"$f":"Head3","v":"2019/20 Medium Term Revenue & Expenditure Framework"}]
[null,null,{"$f":"Head5","v":"Audited Outcome"},{"$f":"Head5","v":"Audited Outcome"},{"$f":"Head5","v":"Audited Outcome"},{"$f":"Head6","v":"Original Budget"},{"$f":"Head7","v":"Adjusted Budget"},{"$f":"Head8","v":"Full Year Forecast"},{"$f":"Head5b","v":"Pre-audit outcome"},{"$f":"Head9","v":"Budget Year 2019/20"},{"$f":"Head10","v":"Budget Year +1 2020/21"},{"$f":"Head11","v":"Budget Year +2 2021/22"}]
["R thousand"]
["ASSETS"]
[{"$f":"'A6-FinPos'!A7","v":"Call investment deposits"}]
["Call deposits",null,59480361,53630633,12715350,28521281.529999997,3521281.5299999975,3521281.5299999975,3521281.5299999975,2299000,2423146,2553995.8840000001]
["Other current investments"]
[{"$f":"\"Total \"&A6","v":"Total Call investment deposits"},2,{"$f":"SUM(C7:C8)","v":59480361},{"$f":"SUM(D7:D8)","v":53630633},12715350,28521281.529999997,3521281.5299999975,3521281.5299999975,3521281.5299999975,2299000,2423146,2553995.8840000001]
[]
[{"$f":"'A6-FinPos'!A8","v":"Consumer debtors"}]
[{"$f":"A11","v":"Consumer debtors"},null,66861527,6883323,2127696,6900000,6900000,6900000,6900000,2127696,{"$f":"J12*1.054","v":2242591.5840000003},{"$f":"K12*1.054","v":2363691.5295360005}]
["Less: Provision for debt impairment",null,-55710632,0]
[{"$f":"\"Total \"&A11","v":"Total Consumer debtors"},2,{"$f":"SUM(C12:C13)","v":11150895},{"$f":"SUM(D12:D13)","v":6883323},2127696,{"$f":"SUM(F12:F13)","v":6900000},6900000,6900000,6900000,2127696,2242591.5840000003,2363691.5295360005]
[]
["Debt impairment provision"]
["Balance at the beginning of the year"]
["Contributions to the provision"]
["Bad debts written off"]
["Balance at end of year",null,{"$f":"SUM(C17:C19)","v":0},{"$f":"SUM(D17:D19)","v":0},0,0,0,0,0,0,0,0]
[]
[{"$f":"'A6-FinPos'!A19&\" (PPE)\"","v":"Property, plant and equipment (PPE)"}]
["PPE at cost/valuation (excl. finance leases)",null,720644106,822377987,971917687,1056104661.929456,1050488748.929456,1050488748.929456,1050488748.929456,{"$f":"E23+151554220","v":1123471907},{"$f":"1123471907+185822294","v":1309294201},{"$f":"1309294201+200551218","v":1509845419}]
["Leases recognised as PPE",3,0,0,0,0,0,0,0,0,0,0]
["Less: Accumulated depreciation",null,108274698,144482964,157352277,202188723.32471713,201878723.32471713,201878723.32471713,201878723.32471713,{"$f":"E25+13000000","v":170352277},184551000,191000000]
[{"$f":"\"Total \"&A22","v":"Total Property, plant and equipment (PPE)"},2,{"$f":"SUM(C23:C24)-C25","v":612369408},{"$f":"SUM(D23:D24)-D25","v":677895023},814565410,853915938.60473883,848610025.60473883,848610025.60473883,848610025.60473883,953119630,1124743201,1318845419]
[]
["LIABILITIES"]
[{"$f":"'A6-FinPos'!A28&\" - \"&'A6-FinPos'!A30","v":"Current liabilities - Borrowing"}]
["Short term loans (other than bank overdraft)"]
["Current portion of long-term liabilities"]
[{"$f":"\"Total \"&A29","v":"Total Current liabilities - Borrowing"},null,{"$f":"SUM(C30:C31)","v":0},{"$f":"SUM(D30:D31)","v":0},0,0,0,0,0,0,0,0]
[]
[{"$f":"'A6-FinPos'!A32","v":"Trade and other payables"}]
["Trade Payables",5,55032928,35693282,56493092,35693282,35693282,35693282,35693282,34122000,28900000,32000000]
[" Other creditors",null,0,0,0,0,0,0,0,0,0,0]
["Unspent conditional transfers",null,0,643677,0,0,0,0,0,0,0,0]
["VAT"]
[{"$f":"\"Total \"&A34","v":"Total Trade and other payables"},2,{"$f":"SUM(C35:C38)","v":55032928},36336959,56493092,35693282,35693282,35693282,35693282,34122000,28900000,{"$f":"SUM(L35:L38)","v":32000000}]
[]
[{"$f":"'A6-FinPos'!A36&\" - \"&'A6-FinPos'!A37","v":"Non current liabilities - Borrowing"}]
["Borrowing",4]
["Finance leases (including PPP asset element)"]
[{"$f":"\"Total \"&A41","v":"Total Non current liabilities - Borrowing"},null,{"$f":"SUM(C42:C43)","v":0},{"$f":"SUM(D42:D43)","v":0},0,0,0,0,0,0,0,0]
[]
[{"$f":"'A6-FinPos'!A38&\" - non-current\"","v":"Provisions - non-current"}]
["Retirement benefits",null,11002979,12215836,13958640,12327649.647768002,12327649.647768002,12327649.647768002,12327649.647768002,{"$f":"E47*1.052","v":14684489.280000001},{"$f":"J47*1.054","v":15477451.701120002},{"$f":"K47*1.054","v":16313234.092980484}]
["List other major provision items"]
["Refuse landfill site rehabilitation",null,2416800,296801,0,2416800,2416800,2416800,2416800,2416800,2416800,2416800]
["Other",null,0,0,0,0,0,0,0,0,0,0]
[{"$f":"\"Total \"&A46","v":"Total Provisions - non-current"},null,{"$f":"SUM(C47:C50)","v":13419779},12512637,13958640,14744449.647768002,14744449.647768002,14744449.647768002,14744449.647768002,17101289.280000001,17894251.701120004,18730034.092980482]
[]
["CHANGES IN NET ASSETS"]
[{"$f":"'A6-FinPos'!A45","v":"Accumulated Surplus/(Deficit)"}]
[{"$f":"A54&\" - opening balance\"","v":"Accumulated Surplus/(Deficit) - opening balance"},null,526015991,{"$f":"687018681-5513550","v":681505131},{"$f":"872505731-E58","v":775958179},721025890.36297297,675640881.06297302,675640881.06297302,676687022.06297302,867993649.72000003,1010759228.88288,1186241690.32056]
["GRAP adjustments"]
["Restated balance",null,{"$f":"SUM(C55:C56)","v":526015991},{"$f":"SUM(D55:D56)","v":681505131},{"$f":"SUM(E55:E56)","v":775958179},{"$f":"SUM(F55:F56)","v":721025890.36297297},675640881.06297302,675640881.06297302,676687022.06297302,867993649.72000003,1010759228.88288,1186241690.32056]
[{"$f":"'A4-FinPerf RE'!A37","v":"Surplus/(Deficit)"},null,{"$f":"'A4-FinPerf RE'!C45","v":156204428},{"$f":"'A4-FinPerf RE'!D45","v":90079183},{"$f":"'A4-FinPerf RE'!E45","v":96547552},{"$f":"'A4-FinPerf RE'!F45","v":179277318.86760002},{"$f":"'A4-FinPerf RE'!G45","v":193661415.16760004},{"$f":"'A4-FinPerf RE'!H45","v":193661415.16760004},{"$f":"'A4-FinPerf RE'!I45","v":192615274.16760004},{"$f":"'A4-FinPerf RE'!J45","v":151554221},{"$f":"'A4-FinPerf RE'!K45","v":185822292},{"$f":"'A4-FinPerf RE'!L45","v":200551216}]
["Appropriations to Reserves"]
["Transfers from Reserves"]
["Depreciation offsets"]
["Other adjustments"]
["Accumulated Surplus/(Deficit)",1,{"$f":"SUM(C57:C62)","v":682220419},{"$f":"SUM(D57:D62)","v":771584314},{"$f":"SUM(E57:E62)","v":872505731},900303209.23057294,869302296.23057306,869302296.23057306,869302296.23057306,1019547870.72,1196581520.88288,1386792906.32056]
["Reserves"]
["Housing Development Fund"]
["Capital replacement"]
["Self-insurance"]
["Other reserves"]
["Revaluation"]
["Total Reserves",2,{"$f":"SUM(C65:C69)","v":0},0,0,0,0,0,0,0,0,0]
[{"$f":"'A6-FinPos'!A48","v":"TOTAL COMMUNITY WEALTH/EQUITY"},2,{"$f":"C63+C70","v":682220419},771584314,872505731,900303209.23057294,869302296.23057306,869302296.23057306,869302296.23057306,1019547870.72,1196581520.88288,1386792906.32056]
[]
["Total capital expenditure includes expenditure on nationally significant priorities:"]
["Provision of basic services"]
[]
[]
[{"$f":"head27a","v":"References"}]
[{"$f":"\"1. Must reconcile with \"&'Template names'!F103","v":"1. Must reconcile with Table A4 Budgeted Financial Performance (revenue and expenditure)"}]
[{"$f":"\"2. Must reconcile with \"&'Template names'!F105","v":"2. Must reconcile with Table A6 Budgeted Financial Position"}]
["3. Leases treated as assets to be depreciated as the same as purchased/constructed assets.  Includes PPP asset element accounted for as finance leases"]
["4. Borrowing must reconcile to Table A17"]
["5. Trade Payable should only include Trade Payables from Exchance Transactions (\"True Creditors\")"]
["check",null,{"$f":"C71-'A6-FinPos'!C48","v":2},{"$f":"D71-'A6-FinPos'!D48","v":0},{"$f":"E71-'A6-FinPos'!E48","v":0},{"$f":"F71-'A6-FinPos'!F48","v":0},{"$f":"G71-'A6-FinPos'!G48","v":0},{"$f":"H71-'A6-FinPos'!H48","v":0},{"$f":"I71-'A6-FinPos'!I48","v":0},{"$f":"J71-'A6-FinPos'!J48","v":0},{"$f":"K71-'A6-FinPos'!K48","v":0},{"$f":"L71-'A6-FinPos'!L48","v":4.291534423828125E-6}]
[null,null,{"$f":"TREND(D84:H84)","v":0},{"$f":"TREND(E84:H84)","v":0},{"$f":"E74","v":0},{"$f":"H74","v":0},{"$f":"J74","v":0},{"$f":"K74","v":0},{"$f":"L74","v":0}]

{"sheet":"SA4","index":23,"n_rows":32,"n_cols":13,"rows_kept":32,"cut":false,"hidden":false,"merged":[[1,7,1,9],[1,10,1,12],[1,3,2,3]]}
[{"$f":"muni&\" - \"&TableA4","v":"LIM332 Greater Letaba - Supporting Table SA4 Reconciliation of IDP strategic objectives and budget (revenue)"}]
["Strategic Objective","Goal","Goal\nCode",{"$f":"head27","v":"Ref"},{"$f":"head1b","v":"2015/16"},{"$f":"head1A","v":"2016/17"},{"$f":"Head1","v":"2017/18"},{"$f":"Head2","v":"Current Year 2018/19"},null,null,{"$f":"Head3","v":"2019/20 Medium Term Revenue & Expenditure Framework"}]
["R thousand",null,null,null,{"$f":"Head5","v":"Audited Outcome"},{"$f":"Head5","v":"Audited Outcome"},{"$f":"Head5","v":"Audited Outcome"},{"$f":"Head6","v":"Original Budget"},{"$f":"Head7","v":"Adjusted Budget"},{"$f":"Head8","v":"Full Year Forecast"},{"$f":"Head9","v":"Budget Year 2019/20"},{"$f":"Head10","v":"Budget Year +1 2020/21"},{"$f":"Head11","v":"Budget Year +2 2021/22"}]
["Improved Quality of Life","Ensure an HIV/Aidds free Society, Provision of free basic services to indigent households, Ensure a mental and physical healthy community, Improve the well-being of people with disabilities, Increase gender equality, ensure quality of life for youth, access to information, safety of community",null,null,null,null,15061090]
[]
["Improve Local Economy","Create an environment for job creation, economic growth and networking opportunities, Agriculture, Tourism"]
[]
["Improve Local Economy","Create an environment for job creation, economic growth and networking opportunities, Agriculture, Tourism"]
[]
["Sustainable Financial Institution","Ensure Budget & Reporting compliant to legislation, Ensure budgeted revenue is recovered, Effectively manage the financial affairs of the municipality, ensure procurement processes are within legislation, acquire, maintain and dispose of assets according to policies, effective, economical & efficient fleet utilisation, ensure correct reporting within legislative timeframes.",null,null,345723035,320569179,221225968,340264680.23000002,406681881.23000002,406681881.23000002,394452406.99999988,426090310.05600011,455586233.96702379]
[]
["Access to Sustainable Basic Services","Ensure that all qualifying households receive free basic services, ensure that all households have access to water and sanitation at RDP standards, ensure that all households have access to energy supply & infrastructure, ensure that all households have access to waste removal, ensure that all GLM communities have access to raods and storm water, ensure that all households have access to community facilities, ensure that all communities have access to sporting facilities, ensure maintenance and upgrading of municipal assets, ensure optimum utilization of MIG, ensure timeous implementation of projects.",null,null,null,null,107925887,62443000,62443000,62443000,65690036,69237297.944000006,72976112.032976016]
[]
["Integrated Sustainable Human Settlement","Ensure that all households have access to porper and safe tenure"]
[]
["Improved Governance and organisational Excellence","Establish, develop and strengthen relationship amongst the spheres of Government, facilitate structured participation in Council activities, establish a good relationship with traditional leaders, render services to stakeholders and customers in an efficient and effective manner, manage communication outside the municipality effectively and efficiently, market the municipalty locally and internationally, promote accountability, prevent fraud and corruption, ensure compliance to regulations, by-laws and policies, offer legal services to council, offer secretariat services to Council, ensure a secure organisation, ensure implementation of the perfomance management system in the organisation, increase utilisation of ITC within the municipality."]
[]
[]
[]
[]
[]
[]
[]
[]
[]
[]
["Allocations to other priorities",null,null,2]
[{"$f":"'A4-FinPerf RE'!A21","v":"Total Revenue (excluding capital transfers and contributions)"},null,null,1,{"$f":"SUM(E4:E27)","v":345723035},320569179,344212945,402707680.23000002,469124881.23000002,469124881.23000002,460142442.99999988,495327608.00000012,528562345.99999982]
[{"$f":"head27a","v":"References"}]
[{"$f":"\"1. Total revenue must reconcile to \"&'Template names'!F103","v":"1. Total revenue must reconcile to Table A4 Budgeted Financial Performance (revenue and expenditure)"}]
["2. Balance of allocations not directly linked to an IDP strategic objective"]
["check op revenue balance",null,null,null,{"$f":"E28-'A4-FinPerf RE'!C59","v":0},{"$f":"F28-'A4-FinPerf RE'!D59","v":0},{"$f":"G28-'A4-FinPerf RE'!E59","v":0},{"$f":"H28-'A4-FinPerf RE'!F59","v":0},{"$f":"I28-'A4-FinPerf RE'!G59","v":0},{"$f":"J28-'A4-FinPerf RE'!H59","v":0},{"$f":"K28-'A4-FinPerf RE'!J59","v":0},{"$f":"L28-'A4-FinPerf RE'!K59","v":0},{"$f":"M28-'A4-FinPerf RE'!L59","v":0}]

{"sheet":"SA5","index":24,"n_rows":27,"n_cols":13,"rows_kept":27,"cut":false,"hidden":false,"merged":[[1,7,1,9],[1,10,1,12],[1,3,2,3]]}
[{"$f":"muni&\" - \"&TableA5","v":"LIM332 Greater Letaba - Supporting Table SA5 Reconciliation of IDP strategic objectives and budget (operating expenditure)"}]
["Strategic Objective","Goal","Goal\nCode",{"$f":"head27","v":"Ref"},{"$f":"head1b","v":"2015/16"},{"$f":"head1A","v":"2016/17"},{"$f":"Head1","v":"2017/18"},{"$f":"Head2","v":"Current Year 2018/19"},null,null,{"$f":"Head3","v":"2019/20 Medium Term Revenue & Expenditure Framework"}]
["R thousand",null,null,null,{"$f":"Head5","v":"Audited Outcome"},{"$f":"Head5","v":"Audited Outcome"},{"$f":"Head5","v":"Audited Outcome"},{"$f":"Head6","v":"Original Budget"},{"$f":"Head7","v":"Adjusted Budget"},{"$f":"Head8","v":"Full Year Forecast"},{"$f":"Head9","v":"Budget Year 2019/20"},{"$f":"Head10","v":"Budget Year +1 2020/21"},{"$f":"Head11","v":"Budget Year +2 2021/22"}]
["Improved Quality of Life","Ensure an HIV/Aidds free Society, Provision of free basic services to indigent households, Ensure a mental and physical healthy community, Improve the well-being of people with disabilities, Increase gender equality, ensure quality of life for youth, access to information, safety of community",null,null,6250000,7480000,4500000,6738500,6738500,6738500,7088902,7471702.7080000006,7875174.6542320009]
[]
["Improve Local Economy","Create an environment for job creation, economic growth and networking opportunities, Agriculture, Tourism"]
[]
["Sustainable Financial Institution","Ensure Budget & Reporting compliant to legislation, Ensure budgeted revenue is recovered, Effectively manage the financial affairs of the municipality, ensure procurement processes are within legislation, acquire, maintain and dispose of assets according to policies, effective, economical & efficient fleet utilisation, ensure correct reporting within legislative timeframes.",null,null,35600000,57300000,52800000,61598400,61598400,61598400,74801516.799999997,78300798.707200006,81989041.837388799]
[]
["Access to Sustainable Basic Services","Ensure that all qualifying households receive free basic services, ensure that all households have access to water and sanitation at RDP standards, ensure that all households have access to energy supply & infrastructure, ensure that all households have access to waste removal, ensure that all GLM communities have access to roads and storm water, ensure that all households have access to community facilities, ensure that all communities have access to sporting facilities, ensure maintenance and upgrading of municipal assets, ensure optimum utilization of MIG, ensure timeous implementation of projects.",null,null,68565000,78491000,{"$f":"76619555+23836246","v":100455801},66224830.804400027,66224830.804400027,66224830.804400027,99668522.006228805,93430622.194565207,97395875.793071702]
[]
["Integrated Sustainable Development","Ensure integrated development planning, ensure spatial integration,ensure that all housing and development construction complies to national building regulations and SANS standards, ensure adequate and well maintained cemeteries, prevent loss of lives and infrastructure due to disasters",null,null,13500000,14890000,14200000,16952600,16952600,16952600,27834135.199999999,28797178.500799999,29812226.139843199]
[]
["Integrated Sustainable Human Settlement","Ensure that all households have access to proper and safe tenure",null,null,1578000,2005000,2145000,3258685,3258685,3258685,3428136.62,3613255.9974800004,3808371.8213439207]
[]
["Improved Governance and organisational Excellence","Establish, develop and strengthen relationship amongst the spheres of Government, facilitate structured participation in Council activities, establish a good relationship with traditional leaders, render services to stakeholders and customers in an efficient and effective manner, manage communication outside the municipality effectively and efficiently, market the municipalty locally and internationally, promote accountability, prevent fraud and corruption, ensure compliance to regulations, by-laws and policies, offer legal services to council, offer secretariat services to Council, ensure a secure organisation, ensure implementation of the perfomance management system in the organisation, increase utilisation of ITC within the municipality.",null,null,53025608,58000000,{"$f":"51835326+229266","v":52064592},43017845.557999998,{"$f":"43017845.558+52033104.7","v":95050950.258000001},{"$f":"43017845.558+52033104.7","v":95050950.258000001},68794255.373771206,69462475.175954744,77165975.771456391]
[]
["Improved Human Resource","Align training within the municipality to improve service delivery, ensure a healthy safe working environment",null,null,11000000,12323996,21500000,25639500,25639500,25639500,26972754,28429282.715999998,29964463.982664]
[]
[]
[]
["Allocations to other priorities"]
[{"$f":"'A4-FinPerf RE'!A35","v":"Total Expenditure"},null,null,1,{"$f":"SUM(E4:E22)","v":189518608},230489996,247665393,223430361.36240003,275463466.06240004,275463466.06240004,308588222,309505316,328011130]
[{"$f":"head27a","v":"References"}]
[{"$f":"\"1. Total expenditure must reconcile to \"&'Template names'!F103","v":"1. Total expenditure must reconcile to Table A4 Budgeted Financial Performance (revenue and expenditure)"}]
["2. Balance of allocations not directly linked to an IDP strategic objective"]
["check op expenditure balance",null,null,null,{"$f":"E23-'A4-FinPerf RE'!C35","v":1},{"$f":"F23-'A4-FinPerf RE'!D35","v":0},{"$f":"G23-'A4-FinPerf RE'!E35","v":0},{"$f":"H23-'A4-FinPerf RE'!F35","v":0},{"$f":"I23-'A4-FinPerf RE'!G35","v":0},{"$f":"J23-'A4-FinPerf RE'!H35","v":0},{"$f":"K23-'A4-FinPerf RE'!J35","v":0},{"$f":"L23-'A4-FinPerf RE'!K35","v":0},{"$f":"M23-'A4-FinPerf RE'!L35","v":0}]

{"sheet":"SA6","index":25,"n_rows":26,"n_cols":13,"rows_kept":26,"cut":false,"hidden":false,"merged":[[1,7,1,9],[1,10,1,12],[1,3,2,3]]}
[{"$f":"muni&\" - \"&TableA6","v":"LIM332 Greater Letaba - Supporting Table SA6 Reconciliation of IDP strategic objectives and budget (capital expenditure)"}]
["Strategic Objective","Goal","Goal Code",{"$f":"head27","v":"Ref"},{"$f":"head1b","v":"2015/16"},{"$f":"head1A","v":"2016/17"},{"$f":"Head1","v":"2017/18"},{"$f":"Head2","v":"Current Year 2018/19"},null,null,{"$f":"Head3","v":"2019/20 Medium Term Revenue & Expenditure Framework"}]
["R thousand",null,null,null,{"$f":"Head5","v":"Audited Outcome"},{"$f":"Head5","v":"Audited Outcome"},{"$f":"Head5","v":"Audited Outcome"},{"$f":"Head6","v":"Original Budget"},{"$f":"Head7","v":"Adjusted Budget"},{"$f":"Head8","v":"Full Year Forecast"},{"$f":"Head9","v":"Budget Year 2019/20"},{"$f":"Head10","v":"Budget Year +1 2020/21"},{"$f":"Head11","v":"Budget Year +2 2021/22"}]
["Improved Quality of Life","Ensure an HIV/Aidds free Society, Provision of free basic services to indigent households, Ensure a mental and physical healthy community, Improve the well-being of people with disabilities, Increase gender equality, ensure quality of life for youth, access to information, safety of community","A"]
[null,null,"B"]
["Improve Local Economy","Create an environment for job creation, economic growth and networking opportunities, Agriculture, Tourism","C",null,1600000,1600000,2536800,3500000,3500000,3500000,4100000,3520000,2534000]
[null,null,"D"]
["Sustainable Financial Institution","Ensure Budget & Reporting compliant to legislation, Ensure budgeted revenue is recovered, Effectively manage the financial affairs of the municipality, ensure procurement processes are within legislation, acquire, maintain and dispose of assets according to policies, effective, economical & efficient fleet utilisation, ensure correct reporting within legislative timeframes.","E",null,null,0,72933000,75000000,75000000,75000000,61145000,75231000,89998000]
[null,null,"F"]
["Access to Sustainable Basic Services","Ensure that all qualifying households receive free basic services, ensure that all households have access to water and sanitation at RDP standards, ensure that all households have access to energy supply & infrastructure, ensure that all households have access to waste removal, ensure that all GLM communities have access to raods and storm water, ensure that all households have access to community facilities, ensure that all communities have access to sporting facilities, ensure maintenance and upgrading of municipal assets, ensure optimum utilization of MIG, ensure timeous implementation of projects.","G",null,137879121,99458167,71504117.955072001,90064655.120000005,{"$f":"90064655.12+14384087","v":104448742.12},{"$f":"90064655.12+14384087","v":104448742.12},{"$f":"70526000+6378220","v":76904220},84156000,89215000]
[null,null,"H"]
["Integrated Sustainable Development","Ensure integrated development planning, ensure spatial integration,ensure that all housing and development construction complies to national building regulations and SANS standards, ensure adequate and well maintained cemeteries, prevent loss of lives and infrastructure due to disasters","I",null,0,0,6995248.0009280099,7000000,7000000,7000000,0,7000000,7000000]
[null,null,"J"]
["Integrated Sustainable Human Settlement","Ensure that all households have access to porper and safe tenure","K"]
[null,null,"L"]
["Improved Governance and organisational Excellence","Establish, develop and strengthen relationship amongst the spheres of Government, facilitate structured participation in Council activities, establish a good relationship with traditional leaders, render services to stakeholders and customers in an efficient and effective manner, manage communication outside the municipality effectively and efficiently, market the municipalty locally and internationally, promote accountability, prevent fraud and corruption, ensure compliance to regulations, by-laws and policies, offer legal services to council, offer secretariat services to Council, ensure a secure organisation, ensure implementation of the perfomance management system in the organisation, increase utilisation of ITC within the municipality.","M",null,0,3899000,8849533.0439999998,3000000,3000000,3000000,8564000,12856000,{"$f":"15679000-3874782","v":11804218}]
[null,null,"N"]
["Improved Human Resource","Align training within the municipality to improve service delivery, ensure a healthy safe working environment","O",null,36763520,null,0,712664,712664,712664,841000,{"$f":"3120000-60706","v":3059294},0]
[null,null,"P"]
["Allocations to other priorities",null,null,3]
["Total Capital Expenditure",null,null,1,{"$f":"SUM(E4:E20)","v":176242641},104957167,162818699,179277319.12,193661406.12,193661406.12,151554220,185822294,200551218]
[{"$f":"head27a","v":"References"}]
["1. Total capital expenditure must reconcile to Budgeted Capital Expenditure"]
["2. Goal code must be used on Table SA36"]
["3. Balance of allocations not directly linked to an IDP strategic objective"]
["check capital balance",null,null,null,{"$f":"E21-'A5-Capex'!C40","v":0},{"$f":"F21-'A5-Capex'!D40","v":0},{"$f":"G21-'A5-Capex'!E40","v":0},{"$f":"H21-'A5-Capex'!F40","v":0},{"$f":"I21-'A5-Capex'!G40","v":0},{"$f":"J21-'A5-Capex'!H40","v":0},{"$f":"K21-'A5-Capex'!J40","v":0},{"$f":"L21-'A5-Capex'!K40","v":0},{"$f":"M21-'A5-Capex'!L40","v":0}]

{"sheet":"SA7","index":26,"n_rows":89,"n_cols":11,"rows_kept":89,"cut":false,"hidden":false,"merged":[[1,1,2,1],[1,0,2,0],[1,5,1,7],[1,8,1,10],[87,0,87,10],[67,0,67,10],[72,0,73,0],[72,1,73,1],[72,5,72,7],[72,8,72,10]]}
[{"$f":"muni&\" - \"&TableA7","v":"LIM332 Greater Letaba - Supporting Table SA7 Measureable performance objectives"}]
["Description","Unit of measurement",{"$f":"head1b","v":"2015/16"},{"$f":"head1A","v":"2016/17"},{"$f":"Head1","v":"2017/18"},{"$f":"Head2","v":"Current Year 2018/19"},null,null,{"$f":"Head3","v":"2019/20 Medium Term Revenue & Expenditure Framework"}]
[null,null,{"$f":"Head5","v":"Audited Outcome"},{"$f":"Head5","v":"Audited Outcome"},{"$f":"Head5","v":"Audited Outcome"},{"$f":"Head6","v":"Original Budget"},{"$f":"Head7","v":"Adjusted Budget"},{"$f":"Head8","v":"Full Year Forecast"},{"$f":"Head9","v":"Budget Year 2019/20"},{"$f":"Head10","v":"Budget Year +1 2020/21"},{"$f":"Head11","v":"Budget Year +2 2021/22"}]
["Vote 1 - vote name"]
["Roads"]
["Eradication of Backlogs"]
["Reduce roads backlogs"]
[null,"Kilometre",0.01,0.01,0.01,0.01,0.01,0.01,0.01,0.01,0.01]
["Sub-function 2 - (Road Maintenance)"]
["Surface roads resurted/rehabilitated"]
[null,"Kilometre",5.8999999999999997E-2,5.8999999999999997E-2,5.8999999999999997E-2,5.8999999999999997E-2,5.8999999999999997E-2,5.8999999999999997E-2,5.8999999999999997E-2,5.8999999999999997E-2,5.8999999999999997E-2]
["Sub-function 3 - Roads for growth"]
["New roads to be constructed"]
[null,"Kilometre"]
["Function 2 - Storm water"]
["Sub-function 1 - Reduction of backlogs"]
["Stormwater drainage to reduce backlogs"]
[null,"Kilometre",2.7E-2,2.7E-2,2.7E-2,2.7E-2,2.7E-2,2.7E-2,2.7E-2,2.7E-2,2.7E-2]
["Sub-function 2 - stormwater for growth"]
["Stormwater drainage to stimilate growth"]
[]
["Sub-function 3 - (name)"]
["Insert measure/s description"]
[]
["Vote 2 - vote name"]
["Function 1 - (name)"]
["Sub-function 1 - (name)"]
["Insert measure/s description"]
[]
["Sub-function 2 - (name)"]
["Insert measure/s description"]
[]
["Sub-function 3 - (name)"]
["Insert measure/s description"]
[]
["Function 2 - (name)"]
["Sub-function 1 - (name)"]
["Insert measure/s description"]
[]
["Sub-function 2 - (name)"]
["Insert measure/s description"]
[]
["Sub-function 3 - (name)"]
["Insert measure/s description"]
[]
["Vote  - Street lighting"]
["Function  - Streetlighting "]
["Sub-function  - provide public lighting"]
["Highmast lights per wards"]
[null,null,0.55000000000000004,0.55000000000000004,0.55000000000000004,0.55000000000000004,0.55000000000000004,0.55000000000000004,0.55000000000000004,0.55000000000000004,0.55000000000000004]
["Sub-function  -  Maintain electricity"]
["Electricity repair and maintenance"]
[null,null,0.04,0.04,0.04,0.04,0.04,0.04,0.04,0.04,0.04]
["Sub-function 3 - (name)"]
["Insert measure/s description"]
[]
["Function 2 - (name)"]
["Sub-function 1 - (name)"]
["Insert measure/s description"]
[]
["Sub-function 2 - (name)"]
["Insert measure/s description"]
[]
["Sub-function 3 - (name)"]
["Insert measure/s description"]
[]
["And so on for the rest of the Votes"]
["1. Include a measurable performance objective for each revenue source (within a relevant function) and each vote (MFMA s17(3)(b))"]
["2. Include all Basic Services performance targets from 'Basic Service Delivery' to ensure Table SA7 represents all strategic responsibilities"]
["3. Only include prior year comparative information for individual measures where relevant activity occurred in that year/s"]
[]
[{"$f":"muni&\" - \"&\"Entities measureable performance objectives\"","v":"LIM332 Greater Letaba - Entities measureable performance objectives"}]
[{"$f":"A2","v":"Description"},"Unit of measurement",{"$f":"head1b","v":"2015/16"},{"$f":"head1A","v":"2016/17"},{"$f":"Head1","v":"2017/18"},{"$f":"Head2","v":"Current Year 2018/19"},null,null,{"$f":"Head3","v":"2019/20 Medium Term Revenue & Expenditure Framework"}]
[null,null,{"$f":"Head5","v":"Audited Outcome"},{"$f":"Head5","v":"Audited Outcome"},{"$f":"Head5","v":"Audited Outcome"},{"$f":"Head6","v":"Original Budget"},{"$f":"Head7","v":"Adjusted Budget"},{"$f":"Head8","v":"Full Year Forecast"},{"$f":"Head9","v":"Budget Year 2019/20"},{"$f":"Head10","v":"Budget Year +1 2020/21"},{"$f":"Head11","v":"Budget Year +2 2021/22"}]
["Entity 1 - (name of entity)"]
["Insert measure/s description"]
[]
[]
["Entity 2 - (name of entity)"]
[{"$f":"$A$10","v":"Surface roads resurted/rehabilitated"}]
[]
[]
["Entity 3 - (name of entity)"]
[{"$f":"$A$10","v":"Surface roads resurted/rehabilitated"}]
[]
[]
["And so on for the rest of the Entities"]
["1. Include a measurable performance objective as agreed with the parent municipality (MFMA s87(5)(d))"]
["2. Only include prior year comparative information for individual measures where relevant activity occurred in that year/s"]

{"sheet":"SA8","index":27,"n_rows":49,"n_cols":12,"rows_kept":49,"cut":false,"hidden":false,"merged":[[28,0,30,0],[1,0,2,0],[1,9,1,11],[1,1,2,1],[1,5,1,8],[25,0,27,0]]}
[{"$f":"muni&\" - \"&TableA8","v":"LIM332 Greater Letaba - Supporting Table SA8 Performance indicators and benchmarks"}]
["Description of financial indicator","Basis of calculation",{"$f":"head1b","v":"2015/16"},{"$f":"head1A","v":"2016/17"},{"$f":"Head1","v":"2017/18"},{"$f":"Head2","v":"Current Year 2018/19"},null,null,null,{"$f":"Head3","v":"2019/20 Medium Term Revenue & Expenditure Framework"}]
[null,null,{"$f":"Head5","v":"Audited Outcome"},{"$f":"Head5","v":"Audited Outcome"},{"$f":"Head5","v":"Audited Outcome"},{"$f":"Head6","v":"Original Budget"},{"$f":"Head7","v":"Adjusted Budget"},{"$f":"Head8","v":"Full Year Forecast"},{"$f":"Head5b","v":"Pre-audit outcome"},{"$f":"Head9","v":"Budget Year 2019/20"},{"$f":"Head10","v":"Budget Year +1 2020/21"},{"$f":"Head11","v":"Budget Year +2 2021/22"}]
["Borrowing Management"]
[]
["Credit Rating"]
["Capital Charges to Operating Expenditure","Interest & Principal Paid /Operating Expenditure",{"$f":"IF(ISERROR(('A4-FinPerf RE'!C28-'A7-CFlow'!C35)/'A4-FinPerf RE'!C35),0,(('A4-FinPerf RE'!C28-'A7-CFlow'!C35)/'A4-FinPerf RE'!C35))","v":0},{"$f":"IF(ISERROR(('A4-FinPerf RE'!D28-'A7-CFlow'!D35)/'A4-FinPerf RE'!D35),0,(('A4-FinPerf RE'!D28-'A7-CFlow'!D35)/'A4-FinPerf RE'!D35))","v":0},{"$f":"IF(ISERROR(('A4-FinPerf RE'!E28-'A7-CFlow'!E35)/'A4-FinPerf RE'!E35),0,(('A4-FinPerf RE'!E28-'A7-CFlow'!E35)/'A4-FinPerf RE'!E35))","v":0},{"$f":"IF(ISERROR(('A4-FinPerf RE'!F28-'A7-CFlow'!F35)/'A4-FinPerf RE'!F35),0,(('A4-FinPerf RE'!F28-'A7-CFlow'!F35)/'A4-FinPerf RE'!F35))","v":0},{"$f":"IF(ISERROR(('A4-FinPerf RE'!G28-'A7-CFlow'!G35)/'A4-FinPerf RE'!G35),0,(('A4-FinPerf RE'!G28-'A7-CFlow'!G35)/'A4-FinPerf RE'!G35))","v":0},{"$f":"IF(ISERROR(('A4-FinPerf RE'!H28-'A7-CFlow'!H35)/'A4-FinPerf RE'!H35),0,(('A4-FinPerf RE'!H28-'A7-CFlow'!H35)/'A4-FinPerf RE'!H35))","v":0},{"$f":"IF(ISERROR(('A4-FinPerf RE'!I28-'A7-CFlow'!I35)/'A4-FinPerf RE'!I35),0,(('A4-FinPerf RE'!I28-'A7-CFlow'!I35)/'A4-FinPerf RE'!I35))","v":0},{"$f":"IF(ISERROR(('A4-FinPerf RE'!J28-'A7-CFlow'!J35)/'A4-FinPerf RE'!J35),0,(('A4-FinPerf RE'!J28-'A7-CFlow'!J35)/'A4-FinPerf RE'!J35))","v":0},{"$f":"IF(ISERROR(('A4-FinPerf RE'!K28-'A7-CFlow'!K35)/'A4-FinPerf RE'!K35),0,(('A4-FinPerf RE'!K28-'A7-CFlow'!K35)/'A4-FinPerf RE'!K35))","v":0},{"$f":"IF(ISERROR(('A4-FinPerf RE'!L28-'A7-CFlow'!L35)/'A4-FinPerf RE'!L35),0,(('A4-FinPerf RE'!L28-'A7-CFlow'!L35)/'A4-FinPerf RE'!L35))","v":0}]
["Capital Charges to Own Revenue","Finance charges & Repayment of borrowing /Own Revenue",{"$f":"IF(ISERROR(('A4-FinPerf RE'!C28-'A7-CFlow'!C35)/('A4-FinPerf RE'!C21-'A4-FinPerf RE'!C18)),0,(('A4-FinPerf RE'!C28-'A7-CFlow'!C35)/('A4-FinPerf RE'!C21-'A4-FinPerf RE'!C18)))","v":0},{"$f":"IF(ISERROR(('A4-FinPerf RE'!D28-'A7-CFlow'!D35)/('A4-FinPerf RE'!D21-'A4-FinPerf RE'!D18)),0,(('A4-FinPerf RE'!D28-'A7-CFlow'!D35)/('A4-FinPerf RE'!D21-'A4-FinPerf RE'!D18)))","v":0},{"$f":"IF(ISERROR(('A4-FinPerf RE'!E28-'A7-CFlow'!E35)/('A4-FinPerf RE'!E21-'A4-FinPerf RE'!E18)),0,(('A4-FinPerf RE'!E28-'A7-CFlow'!E35)/('A4-FinPerf RE'!E21-'A4-FinPerf RE'!E18)))","v":0},{"$f":"IF(ISERROR(('A4-FinPerf RE'!F28-'A7-CFlow'!F35)/('A4-FinPerf RE'!F21-'A4-FinPerf RE'!F18)),0,(('A4-FinPerf RE'!F28-'A7-CFlow'!F35)/('A4-FinPerf RE'!F21-'A4-FinPerf RE'!F18)))","v":0},{"$f":"IF(ISERROR(('A4-FinPerf RE'!G28-'A7-CFlow'!G35)/('A4-FinPerf RE'!G21-'A4-FinPerf RE'!G18)),0,(('A4-FinPerf RE'!G28-'A7-CFlow'!G35)/('A4-FinPerf RE'!G21-'A4-FinPerf RE'!G18)))","v":0},{"$f":"IF(ISERROR(('A4-FinPerf RE'!H28-'A7-CFlow'!H35)/('A4-FinPerf RE'!H21-'A4-FinPerf RE'!H18)),0,(('A4-FinPerf RE'!H28-'A7-CFlow'!H35)/('A4-FinPerf RE'!H21-'A4-FinPerf RE'!H18)))","v":0},{"$f":"IF(ISERROR(('A4-FinPerf RE'!I28-'A7-CFlow'!I35)/('A4-FinPerf RE'!I21-'A4-FinPerf RE'!I18)),0,(('A4-FinPerf RE'!I28-'A7-CFlow'!I35)/('A4-FinPerf RE'!I21-'A4-FinPerf RE'!I18)))","v":0},{"$f":"IF(ISERROR(('A4-FinPerf RE'!J28-'A7-CFlow'!J35)/('A4-FinPerf RE'!J21-'A4-FinPerf RE'!J18)),0,(('A4-FinPerf RE'!J28-'A7-CFlow'!J35)/('A4-FinPerf RE'!J21-'A4-FinPerf RE'!J18)))","v":0},{"$f":"IF(ISERROR(('A4-FinPerf RE'!K28-'A7-CFlow'!K35)/('A4-FinPerf RE'!K21-'A4-FinPerf RE'!K18)),0,(('A4-FinPerf RE'!K28-'A7-CFlow'!K35)/('A4-FinPerf RE'!K21-'A4-FinPerf RE'!K18)))","v":0},{"$f":"IF(ISERROR(('A4-FinPerf RE'!L28-'A7-CFlow'!L35)/('A4-FinPerf RE'!L21-'A4-FinPerf RE'!L18)),0,(('A4-FinPerf RE'!L28-'A7-CFlow'!L35)/('A4-FinPerf RE'!L21-'A4-FinPerf RE'!L18)))","v":0}]
["Borrowed funding of 'own' capital expenditure","Borrowing/Capital expenditure excl. transfers and grants and contributions",{"$f":"IF(ISERROR(C49/C48),0,(C49/C48))","v":0},{"$f":"IF(ISERROR(D49/D48),0,(D49/D48))","v":0},{"$f":"IF(ISERROR(E49/E48),0,(E49/E48))","v":0},0,0,0,0,0,0,0]
["Safety of Capital"]
["Gearing","Long Term Borrowing/ Funds & Reserves",{"$f":"IF(ISERROR(('A6-FinPos'!C37/'A6-FinPos'!C46)),0,(('A6-FinPos'!C37/'A6-FinPos'!C46)))","v":0},{"$f":"IF(ISERROR(('A6-FinPos'!D37/'A6-FinPos'!D46)),0,(('A6-FinPos'!D37/'A6-FinPos'!D46)))","v":0},{"$f":"IF(ISERROR(('A6-FinPos'!E37/'A6-FinPos'!E46)),0,(('A6-FinPos'!E37/'A6-FinPos'!E46)))","v":0},{"$f":"IF(ISERROR(('A6-FinPos'!F37/'A6-FinPos'!F46)),0,(('A6-FinPos'!F37/'A6-FinPos'!F46)))","v":0},{"$f":"IF(ISERROR(('A6-FinPos'!G37/'A6-FinPos'!G46)),0,(('A6-FinPos'!G37/'A6-FinPos'!G46)))","v":0},{"$f":"IF(ISERROR(('A6-FinPos'!H37/'A6-FinPos'!H46)),0,(('A6-FinPos'!H37/'A6-FinPos'!H46)))","v":0},{"$f":"IF(ISERROR(('A6-FinPos'!I37/'A6-FinPos'!I46)),0,(('A6-FinPos'!I37/'A6-FinPos'!I46)))","v":0},{"$f":"IF(ISERROR(('A6-FinPos'!J37/'A6-FinPos'!J46)),0,(('A6-FinPos'!J37/'A6-FinPos'!J46)))","v":0},{"$f":"IF(ISERROR(('A6-FinPos'!K37/'A6-FinPos'!K46)),0,(('A6-FinPos'!K37/'A6-FinPos'!K46)))","v":0},{"$f":"IF(ISERROR(('A6-FinPos'!L37/'A6-FinPos'!L46)),0,(('A6-FinPos'!L37/'A6-FinPos'!L46)))","v":0}]
["Liquidity"]
["Current Ratio","Current assets/current liabilities",{"$f":"IF(ISERROR('A6-FinPos'!C12/'A6-FinPos'!C34),0,('A6-FinPos'!C12/'A6-FinPos'!C34))","v":2.4853530601517244},{"$f":"IF(ISERROR('A6-FinPos'!D12/'A6-FinPos'!D34),0,('A6-FinPos'!D12/'A6-FinPos'!D34))","v":3.8690507275272927},{"$f":"IF(ISERROR('A6-FinPos'!E12/'A6-FinPos'!E34),0,('A6-FinPos'!E12/'A6-FinPos'!E34))","v":2.2471619612666944},{"$f":"IF(ISERROR('A6-FinPos'!F12/'A6-FinPos'!F34),0,('A6-FinPos'!F12/'A6-FinPos'!F34))","v":2.6672415511177197},{"$f":"IF(ISERROR('A6-FinPos'!G12/'A6-FinPos'!G34),0,('A6-FinPos'!G12/'A6-FinPos'!G34))","v":1.9547424631841419},{"$f":"IF(ISERROR('A6-FinPos'!H12/'A6-FinPos'!H34),0,('A6-FinPos'!H12/'A6-FinPos'!H34))","v":1.9547424631841419},{"$f":"IF(ISERROR('A6-FinPos'!I12/'A6-FinPos'!I34),0,('A6-FinPos'!I12/'A6-FinPos'!I34))","v":1.9547424631841419},{"$f":"IF(ISERROR('A6-FinPos'!J12/'A6-FinPos'!J34),0,('A6-FinPos'!J12/'A6-FinPos'!J34))","v":3.39150360691833},{"$f":"IF(ISERROR('A6-FinPos'!K12/'A6-FinPos'!K34),0,('A6-FinPos'!K12/'A6-FinPos'!K34))","v":4.0293077857654893},{"$f":"IF(ISERROR('A6-FinPos'!L12/'A6-FinPos'!L34),0,('A6-FinPos'!L12/'A6-FinPos'!L34))","v":3.6449304341267479}]
["Current Ratio adjusted for aged debtors","Current assets less debtors > 90 days/current liabilities",{"$f":"IF(ISERROR(('A6-FinPos'!C12-'SA8'!C45)/'A6-FinPos'!C34),0,(('A6-FinPos'!C12-'SA8'!C45)/'A6-FinPos'!C34))","v":2.4853530601517244},{"$f":"IF(ISERROR(('A6-FinPos'!D12-'SA8'!D45)/'A6-FinPos'!D34),0,(('A6-FinPos'!D12-'SA8'!D45)/'A6-FinPos'!D34))","v":3.8690507275272927},{"$f":"IF(ISERROR(('A6-FinPos'!E12-'SA8'!E45)/'A6-FinPos'!E34),0,(('A6-FinPos'!E12-'SA8'!E45)/'A6-FinPos'!E34))","v":2.2471619612666944},{"$f":"IF(ISERROR(('A6-FinPos'!F12-'SA8'!F45)/'A6-FinPos'!F34),0,(('A6-FinPos'!F12-'SA8'!F45)/'A6-FinPos'!F34))","v":2.6672415511177197},{"$f":"IF(ISERROR(('A6-FinPos'!G12-'SA8'!G45)/'A6-FinPos'!G34),0,(('A6-FinPos'!G12-'SA8'!G45)/'A6-FinPos'!G34))","v":1.9547424631841419},{"$f":"IF(ISERROR(('A6-FinPos'!H12-'SA8'!H45)/'A6-FinPos'!H34),0,(('A6-FinPos'!H12-'SA8'!H45)/'A6-FinPos'!H34))","v":1.9547424631841419},{"$f":"IF(ISERROR(('A6-FinPos'!I12-'SA8'!I45)/'A6-FinPos'!I34),0,(('A6-FinPos'!I12-'SA8'!I45)/'A6-FinPos'!I34))","v":1.9547424631841419},{"$f":"IF(ISERROR(('A6-FinPos'!J12-'SA8'!J45)/'A6-FinPos'!J34),0,(('A6-FinPos'!J12-'SA8'!J45)/'A6-FinPos'!J34))","v":3.39150360691833},{"$f":"IF(ISERROR(('A6-FinPos'!K12-'SA8'!K45)/'A6-FinPos'!K34),0,(('A6-FinPos'!K12-'SA8'!K45)/'A6-FinPos'!K34))","v":4.0293077857654893},{"$f":"IF(ISERROR(('A6-FinPos'!L12-'SA8'!L45)/'A6-FinPos'!L34),0,(('A6-FinPos'!L12-'SA8'!L45)/'A6-FinPos'!L34))","v":3.6449304341267479}]
["Liquidity Ratio","Monetary Assets/Current Liabilities",{"$f":"IF(ISERROR(('A6-FinPos'!C6+'A6-FinPos'!C7)/'A6-FinPos'!C34),0,(('A6-FinPos'!C6+'A6-FinPos'!C7)/'A6-FinPos'!C34))","v":1.0962391262596027},{"$f":"IF(ISERROR(('A6-FinPos'!D6+'A6-FinPos'!D7)/'A6-FinPos'!D34),0,(('A6-FinPos'!D6+'A6-FinPos'!D7)/'A6-FinPos'!D34))","v":1.5240136526062116},{"$f":"IF(ISERROR(('A6-FinPos'!E6+'A6-FinPos'!E7)/'A6-FinPos'!E34),0,(('A6-FinPos'!E6+'A6-FinPos'!E7)/'A6-FinPos'!E34))","v":0.23150208137199058},{"$f":"IF(ISERROR(('A6-FinPos'!F6+'A6-FinPos'!F7)/'A6-FinPos'!F34),0,(('A6-FinPos'!F6+'A6-FinPos'!F7)/'A6-FinPos'!F34))","v":0.82414422970780654},{"$f":"IF(ISERROR(('A6-FinPos'!G6+'A6-FinPos'!G7)/'A6-FinPos'!G34),0,(('A6-FinPos'!G6+'A6-FinPos'!G7)/'A6-FinPos'!G34))","v":0.11164514177422877},{"$f":"IF(ISERROR(('A6-FinPos'!H6+'A6-FinPos'!H7)/'A6-FinPos'!H34),0,(('A6-FinPos'!H6+'A6-FinPos'!H7)/'A6-FinPos'!H34))","v":0.11164514177422877},{"$f":"IF(ISERROR(('A6-FinPos'!I6+'A6-FinPos'!I7)/'A6-FinPos'!I34),0,(('A6-FinPos'!I6+'A6-FinPos'!I7)/'A6-FinPos'!I34))","v":0.11164514177422877},{"$f":"IF(ISERROR(('A6-FinPos'!J6+'A6-FinPos'!J7)/'A6-FinPos'!J34),0,(('A6-FinPos'!J6+'A6-FinPos'!J7)/'A6-FinPos'!J34))","v":7.0139351623837526E-2},{"$f":"IF(ISERROR(('A6-FinPos'!K6+'A6-FinPos'!K7)/'A6-FinPos'!K34),0,(('A6-FinPos'!K6+'A6-FinPos'!K7)/'A6-FinPos'!K34))","v":0.1119694828469022},{"$f":"IF(ISERROR(('A6-FinPos'!L6+'A6-FinPos'!L7)/'A6-FinPos'!L34),0,(('A6-FinPos'!L6+'A6-FinPos'!L7)/'A6-FinPos'!L34))","v":9.8718811051088137E-2}]
["Revenue Management"]
["Annual Debtors Collection Rate (Payment Level %)","Last 12 Mths Receipts/Last 12 Mths Billing",null,{"$f":"IF(ISERROR(('A7-CFlow'!C6+'A7-CFlow'!C7+'A7-CFlow'!C22+'A7-CFlow'!C23)/SUM('A4-FinPerf RE'!C5:C10)),0,('A7-CFlow'!C6+'A7-CFlow'!C7+'A7-CFlow'!C22+'A7-CFlow'!C23)/(SUM('A4-FinPerf RE'!C5:C10)))","v":1.0050202367867929},{"$f":"IF(ISERROR(('A7-CFlow'!D6+'A7-CFlow'!D7+'A7-CFlow'!D22+'A7-CFlow'!D23)/SUM('A4-FinPerf RE'!D5:D10)),0,('A7-CFlow'!D6+'A7-CFlow'!D7+'A7-CFlow'!D22+'A7-CFlow'!D23)/(SUM('A4-FinPerf RE'!D5:D10)))","v":0.4294826826513764},{"$f":"IF(ISERROR(('A7-CFlow'!E6+'A7-CFlow'!E7+'A7-CFlow'!E22+'A7-CFlow'!E23)/SUM('A4-FinPerf RE'!E5:E10)),0,('A7-CFlow'!E6+'A7-CFlow'!E7+'A7-CFlow'!E22+'A7-CFlow'!E23)/(SUM('A4-FinPerf RE'!E5:E10)))","v":0.44025304155231754},{"$f":"IF(ISERROR(('A7-CFlow'!F6+'A7-CFlow'!F7+'A7-CFlow'!F22+'A7-CFlow'!F23)/SUM('A4-FinPerf RE'!F5:F10)),0,('A7-CFlow'!F6+'A7-CFlow'!F7+'A7-CFlow'!F22+'A7-CFlow'!F23)/(SUM('A4-FinPerf RE'!F5:F10)))","v":0.65240845103973688},{"$f":"IF(ISERROR(('A7-CFlow'!G6+'A7-CFlow'!G7+'A7-CFlow'!G22+'A7-CFlow'!G23)/SUM('A4-FinPerf RE'!G5:G10)),0,('A7-CFlow'!G6+'A7-CFlow'!G7+'A7-CFlow'!G22+'A7-CFlow'!G23)/(SUM('A4-FinPerf RE'!G5:G10)))","v":0.69860069460101948},{"$f":"IF(ISERROR(('A7-CFlow'!H6+'A7-CFlow'!H7+'A7-CFlow'!H22+'A7-CFlow'!H23)/SUM('A4-FinPerf RE'!H5:H10)),0,('A7-CFlow'!H6+'A7-CFlow'!H7+'A7-CFlow'!H22+'A7-CFlow'!H23)/(SUM('A4-FinPerf RE'!H5:H10)))","v":0.69860069460101948},{"$f":"IF(ISERROR(('A7-CFlow'!I6+'A7-CFlow'!I7+'A7-CFlow'!I22+'A7-CFlow'!I23)/SUM('A4-FinPerf RE'!I5:I10)),0,('A7-CFlow'!I6+'A7-CFlow'!I7+'A7-CFlow'!I22+'A7-CFlow'!I23)/(SUM('A4-FinPerf RE'!I5:I10)))","v":0.71365852986456912},{"$f":"IF(ISERROR(('A7-CFlow'!J6+'A7-CFlow'!J7+'A7-CFlow'!J22+'A7-CFlow'!J23)/SUM('A4-FinPerf RE'!J5:J10)),0,('A7-CFlow'!J6+'A7-CFlow'!J7+'A7-CFlow'!J22+'A7-CFlow'!J23)/(SUM('A4-FinPerf RE'!J5:J10)))","v":0.69870889881279685},{"$f":"IF(ISERROR(('A7-CFlow'!K6+'A7-CFlow'!K7+'A7-CFlow'!K22+'A7-CFlow'!K23)/SUM('A4-FinPerf RE'!K5:K10)),0,('A7-CFlow'!K6+'A7-CFlow'!K7+'A7-CFlow'!K22+'A7-CFlow'!K23)/(SUM('A4-FinPerf RE'!K5:K10)))","v":0.69870891864251206}]
["Current Debtors Collection Rate (Cash receipts % of Ratepayer & Other revenue)",null,{"$f":"IF(ISERROR(('A7-CFlow'!C6+'A7-CFlow'!C7)/SUM('A4-FinPerf RE'!C5:C10)),0,(('A7-CFlow'!C6+'A7-CFlow'!C7)/SUM('A4-FinPerf RE'!C5:C10)))","v":1.0050202367867929},{"$f":"IF(ISERROR(('A7-CFlow'!D6+'A7-CFlow'!D7)/SUM('A4-FinPerf RE'!D5:D10)),0,(('A7-CFlow'!D6+'A7-CFlow'!D7)/SUM('A4-FinPerf RE'!D5:D10)))","v":0.4294826826513764},{"$f":"IF(ISERROR(('A7-CFlow'!E6+'A7-CFlow'!E7)/SUM('A4-FinPerf RE'!E5:E10)),0,(('A7-CFlow'!E6+'A7-CFlow'!E7)/SUM('A4-FinPerf RE'!E5:E10)))","v":0.44025304155231754},{"$f":"IF(ISERROR(('A7-CFlow'!F6+'A7-CFlow'!F7)/SUM('A4-FinPerf RE'!F5:F10)),0,(('A7-CFlow'!F6+'A7-CFlow'!F7)/SUM('A4-FinPerf RE'!F5:F10)))","v":0.65240845103973688},{"$f":"IF(ISERROR(('A7-CFlow'!G6+'A7-CFlow'!G7)/SUM('A4-FinPerf RE'!G5:G10)),0,(('A7-CFlow'!G6+'A7-CFlow'!G7)/SUM('A4-FinPerf RE'!G5:G10)))","v":0.69860069460101948},{"$f":"IF(ISERROR(('A7-CFlow'!H6+'A7-CFlow'!H7)/SUM('A4-FinPerf RE'!H5:H10)),0,(('A7-CFlow'!H6+'A7-CFlow'!H7)/SUM('A4-FinPerf RE'!H5:H10)))","v":0.69860069460101948},{"$f":"IF(ISERROR(('A7-CFlow'!I6+'A7-CFlow'!I7)/SUM('A4-FinPerf RE'!I5:I10)),0,(('A7-CFlow'!I6+'A7-CFlow'!I7)/SUM('A4-FinPerf RE'!I5:I10)))","v":0.71365852986456912},{"$f":"IF(ISERROR(('A7-CFlow'!J6+'A7-CFlow'!J7)/SUM('A4-FinPerf RE'!J5:J10)),0,(('A7-CFlow'!J6+'A7-CFlow'!J7)/SUM('A4-FinPerf RE'!J5:J10)))","v":0.69870889881279685},{"$f":"IF(ISERROR(('A7-CFlow'!K6+'A7-CFlow'!K7)/SUM('A4-FinPerf RE'!K5:K10)),0,(('A7-CFlow'!K6+'A7-CFlow'!K7)/SUM('A4-FinPerf RE'!K5:K10)))","v":0.69870891864251206},{"$f":"IF(ISERROR(('A7-CFlow'!L6+'A7-CFlow'!L7)/SUM('A4-FinPerf RE'!L5:L10)),0,(('A7-CFlow'!L6+'A7-CFlow'!L7)/SUM('A4-FinPerf RE'!L5:L10)))","v":0.69870889693431348}]
["Outstanding Debtors to Revenue","Total Outstanding Debtors to Annual Revenue",{"$f":"IF(ISERROR(('A6-FinPos'!C8+'A6-FinPos'!C9+'A6-FinPos'!C10+'A6-FinPos'!C15)/'A4-FinPerf RE'!C21),0,(('A6-FinPos'!C8+'A6-FinPos'!C9+'A6-FinPos'!C10+'A6-FinPos'!C15)/'A4-FinPerf RE'!C21))","v":0.28860756696226947},{"$f":"IF(ISERROR(('A6-FinPos'!D8+'A6-FinPos'!D9+'A6-FinPos'!D10+'A6-FinPos'!D15)/'A4-FinPerf RE'!D21),0,(('A6-FinPos'!D8+'A6-FinPos'!D9+'A6-FinPos'!D10+'A6-FinPos'!D15)/'A4-FinPerf RE'!D21))","v":0.307165127785688},{"$f":"IF(ISERROR(('A6-FinPos'!E8+'A6-FinPos'!E9+'A6-FinPos'!E10+'A6-FinPos'!E15)/'A4-FinPerf RE'!E21),0,(('A6-FinPos'!E8+'A6-FinPos'!E9+'A6-FinPos'!E10+'A6-FinPos'!E15)/'A4-FinPerf RE'!E21))","v":0.36744245594677116},{"$f":"IF(ISERROR(('A6-FinPos'!F8+'A6-FinPos'!F9+'A6-FinPos'!F10+'A6-FinPos'!F15)/'A4-FinPerf RE'!F21),0,(('A6-FinPos'!F8+'A6-FinPos'!F9+'A6-FinPos'!F10+'A6-FinPos'!F15)/'A4-FinPerf RE'!F21))","v":0.18589234569734583},{"$f":"IF(ISERROR(('A6-FinPos'!G8+'A6-FinPos'!G9+'A6-FinPos'!G10+'A6-FinPos'!G15)/'A4-FinPerf RE'!G21),0,(('A6-FinPos'!G8+'A6-FinPos'!G9+'A6-FinPos'!G10+'A6-FinPos'!G15)/'A4-FinPerf RE'!G21))","v":0.16357787275863875},{"$f":"IF(ISERROR(('A6-FinPos'!H8+'A6-FinPos'!H9+'A6-FinPos'!H10+'A6-FinPos'!H15)/'A4-FinPerf RE'!H21),0,(('A6-FinPos'!H8+'A6-FinPos'!H9+'A6-FinPos'!H10+'A6-FinPos'!H15)/'A4-FinPerf RE'!H21))","v":0.16357787275863875},{"$f":"IF(ISERROR(('A6-FinPos'!I8+'A6-FinPos'!I9+'A6-FinPos'!I10+'A6-FinPos'!I15)/'A4-FinPerf RE'!I21),0,(('A6-FinPos'!I8+'A6-FinPos'!I9+'A6-FinPos'!I10+'A6-FinPos'!I15)/'A4-FinPerf RE'!I21))","v":0.16402162187609226},{"$f":"IF(ISERROR(('A6-FinPos'!J8+'A6-FinPos'!J9+'A6-FinPos'!J10+'A6-FinPos'!J15)/'A4-FinPerf RE'!J21),0,(('A6-FinPos'!J8+'A6-FinPos'!J9+'A6-FinPos'!J10+'A6-FinPos'!J15)/'A4-FinPerf RE'!J21))","v":0.25518390236236255},{"$f":"IF(ISERROR(('A6-FinPos'!K8+'A6-FinPos'!K9+'A6-FinPos'!K10+'A6-FinPos'!K15)/'A4-FinPerf RE'!K21),0,(('A6-FinPos'!K8+'A6-FinPos'!K9+'A6-FinPos'!K10+'A6-FinPos'!K15)/'A4-FinPerf RE'!K21))","v":0.24052509062165511},{"$f":"IF(ISERROR(('A6-FinPos'!L8+'A6-FinPos'!L9+'A6-FinPos'!L10+'A6-FinPos'!L15)/'A4-FinPerf RE'!L21),0,(('A6-FinPos'!L8+'A6-FinPos'!L9+'A6-FinPos'!L10+'A6-FinPos'!L15)/'A4-FinPerf RE'!L21))","v":0.22567677553888804}]
["Longstanding Debtors Recovered","Debtors > 12 Mths Recovered/Total Debtors > 12 Months Old"]
["Creditors Management"]
["Creditors System Efficiency","% of Creditors Paid Within Terms (within`MFMA' s 65(e))"]
["Creditors to Cash and Investments",null,{"$f":"IF(ISERROR('SA3'!C35/'A7-CFlow'!C40),0,('SA3'!C35/'A7-CFlow'!C40))","v":0.90642355757604764},{"$f":"IF(ISERROR('SA3'!D35/'A7-CFlow'!D40),0,('SA3'!D35/'A7-CFlow'!D40))","v":0.6381510018934482},{"$f":"IF(ISERROR('SA3'!E35/'A7-CFlow'!E40),0,('SA3'!E35/'A7-CFlow'!E40))","v":4.2905027033472294},{"$f":"IF(ISERROR('SA3'!F35/'A7-CFlow'!F40),0,('SA3'!F35/'A7-CFlow'!F40))","v":0.95745984533971018},{"$f":"IF(ISERROR('SA3'!G35/'A7-CFlow'!G40),0,('SA3'!G35/'A7-CFlow'!G40))","v":8.8653797314055076},{"$f":"IF(ISERROR('SA3'!H35/'A7-CFlow'!H40),0,('SA3'!H35/'A7-CFlow'!H40))","v":8.8653797314055076},{"$f":"IF(ISERROR('SA3'!I35/'A7-CFlow'!I40),0,('SA3'!I35/'A7-CFlow'!I40))","v":8.8653797314055076},{"$f":"IF(ISERROR('SA3'!J35/'A7-CFlow'!J40),0,('SA3'!J35/'A7-CFlow'!J40))","v":14.091562640579994},{"$f":"IF(ISERROR('SA3'!K35/'A7-CFlow'!K40),0,('SA3'!K35/'A7-CFlow'!K40))","v":8.8119601718645022},{"$f":"IF(ISERROR('SA3'!L35/'A7-CFlow'!L40),0,('SA3'!L35/'A7-CFlow'!L40))","v":10.007656555333806}]
[]
["Other Indicators"]
["Electricity Distribution Losses (2)","Total Volume Losses (kW)",2247610,6986097,7658574,2247610,2247610,2247610,2247610,5199000,4875000,4612000]
[null,"Total Cost of Losses (Rand '000)",null,null,7207383,null,null,null,null,5300000,5000000,4800000]
[null,"% Volume (units purchased and generated less units sold)/units purchased and generated",{"$f":"2247610/10013213*100","v":22.446441516823821},{"$f":"6986097/14478891*100","v":48.250221650263128},{"$f":"7658574/16058008*100","v":47.693175890807879}]
["Water Distribution Losses (2)","Total Volume Losses (kℓ)"]
[null,"Total Cost of Losses (Rand '000)"]
[null,"% Volume (units purchased and generated less units sold)/units purchased and generated"]
["Employee costs","Employee costs/(Total Revenue - capital revenue)",{"$f":"IF(ISERROR('A4-FinPerf RE'!C24/'A4-FinPerf RE'!C21),0,('A4-FinPerf RE'!C24/'A4-FinPerf RE'!C21))","v":0.25103564198039607},{"$f":"IF(ISERROR('A4-FinPerf RE'!D24/'A4-FinPerf RE'!D21),0,('A4-FinPerf RE'!D24/'A4-FinPerf RE'!D21))","v":0.26376270741379459},{"$f":"IF(ISERROR('A4-FinPerf RE'!E24/'A4-FinPerf RE'!E21),0,('A4-FinPerf RE'!E24/'A4-FinPerf RE'!E21))","v":0.26726142562213229},{"$f":"IF(ISERROR('A4-FinPerf RE'!F24/'A4-FinPerf RE'!F21),0,('A4-FinPerf RE'!F24/'A4-FinPerf RE'!F21))","v":0.23012613944259799},{"$f":"IF(ISERROR('A4-FinPerf RE'!G24/'A4-FinPerf RE'!G21),0,('A4-FinPerf RE'!G24/'A4-FinPerf RE'!G21))","v":0.24636864791018023},{"$f":"IF(ISERROR('A4-FinPerf RE'!H24/'A4-FinPerf RE'!H21),0,('A4-FinPerf RE'!H24/'A4-FinPerf RE'!H21))","v":0.24636864791018023},{"$f":"IF(ISERROR('A4-FinPerf RE'!I24/'A4-FinPerf RE'!I21),0,('A4-FinPerf RE'!I24/'A4-FinPerf RE'!I21))","v":0.2470369893443525},{"$f":"IF(ISERROR('A4-FinPerf RE'!J24/'A4-FinPerf RE'!J21),0,('A4-FinPerf RE'!J24/'A4-FinPerf RE'!J21))","v":0.26739608714675878},{"$f":"IF(ISERROR('A4-FinPerf RE'!K24/'A4-FinPerf RE'!K21),0,('A4-FinPerf RE'!K24/'A4-FinPerf RE'!K21))","v":0.26912520201868623},{"$f":"IF(ISERROR('A4-FinPerf RE'!L24/'A4-FinPerf RE'!L21),0,('A4-FinPerf RE'!L24/'A4-FinPerf RE'!L21))","v":0.26961710198237815}]
["Remuneration","Total remuneration/(Total Revenue - capital revenue)",{"$f":"IF(ISERROR('SA22'!C102/'A4-FinPerf RE'!C21),0,('SA22'!C102/'A4-FinPerf RE'!C21))","v":0.25103564198039607},{"$f":"IF(ISERROR('SA22'!D102/'A4-FinPerf RE'!D21),0,('SA22'!D102/'A4-FinPerf RE'!D21))","v":0.26376270741379459},{"$f":"IF(ISERROR('SA22'!E102/'A4-FinPerf RE'!E21),0,('SA22'!E102/'A4-FinPerf RE'!E21))","v":0.26726142562213229},{"$f":"IF(ISERROR('SA22'!F102/'A4-FinPerf RE'!F21),0,('SA22'!F102/'A4-FinPerf RE'!F21))","v":0.29615666140442404},{"$f":"IF(ISERROR('SA22'!G102/'A4-FinPerf RE'!G21),0,('SA22'!G102/'A4-FinPerf RE'!G21))","v":0.30554400510037244},{"$f":"IF(ISERROR('SA22'!H102/'A4-FinPerf RE'!H21),0,('SA22'!H102/'A4-FinPerf RE'!H21))","v":0.30554400510037244},null,{"$f":"IF(ISERROR('SA22'!I102/'A4-FinPerf RE'!J21),0,('SA22'!I102/'A4-FinPerf RE'!J21))","v":0.32719693504587877},{"$f":"IF(ISERROR('SA22'!J102/'A4-FinPerf RE'!K21),0,('SA22'!J102/'A4-FinPerf RE'!K21))","v":0.32846821214033411},{"$f":"IF(ISERROR('SA22'!K102/'A4-FinPerf RE'!L21),0,('SA22'!K102/'A4-FinPerf RE'!L21))","v":0.32823436399146461}]
["Repairs & Maintenance","R&M/(Total Revenue excluding capital revenue)",{"$f":"IF(ISERROR('A9-Asset'!C169/'A4-FinPerf RE'!C21),0,('A9-Asset'!C169/'A4-FinPerf RE'!C21))","v":2.2427274046280778E-2},{"$f":"IF(ISERROR('A9-Asset'!D169/'A4-FinPerf RE'!D21),0,('A9-Asset'!D169/'A4-FinPerf RE'!D21))","v":1.5824142690574829E-2},{"$f":"IF(ISERROR('A9-Asset'!E169/'A4-FinPerf RE'!E21),0,('A9-Asset'!E169/'A4-FinPerf RE'!E21))","v":3.3076517753918469E-2},{"$f":"IF(ISERROR('A9-Asset'!F169/'A4-FinPerf RE'!F21),0,('A9-Asset'!F169/'A4-FinPerf RE'!F21))","v":6.4945468701196205E-2},{"$f":"IF(ISERROR('A9-Asset'!G169/'A4-FinPerf RE'!G21),0,('A9-Asset'!G169/'A4-FinPerf RE'!G21))","v":5.8878634467121341E-2},{"$f":"IF(ISERROR('A9-Asset'!H169/'A4-FinPerf RE'!H21),0,('A9-Asset'!H169/'A4-FinPerf RE'!H21))","v":5.8878634467121341E-2},null,{"$f":"IF(ISERROR('A9-Asset'!I169/'A4-FinPerf RE'!J21),0,('A9-Asset'!I169/'A4-FinPerf RE'!J21))","v":5.9854753346609904E-2},{"$f":"IF(ISERROR('A9-Asset'!J169/'A4-FinPerf RE'!K21),0,('A9-Asset'!J169/'A4-FinPerf RE'!K21))","v":5.0040013548642681E-2},{"$f":"IF(ISERROR('A9-Asset'!K169/'A4-FinPerf RE'!L21),0,('A9-Asset'!K169/'A4-FinPerf RE'!L21))","v":4.9896716570756797E-2}]
["Finance charges & Depreciation","FC&D/(Total Revenue - capital revenue)",{"$f":"IF(ISERROR(('A4-FinPerf RE'!C28+'A4-FinPerf RE'!C27)/'A4-FinPerf RE'!C21),0,(('A4-FinPerf RE'!C28+'A4-FinPerf RE'!C27)/'A4-FinPerf RE'!C21))","v":8.4071014436689268E-2},{"$f":"IF(ISERROR(('A4-FinPerf RE'!D28+'A4-FinPerf RE'!D27)/'A4-FinPerf RE'!D21),0,(('A4-FinPerf RE'!D28+'A4-FinPerf RE'!D27)/'A4-FinPerf RE'!D21))","v":0.11999230541509114},{"$f":"IF(ISERROR(('A4-FinPerf RE'!E28+'A4-FinPerf RE'!E27)/'A4-FinPerf RE'!E21),0,(('A4-FinPerf RE'!E28+'A4-FinPerf RE'!E27)/'A4-FinPerf RE'!E21))","v":0.10259464994166564},{"$f":"IF(ISERROR(('A4-FinPerf RE'!F28+'A4-FinPerf RE'!F27)/'A4-FinPerf RE'!F21),0,(('A4-FinPerf RE'!F28+'A4-FinPerf RE'!F27)/'A4-FinPerf RE'!F21))","v":1.4821931581588059E-2},{"$f":"IF(ISERROR(('A4-FinPerf RE'!G28+'A4-FinPerf RE'!G27)/'A4-FinPerf RE'!G21),0,(('A4-FinPerf RE'!G28+'A4-FinPerf RE'!G27)/'A4-FinPerf RE'!G21))","v":1.5367181909579952E-2},{"$f":"IF(ISERROR(('A4-FinPerf RE'!H28+'A4-FinPerf RE'!H27)/'A4-FinPerf RE'!H21),0,(('A4-FinPerf RE'!H28+'A4-FinPerf RE'!H27)/'A4-FinPerf RE'!H21))","v":1.5367181909579952E-2},{"$f":"IF(ISERROR(('A4-FinPerf RE'!I28+'A4-FinPerf RE'!I27)/'A4-FinPerf RE'!I21),0,(('A4-FinPerf RE'!I28+'A4-FinPerf RE'!I27)/'A4-FinPerf RE'!I21))","v":1.5408869536977976E-2},{"$f":"IF(ISERROR(('A4-FinPerf RE'!J28+'A4-FinPerf RE'!J27)/'A4-FinPerf RE'!J21),0,(('A4-FinPerf RE'!J28+'A4-FinPerf RE'!J27)/'A4-FinPerf RE'!J21))","v":1.5529620157249501E-2},{"$f":"IF(ISERROR(('A4-FinPerf RE'!K28+'A4-FinPerf RE'!K27)/'A4-FinPerf RE'!K21),0,(('A4-FinPerf RE'!K28+'A4-FinPerf RE'!K27)/'A4-FinPerf RE'!K21))","v":1.5410724113260247E-2},{"$f":"IF(ISERROR(('A4-FinPerf RE'!L28+'A4-FinPerf RE'!L27)/'A4-FinPerf RE'!L21),0,(('A4-FinPerf RE'!L28+'A4-FinPerf RE'!L27)/'A4-FinPerf RE'!L21))","v":1.5222254029604955E-2}]
["IDP regulation financial viability indicators"]
["i. Debt coverage","(Total Operating Revenue - Operating Grants)/Debt service payments due within financial year)",{"$f":"IF(ISERROR(('A4-FinPerf RE'!C21-'A4-FinPerf RE'!C18)/('A7-CFlow'!D11-'A7-CFlow'!D35)),0,(('A4-FinPerf RE'!C21-'A4-FinPerf RE'!C18)/('A7-CFlow'!D11-'A7-CFlow'!D35)))","v":7.3671799588787268},{"$f":"IF(ISERROR(('A4-FinPerf RE'!D21-'A4-FinPerf RE'!D18)/('A7-CFlow'!E11-'A7-CFlow'!E35)),0,(('A4-FinPerf RE'!D21-'A4-FinPerf RE'!D18)/('A7-CFlow'!E11-'A7-CFlow'!E35)))","v":10.796304410510462},{"$f":"IF(ISERROR(('A4-FinPerf RE'!E21-'A4-FinPerf RE'!E18)/('A7-CFlow'!F11-'A7-CFlow'!F35)),0,(('A4-FinPerf RE'!E21-'A4-FinPerf RE'!E18)/('A7-CFlow'!F11-'A7-CFlow'!F35)))","v":5.4795369036960899},{"$f":"IF(ISERROR(('A4-FinPerf RE'!F21-'A4-FinPerf RE'!F18)/('A7-CFlow'!G11-'A7-CFlow'!G35)),0,(('A4-FinPerf RE'!F21-'A4-FinPerf RE'!F18)/('A7-CFlow'!G11-'A7-CFlow'!G35)))","v":5.0784595202147873},{"$f":"F37","v":5.0784595202147873},{"$f":"G37","v":5.0784595202147873},{"$f":"IF(ISERROR(('A4-FinPerf RE'!I21-'A4-FinPerf RE'!I18)/('A7-CFlow'!J11-'A7-CFlow'!J35)),0,(('A4-FinPerf RE'!I21-'A4-FinPerf RE'!I18)/('A7-CFlow'!J11-'A7-CFlow'!J35)))","v":9.1584357293057561},{"$f":"IF(ISERROR(('A4-FinPerf RE'!J21-'A4-FinPerf RE'!J18)/('A7-CFlow'!K11-'A7-CFlow'!K35)),0,(('A4-FinPerf RE'!J21-'A4-FinPerf RE'!J18)/('A7-CFlow'!K11-'A7-CFlow'!K35)))","v":7.6532229951626318},{"$f":"IF(ISERROR(('A4-FinPerf RE'!K21-'A4-FinPerf RE'!K18)/('A7-CFlow'!L11-'A7-CFlow'!L35)),0,(('A4-FinPerf RE'!K21-'A4-FinPerf RE'!K18)/('A7-CFlow'!L11-'A7-CFlow'!L35)))","v":7.6532229920629149},{"$f":"IF(ISERROR(('A4-FinPerf RE'!L21-'A4-FinPerf RE'!L18)/('A7-CFlow'!L11-'A7-CFlow'!L35)),0,(('A4-FinPerf RE'!L21-'A4-FinPerf RE'!L18)/('A7-CFlow'!L11-'A7-CFlow'!L35)))","v":8.0664969836696141}]
["ii.O/S Service Debtors to Revenue","Total outstanding service debtors/annual revenue received for services",{"$f":"IF(ISERROR(('A6-FinPos'!C8+'A6-FinPos'!C9+'A6-FinPos'!C10)/SUM('A4-FinPerf RE'!C5:C11)),0,(('A6-FinPos'!C8+'A6-FinPos'!C9+'A6-FinPos'!C10)/SUM('A4-FinPerf RE'!C5:C11)))","v":3.3660916916909271},{"$f":"IF(ISERROR(('A6-FinPos'!D8+'A6-FinPos'!D9+'A6-FinPos'!D10)/SUM('A4-FinPerf RE'!D5:D11)),0,(('A6-FinPos'!D8+'A6-FinPos'!D9+'A6-FinPos'!D10)/SUM('A4-FinPerf RE'!D5:D11)))","v":3.0835116656914101},{"$f":"IF(ISERROR(('A6-FinPos'!E8+'A6-FinPos'!E9+'A6-FinPos'!E10)/SUM('A4-FinPerf RE'!E5:E11)),0,(('A6-FinPos'!E8+'A6-FinPos'!E9+'A6-FinPos'!E10)/SUM('A4-FinPerf RE'!E5:E11)))","v":4.5391429415192501},{"$f":"IF(ISERROR(('A6-FinPos'!F8+'A6-FinPos'!F9+'A6-FinPos'!F10)/SUM('A4-FinPerf RE'!F5:F11)),0,(('A6-FinPos'!F8+'A6-FinPos'!F9+'A6-FinPos'!F10)/SUM('A4-FinPerf RE'!F5:F11)))","v":1.9691262664685047},{"$f":"IF(ISERROR(('A6-FinPos'!G8+'A6-FinPos'!G9+'A6-FinPos'!G10)/SUM('A4-FinPerf RE'!G5:G11)),0,(('A6-FinPos'!G8+'A6-FinPos'!G9+'A6-FinPos'!G10)/SUM('A4-FinPerf RE'!G5:G11)))","v":1.2515818573484585},{"$f":"IF(ISERROR(('A6-FinPos'!H8+'A6-FinPos'!H9+'A6-FinPos'!H10)/SUM('A4-FinPerf RE'!H5:H11)),0,(('A6-FinPos'!H8+'A6-FinPos'!H9+'A6-FinPos'!H10)/SUM('A4-FinPerf RE'!H5:H11)))","v":1.2515818573484585},{"$f":"IF(ISERROR(('A6-FinPos'!I8+'A6-FinPos'!I9+'A6-FinPos'!I10)/SUM('A4-FinPerf RE'!I5:I11)),0,(('A6-FinPos'!I8+'A6-FinPos'!I9+'A6-FinPos'!I10)/SUM('A4-FinPerf RE'!I5:I11)))","v":1.2780372751085403},{"$f":"IF(ISERROR(('A6-FinPos'!J8+'A6-FinPos'!J9+'A6-FinPos'!J10)/SUM('A4-FinPerf RE'!J5:J11)),0,(('A6-FinPos'!J8+'A6-FinPos'!J9+'A6-FinPos'!J10)/SUM('A4-FinPerf RE'!J5:J11)))","v":1.9323696734683227},{"$f":"IF(ISERROR(('A6-FinPos'!K8+'A6-FinPos'!K9+'A6-FinPos'!K10)/SUM('A4-FinPerf RE'!K5:K11)),0,(('A6-FinPos'!K8+'A6-FinPos'!K9+'A6-FinPos'!K10)/SUM('A4-FinPerf RE'!K5:K11)))","v":1.8354185286499898},{"$f":"IF(ISERROR(('A6-FinPos'!L8+'A6-FinPos'!L9+'A6-FinPos'!L10)/SUM('A4-FinPerf RE'!L5:L11)),0,(('A6-FinPos'!L8+'A6-FinPos'!L9+'A6-FinPos'!L10)/SUM('A4-FinPerf RE'!L5:L11)))","v":1.7434344203073369}]
["iii. Cost coverage","(Available cash + Investments)/monthly fixed operational expenditure",{"$f":"IF(ISERROR('A7-CFlow'!C40/'SA8'!C46),0,('A7-CFlow'!C40/'SA8'!C46))","v":5.4792300734639676},{"$f":"IF(ISERROR('A7-CFlow'!D40/'SA8'!D46),0,('A7-CFlow'!D40/'SA8'!D46))","v":4.1251705000216372},{"$f":"IF(ISERROR('A7-CFlow'!E40/'SA8'!E46),0,('A7-CFlow'!E40/'SA8'!E46))","v":0.9101402357161883},{"$f":"IF(ISERROR('A7-CFlow'!F40/'SA8'!F46),0,('A7-CFlow'!F40/'SA8'!F46))","v":2.6577150149557145},{"$f":"IF(ISERROR('A7-CFlow'!G40/'SA8'!G46),0,('A7-CFlow'!G40/'SA8'!G46))","v":0.23946710152016348},{"$f":"IF(ISERROR('A7-CFlow'!H40/'SA8'!H46),0,('A7-CFlow'!H40/'SA8'!H46))","v":0.23946710152016348},{"$f":"IF(ISERROR('A7-CFlow'!I40/'SA8'!I46),0,('A7-CFlow'!I40/'SA8'!I46))","v":0.23946710152016348},{"$f":"IF(ISERROR('A7-CFlow'!J40/'SA8'!J46),0,('A7-CFlow'!J40/'SA8'!J46))","v":0.12991664971063774},{"$f":"IF(ISERROR('A7-CFlow'!K40/'SA8'!K46),0,('A7-CFlow'!K40/'SA8'!K46))","v":0.17080715507260802},{"$f":"IF(ISERROR('A7-CFlow'!L40/'SA8'!L46),0,('A7-CFlow'!L40/'SA8'!L46))","v":0.15686816499265738}]
[{"$f":"head27a","v":"References"}]
["1. Consumer debtors > 12 months old are excluded from current assets"]
["2. Only include if services provided by the municipality"]
[]
["Calculation data"]
["Debtors > 90 days"]
["Monthly fixed operational expenditure",null,{"$f":"(('A4-FinPerf RE'!C24+'A4-FinPerf RE'!C25+'A4-FinPerf RE'!C26+'A4-FinPerf RE'!C28+'A4-FinPerf RE'!C29+'A4-FinPerf RE'!C31+'SA1'!C91+'A7-CFlow'!C35)+(('A4-FinPerf RE'!C30+'A4-FinPerf RE'!C33)*'SA8'!C47))/12","v":11080819.966666667},{"$f":"(('A4-FinPerf RE'!D24+'A4-FinPerf RE'!D25+'A4-FinPerf RE'!D26+'A4-FinPerf RE'!D28+'A4-FinPerf RE'!D29+'A4-FinPerf RE'!D31+'SA1'!D91+'A7-CFlow'!D35)+(('A4-FinPerf RE'!D30+'A4-FinPerf RE'!D33)*'SA8'!D47))/12","v":13558795.933333332},{"$f":"(('A4-FinPerf RE'!E24+'A4-FinPerf RE'!E25+'A4-FinPerf RE'!E26+'A4-FinPerf RE'!E28+'A4-FinPerf RE'!E29+'A4-FinPerf RE'!E31+'SA1'!E91+'A7-CFlow'!E35)+(('A4-FinPerf RE'!E30+'A4-FinPerf RE'!E33)*'SA8'!E47))/12","v":14467012.316666668},{"$f":"(('A4-FinPerf RE'!F24+'A4-FinPerf RE'!F25+'A4-FinPerf RE'!F26+'A4-FinPerf RE'!F28+'A4-FinPerf RE'!F29+'A4-FinPerf RE'!F31+'SA1'!F91+'A7-CFlow'!F35)+(('A4-FinPerf RE'!F30+'A4-FinPerf RE'!F33)*'SA8'!F47))/12","v":14026764.448866667},{"$f":"(('A4-FinPerf RE'!G24+'A4-FinPerf RE'!G25+'A4-FinPerf RE'!G26+'A4-FinPerf RE'!G28+'A4-FinPerf RE'!G29+'A4-FinPerf RE'!G31+'SA1'!G91+'A7-CFlow'!G35)+(('A4-FinPerf RE'!G30+'A4-FinPerf RE'!G33)*'SA8'!G47))/12","v":16812925.288866669},{"$f":"(('A4-FinPerf RE'!H24+'A4-FinPerf RE'!H25+'A4-FinPerf RE'!H26+'A4-FinPerf RE'!H28+'A4-FinPerf RE'!H29+'A4-FinPerf RE'!H31+'SA1'!H91+'A7-CFlow'!H35)+(('A4-FinPerf RE'!H30+'A4-FinPerf RE'!H33)*'SA8'!H47))/12","v":16812925.288866669},{"$f":"(('A4-FinPerf RE'!I24+'A4-FinPerf RE'!I25+'A4-FinPerf RE'!I26+'A4-FinPerf RE'!I28+'A4-FinPerf RE'!I29+'A4-FinPerf RE'!I31+'SA1'!I91+'A7-CFlow'!I35)+(('A4-FinPerf RE'!I30+'A4-FinPerf RE'!I33)*'SA8'!I47))/12","v":16812925.288866669},{"$f":"(('A4-FinPerf RE'!J24+'A4-FinPerf RE'!J25+'A4-FinPerf RE'!J26+'A4-FinPerf RE'!J28+'A4-FinPerf RE'!J29+'A4-FinPerf RE'!J31+'SA1'!J91+'A7-CFlow'!J35)+(('A4-FinPerf RE'!J30+'A4-FinPerf RE'!J33)*'SA8'!J47))/12","v":18638480.800000001},{"$f":"(('A4-FinPerf RE'!K24+'A4-FinPerf RE'!K25+'A4-FinPerf RE'!K26+'A4-FinPerf RE'!K28+'A4-FinPerf RE'!K29+'A4-FinPerf RE'!K31+'SA1'!K91+'A7-CFlow'!K35)+(('A4-FinPerf RE'!K30+'A4-FinPerf RE'!K33)*'SA8'!K47))/12","v":19200797.083333332},{"$f":"(('A4-FinPerf RE'!L24+'A4-FinPerf RE'!L25+'A4-FinPerf RE'!L26+'A4-FinPerf RE'!L28+'A4-FinPerf RE'!L29+'A4-FinPerf RE'!L31+'SA1'!L91+'A7-CFlow'!L35)+(('A4-FinPerf RE'!L30+'A4-FinPerf RE'!L33)*'SA8'!L47))/12","v":20383688.283333335}]
["Fixed operational expenditure % assumption",null,0.4,{"$f":"$C$47","v":0.4},{"$f":"$C$47","v":0.4},0.4,0.4,0.4,0.4,0.4,0.4,0.4]
["Own capex",null,{"$f":"'A5-Capex'!C40-'A5-Capex'!C70-'A5-Capex'!C71","v":86928321},{"$f":"'A5-Capex'!D40-'A5-Capex'!D70-'A5-Capex'!D71","v":51511167},{"$f":"'A5-Capex'!E40-'A5-Capex'!E70-'A5-Capex'!E71","v":95656699},{"$f":"'A5-Capex'!F40-'A5-Capex'!F70-'A5-Capex'!F71","v":116834319.12},{"$f":"'A5-Capex'!G40-'A5-Capex'!G70-'A5-Capex'!G71","v":111218406.12},{"$f":"'A5-Capex'!H40-'A5-Capex'!H70-'A5-Capex'!H71","v":111218406.12},{"$f":"'A5-Capex'!I40-'A5-Capex'!I70-'A5-Capex'!I71","v":111218406.12},{"$f":"'A5-Capex'!J40-'A5-Capex'!J70-'A5-Capex'!J71","v":93946220},{"$f":"'A5-Capex'!K40-'A5-Capex'!K70-'A5-Capex'!K71","v":118039294},{"$f":"'A5-Capex'!L40-'A5-Capex'!L70-'A5-Capex'!L71","v":128200218}]
["Borrowing",null,{"$f":"'A7-CFlow'!C31+'A7-CFlow'!C32","v":0},{"$f":"'A7-CFlow'!D31+'A7-CFlow'!D32","v":0},{"$f":"'A7-CFlow'!E31+'A7-CFlow'!E32","v":0},{"$f":"'A7-CFlow'!F31+'A7-CFlow'!F32","v":0},{"$f":"'A7-CFlow'!G31+'A7-CFlow'!G32","v":0},{"$f":"'A7-CFlow'!H31+'A7-CFlow'!H32","v":0},{"$f":"'A7-CFlow'!I31+'A7-CFlow'!I32","v":0},{"$f":"'A7-CFlow'!J31+'A7-CFlow'!J32","v":0},{"$f":"'A7-CFlow'!K31+'A7-CFlow'!K32","v":0},{"$f":"'A7-CFlow'!L31+'A7-CFlow'!L32","v":0}]

{"sheet":"SA9","index":28,"n_rows":310,"n_cols":13,"rows_kept":310,"cut":false,"hidden":false,"merged":[[1,5,2,5],[62,7,62,9],[62,10,62,12],[108,0,109,0],[108,7,108,9],[108,10,108,12],[1,0,2,0],[1,1,2,1],[1,2,2,2],[1,3,2,3],[1,4,2,4],[1,10,1,12],[62,0,63,0],[246,7,246,9],[246,10,246,12],[246,0,247,0],[154,0,155,0],[154,7,154,9],[154,10,154,12],[200,0,201,0],[200,10,200,12],[200,7,200,9]]}
[{"$f":"muni&\" - \"&TableA9","v":"LIM332 Greater Letaba - Supporting Table SA9 Social, economic and demographic statistics and assumptions"}]
["Description of economic indicator","Ref.","Basis of calculation",{"$f":"Head44","v":"2001 Census"},"2007 Survey",{"$f":"Head45","v":"2011 Census"},{"$f":"head1b","v":"2015/16"},{"$f":"head1A","v":"2016/17"},{"$f":"Head1","v":"2017/18"},{"$f":"Head2","v":"Current Year 2018/19"},{"$f":"Head3","v":"2019/20 Medium Term Revenue & Expenditure Framework"}]
[null,null,null,null,null,null,{"$f":"Head5A","v":"Outcome"},"Outcome","Outcome",{"$f":"Head6","v":"Original Budget"},"Outcome","Outcome","Outcome"]
["Demographics"]
["Population",null,"Stats SA",220000,248000,247739,212701,212701,212701,218030,218030,218030,218030]
["Females aged 5 - 14",null,null,33000,49000,22887,36228,36228,36228,24000,24000,24000,24000]
["Males aged 5 - 14",null,null,32000,45000,23365,36655,36655,36655,36655,36655,36655,36655]
["Females aged 15 - 34",null,null,41000,46000,40864,40529,40529,40529,38000,38000,38000,38000]
["Males aged 15 - 34",null,null,35000,42000,36999,36447,36447,36447,34000,34000,34000,34000]
["Unemployment",null,null,79000,66000,260846,18806,18806,18806,30000,30000,30000,30000]
[]
["Monthly household income (no. of households)","1, 12"]
["No income",null,null,16107,85530,8407,8407,8407,8407,8407,8407,8407,8407]
["R1 - R1 600",null,null,null,null,6301,6301,6301,6301,6301,6301,6301,6301]
["R1 601 - R3 200",null,null,10557,11172,4928,4928,4928,4928,4928,4928,4928,4928]
["R3 201 - R6 400",null,null,null,null,9260,9260,9260,9260,9260,9260,9260,9260]
["R6 401 - R12 800",null,null,14221,17061,15128,15128,15128,15128,15128,15128,15128,15128]
["R12 801 - R25 600",null,null,null,null,12212,12212,12212,12212,12212,12212,12212,12212]
["R25 601 - R51 200",null,null,null,null,3814,3814,3814,3814,3814,3814,3814,3814]
["R52 201 - R102 400",null,null,null,null,2170,2170,2170,2170,2170,2170,2170,2170]
["R102 401 - R204 800",null,null,null,null,1419,1419,1419,1419,1419,1419,1419,1419]
["R204 801 - R409 600",null,null,null,null,630,630,630,630,630,630,630,630]
["R409 601 - R819 200",null,null,null,null,76,132,132,132,132,132,132,132]
[" > R819 200",null,null,null,null,132,76,76,76,76,76,76,76]
[]
[]
["Poverty profiles (no. of households)"]
["< R2 060 per household per month",13,"Selftargeting",0,0,4928,4818,4818,4818,4818,4818,4818,4818]
["Insert description",2]
[]
["Household/demographics (000)"]
["Number of people in municipal area",null,"Stats SA",null,null,null,212701,212701,212701,212701,212701,212701,212701]
["Number of poor people in municipal area",null,null,null,null,null,152701,152701,152701,152701,152701,152701,152701]
["Number of households in municipal area",null,null,null,null,null,58261,58261,58261,58261,58261,58261,58261]
["Number of poor households in municipal area",null,null,null,null,null,45261,45261,45261,45261,45261,45261,45261]
["Definition of poor household (R per month)",null,"earning less than R1 500",null,null,null,0,0,0,0,0,0,0]
[]
["Housing statistics",3]
["Formal",null,null,57100,56850,20124,20124,20124,20124,27899,27899,27899,27899]
["Informal",null,null,2439,2689,30137,30137,30137,30137,39167,39167,39167,39167]
["Total number of households",null,null,{"$f":"SUM(D39:D40)","v":59539},{"$f":"SUM(E39:E40)","v":59539},50261,50261,50261,50261,67066,67066,67066,67066]
["Dwellings provided by municipality",4,null,0,0,4,2,2,2,2,2,2,2]
["Dwellings provided by province/s",null,null,0,0,2402,3610,3610,3610,3610,3610,3610,3610]
["Dwellings provided by private sector",5,null,0,0,2,1,1,1,1,1,1,1]
["Total new housing dwellings",null,null,{"$f":"SUM(D42:D44)","v":0},{"$f":"SUM(E42:E44)","v":0},2408,3613,3613,3613,3613,3613,3613,3613]
[]
["Economic",6]
["Inflation/inflation outlook (CPIX)",null,null,null,null,null,5.7000000000000002E-2,5.6000000000000001E-2,5.6000000000000001E-2,5.2999999999999999E-2,5.1999999999999998E-2,5.2999999999999999E-2,5.2999999999999999E-2]
["Interest rate - borrowing",null,null,null,null,null,0,0,0,0,0,0,0]
["Interest rate - investment",null,null,null,null,null,5.6000000000000001E-2,5.6000000000000001E-2,5.6000000000000001E-2,6.25E-2,5.1999999999999998E-2,5.2999999999999999E-2,5.2999999999999999E-2]
["Remuneration increases",null,null,null,null,null,6.8500000000000005E-2,6.8500000000000005E-2,6.8500000000000005E-2,0.53,6.7000000000000004E-2,6.7000000000000004E-2,6.7000000000000004E-2]
["Consumption growth (electricity)",null,null,null,null,null,0.08,0.08,0.08,0.08,5.1999999999999998E-2,5.2999999999999999E-2,5.2999999999999999E-2]
["Consumption growth (water)",null,null,null,null,null,0,0,0,0,0,0,0]
[]
["Collection rates",7]
["Property tax/service charges",null,null,null,null,null,0.9,0.9,0.9,0.9,0.6,0.6,0.6]
["Rental of facilities & equipment",null,null,null,null,null,1,1,1,1,1,1,1]
["Interest - external investments",null,null,null,null,null,1,1,1,1,1,1,1]
["Interest - debtors",null,null,null,null,null,0.14000000000000001,0.14000000000000001,0.14000000000000001,0.14000000000000001,0.14000000000000001,0.14000000000000001,0.14000000000000001]
["Revenue from agency services",null,null,null,null,null,0.05,0.05,0.05,0.05,0.05,0.05,0.05]
[]
["Detail on the provision of municipal services for A10"]
["Total municipal services",null,null,null,{"$f":"head1b","v":"2015/16"},{"$f":"head1A","v":"2016/17"},{"$f":"Head1","v":"2017/18"},{"$f":"Head2","v":"Current Year 2018/19"},null,null,{"$f":"Head3","v":"2019/20 Medium Term Revenue & Expenditure Framework"}]
[null,"Ref.",null,null,{"$f":"Head5A","v":"Outcome"},{"$f":"Head5A","v":"Outcome"},{"$f":"Head5A","v":"Outcome"},{"$f":"Head6","v":"Original Budget"},{"$f":"Head7","v":"Adjusted Budget"},{"$f":"Head8","v":"Full Year Forecast"},{"$f":"Head9","v":"Budget Year 2019/20"},{"$f":"Head10","v":"Budget Year +1 2020/21"},{"$f":"Head11","v":"Budget Year +2 2021/22"}]
[null,null,"Household service targets (000)"]
[null,null,"Water:"]
[null,null,"Piped water inside dwelling",null,{"$f":"E113+E159+E205","v":5948},{"$f":"F113+F159+F205","v":5948},5948,5948,5948,7948,7948,7948,7948]
[null,null,"Piped water inside yard (but not in dwelling)",null,{"$f":"E114+E160+E206","v":20320},20320,20320,20320,20320,21320,21320,21320,21320]
[null,8,"Using public tap (at least min.service level)",null,17276,17276,17276,17276,17276,19277,19277,19277,19277]
[null,10,"Other water supply (at least min.service level)",null,0,0,0,0,0,0,0,0,0]
[null,null,"Minimum Service Level and Above sub-total",null,{"$f":"SUM(E67:E70)","v":43544},{"$f":"SUM(F67:F70)","v":43544},43544,43544,43544,48545,48545,48545,48545]
[null,9,"Using public tap (< min.service level)",null,{"$f":"E118+E164+E210","v":7560},7560,7560,7560,7560,9462,9462,9462,9462]
[null,10,"Other water supply (< min.service level)",null,0,0,0,0,0,9060,9060,9060,9060]
[null,null,"No water supply",null,7158,7158,7158,7158,7158,0,0,0,0]
[null,null,"Below Minimum Service Level sub-total",null,{"$f":"SUM(E72:E74)","v":14718},{"$f":"SUM(F72:F74)","v":14718},14718,14718,14718,18522,18522,18522,18522]
[null,null,"Total number of households",null,{"$f":"E71+E75","v":58262},{"$f":"F71+F75","v":58262},58262,58262,58262,67067,67067,67067,67067]
[null,null,"Sanitation/sewerage:"]
[null,null,"Flush toilet (connected to sewerage)",null,{"$f":"E124+E170+E216","v":9458},9458,9458,9458,9458,9003,9003,9003,9003]
[null,null,"Flush toilet (with septic tank)",null,{"$f":"E125+E171+E217","v":7510},7510,7510,7510,7510,8011,8011,8011,8011]
[null,null,"Chemical toilet",null,{"$f":"E126+E172+E218","v":11477},11477,11477,11477,11477,12012,12012,12012,12012]
[null,null,"Pit toilet (ventilated)",null,{"$f":"E127+E173+E219","v":22409},22409,22409,22409,22409,21012,21012,21012,21012]
[null,null,"Other toilet provisions (> min.service level)",null,{"$f":"E128+E174+E220","v":0},0,0,0,0,6008,6008,6008,6008]
[null,null,"Minimum Service Level and Above sub-total",null,{"$f":"SUM(E78:E82)","v":50854},{"$f":"SUM(F78:F82)","v":50854},50854,50854,50854,56046,56046,56046,56046]
[null,null,"Bucket toilet",null,{"$f":"E130+E176+E222","v":336},336,336,336,336,1000,1000,1000,1000]
[null,null,"Other toilet provisions (< min.service level)",null,{"$f":"E131+E177+E223","v":791},791,791,791,791,2011,2011,2011,2011]
[null,null,"No toilet provisions",null,{"$f":"E132+E178+E224","v":6281},6281,6281,6281,6281,8010,8010,8010,8010]
[null,null,"Below Minimum Service Level sub-total",null,{"$f":"SUM(E84:E86)","v":7408},{"$f":"SUM(F84:F86)","v":7408},7408,7408,7408,11021,11021,11021,11021]
[null,null,"Total number of households",null,{"$f":"E83+E87","v":58262},{"$f":"F83+F87","v":58262},58262,58262,58262,67067,67067,67067,67067]
[null,null,"Energy:"]
[null,null,"Electricity (at least min.service level)",null,{"$f":"E136+E182+E228","v":53260},53260,53260,53260,53260,56260,56260,56260,56260]
[null,null,"Electricity - prepaid (min.service level)",null,{"$f":"E137+E183+E229","v":2002},2002,2002,2002,2002,6002,6002,6002,6002]
[null,null,"Minimum Service Level and Above sub-total",null,{"$f":"SUM(E90:E91)","v":55262},{"$f":"SUM(F90:F91)","v":55262},55262,55262,55262,62262,62262,62262,62262]
[null,null,"Electricity (< min.service level)",null,{"$f":"E139+E185+E231","v":0},0,0,0,0,0,0,0,0]
[null,null,"Electricity - prepaid (< min. service level)",null,{"$f":"E140+E186+E232","v":3000},3000,3000,3000,3000,4805,4805,4805,4805]
[null,null,"Other energy sources",null,{"$f":"E141+E187+E233","v":0},0,0,0,0,0,0,0,0]
[null,null,"Below Minimum Service Level sub-total",null,{"$f":"SUM(E93:E95)","v":3000},{"$f":"SUM(F93:F95)","v":3000},3000,3000,3000,4805,4805,4805,4805]
[null,null,"Total number of households",null,{"$f":"E92+E96","v":58262},{"$f":"F92+F96","v":58262},58262,58262,58262,67067,67067,67067,67067]
[null,null,"Refuse:"]
[null,null,"Removed at least once a week",null,{"$f":"E145+E191+E237","v":4954},4954,4954,4954,4954,7454,7454,7454,7454]
[null,null,"Minimum Service Level and Above sub-total",null,{"$f":"SUM(E99)","v":4954},{"$f":"SUM(F99)","v":4954},4954,4954,4954,7454,7454,7454,7454]
[null,null,"Removed less frequently than once a week",null,{"$f":"E147+E193+E239","v":478},478,478,478,478,978,978,978,978]
[null,null,"Using communal refuse dump",null,{"$f":"E148+E194+E240","v":651},651,651,651,651,1051,1051,1051,1051]
[null,null,"Using own refuse dump",null,{"$f":"E149+E195+E241","v":42815},42815,42815,42815,42815,45815,45815,45815,45815]
[null,null,"Other rubbish disposal",null,{"$f":"E150+E196+E242","v":8554},8554,8554,8554,8554,10554,10554,10554,10554]
[null,null,"No rubbish disposal",null,{"$f":"E151+E197+E243","v":810},810,810,810,810,1215,1215,1215,1215]
[null,null,"Below Minimum Service Level sub-total",null,{"$f":"SUM(E101:E105)","v":53308},53308,53308,53308,53308,59613,59613,59613,59613]
[null,null,"Total number of households",null,{"$f":"E100+E106","v":58262},{"$f":"F100+F106","v":58262},58262,58262,58262,67067,67067,67067,67067]
[]
["Municipal in-house services",null,null,null,{"$f":"head1b","v":"2015/16"},{"$f":"head1A","v":"2016/17"},{"$f":"Head1","v":"2017/18"},{"$f":"Head2","v":"Current Year 2018/19"},null,null,{"$f":"Head3","v":"2019/20 Medium Term Revenue & Expenditure Framework"}]
[null,"Ref.",null,null,{"$f":"Head5A","v":"Outcome"},{"$f":"Head5A","v":"Outcome"},{"$f":"Head5A","v":"Outcome"},{"$f":"Head6","v":"Original Budget"},{"$f":"Head7","v":"Adjusted Budget"},{"$f":"Head8","v":"Full Year Forecast"},{"$f":"Head9","v":"Budget Year 2019/20"},{"$f":"Head10","v":"Budget Year +1 2020/21"},{"$f":"Head11","v":"Budget Year +2 2021/22"}]
[null,null,"Household service targets (000)"]
[null,null,"Water:"]
[null,null,"Piped water inside dwelling",null,5948,5948,5948,5948,5948,7948,7948,7948,7948]
[null,null,"Piped water inside yard (but not in dwelling)",null,20320,20320,20320,20320,20320,21320,21320,21320,21320]
[null,8,"Using public tap (at least min.service level)",null,17276,17276,17276,17276,17276,19277,19277,19277,19277]
[null,10,"Other water supply (at least min.service level)"]
[null,null,"Minimum Service Level and Above sub-total",null,{"$f":"SUM(E113:E116)","v":43544},{"$f":"SUM(F113:F116)","v":43544},43544,43544,43544,48545,48545,48545,48545]
[null,9,"Using public tap (< min.service level)",null,7560,7560,7560,7560,7560,9462,9462,9462,9462]
[null,10,"Other water supply (< min.service level)",null,0,0,0,0,0,9060,9060,9060,9060]
[null,null,"No water supply",null,7158,7158,7158,7158,7158,0,0,0,0]
[null,null,"Below Minimum Service Level sub-total",null,{"$f":"SUM(E118:E120)","v":14718},{"$f":"SUM(F118:F120)","v":14718},14718,14718,14718,18522,18522,18522,18522]
[null,null,"Total number of households",null,{"$f":"E117+E121","v":58262},{"$f":"F117+F121","v":58262},58262,58262,58262,67067,67067,67067,67067]
[null,null,"Sanitation/sewerage:"]
[null,null,"Flush toilet (connected to sewerage)",null,9458,9458,9458,9458,9458,9003,9003,9003,9003]
[null,null,"Flush toilet (with septic tank)",null,7510,7510,7510,7510,7510,8011,8011,8011,8011]
[null,null,"Chemical toilet",null,11477,11477,11477,11477,11477,12012,12012,12012,12012]
[null,null,"Pit toilet (ventilated)",null,22409,22409,22409,22409,22409,21012,21012,21012,21012]
[null,null,"Other toilet provisions (> min.service level)",null,null,null,null,null,null,6008,6008,6008,6008]
[null,null,"Minimum Service Level and Above sub-total",null,{"$f":"SUM(E124:E128)","v":50854},{"$f":"SUM(F124:F128)","v":50854},50854,50854,50854,56046,56046,56046,56046]
[null,null,"Bucket toilet",null,336,336,336,336,336,1000,1000,1000,1000]
[null,null,"Other toilet provisions (< min.service level)",null,791,791,791,791,791,2011,2011,2011,2011]
[null,null,"No toilet provisions",null,6281,6281,6281,6281,6281,8010,8010,8010,8010]
[null,null,"Below Minimum Service Level sub-total",null,{"$f":"SUM(E130:E132)","v":7408},{"$f":"SUM(F130:F132)","v":7408},7408,7408,7408,11021,11021,11021,11021]
[null,null,"Total number of households",null,{"$f":"E129+E133","v":58262},{"$f":"F129+F133","v":58262},58262,58262,58262,67067,67067,67067,67067]
[null,null,"Energy:"]
[null,null,"Electricity (at least min.service level)",null,53260,53260,53260,53260,53260,56260,56260,56260,56260]
[null,null,"Electricity - prepaid (min.service level)",null,2002,2002,2002,2002,2002,6002,6002,6002,6002]
[null,null,"Minimum Service Level and Above sub-total",null,{"$f":"SUM(E136:E137)","v":55262},{"$f":"SUM(F136:F137)","v":55262},55262,55262,55262,62262,62262,62262,62262]
[null,null,"Electricity (< min.service level)",null,0,0,0,0,0,0,0,0,0]
[null,null,"Electricity - prepaid (< min. service level)",null,3000,3000,3000,3000,3000,4805,4805,4805,4805]
[null,null,"Other energy sources",null,0,0,0,0,0,0,0,0,0]
[null,null,"Below Minimum Service Level sub-total",null,{"$f":"SUM(E139:E141)","v":3000},{"$f":"SUM(F139:F141)","v":3000},3000,3000,3000,4805,4805,4805,4805]
[null,null,"Total number of households",null,{"$f":"E138+E142","v":58262},{"$f":"F138+F142","v":58262},58262,58262,58262,67067,67067,67067,67067]
[null,null,"Refuse:"]
[null,null,"Removed at least once a week",null,4954,4954,4954,4954,4954,7454,7454,7454,7454]
[null,null,"Minimum Service Level and Above sub-total",null,{"$f":"SUM(E145)","v":4954},{"$f":"SUM(F145)","v":4954},4954,4954,4954,7454,7454,7454,7454]
[null,null,"Removed less frequently than once a week",null,478,478,478,478,478,978,978,978,978]
[null,null,"Using communal refuse dump",null,651,651,651,651,651,1051,1051,1051,1051]
[null,null,"Using own refuse dump",null,42815,42815,42815,42815,42815,45815,45815,45815,45815]
[null,null,"Other rubbish disposal",null,8554,8554,8554,8554,8554,10554,10554,10554,10554]
[null,null,"No rubbish disposal",null,810,810,810,810,810,1215,1215,1215,1215]
[null,null,"Below Minimum Service Level sub-total",null,{"$f":"SUM(E147:E151)","v":53308},53308,53308,53308,53308,59613,59613,59613,59613]
[null,null,"Total number of households",null,{"$f":"E146+E152","v":58262},{"$f":"F146+F152","v":58262},58262,58262,58262,67067,67067,67067,67067]
[]
["Municipal entity services",null,null,null,{"$f":"head1b","v":"2015/16"},{"$f":"head1A","v":"2016/17"},{"$f":"Head1","v":"2017/18"},{"$f":"Head2","v":"Current Year 2018/19"},null,null,{"$f":"Head3","v":"2019/20 Medium Term Revenue & Expenditure Framework"}]
[null,"Ref.",null,null,{"$f":"Head5A","v":"Outcome"},{"$f":"Head5A","v":"Outcome"},{"$f":"Head5A","v":"Outcome"},{"$f":"Head6","v":"Original Budget"},{"$f":"Head7","v":"Adjusted Budget"},{"$f":"Head8","v":"Full Year Forecast"},{"$f":"Head9","v":"Budget Year 2019/20"},{"$f":"Head10","v":"Budget Year +1 2020/21"},{"$f":"Head11","v":"Budget Year +2 2021/22"}]
[null,null,"Household service targets (000)"]
["Name of municipal entity",null,"Water:"]
[null,null,"Piped water inside dwelling"]
[null,null,"Piped water inside yard (but not in dwelling)"]
[null,8,"Using public tap (at least min.service level)"]
[null,10,"Other water supply (at least min.service level)"]
[null,null,"Minimum Service Level and Above sub-total",null,{"$f":"SUM(E159:E162)","v":0},{"$f":"SUM(F159:F162)","v":0},0,0,0,0,0,0,0]
[null,9,"Using public tap (< min.service level)"]
[null,10,"Other water supply (< min.service level)"]
[null,null,"No water supply"]
[null,null,"Below Minimum Service Level sub-total",null,{"$f":"SUM(E164:E166)","v":0},{"$f":"SUM(F164:F166)","v":0},0,0,0,0,0,0,0]
[null,null,"Total number of households",null,{"$f":"E163+E167","v":0},{"$f":"F163+F167","v":0},0,0,0,0,0,0,0]
["Name of municipal entity",null,"Sanitation/sewerage:"]
[null,null,"Flush toilet (connected to sewerage)"]
[null,null,"Flush toilet (with septic tank)"]
[null,null,"Chemical toilet"]
[null,null,"Pit toilet (ventilated)"]
[null,null,"Other toilet provisions (> min.service level)"]
[null,null,"Minimum Service Level and Above sub-total",null,{"$f":"SUM(E170:E174)","v":0},{"$f":"SUM(F170:F174)","v":0},0,0,0,0,0,0,0]
[null,null,"Bucket toilet"]
[null,null,"Other toilet provisions (< min.service level)"]
[null,null,"No toilet provisions"]
[null,null,"Below Minimum Service Level sub-total",null,{"$f":"SUM(E176:E178)","v":0},{"$f":"SUM(F176:F178)","v":0},0,0,0,0,0,0,0]
[null,null,"Total number of households",null,{"$f":"E175+E179","v":0},{"$f":"F175+F179","v":0},0,0,0,0,0,0,0]
["Name of municipal entity",null,"Energy:"]
[null,null,"Electricity (at least min.service level)"]
[null,null,"Electricity - prepaid (min.service level)"]
[null,null,"Minimum Service Level and Above sub-total",null,{"$f":"SUM(E182:E183)","v":0},{"$f":"SUM(F182:F183)","v":0},0,0,0,0,0,0,0]
[null,null,"Electricity (< min.service level)"]
[null,null,"Electricity - prepaid (< min. service level)"]
[null,null,"Other energy sources"]
[null,null,"Below Minimum Service Level sub-total",null,{"$f":"SUM(E185:E187)","v":0},{"$f":"SUM(F185:F187)","v":0},0,0,0,0,0,0,0]
[null,null,"Total number of households",null,{"$f":"E184+E188","v":0},{"$f":"F184+F188","v":0},0,0,0,0,0,0,0]
["Name of municipal entity",null,"Refuse:"]
[null,null,"Removed at least once a week"]
[null,null,"Minimum Service Level and Above sub-total",null,{"$f":"SUM(E191)","v":0},{"$f":"SUM(F191)","v":0},0,0,0,0,0,0,0]
[null,null,"Removed less frequently than once a week"]
[null,null,"Using communal refuse dump"]
[null,null,"Using own refuse dump"]
[null,null,"Other rubbish disposal"]
[null,null,"No rubbish disposal"]
[null,null,"Below Minimum Service Level sub-total",null,{"$f":"SUM(E193:E197)","v":0},0,0,0,0,0,0,0,0]
[null,null,"Total number of households",null,{"$f":"E192+E198","v":0},{"$f":"F192+F198","v":0},0,0,0,0,0,0,0]
[]
["Services provided by 'external mechanisms'",null,null,null,{"$f":"head1b","v":"2015/16"},{"$f":"head1A","v":"2016/17"},{"$f":"Head1","v":"2017/18"},{"$f":"Head2","v":"Current Year 2018/19"},null,null,{"$f":"Head3","v":"2019/20 Medium Term Revenue & Expenditure Framework"}]
[null,"Ref.",null,null,{"$f":"Head5A","v":"Outcome"},{"$f":"Head5A","v":"Outcome"},{"$f":"Head5A","v":"Outcome"},{"$f":"Head6","v":"Original Budget"},{"$f":"Head7","v":"Adjusted Budget"},{"$f":"Head8","v":"Full Year Forecast"},{"$f":"Head9","v":"Budget Year 2019/20"},{"$f":"Head10","v":"Budget Year +1 2020/21"},{"$f":"Head11","v":"Budget Year +2 2021/22"}]
["Names of service providers",null,"Household service targets (000)"]
[null,null,"Water:"]
[null,null,"Piped water inside dwelling"]
[null,null,"Piped water inside yard (but not in dwelling)"]
[null,8,"Using public tap (at least min.service level)"]
[null,10,"Other water supply (at least min.service level)"]
[null,null,"Minimum Service Level and Above sub-total",null,{"$f":"SUM(E205:E208)","v":0},{"$f":"SUM(F205:F208)","v":0},0,0,0,0,0,0,0]
[null,9,"Using public tap (< min.service level)"]
[null,10,"Other water supply (< min.service level)"]
[null,null,"No water supply"]
[null,null,"Below Minimum Service Level sub-total",null,{"$f":"SUM(E210:E212)","v":0},{"$f":"SUM(F210:F212)","v":0},0,0,0,0,0,0,0]
[null,null,"Total number of households",null,{"$f":"E209+E213","v":0},{"$f":"F209+F213","v":0},0,0,0,0,0,0,0]
["Names of service providers",null,"Sanitation/sewerage:"]
[null,null,"Flush toilet (connected to sewerage)"]
[null,null,"Flush toilet (with septic tank)"]
[null,null,"Chemical toilet"]
[null,null,"Pit toilet (ventilated)"]
[null,null,"Other toilet provisions (> min.service level)"]
[null,null,"Minimum Service Level and Above sub-total",null,{"$f":"SUM(E216:E220)","v":0},{"$f":"SUM(F216:F220)","v":0},0,0,0,0,0,0,0]
[null,null,"Bucket toilet"]
[null,null,"Other toilet provisions (< min.service level)"]
[null,null,"No toilet provisions"]
[null,null,"Below Minimum Service Level sub-total",null,{"$f":"SUM(E222:E224)","v":0},{"$f":"SUM(F222:F224)","v":0},0,0,0,0,0,0,0]
[null,null,"Total number of households",null,{"$f":"E221+E225","v":0},{"$f":"F221+F225","v":0},0,0,0,0,0,0,0]
["Names of service providers",null,"Energy:"]
[null,null,"Electricity (at least min.service level)"]
[null,null,"Electricity - prepaid (min.service level)"]
[null,null,"Minimum Service Level and Above sub-total",null,{"$f":"SUM(E228:E229)","v":0},{"$f":"SUM(F228:F229)","v":0},0,0,0,0,0,0,0]
[null,null,"Electricity (< min.service level)"]
[null,null,"Electricity - prepaid (< min. service level)"]
[null,null,"Other energy sources"]
[null,null,"Below Minimum Service Level sub-total",null,{"$f":"SUM(E231:E233)","v":0},{"$f":"SUM(F231:F233)","v":0},0,0,0,0,0,0,0]
[null,null,"Total number of households",null,{"$f":"E230+E234","v":0},{"$f":"F230+F234","v":0},0,0,0,0,0,0,0]
["Names of service providers",null,"Refuse:"]
[null,null,"Removed at least once a week"]
[null,null,"Minimum Service Level and Above sub-total",null,{"$f":"SUM(E237)","v":0},{"$f":"SUM(F237)","v":0},0,0,0,0,0,0,0]
[null,null,"Removed less frequently than once a week"]
[null,null,"Using communal refuse dump"]
[null,null,"Using own refuse dump"]
[null,null,"Other rubbish disposal"]
[null,null,"No rubbish disposal"]
[null,null,"Below Minimum Service Level sub-total",null,{"$f":"SUM(E239:E243)","v":0},0,0,0,0,0,0,0,0]
[null,null,"Total number of households",null,{"$f":"E238+E244","v":0},{"$f":"F238+F244","v":0},0,0,0,0,0,0,0]
[]
["Detail of Free Basic Services (FBS) provided",null,null,null,{"$f":"head1b","v":"2015/16"},{"$f":"head1A","v":"2016/17"},{"$f":"Head1","v":"2017/18"},{"$f":"Head2","v":"Current Year 2018/19"},null,null,{"$f":"Head3","v":"2019/20 Medium Term Revenue & Expenditure Framework"}]
[null,null,null,null,{"$f":"Head5A","v":"Outcome"},{"$f":"Head5A","v":"Outcome"},{"$f":"Head5A","v":"Outcome"},{"$f":"Head6","v":"Original Budget"},{"$f":"Head7","v":"Adjusted Budget"},{"$f":"Head8","v":"Full Year Forecast"},{"$f":"Head9","v":"Budget Year 2019/20"},{"$f":"Head10","v":"Budget Year +1 2020/21"},{"$f":"Head11","v":"Budget Year +2 2021/22"}]
["Electricity","Ref.","Location of households for each type of FBS"]
["List type of FBS service",null,"Formal settlements -  (50 kwh per indigent household per month Rands)",null,null,null,null,0,0,0,0,0,0]
[null,null,"Number of HH receiving this type of FBS",null,null,null,null,8000,8000,8000,8000,8000,8000]
[null,null,"Informal settlements (Rands)"]
[null,null,"Number of HH receiving this type of FBS"]
[null,null,"Informal settlements targeted for upgrading (Rands)"]
[null,null,"Number of HH receiving this type of FBS"]
[null,null,"Living in informal backyard rental agreement (Rands)"]
[null,null,"Number of HH receiving this type of FBS"]
[null,null,"Other (Rands)"]
[null,null,"Number of HH receiving this type of FBS"]
[null,null,"Total cost of FBS - Electricity for informal settlements",null,{"$f":"E252+E254+E256+E258","v":0},{"$f":"F252+F254+F256+F258","v":0},0,0,0,0,0,0,0]
["Water","Ref.","Location of households for each type of FBS"]
["List type of FBS service",null,"Formal settlements -  (6 kilolitre per indigent household per month Rands)",null,null,null,null,0,0,0,0,0,0]
[null,null,"Number of HH receiving this type of FBS",null,null,null,null,120,120,120,120,120,120]
[null,null,"Informal settlements (Rands)"]
[null,null,"Number of HH receiving this type of FBS"]
[null,null,"Informal settlements targeted for upgrading (Rands)"]
[null,null,"Number of HH receiving this type of FBS"]
[null,null,"Living in informal backyard rental agreement (Rands)"]
[null,null,"Number of HH receiving this type of FBS"]
[null,null,"Other (Rands)"]
[null,null,"Number of HH receiving this type of FBS"]
[null,null,"Total cost of FBS - Water  for informal settlements",null,{"$f":"E264+E266+E268+E270","v":0},{"$f":"F264+F266+F268+F270","v":0},0,0,0,0,0,0,0]
["Sanitation","Ref.","Location of households for each type of FBS"]
["List type of FBS service",null,"Formal settlements -  (free sanitation service to indigent households)",null,null,null,null,null,null,null,0,0,0]
[null,null,"Number of HH receiving this type of FBS",null,null,null,null,null,null,null,120,120,120]
[null,null,"Informal settlements (Rands)"]
[null,null,"Number of HH receiving this type of FBS"]
[null,null,"Informal settlements targeted for upgrading (Rands)"]
[null,null,"Number of HH receiving this type of FBS"]
[null,null,"Living in informal backyard rental agreement (Rands)"]
[null,null,"Number of HH receiving this type of FBS"]
[null,null,"Other (Rands)"]
[null,null,"Number of HH receiving this type of FBS"]
[null,null,"Total cost of FBS - Sanitation for informal settlements",null,{"$f":"E276+E278+E280+E282","v":0},{"$f":"F276+F278+F280+F282","v":0},0,0,0,0,0,0,0]
["Refuse Removal","Ref.","Location of households for each type of FBS"]
["List type of FBS service",null,"Formal settlements -  (removed once a week to indigent households)",null,null,null,null,null,null,null,0,0,0]
[null,null,"Number of HH receiving this type of FBS",null,null,null,null,null,null,null,120,120,120]
[null,null,"Informal settlements (Rands)"]
[null,null,"Number of HH receiving this type of FBS"]
[null,null,"Informal settlements targeted for upgrading (Rands)"]
[null,null,"Number of HH receiving this type of FBS"]
[null,null,"Living in informal backyard rental agreement (Rands)"]
[null,null,"Number of HH receiving this type of FBS"]
[null,null,"Other (Rands)"]
[null,null,"Number of HH receiving this type of FBS"]
[null,null,"Total cost of FBS - Refuse Removal for informal settlements",null,{"$f":"E288+E290+E292+E294","v":0},{"$f":"F288+F290+F292+F294","v":0},0,0,0,0,0,0,0]
[{"$f":"head27a","v":"References"}]
["1. Monthly household income threshold. Should include all sources of income."]
["2. Show the poverty analysis the municipality uses to determine its indigents policy and the provision of services"]
["3. Include total of all housing units within the municipality"]
["4. Number of subsidised dwellings to be constructed by the municipality under agency agreement with province"]
["5. Provide estimate based on building approval information. Include any non-subsidised dwellings constructed by the municipality"]
["6. Insert actual or estimated % increases assumed as a basis for budget calculations"]
["7. Insert actual or estimated % collection rate assumed as a basis for budget calculations for each revenue group"]
["8. Stand distance <= 200m from dwelling"]
["9. Stand distance > 200m from dwelling"]
["10. Borehole, spring, rain-water tank etc."]
["11. Must agree to total number of households in municipal area"]
["12. Household income categories assume an average 4 person household. Stats SA - Census 2011 Questionnaire"]
["13. Based on National poverty line of R515 per capita per month (2008 prices), assuming an average household size of 4 persons"]

{"sheet":"SA10","index":29,"n_rows":138,"n_cols":13,"rows_kept":138,"cut":false,"hidden":false,"merged":[[1,0,2,0],[1,10,1,12],[1,1,2,1],[1,2,2,2],[1,6,1,9]]}
[{"$f":"muni &\" \" & TableA10","v":"LIM332 Greater Letaba Supporting Table SA10 Funding measurement"}]
[{"$f":"desc","v":"Description"},"MFMA section",{"$f":"head27","v":"Ref"},{"$f":"head1b","v":"2015/16"},{"$f":"head1A","v":"2016/17"},{"$f":"Head1","v":"2017/18"},{"$f":"Head2","v":"Current Year 2018/19"},null,null,null,{"$f":"Head3","v":"2019/20 Medium Term Revenue & Expenditure Framework"}]
[null,null,null,{"$f":"Head5","v":"Audited Outcome"},{"$f":"Head5","v":"Audited Outcome"},{"$f":"Head5","v":"Audited Outcome"},{"$f":"Head6","v":"Original Budget"},{"$f":"Head7","v":"Adjusted Budget"},{"$f":"Head8","v":"Full Year Forecast"},{"$f":"Head5b","v":"Pre-audit outcome"},{"$f":"Head9","v":"Budget Year 2019/20"},{"$f":"Head10","v":"Budget Year +1 2020/21"},{"$f":"Head11","v":"Budget Year +2 2021/22"}]
["Funding measures"]
[{"$f":"LEFT('A7-CFlow'!A40,37)&\" - R'000\"","v":"Cash/cash equivalents at the year end - R'000"},"18(1)b",1,{"$f":"'A7-CFlow'!C40","v":60714362},{"$f":"'A7-CFlow'!D40","v":55932345},{"$f":"'A7-CFlow'!E40","v":13167010},{"$f":"'A7-CFlow'!F40","v":37279142.486999959},{"$f":"'A7-CFlow'!G40","v":4026142.4869999588},{"$f":"'A7-CFlow'!H40","v":4026142.4869999588},{"$f":"'A7-CFlow'!I40","v":4026142.4869999588},{"$f":"'A7-CFlow'!J40","v":2421448.9812320471},{"$f":"'A7-CFlow'!K40","v":3279633.5249305964},{"$f":"'A7-CFlow'!L40","v":3197551.7767888308}]
["Cash + investments at the yr end less applications - R'000","18(1)b",2,{"$f":"'A8-ResRecon'!C8-'A8-ResRecon'!C18","v":49163433},{"$f":"'A8-ResRecon'!D8-'A8-ResRecon'!D18","v":47066386},{"$f":"'A8-ResRecon'!E8-'A8-ResRecon'!E18","v":-25996081},{"$f":"'A8-ResRecon'!F8-'A8-ResRecon'!F18","v":5081449.8822319955},{"$f":"'A8-ResRecon'!G8-'A8-ResRecon'!G18","v":-14182550.117768005},{"$f":"'A8-ResRecon'!H8-'A8-ResRecon'!H18","v":-14182550.117768005},{"$f":"'A8-ResRecon'!I8-'A8-ResRecon'!I18","v":-13903550.117768005},{"$f":"'A8-ResRecon'!J8-'A8-ResRecon'!J18","v":1357594.7999999998},{"$f":"'A8-ResRecon'!K8-'A8-ResRecon'!K18","v":7320890.9191999994},{"$f":"'A8-ResRecon'!L8-'A8-ResRecon'!L18","v":4014611.0288367993}]
["Cash year end/monthly employee/supplier payments","18(1)b",3,{"$f":"IF(ISERROR('SA8'!C39),0,('SA8'!C39))","v":5.4792300734639676},{"$f":"IF(ISERROR('SA8'!D39),0,('SA8'!D39))","v":4.1251705000216372},{"$f":"IF(ISERROR('SA8'!E39),0,('SA8'!E39))","v":0.9101402357161883},{"$f":"IF(ISERROR('SA8'!F39),0,('SA8'!F39))","v":2.6577150149557145},{"$f":"IF(ISERROR('SA8'!G39),0,('SA8'!G39))","v":0.23946710152016348},{"$f":"IF(ISERROR('SA8'!H39),0,('SA8'!H39))","v":0.23946710152016348},{"$f":"IF(ISERROR('SA8'!I39),0,('SA8'!I39))","v":0.23946710152016348},{"$f":"IF(ISERROR('SA8'!J39),0,('SA8'!J39))","v":0.12991664971063774},{"$f":"IF(ISERROR('SA8'!K39),0,('SA8'!K39))","v":0.17080715507260802},{"$f":"IF(ISERROR('SA8'!L39),0,('SA8'!L39))","v":0.15686816499265738}]
["Surplus/(Deficit) excluding depreciation offsets: R'000","18(1)",4,{"$f":"'A4-FinPerf RE'!C41+'SA3'!C61","v":156204428},{"$f":"'A4-FinPerf RE'!D41+'SA3'!D61","v":90079183},{"$f":"'A4-FinPerf RE'!E41+'SA3'!E61","v":96547552},{"$f":"'A4-FinPerf RE'!F41+'SA3'!F61","v":179277318.86760002},{"$f":"'A4-FinPerf RE'!G41+'SA3'!G61","v":193661415.16760004},{"$f":"'A4-FinPerf RE'!H41+'SA3'!H61","v":193661415.16760004},{"$f":"'A4-FinPerf RE'!I41+'SA3'!I61","v":192615274.16760004},{"$f":"'A4-FinPerf RE'!J41+'SA3'!J61","v":151554221},{"$f":"'A4-FinPerf RE'!K41+'SA3'!K61","v":185822292},{"$f":"'A4-FinPerf RE'!L41+'SA3'!L61","v":200551216}]
["Service charge rev % change - macro CPIX target exclusive","18(1)a,(2)",5,"N.A.",{"$f":"IF(ISERROR(E36-E61),0,(E36-E61))","v":0.11230651896318339},{"$f":"IF(ISERROR(F36-F61),0,(F36-F61))","v":-0.18542148400685371},0.32754381018286211,0.53091101495622972,-0.06,-8.1099495954188472E-2,{"$f":"IF(ISERROR(K36-K61),0,(K36-K61))","v":-8.1697329171503408E-3},-6.0000299130566481E-3,-5.999967253257743E-3]
["Cash receipts % of Ratepayer & Other revenue","18(1)a,(2)",6,{"$f":"IF(ISERROR(D53/D54),0,(D53/D54))","v":1.2592912807215864},{"$f":"IF(ISERROR(E53/E54),0,(E53/E54))","v":0.39553875247334264},0.22492357574542626,0.56323575669139114,0.68889441977459676,0.68889441977459676,0.69434663659542273,0.47037740011229362,0.47037739979104076,0.47037739541184914]
["Debt impairment expense as a % of total billable revenue","18(1)a,(2)",7,{"$f":"IF(ISERROR('A4-FinPerf RE'!C26/'SA10'!D43),0,('A4-FinPerf RE'!C26/'SA10'!D43))","v":0.43427004189594132},{"$f":"IF(ISERROR('A4-FinPerf RE'!D26/'SA10'!E43),0,('A4-FinPerf RE'!D26/'SA10'!E43))","v":0.95576697745912331},{"$f":"IF(ISERROR('A4-FinPerf RE'!E26/'SA10'!F43),0,('A4-FinPerf RE'!E26/'SA10'!F43))","v":0.85481868268638672},{"$f":"IF(ISERROR('A4-FinPerf RE'!F26/'SA10'!G43),0,('A4-FinPerf RE'!F26/'SA10'!G43))","v":6.2781874262249987E-2},{"$f":"IF(ISERROR('A4-FinPerf RE'!G26/'SA10'!H43),0,('A4-FinPerf RE'!G26/'SA10'!H43))","v":3.9462844667008161E-2},{"$f":"IF(ISERROR('A4-FinPerf RE'!H26/'SA10'!I43),0,('A4-FinPerf RE'!H26/'SA10'!I43))","v":3.9462844667008161E-2},{"$f":"IF(ISERROR('A4-FinPerf RE'!I26/'SA10'!J43),0,('A4-FinPerf RE'!I26/'SA10'!J43))","v":4.0313437886595818E-2},{"$f":"IF(ISERROR('A4-FinPerf RE'!J26/'SA10'!K43),0,('A4-FinPerf RE'!J26/'SA10'!K43))","v":3.9469204316530761E-2},{"$f":"IF(ISERROR('A4-FinPerf RE'!K26/'SA10'!L43),0,('A4-FinPerf RE'!K26/'SA10'!L43))","v":3.9469211694953182E-2},{"$f":"IF(ISERROR('A4-FinPerf RE'!L26/'SA10'!M43),0,('A4-FinPerf RE'!L26/'SA10'!M43))","v":3.9469212816120314E-2}]
["Capital payments % of capital expenditure","18(1)c;19",8,{"$f":"IF(ISERROR(-'A7-CFlow'!C26/'A5-Capex'!C40),0,(-'A7-CFlow'!C26/'A5-Capex'!C40))","v":0.99064590163512134},{"$f":"IF(ISERROR(-'A7-CFlow'!D26/'A5-Capex'!D40),0,(-'A7-CFlow'!D26/'A5-Capex'!D40))","v":0.9110449884761086},{"$f":"IF(ISERROR(-'A7-CFlow'!E26/'A5-Capex'!E40),0,(-'A7-CFlow'!E26/'A5-Capex'!E40))","v":0.94720371767618661},{"$f":"IF(ISERROR(-'A7-CFlow'!F26/'A5-Capex'!F40),0,(-'A7-CFlow'!F26/'A5-Capex'!F40))","v":0.80931262627751865},{"$f":"IF(ISERROR(-'A7-CFlow'!G26/'A5-Capex'!G40),0,(-'A7-CFlow'!G26/'A5-Capex'!G40))","v":0.84340190046844843},{"$f":"IF(ISERROR(-'A7-CFlow'!H26/'A5-Capex'!H40),0,(-'A7-CFlow'!H26/'A5-Capex'!H40))","v":0.84340190046844843},{"$f":"IF(ISERROR(-'A7-CFlow'!I26/'A5-Capex'!I40),0,(-'A7-CFlow'!I26/'A5-Capex'!I40))","v":0.84340190046844843},{"$f":"IF(ISERROR(-'A7-CFlow'!J26/'A5-Capex'!J40),0,(-'A7-CFlow'!J26/'A5-Capex'!J40))","v":0.89353366735680473},{"$f":"IF(ISERROR(-'A7-CFlow'!K26/'A5-Capex'!K40),0,(-'A7-CFlow'!K26/'A5-Capex'!K40))","v":0.75311200280414148},{"$f":"IF(ISERROR(-'A7-CFlow'!L26/'A5-Capex'!L40),0,(-'A7-CFlow'!L26/'A5-Capex'!L40))","v":0.76365529727174231}]
["Borrowing receipts % of capital expenditure (excl. transfers)","18(1)c",9,{"$f":"IF(ISERROR('A7-CFlow'!C32/'SA10'!D52),0,('A7-CFlow'!C32/'SA10'!D52))","v":0},{"$f":"IF(ISERROR('A7-CFlow'!D32/'SA10'!E52),0,('A7-CFlow'!D32/'SA10'!E52))","v":0},{"$f":"IF(ISERROR('A7-CFlow'!E32/'SA10'!F52),0,('A7-CFlow'!E32/'SA10'!F52))","v":0},{"$f":"IF(ISERROR('A7-CFlow'!F32/'SA10'!G52),0,('A7-CFlow'!F32/'SA10'!G52))","v":0},{"$f":"IF(ISERROR('A7-CFlow'!G32/'SA10'!H52),0,('A7-CFlow'!G32/'SA10'!H52))","v":0},{"$f":"IF(ISERROR('A7-CFlow'!H32/'SA10'!I52),0,('A7-CFlow'!H32/'SA10'!I52))","v":0},{"$f":"IF(ISERROR('A7-CFlow'!I32/'SA10'!J52),0,('A7-CFlow'!I32/'SA10'!J52))","v":0},{"$f":"IF(ISERROR('A7-CFlow'!J32/'SA10'!K52),0,('A7-CFlow'!J32/'SA10'!K52))","v":0},{"$f":"IF(ISERROR('A7-CFlow'!K32/'SA10'!L52),0,('A7-CFlow'!K32/'SA10'!L52))","v":0},{"$f":"IF(ISERROR('A7-CFlow'!L32/'SA10'!M52),0,('A7-CFlow'!L32/'SA10'!M52))","v":0}]
["Grants % of Govt. legislated/gazetted allocations","18(1)a",10,null,null,null,null,null,null,null,{"$f":"IF(ISERROR(K56/K68),0,(K56/K68))","v":0.99991157276677023},{"$f":"IF(ISERROR(L56/L68),0,(L56/L68))","v":0.99997553663117666},{"$f":"IF(ISERROR(M56/M68),0,(M56/M68))","v":1}]
["Current consumer debtors % change - incr(decr)","18(1)a",11,"N.A.",{"$f":"IF(ISERROR(ROUND((SUM('A6-FinPos'!D8:D10)-SUM('A6-FinPos'!C8:C10))/SUM('A6-FinPos'!C8:C10),3)),0,(ROUND((SUM('A6-FinPos'!D8:D10)-SUM('A6-FinPos'!C8:C10))/SUM('A6-FinPos'!C8:C10),3)))","v":7.4999999999999997E-2},{"$f":"IF(ISERROR(ROUND((SUM('A6-FinPos'!E8:E10)-SUM('A6-FinPos'!D8:D10))/SUM('A6-FinPos'!D8:D10),3)),0,(ROUND((SUM('A6-FinPos'!E8:E10)-SUM('A6-FinPos'!D8:D10))/SUM('A6-FinPos'!D8:D10),3)))","v":0.28999999999999998},{"$f":"IF(ISERROR(ROUND((SUM('A6-FinPos'!F8:F10)-SUM('A6-FinPos'!E8:E10))/SUM('A6-FinPos'!E8:E10),3)),0,(ROUND((SUM('A6-FinPos'!F8:F10)-SUM('A6-FinPos'!E8:E10))/SUM('A6-FinPos'!E8:E10),3)))","v":-0.38400000000000001},{"$f":"IF(ISERROR(ROUND((SUM('A6-FinPos'!G8:G10)-SUM('A6-FinPos'!F8:F10))/SUM('A6-FinPos'!F8:F10),3)),0,(ROUND((SUM('A6-FinPos'!G8:G10)-SUM('A6-FinPos'!F8:F10))/SUM('A6-FinPos'!F8:F10),3)))","v":0},{"$f":"IF(ISERROR(ROUND((SUM('A6-FinPos'!H8:H10)-SUM('A6-FinPos'!G8:G10))/SUM('A6-FinPos'!G8:G10),3)),0,(ROUND((SUM('A6-FinPos'!H8:H10)-SUM('A6-FinPos'!G8:G10))/SUM('A6-FinPos'!G8:G10),3)))","v":0},{"$f":"IF(ISERROR(ROUND((SUM('A6-FinPos'!I8:I10)-SUM('A6-FinPos'!H8:H10))/SUM('A6-FinPos'!H8:H10),3)),0,(ROUND((SUM('A6-FinPos'!I8:I10)-SUM('A6-FinPos'!H8:H10))/SUM('A6-FinPos'!H8:H10),3)))","v":0},{"$f":"IF(ISERROR(ROUND((SUM('A6-FinPos'!J8:J10)-SUM('A6-FinPos'!G8:G10))/SUM('A6-FinPos'!G8:G10),3)),0,(ROUND((SUM('A6-FinPos'!J8:J10)-SUM('A6-FinPos'!G8:G10))/SUM('A6-FinPos'!G8:G10),3)))","v":0.624},{"$f":"IF(ISERROR(ROUND((SUM('A6-FinPos'!K8:K10)-SUM('A6-FinPos'!J8:J10))/SUM('A6-FinPos'!J8:J10),3)),0,(ROUND((SUM('A6-FinPos'!K8:K10)-SUM('A6-FinPos'!J8:J10))/SUM('A6-FinPos'!J8:J10),3)))","v":1E-3},{"$f":"IF(ISERROR(ROUND((SUM('A6-FinPos'!L8:L10)-SUM('A6-FinPos'!K8:K10))/SUM('A6-FinPos'!K8:K10),3)),0,(ROUND((SUM('A6-FinPos'!L8:L10)-SUM('A6-FinPos'!K8:K10))/SUM('A6-FinPos'!K8:K10),3)))","v":1E-3}]
["Long term receivables % change - incr(decr)","18(1)a",12,"N.A.",{"$f":"IF(ISERROR(ROUND(('A6-FinPos'!D15-'A6-FinPos'!C15)/'A6-FinPos'!C15,3)),0,(ROUND(('A6-FinPos'!D15-'A6-FinPos'!C15)/'A6-FinPos'!C15,3)))","v":0},{"$f":"IF(ISERROR(ROUND(('A6-FinPos'!E15-'A6-FinPos'!D15)/'A6-FinPos'!D15,3)),0,(ROUND(('A6-FinPos'!E15-'A6-FinPos'!D15)/'A6-FinPos'!D15,3)))","v":0},{"$f":"IF(ISERROR(ROUND(('A6-FinPos'!F15-'A6-FinPos'!E15)/'A6-FinPos'!E15,3)),0,(ROUND(('A6-FinPos'!F15-'A6-FinPos'!E15)/'A6-FinPos'!E15,3)))","v":0},{"$f":"IF(ISERROR(ROUND(('A6-FinPos'!G15-'A6-FinPos'!F15)/'A6-FinPos'!F15,3)),0,(ROUND(('A6-FinPos'!G15-'A6-FinPos'!F15)/'A6-FinPos'!F15,3)))","v":0},{"$f":"IF(ISERROR(ROUND(('A6-FinPos'!H15-'A6-FinPos'!G15)/'A6-FinPos'!G15,3)),0,(ROUND(('A6-FinPos'!H15-'A6-FinPos'!G15)/'A6-FinPos'!G15,3)))","v":0},{"$f":"IF(ISERROR(ROUND(('A6-FinPos'!I15-'A6-FinPos'!H15)/'A6-FinPos'!H15,3)),0,(ROUND(('A6-FinPos'!I15-'A6-FinPos'!H15)/'A6-FinPos'!H15,3)))","v":0},{"$f":"IF(ISERROR(ROUND(('A6-FinPos'!J15-'A6-FinPos'!G15)/'A6-FinPos'!G15,3)),0,(ROUND(('A6-FinPos'!J15-'A6-FinPos'!G15)/'A6-FinPos'!G15,3)))","v":0},{"$f":"IF(ISERROR(ROUND(('A6-FinPos'!K15-'A6-FinPos'!J15)/'A6-FinPos'!J15,3)),0,(ROUND(('A6-FinPos'!K15-'A6-FinPos'!J15)/'A6-FinPos'!J15,3)))","v":0},{"$f":"IF(ISERROR(ROUND(('A6-FinPos'!L15-'A6-FinPos'!K15)/'A6-FinPos'!K15,3)),0,(ROUND(('A6-FinPos'!L15-'A6-FinPos'!K15)/'A6-FinPos'!K15,3)))","v":0}]
["R&M % of Property Plant & Equipment","20(1)(vi)",13,{"$f":"IF(ISERROR('A9-Asset'!C169/'A6-FinPos'!C19),0,('A9-Asset'!C169/'A6-FinPos'!C19))","v":9.3963152385300088E-3},{"$f":"IF(ISERROR('A9-Asset'!D169/'A6-FinPos'!D19),0,('A9-Asset'!D169/'A6-FinPos'!D19))","v":6.0513809082796584E-3},{"$f":"IF(ISERROR('A9-Asset'!E169/'A6-FinPos'!E19),0,('A9-Asset'!E169/'A6-FinPos'!E19))","v":1.1351697342512984E-2},{"$f":"IF(ISERROR('A9-Asset'!F169/'A6-FinPos'!F19),0,('A9-Asset'!F169/'A6-FinPos'!F19))","v":2.5879185691402157E-2},{"$f":"IF(ISERROR('A9-Asset'!G169/'A6-FinPos'!G19),0,('A9-Asset'!G169/'A6-FinPos'!G19))","v":2.6828932552117216E-2},{"$f":"IF(ISERROR('A9-Asset'!H169/'A6-FinPos'!H19),0,('A9-Asset'!H169/'A6-FinPos'!H19))","v":2.6828932552117216E-2},{"$f":"IF(ISERROR('A9-Asset'!I169/'A6-FinPos'!I19),0,('A9-Asset'!I169/'A6-FinPos'!I19))","v":2.8391839681731729E-2},{"$f":"IF(ISERROR('A9-Asset'!I169/'A6-FinPos'!J19),0,('A9-Asset'!I169/'A6-FinPos'!J19))","v":2.5278673359481644E-2},{"$f":"IF(ISERROR('A9-Asset'!J169/'A6-FinPos'!K19),0,('A9-Asset'!J169/'A6-FinPos'!K19))","v":1.9021531277493023E-2},{"$f":"IF(ISERROR('A9-Asset'!K169/'A6-FinPos'!L19),0,('A9-Asset'!K169/'A6-FinPos'!L19))","v":1.7260133674335841E-2}]
["Asset renewal % of capital budget",{"$f":"B17","v":"20(1)(vi)"},14,{"$f":"IF(ISERROR(D58/D57),0,(D58/D57))","v":0.83007610513507912},0.82871488899848067,0.17941683098696176,0.15107047937208132,0.13984980839815869,0.13984980839815869,0,0,0,{"$f":"IF(ISERROR(M58/M57),0,((M58/M57)))","v":0}]
[]
[{"$f":"head27a","v":"References"}]
["1. Positive cash balances indicative of minimum compliance - subject to 2"]
["2. Deduct cash and investment applications (defined) from cash balances"]
["3. Indicative of sufficient liquidity to meet average monthly operating payments"]
["4. Indicative of funded operational requirements"]
["5. Indicative of adherence to macro-economic targets (prior to 2003/04 revenue not available for high capacity municipalities and later for other capacity classifications)"]
["6. Realistic average cash collection forecasts as % of annual billed revenue"]
["7. Realistic average increase in debt impairment (doubtful debt) provision"]
["8. Indicative of planned capital expenditure level & cash payment timing"]
["9. Indicative of compliance with borrowing 'only' for the capital budget - should not exceed 100% unless refinancing"]
["10. Substantiation of National/Province allocations included in budget"]
["11. Indicative of realistic current arrear debtor collection targets (prior to 2003/04 revenue not available for high capacity municipalities and later for other capacity classifications)"]
["12. Indicative of realistic long term arrear debtor collection targets (prior to 2003/04 revenue not available for high capacity municipalities and later for other capacity classifications)"]
["13. Indicative of a credible allowance for repairs & maintenance of assets - functioning assets revenue protection"]
["14. Indicative of a credible allowance for asset renewal (requires analysis of asset renewal projects as % of total capital projects - detailed capital plan) - functioning assets revenue protection"]
["Supporting indicators"]
["% incr total service charges (incl prop rates)","18(1)a",null,null,{"$f":"IF(ISERROR((E44/D44)-1),0,((E44/D44)-1))","v":0.17230651896318339},{"$f":"IF(ISERROR((F44/E44)-1),0,((F44/E44)-1))","v":-0.12542148400685371},{"$f":"IF(ISERROR((G44/F44)-1),0,((G44/F44)-1))","v":0.3875438101828621},{"$f":"IF(ISERROR((H44/G44)-1),0,((H44/G44)-1))","v":0.59091101495622977},{"$f":"IF(ISERROR((I44/H44)-1),0,((I44/H44)-1))","v":0},{"$f":"IF(ISERROR((J44/I44)-1),0,((J44/I44)-1))","v":-2.1099495954188474E-2},{"$f":"IF(ISERROR((K44/H44)-1),0,((K44/H44)-1))","v":5.1830267082849657E-2},{"$f":"IF(ISERROR((L44/K44)-1),0,((L44/K44)-1))","v":5.399997008694335E-2},{"$f":"IF(ISERROR((M44/L44)-1),0,((M44/L44)-1))","v":5.4000032746742255E-2}]
["% incr Property Tax","18(1)a",null,null,0.3194911687919948,{"$f":"IF(ISERROR((F45/E45)-1),0,((F45/E45)-1))","v":-0.27402730541380882},0.42507653345997243,0.37599639615344849,0,0,{"$f":"IF(ISERROR((K45/H45)-1),0,((K45/H45)-1))","v":5.200003133197062E-2},5.3999965502037339E-2,5.4000003315836542E-2]
[{"$f":"\"% incr \"&'A4-FinPerf RE'!A6","v":"% incr Service charges - electricity revenue"},"18(1)a",null,null,5.3816229000994253E-2,-1.1737298206249358E-2,0.31019502668355048,0.93221225262568996,0,-4.2743871321178739E-2,5.165614792224793E-2,5.3999957807069343E-2,{"$f":"IF(ISERROR((M46/L46)-1),0,((M46/L46)-1))","v":5.4000048435594694E-2}]
[{"$f":"\"% incr \"&'A4-FinPerf RE'!A7","v":"% incr Service charges - water revenue"},"18(1)a",null,null,0,0,0,0,0,0,0,0,0]
[{"$f":"\"% incr \"&'A4-FinPerf RE'!A8","v":"% incr Service charges - sanitation revenue"},"18(1)a",null,null,0,0,0,0,0,0,0,0,0]
[{"$f":"\"% incr \"&'A4-FinPerf RE'!A9","v":"% incr Service charges - refuse revenue"},"18(1)a",null,null,0.11158629506702389,3.450151661117884E-2,0.4888999748407874,0.32033844038124104,0,0,5.199994484797843E-2,5.4000015913186816E-2,5.40000463877508E-2]
[{"$f":"\"% incr in \"&'A4-FinPerf RE'!A10","v":"% incr in "},"18(1)a",null,null,0,0,0,0,{"$f":"IF(ISERROR((I50/H50)-1),0,((I50/H50)-1))","v":0},0,0,{"$f":"IF(ISERROR((L50/K50)-1),0,((L50/K50)-1))","v":0},0]
["Total billable revenue","18(1)a",null,{"$f":"SUM(D45:D50)","v":21907134},{"$f":"SUM(E45:E50)","v":25681876},22460817,31165367.600000001,49581326.600000001,49581326.600000001,48535185.600000001,52151140,54967300,57935536]
["Service charges",null,null,{"$f":"SUM(D45:D50)","v":21907134},{"$f":"SUM(E45:E50)","v":25681876},22460817,31165367.600000001,49581326.600000001,49581326.600000001,{"$f":"SUM(J45:J50)","v":48535185.600000001},52151140,54967300,57935536]
["Property rates",null,null,{"$f":"'A4-FinPerf RE'!C5","v":8977594},{"$f":"'A4-FinPerf RE'!D5","v":11845856},{"$f":"'A4-FinPerf RE'!E5","v":8599768},{"$f":"'A4-FinPerf RE'!F5","v":12255327.57},{"$f":"'A4-FinPerf RE'!G5","v":16863286.57},{"$f":"'A4-FinPerf RE'!H5","v":16863286.57},{"$f":"'A4-FinPerf RE'!I5","v":16863286.57},{"$f":"'A4-FinPerf RE'!J5","v":17740178},{"$f":"'A4-FinPerf RE'!K5","v":18698147},{"$f":"'A4-FinPerf RE'!L5","v":19707847}]
["Service charges - electricity revenue",null,null,{"$f":"'A4-FinPerf RE'!C6","v":9282999},{"$f":"'A4-FinPerf RE'!D6","v":9782575},{"$f":"'A4-FinPerf RE'!E6","v":9667754},{"$f":"'A4-FinPerf RE'!F6","v":12666643.210000001},{"$f":"'A4-FinPerf RE'!G6","v":24474643.210000001},{"$f":"'A4-FinPerf RE'!H6","v":24474643.210000001},{"$f":"'A4-FinPerf RE'!I6","v":23428502.210000001},{"$f":"'A4-FinPerf RE'!J6","v":25738909},{"$f":"'A4-FinPerf RE'!K6","v":27128809},{"$f":"'A4-FinPerf RE'!L6","v":28593766}]
["Service charges - water revenue",null,null,{"$f":"'A4-FinPerf RE'!C7","v":0},{"$f":"'A4-FinPerf RE'!D7","v":0},{"$f":"'A4-FinPerf RE'!E7","v":0},{"$f":"'A4-FinPerf RE'!F7","v":0},{"$f":"'A4-FinPerf RE'!G7","v":0},{"$f":"'A4-FinPerf RE'!H7","v":0},{"$f":"'A4-FinPerf RE'!I7","v":0},{"$f":"'A4-FinPerf RE'!J7","v":0},{"$f":"'A4-FinPerf RE'!K7","v":0},{"$f":"'A4-FinPerf RE'!L7","v":0}]
["Service charges - sanitation revenue",null,null,{"$f":"'A4-FinPerf RE'!C8","v":0},{"$f":"'A4-FinPerf RE'!D8","v":0},{"$f":"'A4-FinPerf RE'!E8","v":0},{"$f":"'A4-FinPerf RE'!F8","v":0},{"$f":"'A4-FinPerf RE'!G8","v":0},{"$f":"'A4-FinPerf RE'!H8","v":0},{"$f":"'A4-FinPerf RE'!I8","v":0},{"$f":"'A4-FinPerf RE'!J8","v":0},{"$f":"'A4-FinPerf RE'!K8","v":0},{"$f":"'A4-FinPerf RE'!L8","v":0}]
["Service charges - refuse removal",null,null,{"$f":"'A4-FinPerf RE'!C9","v":3646541},{"$f":"'A4-FinPerf RE'!D9","v":4053445},{"$f":"'A4-FinPerf RE'!E9","v":4193295},{"$f":"'A4-FinPerf RE'!F9","v":6243396.8199999994},{"$f":"'A4-FinPerf RE'!G9","v":8243396.8199999994},{"$f":"'A4-FinPerf RE'!H9","v":8243396.8199999994},{"$f":"'A4-FinPerf RE'!I9","v":8243396.8199999994},{"$f":"'A4-FinPerf RE'!J9","v":8672053},{"$f":"'A4-FinPerf RE'!K9","v":9140344},{"$f":"'A4-FinPerf RE'!L9","v":9633923}]
["Service charges - other",null,null,{"$f":"'A4-FinPerf RE'!C10","v":0},{"$f":"'A4-FinPerf RE'!D10","v":0},{"$f":"'A4-FinPerf RE'!E10","v":0},{"$f":"'A4-FinPerf RE'!F10","v":0},{"$f":"'A4-FinPerf RE'!G10","v":0},{"$f":"'A4-FinPerf RE'!H10","v":0},{"$f":"'A4-FinPerf RE'!I10","v":0},{"$f":"'A4-FinPerf RE'!J10","v":0},{"$f":"'A4-FinPerf RE'!K10","v":0},{"$f":"'A4-FinPerf RE'!L10","v":0}]
[{"$f":"'A4-FinPerf RE'!A11","v":"Rental of facilities and equipment"},null,null,{"$f":"'A4-FinPerf RE'!C11","v":90519},{"$f":"'A4-FinPerf RE'!D11","v":142097},{"$f":"'A4-FinPerf RE'!E11","v":169074},{"$f":"'A4-FinPerf RE'!F11","v":956797.77},{"$f":"'A4-FinPerf RE'!G11","v":956797.77},{"$f":"'A4-FinPerf RE'!H11","v":956797.77},{"$f":"'A4-FinPerf RE'!I11","v":956797.77},{"$f":"'A4-FinPerf RE'!J11","v":1006551},{"$f":"'A4-FinPerf RE'!K11","v":1060905},{"$f":"'A4-FinPerf RE'!L11","v":1118194}]
["Capital expenditure excluding capital grant funding",null,null,{"$f":"'A5-Capex'!C40-'A5-Capex'!C70","v":86928321},{"$f":"'A5-Capex'!D40-'A5-Capex'!D70","v":51511167},{"$f":"'A5-Capex'!E40-'A5-Capex'!E70","v":95656699},{"$f":"'A5-Capex'!F40-'A5-Capex'!F70","v":116834319.12},{"$f":"'A5-Capex'!G40-'A5-Capex'!G70","v":111218406.12},{"$f":"'A5-Capex'!H40-'A5-Capex'!H70","v":111218406.12},{"$f":"'A5-Capex'!I40-'A5-Capex'!I70","v":111218406.12},{"$f":"'A5-Capex'!J40-'A5-Capex'!J70","v":93946220},{"$f":"'A5-Capex'!K40-'A5-Capex'!K70","v":118039294},{"$f":"'A5-Capex'!L40-'A5-Capex'!L70","v":128200218}]
["Cash receipts from ratepayers","18(1)a",null,{"$f":"'A7-CFlow'!C6+'A7-CFlow'!C7+'A7-CFlow'!C8","v":49966473},{"$f":"'A7-CFlow'!D6+'A7-CFlow'!D7+'A7-CFlow'!D8","v":17339205},{"$f":"'A7-CFlow'!E6+'A7-CFlow'!E7+'A7-CFlow'!E8","v":10730806},{"$f":"'A7-CFlow'!F6+'A7-CFlow'!F7+'A7-CFlow'!F8","v":48894588.854000002},{"$f":"'A7-CFlow'!G6+'A7-CFlow'!G7+'A7-CFlow'!G8","v":91779588.854000002},{"$f":"'A7-CFlow'!H6+'A7-CFlow'!H7+'A7-CFlow'!H8","v":91779588.854000002},{"$f":"'A7-CFlow'!I6+'A7-CFlow'!I7+'A7-CFlow'!I8","v":91779588.854000002},{"$f":"'A7-CFlow'!J6+'A7-CFlow'!J7+'A7-CFlow'!J8","v":54351595.401232004},{"$f":"'A7-CFlow'!K6+'A7-CFlow'!K7+'A7-CFlow'!K8","v":57286581.943698555},{"$f":"'A7-CFlow'!L6+'A7-CFlow'!L7+'A7-CFlow'!L8","v":60380056.451858208}]
["Ratepayer & Other revenue","18(1)a",null,{"$f":"SUM('A4-FinPerf RE'!C5:C11)+'A4-FinPerf RE'!C13+SUM('A4-FinPerf RE'!C15:C17)+'A4-FinPerf RE'!C19","v":39678249},{"$f":"SUM('A4-FinPerf RE'!D5:D11)+'A4-FinPerf RE'!D13+SUM('A4-FinPerf RE'!D15:D17)+'A4-FinPerf RE'!D19","v":43836931},{"$f":"SUM('A4-FinPerf RE'!E5:E11)+'A4-FinPerf RE'!E13+SUM('A4-FinPerf RE'!E15:E17)+'A4-FinPerf RE'!E19","v":47708676},{"$f":"SUM('A4-FinPerf RE'!F5:F11)+'A4-FinPerf RE'!F13+SUM('A4-FinPerf RE'!F15:F17)+'A4-FinPerf RE'!F19","v":86810164.789999992},{"$f":"SUM('A4-FinPerf RE'!G5:G11)+'A4-FinPerf RE'!G13+SUM('A4-FinPerf RE'!G15:G17)+'A4-FinPerf RE'!G19","v":133227365.78999999},{"$f":"SUM('A4-FinPerf RE'!H5:H11)+'A4-FinPerf RE'!H13+SUM('A4-FinPerf RE'!H15:H17)+'A4-FinPerf RE'!H19","v":133227365.78999999},{"$f":"SUM('A4-FinPerf RE'!I5:I11)+'A4-FinPerf RE'!I13+SUM('A4-FinPerf RE'!I15:I17)+'A4-FinPerf RE'!I19","v":132181224.78999999},{"$f":"SUM('A4-FinPerf RE'!J5:J11)+'A4-FinPerf RE'!J13+SUM('A4-FinPerf RE'!J15:J17)+'A4-FinPerf RE'!J19","v":115548909},{"$f":"SUM('A4-FinPerf RE'!K5:K11)+'A4-FinPerf RE'!K13+SUM('A4-FinPerf RE'!K15:K17)+'A4-FinPerf RE'!K19","v":121788551},{"$f":"SUM('A4-FinPerf RE'!L5:L11)+'A4-FinPerf RE'!L13+SUM('A4-FinPerf RE'!L15:L17)+'A4-FinPerf RE'!L19","v":128365132}]
["Change in consumer debtors (current and non-current)",null,null,{"$f":"D84","v":18927218.572348002},{"$f":"(SUM('A6-FinPos'!D8:D10)+'A6-FinPos'!D15)-(SUM('A6-FinPos'!C8:C10)+'A6-FinPos'!C15)","v":5582405},{"$f":"(SUM('A6-FinPos'!E8:E10)+'A6-FinPos'!E15)-(SUM('A6-FinPos'!D8:D10)+'A6-FinPos'!D15)","v":23091788},{"$f":"(SUM('A6-FinPos'!F8:F10)+'A6-FinPos'!F15)-(SUM('A6-FinPos'!E8:E10)+'A6-FinPos'!E15)","v":-39467710.434087999},{"$f":"(SUM('A6-FinPos'!G8:G10)+'A6-FinPos'!G15)-(SUM('A6-FinPos'!E8:E10)+'A6-FinPos'!E15)","v":-39467710.434087999},{"$f":"(SUM('A6-FinPos'!H8:H10)+'A6-FinPos'!H15)-(SUM('A6-FinPos'!E8:E10)+'A6-FinPos'!E15)","v":-39467710.434087999},{"$f":"(SUM('A6-FinPos'!I8:I10)+'A6-FinPos'!I15)-(SUM('A6-FinPos'!E8:E10)+'A6-FinPos'!E15)","v":-39467710.434087999},{"$f":"(SUM('A6-FinPos'!J8:J10)+'A6-FinPos'!J15)-(SUM('A6-FinPos'!F8:F10)+'A6-FinPos'!F15)","v":39467710.434087999},{"$f":"(SUM('A6-FinPos'!K8:K10)+'A6-FinPos'!K15)-(SUM('A6-FinPos'!J8:J10)+'A6-FinPos'!J15)","v":114895.58400000632},{"$f":"(SUM('A6-FinPos'!L8:L10)+'A6-FinPos'!L15)-(SUM('A6-FinPos'!K8:K10)+'A6-FinPos'!K15)","v":121099.94553598762}]
["Operating and Capital Grant Revenue","18(1)a",null,{"$f":"'A4-FinPerf RE'!C18+'A4-FinPerf RE'!C38","v":302119710},{"$f":"'A4-FinPerf RE'!D18+'A4-FinPerf RE'!D38","v":270846324},{"$f":"'A4-FinPerf RE'!E18+'A4-FinPerf RE'!E38","v":291695123},{"$f":"'A4-FinPerf RE'!F18+'A4-FinPerf RE'!F38","v":310801000},{"$f":"'A4-FinPerf RE'!G18+'A4-FinPerf RE'!G38","v":330801000},{"$f":"'A4-FinPerf RE'!H18+'A4-FinPerf RE'!H38","v":330801000},{"$f":"'A4-FinPerf RE'!I18+'A4-FinPerf RE'!I38","v":330801000},{"$f":"'A4-FinPerf RE'!J18+'A4-FinPerf RE'!J38","v":339232000},{"$f":"'A4-FinPerf RE'!K18+'A4-FinPerf RE'!K38","v":367888000},{"$f":"'A4-FinPerf RE'!L18+'A4-FinPerf RE'!L38","v":394241000}]
["Capital expenditure - total",{"$f":"B17","v":"20(1)(vi)"},null,{"$f":"'A5-Capex'!C40","v":176242641},{"$f":"'A5-Capex'!D40","v":104957167},{"$f":"'A5-Capex'!E40","v":162818699},{"$f":"'A5-Capex'!F40","v":179277319.12},{"$f":"'A5-Capex'!G40","v":193661406.12},{"$f":"'A5-Capex'!H40","v":193661406.12},{"$f":"'A5-Capex'!I40","v":193661406.12},{"$f":"'A5-Capex'!J40","v":151554220},{"$f":"'A5-Capex'!K40","v":185822294},{"$f":"'A5-Capex'!L40","v":200551218}]
["Capital expenditure - renewal",{"$f":"B18","v":"20(1)(vi)"},null,{"$f":"'A9-Asset'!C37","v":146294805},{"$f":"'A9-Asset'!D37","v":86979567},{"$f":"'A9-Asset'!E37","v":29212415},{"$f":"'A9-Asset'!F37","v":27083510.539999999},{"$f":"'A9-Asset'!G37","v":27083510.539999999},{"$f":"'A9-Asset'!H37","v":27083510.539999999},null,{"$f":"'A9-Asset'!I37","v":0},{"$f":"'A9-Asset'!J37","v":0},{"$f":"'A9-Asset'!K37","v":0}]
[]
["Supporting benchmarks"]
["Growth guideline maximum",null,null,0.06,0.06,0.06,0.06,0.06,0.06,0.06,0.06,0.06,0.06]
["CPI guideline",null,null,4.2999999999999997E-2,3.9E-2,4.5999999999999999E-2,0.05,0.05,0.05,0.05,5.3999999999999999E-2,5.6000000000000001E-2,5.3999999999999999E-2]
["DoRA operating grants total MFY",null,null,null,null,null,null,null,null,null,285167047.14999998,303861986.08999997,325888732.89999998]
["DoRA capital grants total MFY",null,null,null,null,null,null,null,null,null,54094952.850000001,64035013.909999996,68352267.099999994]
["Provincial operating grants",null,null,null,null,null,null,null,null,null,0,0,0]
["Provincial capital grants",null,null,null,null,null,null,null,null,null,0,0,0]
["District Municipality grants",null,null,null,null,null,null,null,null,null,0,0,0]
["Total gazetted/advised national, provincial and district grants",null,null,null,null,null,null,null,null,null,{"$f":"SUM(K63:K67)","v":339262000},{"$f":"SUM(L63:L67)","v":367897000},{"$f":"SUM(M63:M67)","v":394241000}]
["Average annual collection rate (arrears inclusive)"]
[]
["DoRA operating"]
["Local Government Equitable Share",null,null,null,null,null,null,null,null,null,278284000,297969000,319745000]
["Finance Management ",null,null,null,null,null,null,null,null,null,2145000,2145000,2145000]
["EPWP Incentive",null,null,null,null,null,null,null,null,null,1225000,0,0]
["MIG Operation",null,null,null,null,null,null,null,null,null,3513047.15,3747986.09,3998732.9]
[null,null,null,null,null,null,null,null,null,null,{"$f":"SUM(K72:K75)","v":285167047.14999998},{"$f":"SUM(L72:L75)","v":303861986.08999997},{"$f":"SUM(M72:M75)","v":325888732.89999998}]
["DoRA capital"]
[" Municipal Infrastructure Grant (MIG)",null,null,null,null,null,null,null,null,null,54094952.850000001,57035013.909999996,61352267.100000001]
["INEP",null,null,null,null,null,null,null,null,null,0,7000000,7000000]
[null,null,null,null,null,null,null,null,null,null,0,0,0]
[null,null,null,null,null,null,null,null,null,null,0,0,0]
[null,null,null,null,null,null,null,null,null,null,{"$f":"SUM(K78:K81)","v":54094952.850000001},{"$f":"SUM(L78:L81)","v":64035013.909999996},{"$f":"SUM(M78:M81)","v":68352267.099999994}]
["Trend"]
[{"$f":"A55","v":"Change in consumer debtors (current and non-current)"},null,null,{"$f":"TREND(E84:G84)","v":18927218.572348002},{"$f":"E55","v":5582405},{"$f":"F55","v":23091788},{"$f":"J55","v":-39467710.434087999},{"$f":"K55","v":39467710.434087999},114895.58400000632,121099.94553598762,0,0,0]
[]
["Total Operating Revenue",null,null,{"$f":"'A1-Sum'!B10","v":256563325},{"$f":"'A1-Sum'!C10","v":259236856},{"$f":"'A1-Sum'!D10","v":279554821},{"$f":"'A1-Sum'!E10","v":340264680.23000002},{"$f":"'A1-Sum'!F10","v":386681881.23000002},{"$f":"'A1-Sum'!G10","v":386681881.23000002},{"$f":"'A1-Sum'!H10","v":385635740.23000002},{"$f":"'A1-Sum'!I10","v":402534443},{"$f":"'A1-Sum'!J10","v":427544608},{"$f":"'A1-Sum'!K10","v":456211346}]
["Total Operating Expenditure",null,null,{"$f":"'A1-Sum'!B18","v":189518607},{"$f":"'A1-Sum'!C18","v":230489996},{"$f":"'A1-Sum'!D18","v":247665393},{"$f":"'A1-Sum'!E18","v":223430361.3624},{"$f":"'A1-Sum'!F18","v":275463466.06239998},{"$f":"'A1-Sum'!G18","v":275463466.06239998},{"$f":"'A1-Sum'!H18","v":275463466.06239998},{"$f":"'A1-Sum'!I18","v":308588222},{"$f":"'A1-Sum'!J18","v":309505316},{"$f":"'A1-Sum'!K18","v":328011130}]
["Operating Performance Surplus/(Deficit)",null,null,{"$f":"D86-D87","v":67044718},{"$f":"E86-E87","v":28746860},31889428,116834318.86760002,111218415.16760004,111218415.16760004,110172274.16760004,{"$f":"K86-K87","v":93946221},118039292,128200216]
["Cash and Cash Equivalents (30 June 2012)",null,null,null,null,null,null,null,null,null,{"$f":"'A7-CFlow'!J40","v":2421448.9812320471}]
["Revenue"]
["% Increase in Total Operating Revenue",null,null,null,{"$f":"IF(ISERROR(('A1-Sum'!C10-'A1-Sum'!B10)/'A1-Sum'!B10),0,(('A1-Sum'!C10-'A1-Sum'!B10)/'A1-Sum'!B10))","v":1.0420550170216262E-2},{"$f":"IF(ISERROR(('A1-Sum'!D10-'A1-Sum'!C10)/'A1-Sum'!C10),0,(('A1-Sum'!D10-'A1-Sum'!C10)/'A1-Sum'!C10))","v":7.8376066248851586E-2},{"$f":"IF(ISERROR(('A1-Sum'!E10-'A1-Sum'!D10)/'A1-Sum'!D10),0,(('A1-Sum'!E10-'A1-Sum'!D10)/'A1-Sum'!D10))","v":0.21716620379800217},{"$f":"IF(ISERROR(('A1-Sum'!F10-'A1-Sum'!E10)/'A1-Sum'!E10),0,(('A1-Sum'!F10-'A1-Sum'!E10)/'A1-Sum'!E10))","v":0.13641498426643797},{"$f":"IF(ISERROR(('A1-Sum'!G10-'A1-Sum'!F10)/'A1-Sum'!F10),0,(('A1-Sum'!G10-'A1-Sum'!F10)/'A1-Sum'!F10))","v":0},{"$f":"IF(ISERROR(('A1-Sum'!H10-'A1-Sum'!G10)/'A1-Sum'!G10),0,(('A1-Sum'!H10-'A1-Sum'!G10)/'A1-Sum'!G10))","v":-2.7054306156583294E-3},{"$f":"IF(ISERROR(('A1-Sum'!I10-'A1-Sum'!F10)/'A1-Sum'!F10),0,(('A1-Sum'!I10-'A1-Sum'!F10)/'A1-Sum'!F10))","v":4.0996391451221914E-2},{"$f":"IF(ISERROR(('A1-Sum'!J10-'A1-Sum'!I10)/'A1-Sum'!I10),0,(('A1-Sum'!J10-'A1-Sum'!I10)/'A1-Sum'!I10))","v":6.2131739121762557E-2},{"$f":"IF(ISERROR(('A1-Sum'!K10-'A1-Sum'!J10)/'A1-Sum'!J10),0,(('A1-Sum'!K10-'A1-Sum'!J10)/'A1-Sum'!J10))","v":6.7049700694623196E-2}]
["% Increase in Property Rates Revenue",null,null,null,{"$f":"IF(ISERROR(('A4-FinPerf RE'!D5-'A4-FinPerf RE'!C5)/'A4-FinPerf RE'!C5),0,(('A4-FinPerf RE'!D5-'A4-FinPerf RE'!C5)/'A4-FinPerf RE'!C5))","v":0.31949116879199485},{"$f":"IF(ISERROR(('A4-FinPerf RE'!E5-'A4-FinPerf RE'!D5)/'A4-FinPerf RE'!D5),0,(('A4-FinPerf RE'!E5-'A4-FinPerf RE'!D5)/'A4-FinPerf RE'!D5))","v":-0.27402730541380882},{"$f":"IF(ISERROR(('A4-FinPerf RE'!F5-'A4-FinPerf RE'!E5)/'A4-FinPerf RE'!E5),0,(('A4-FinPerf RE'!F5-'A4-FinPerf RE'!E5)/'A4-FinPerf RE'!E5))","v":0.42507653345997243},{"$f":"IF(ISERROR(('A4-FinPerf RE'!G5-'A4-FinPerf RE'!F5)/'A4-FinPerf RE'!F5),0,(('A4-FinPerf RE'!G5-'A4-FinPerf RE'!F5)/'A4-FinPerf RE'!F5))","v":0.37599639615344854},{"$f":"IF(ISERROR(('A4-FinPerf RE'!H5-'A4-FinPerf RE'!G5)/'A4-FinPerf RE'!G5),0,(('A4-FinPerf RE'!H5-'A4-FinPerf RE'!G5)/'A4-FinPerf RE'!G5))","v":0},{"$f":"IF(ISERROR(('A4-FinPerf RE'!I5-'A4-FinPerf RE'!H5)/'A4-FinPerf RE'!H5),0,(('A4-FinPerf RE'!I5-'A4-FinPerf RE'!H5)/'A4-FinPerf RE'!H5))","v":0},{"$f":"IF(ISERROR(('A4-FinPerf RE'!J5-'A4-FinPerf RE'!G5)/'A4-FinPerf RE'!G5),0,(('A4-FinPerf RE'!J5-'A4-FinPerf RE'!G5)/'A4-FinPerf RE'!G5))","v":5.2000031331970641E-2},{"$f":"IF(ISERROR(('A4-FinPerf RE'!K5-'A4-FinPerf RE'!J5)/'A4-FinPerf RE'!J5),0,(('A4-FinPerf RE'!K5-'A4-FinPerf RE'!J5)/'A4-FinPerf RE'!J5))","v":5.3999965502037242E-2},{"$f":"IF(ISERROR(('A4-FinPerf RE'!L5-'A4-FinPerf RE'!K5)/'A4-FinPerf RE'!K5),0,(('A4-FinPerf RE'!L5-'A4-FinPerf RE'!K5)/'A4-FinPerf RE'!K5))","v":5.4000003315836591E-2}]
["% Increase in Electricity Revenue",null,null,null,{"$f":"IF(ISERROR(('A4-FinPerf RE'!D6-'A4-FinPerf RE'!C6)/'A4-FinPerf RE'!C6),0,(('A4-FinPerf RE'!D6-'A4-FinPerf RE'!C6)/'A4-FinPerf RE'!C6))","v":5.3816229000994184E-2},{"$f":"IF(ISERROR(('A4-FinPerf RE'!E6-'A4-FinPerf RE'!D6)/'A4-FinPerf RE'!D6),0,(('A4-FinPerf RE'!E6-'A4-FinPerf RE'!D6)/'A4-FinPerf RE'!D6))","v":-1.1737298206249377E-2},{"$f":"IF(ISERROR(('A4-FinPerf RE'!F6-'A4-FinPerf RE'!E6)/'A4-FinPerf RE'!E6),0,(('A4-FinPerf RE'!F6-'A4-FinPerf RE'!E6)/'A4-FinPerf RE'!E6))","v":0.31019502668355037},{"$f":"IF(ISERROR(('A4-FinPerf RE'!G6-'A4-FinPerf RE'!F6)/'A4-FinPerf RE'!F6),0,(('A4-FinPerf RE'!G6-'A4-FinPerf RE'!F6)/'A4-FinPerf RE'!F6))","v":0.93221225262568985},{"$f":"IF(ISERROR(('A4-FinPerf RE'!H6-'A4-FinPerf RE'!G6)/'A4-FinPerf RE'!G6),0,(('A4-FinPerf RE'!H6-'A4-FinPerf RE'!G6)/'A4-FinPerf RE'!G6))","v":0},{"$f":"IF(ISERROR(('A4-FinPerf RE'!I6-'A4-FinPerf RE'!H6)/'A4-FinPerf RE'!H6),0,(('A4-FinPerf RE'!I6-'A4-FinPerf RE'!H6)/'A4-FinPerf RE'!H6))","v":-4.2743871321178697E-2},{"$f":"IF(ISERROR(('A4-FinPerf RE'!J6-'A4-FinPerf RE'!G6)/'A4-FinPerf RE'!G6),0,(('A4-FinPerf RE'!J6-'A4-FinPerf RE'!G6)/'A4-FinPerf RE'!G6))","v":5.1656147922247854E-2},{"$f":"IF(ISERROR(('A4-FinPerf RE'!K6-'A4-FinPerf RE'!J6)/'A4-FinPerf RE'!J6),0,(('A4-FinPerf RE'!K6-'A4-FinPerf RE'!J6)/'A4-FinPerf RE'!J6))","v":5.3999957807069447E-2},{"$f":"IF(ISERROR(('A4-FinPerf RE'!L6-'A4-FinPerf RE'!K6)/'A4-FinPerf RE'!K6),0,(('A4-FinPerf RE'!L6-'A4-FinPerf RE'!K6)/'A4-FinPerf RE'!K6))","v":5.4000048435594798E-2}]
["% Increase in Property Rates & Services Charges",null,null,null,{"$f":"IF(ISERROR((('A1-Sum'!C5+'A1-Sum'!C6)-('A1-Sum'!B5+'A1-Sum'!B6))/('A1-Sum'!B5+'A1-Sum'!B6)),0,((('A1-Sum'!C5+'A1-Sum'!C6)-('A1-Sum'!B5+'A1-Sum'!B6))/('A1-Sum'!B5+'A1-Sum'!B6)))","v":0.17230651896318341},{"$f":"IF(ISERROR((('A1-Sum'!D5+'A1-Sum'!D6)-('A1-Sum'!C5+'A1-Sum'!C6))/('A1-Sum'!C5+'A1-Sum'!C6)),0,((('A1-Sum'!D5+'A1-Sum'!D6)-('A1-Sum'!C5+'A1-Sum'!C6))/('A1-Sum'!C5+'A1-Sum'!C6)))","v":-0.12542148400685371},{"$f":"IF(ISERROR((('A1-Sum'!E5+'A1-Sum'!E6)-('A1-Sum'!D5+'A1-Sum'!D6))/('A1-Sum'!D5+'A1-Sum'!D6)),0,((('A1-Sum'!E5+'A1-Sum'!E6)-('A1-Sum'!D5+'A1-Sum'!D6))/('A1-Sum'!D5+'A1-Sum'!D6)))","v":0.38754381018286205},{"$f":"IF(ISERROR((('A1-Sum'!F5+'A1-Sum'!F6)-('A1-Sum'!E5+'A1-Sum'!E6))/('A1-Sum'!E5+'A1-Sum'!E6)),0,((('A1-Sum'!F5+'A1-Sum'!F6)-('A1-Sum'!E5+'A1-Sum'!E6))/('A1-Sum'!E5+'A1-Sum'!E6)))","v":0.59091101495622977},{"$f":"IF(ISERROR((('A1-Sum'!G5+'A1-Sum'!G6)-('A1-Sum'!F5+'A1-Sum'!F6))/('A1-Sum'!F5+'A1-Sum'!F6)),0,((('A1-Sum'!G5+'A1-Sum'!G6)-('A1-Sum'!F5+'A1-Sum'!F6))/('A1-Sum'!F5+'A1-Sum'!F6)))","v":0},{"$f":"IF(ISERROR((('A1-Sum'!H5+'A1-Sum'!H6)-('A1-Sum'!G5+'A1-Sum'!G6))/('A1-Sum'!G5+'A1-Sum'!G6)),0,((('A1-Sum'!H5+'A1-Sum'!H6)-('A1-Sum'!G5+'A1-Sum'!G6))/('A1-Sum'!G5+'A1-Sum'!G6)))","v":-2.1099495954188526E-2},{"$f":"IF(ISERROR((('A1-Sum'!I5+'A1-Sum'!I6)-('A1-Sum'!F5+'A1-Sum'!F6))/('A1-Sum'!F5+'A1-Sum'!F6)),0,((('A1-Sum'!I5+'A1-Sum'!I6)-('A1-Sum'!F5+'A1-Sum'!F6))/('A1-Sum'!F5+'A1-Sum'!F6)))","v":5.1830267082849664E-2},{"$f":"IF(ISERROR((('A1-Sum'!J5+'A1-Sum'!J6)-('A1-Sum'!I5+'A1-Sum'!I6))/('A1-Sum'!I5+'A1-Sum'!I6)),0,((('A1-Sum'!J5+'A1-Sum'!J6)-('A1-Sum'!I5+'A1-Sum'!I6))/('A1-Sum'!I5+'A1-Sum'!I6)))","v":5.3999970086943447E-2},{"$f":"IF(ISERROR((('A1-Sum'!K5+'A1-Sum'!K6)-('A1-Sum'!J5+'A1-Sum'!J6))/('A1-Sum'!J5+'A1-Sum'!J6)),0,((('A1-Sum'!K5+'A1-Sum'!K6)-('A1-Sum'!J5+'A1-Sum'!J6))/('A1-Sum'!J5+'A1-Sum'!J6)))","v":5.4000032746742151E-2}]
["Expenditure"]
["% Increase in Total Operating Expenditure",null,null,null,{"$f":"IF(ISERROR(('A1-Sum'!C18-'A1-Sum'!B18)/'A1-Sum'!B18),0,(('A1-Sum'!C18-'A1-Sum'!B18)/'A1-Sum'!B18))","v":0.21618663016027762},{"$f":"IF(ISERROR(('A1-Sum'!D18-'A1-Sum'!C18)/'A1-Sum'!C18),0,(('A1-Sum'!D18-'A1-Sum'!C18)/'A1-Sum'!C18))","v":7.4516887058299924E-2},{"$f":"IF(ISERROR(('A1-Sum'!E18-'A1-Sum'!D18)/'A1-Sum'!D18),0,(('A1-Sum'!E18-'A1-Sum'!D18)/'A1-Sum'!D18))","v":-9.7853928415424618E-2},{"$f":"IF(ISERROR(('A1-Sum'!F18-'A1-Sum'!E18)/'A1-Sum'!E18),0,(('A1-Sum'!F18-'A1-Sum'!E18)/'A1-Sum'!E18))","v":0.23288287403162383},{"$f":"IF(ISERROR(('A1-Sum'!G18-'A1-Sum'!F18)/'A1-Sum'!F18),0,(('A1-Sum'!G18-'A1-Sum'!F18)/'A1-Sum'!F18))","v":0},{"$f":"IF(ISERROR(('A1-Sum'!H18-'A1-Sum'!G18)/'A1-Sum'!G18),0,(('A1-Sum'!H18-'A1-Sum'!G18)/'A1-Sum'!G18))","v":0},{"$f":"IF(ISERROR(('A1-Sum'!I18-'A1-Sum'!F18)/'A1-Sum'!F18),0,(('A1-Sum'!I18-'A1-Sum'!F18)/'A1-Sum'!F18))","v":0.12025099520854921},{"$f":"IF(ISERROR(('A1-Sum'!J18-'A1-Sum'!I18)/'A1-Sum'!I18),0,(('A1-Sum'!J18-'A1-Sum'!I18)/'A1-Sum'!I18))","v":2.9719021486179728E-3},{"$f":"IF(ISERROR(('A1-Sum'!K18-'A1-Sum'!J18)/'A1-Sum'!J18),0,(('A1-Sum'!K18-'A1-Sum'!J18)/'A1-Sum'!J18))","v":5.9791586907670433E-2}]
["% Increase in Employee Costs",null,null,null,{"$f":"IF(ISERROR(('A1-Sum'!C11-'A1-Sum'!B11)/'A1-Sum'!B11),0,(('A1-Sum'!C11-'A1-Sum'!B11)/'A1-Sum'!B11))","v":6.1647094559762014E-2},{"$f":"IF(ISERROR(('A1-Sum'!D11-'A1-Sum'!C11)/'A1-Sum'!C11),0,(('A1-Sum'!D11-'A1-Sum'!C11)/'A1-Sum'!C11))","v":9.268034002361758E-2},{"$f":"IF(ISERROR(('A1-Sum'!E11-'A1-Sum'!D11)/'A1-Sum'!D11),0,(('A1-Sum'!E11-'A1-Sum'!D11)/'A1-Sum'!D11))","v":4.804409722807787E-2},{"$f":"IF(ISERROR(('A1-Sum'!F11-'A1-Sum'!E11)/'A1-Sum'!E11),0,(('A1-Sum'!F11-'A1-Sum'!E11)/'A1-Sum'!E11))","v":0.21662416888728855},{"$f":"IF(ISERROR(('A1-Sum'!G11-'A1-Sum'!F11)/'A1-Sum'!F11),0,(('A1-Sum'!G11-'A1-Sum'!F11)/'A1-Sum'!F11))","v":0},{"$f":"IF(ISERROR(('A1-Sum'!H11-'A1-Sum'!G11)/'A1-Sum'!G11),0,(('A1-Sum'!H11-'A1-Sum'!G11)/'A1-Sum'!G11))","v":0},{"$f":"IF(ISERROR(('A1-Sum'!I11-'A1-Sum'!F11)/'A1-Sum'!F11),0,(('A1-Sum'!I11-'A1-Sum'!F11)/'A1-Sum'!F11))","v":0.12984490587225514},{"$f":"IF(ISERROR(('A1-Sum'!J11-'A1-Sum'!I11)/'A1-Sum'!I11),0,(('A1-Sum'!J11-'A1-Sum'!I11)/'A1-Sum'!I11))","v":6.9000006364033792E-2},{"$f":"IF(ISERROR(('A1-Sum'!K11-'A1-Sum'!J11)/'A1-Sum'!J11),0,(('A1-Sum'!K11-'A1-Sum'!J11)/'A1-Sum'!J11))","v":6.9000026063975775E-2}]
["% Increase in Electricity Bulk Purchases",null,null,null,{"$f":"IF(ISERROR(('SA1'!D86-'SA1'!C86)/'SA1'!C86),0,(('SA1'!D86-'SA1'!C86)/'SA1'!C86))","v":0.49275842822263116},{"$f":"IF(ISERROR(('SA1'!E86-'SA1'!D86)/'SA1'!D86),0,(('SA1'!E86-'SA1'!D86)/'SA1'!D86))","v":0.1266093893587554},{"$f":"IF(ISERROR(('SA1'!F86-'SA1'!E86)/'SA1'!E86),0,(('SA1'!F86-'SA1'!E86)/'SA1'!E86))","v":0.16464310639453039},{"$f":"IF(ISERROR(('SA1'!G86-'SA1'!F86)/'SA1'!F86),0,(('SA1'!G86-'SA1'!F86)/'SA1'!F86))","v":0},{"$f":"IF(ISERROR(('SA1'!H86-'SA1'!G86)/'SA1'!G86),0,(('SA1'!H86-'SA1'!G86)/'SA1'!G86))","v":0},{"$f":"IF(ISERROR(('SA1'!I86-'SA1'!H86)/'SA1'!H86),0,(('SA1'!I86-'SA1'!H86)/'SA1'!H86))","v":0},{"$f":"IF(ISERROR(('SA1'!J86-'SA1'!G86)/'SA1'!G86),0,(('SA1'!J86-'SA1'!G86)/'SA1'!G86))","v":5.1999996022591449E-2},{"$f":"IF(ISERROR(('SA1'!K86-'SA1'!J86)/'SA1'!J86),0,(('SA1'!K86-'SA1'!J86)/'SA1'!J86))","v":5.3999982207968832E-2},{"$f":"IF(ISERROR(('SA1'!L86-'SA1'!K86)/'SA1'!K86),0,(('SA1'!L86-'SA1'!K86)/'SA1'!K86))","v":5.3999986601114817E-2}]
["Average Cost Per Budgeted Employee Position (Remuneration)",null,null,null,null,{"$f":"IF(ISERROR('A1-Sum'!D11/('SA24'!D36+'SA24'!E36-'SA24'!C5)),0,('A1-Sum'!D11/('SA24'!D36+'SA24'!E36-'SA24'!C5)))","v":341160.82191780821},{"$f":"IF(ISERROR('A1-Sum'!E11/('SA24'!F36-'SA24'!F5)),0,('A1-Sum'!E11/('SA24'!F36-'SA24'!F5)))","v":302331.26351351349},null,null,null,{"$f":"IF(ISERROR('A1-Sum'!I11/('SA24'!I36-'SA24'!I5)),0,('A1-Sum'!I11/('SA24'!I36-'SA24'!I5)))","v":527628.11274509807}]
["Average Cost Per Councillor (Remuneration)",null,null,null,null,{"$f":"IF(ISERROR('A1-Sum'!D12/'SA24'!C5),0,('A1-Sum'!D12/'SA24'!C5))","v":366204.33333333331},{"$f":"IF(ISERROR('A1-Sum'!E12/'SA24'!F5),0,('A1-Sum'!E12/'SA24'!F5))","v":374464.25},null,null,null,{"$f":"IF(ISERROR('A1-Sum'!I12/'SA24'!I5),0,('A1-Sum'!I12/'SA24'!I5))","v":401198.35}]
["R&M % of PPE",null,null,{"$f":"'A9-Asset'!C205","v":8.9999999999999993E-3},{"$f":"'A9-Asset'!D205","v":6.0000000000000001E-3},{"$f":"'A9-Asset'!E205","v":1.0999999999999999E-2},{"$f":"'A9-Asset'!F205","v":2.5999999999999999E-2},{"$f":"'A9-Asset'!G205","v":2.7E-2},{"$f":"'A9-Asset'!H205","v":2.7E-2},null,{"$f":"'A9-Asset'!I205","v":2.5000000000000001E-2},{"$f":"'A9-Asset'!J205","v":1.9E-2},{"$f":"'A9-Asset'!K205","v":1.7000000000000001E-2}]
["Asset Renewal and R&M as a % of PPE",null,null,{"$f":"'A9-Asset'!C206","v":0.22},{"$f":"'A9-Asset'!D206","v":0.11},{"$f":"'A9-Asset'!E206","v":0.05},{"$f":"'A9-Asset'!F206","v":0.06},{"$f":"'A9-Asset'!G206","v":0.06},{"$f":"'A9-Asset'!H206","v":0.06},null,{"$f":"'A9-Asset'!I206","v":0.03},{"$f":"'A9-Asset'!J206","v":0.02},{"$f":"'A9-Asset'!K206","v":0.02}]
["Debt Impairment % of Total Billable Revenue",null,null,{"$f":"'SA10'!D11","v":0.43427004189594132},{"$f":"'SA10'!E11","v":0.95576697745912331},{"$f":"'SA10'!F11","v":0.85481868268638672},{"$f":"'SA10'!G11","v":6.2781874262249987E-2},{"$f":"'SA10'!H11","v":3.9462844667008161E-2},{"$f":"'SA10'!I11","v":3.9462844667008161E-2},{"$f":"'SA10'!J11","v":4.0313437886595818E-2},{"$f":"'SA10'!K11","v":3.9469204316530761E-2},{"$f":"'SA10'!L11","v":3.9469211694953182E-2},{"$f":"'SA10'!M11","v":3.9469212816120314E-2}]
["Capital Revenue"]
["Internally Funded & Other (R'000)",null,null,{"$f":"'A1-Sum'!B29+'A1-Sum'!B31","v":86928320},{"$f":"'A1-Sum'!C29+'A1-Sum'!C31","v":51511167},{"$f":"'A1-Sum'!D29+'A1-Sum'!D31","v":101517537},{"$f":"'A1-Sum'!E29+'A1-Sum'!E31","v":116834318.86},{"$f":"'A1-Sum'!F29+'A1-Sum'!F31","v":111218559.86000001},{"$f":"'A1-Sum'!G29+'A1-Sum'!G31","v":111218559.86000001},{"$f":"'A1-Sum'!H29+'A1-Sum'!H31","v":111218559.86000001},{"$f":"'A1-Sum'!I29+'A1-Sum'!I31","v":93946220},{"$f":"'A1-Sum'!J29+'A1-Sum'!J31","v":118039294},{"$f":"'A1-Sum'!K29+'A1-Sum'!K31","v":128200218}]
["Borrowing (R'000)",null,null,{"$f":"'A1-Sum'!B30","v":0},{"$f":"'A1-Sum'!C30","v":0},{"$f":"'A1-Sum'!D30","v":0},{"$f":"'A1-Sum'!E30","v":0},{"$f":"'A1-Sum'!F30","v":0},{"$f":"'A1-Sum'!G30","v":0},{"$f":"'A1-Sum'!H30","v":0},{"$f":"'A1-Sum'!I30","v":0},{"$f":"'A1-Sum'!J30","v":0},{"$f":"'A1-Sum'!K30","v":0}]
["Grant Funding and Other (R'000)",null,null,{"$f":"'A1-Sum'!B28","v":89314320},{"$f":"'A1-Sum'!C28","v":53446000},{"$f":"'A1-Sum'!D28","v":67162000},{"$f":"'A1-Sum'!E28","v":62443000},{"$f":"'A1-Sum'!F28","v":82443000},{"$f":"'A1-Sum'!G28","v":82443000},{"$f":"'A1-Sum'!H28","v":82443000},{"$f":"'A1-Sum'!I28","v":57608000},{"$f":"'A1-Sum'!J28","v":67783000},{"$f":"'A1-Sum'!K28","v":72351000}]
["Internally Generated funds % of Non Grant Funding",null,null,{"$f":"IF(ISERROR(('A1-Sum'!B29+'A1-Sum'!B31)/('A1-Sum'!B32-'A1-Sum'!B28)),0,(('A1-Sum'!B29+'A1-Sum'!B31)/('A1-Sum'!B32-'A1-Sum'!B28)))","v":1},{"$f":"IF(ISERROR(('A1-Sum'!C29+'A1-Sum'!C31)/('A1-Sum'!C32-'A1-Sum'!C28)),0,(('A1-Sum'!C29+'A1-Sum'!C31)/('A1-Sum'!C32-'A1-Sum'!C28)))","v":1},{"$f":"IF(ISERROR(('A1-Sum'!D29+'A1-Sum'!D31)/('A1-Sum'!D32-'A1-Sum'!D28)),0,(('A1-Sum'!D29+'A1-Sum'!D31)/('A1-Sum'!D32-'A1-Sum'!D28)))","v":1},{"$f":"IF(ISERROR(('A1-Sum'!E29+'A1-Sum'!E31)/('A1-Sum'!E32-'A1-Sum'!E28)),0,(('A1-Sum'!E29+'A1-Sum'!E31)/('A1-Sum'!E32-'A1-Sum'!E28)))","v":0.99999999999999989},{"$f":"IF(ISERROR(('A1-Sum'!F29+'A1-Sum'!F31)/('A1-Sum'!F32-'A1-Sum'!F28)),0,(('A1-Sum'!F29+'A1-Sum'!F31)/('A1-Sum'!F32-'A1-Sum'!F28)))","v":1},{"$f":"IF(ISERROR(('A1-Sum'!G29+'A1-Sum'!G31)/('A1-Sum'!G32-'A1-Sum'!G28)),0,(('A1-Sum'!G29+'A1-Sum'!G31)/('A1-Sum'!G32-'A1-Sum'!G28)))","v":1},{"$f":"IF(ISERROR(('A1-Sum'!H29+'A1-Sum'!H31)/('A1-Sum'!H32-'A1-Sum'!H28)),0,(('A1-Sum'!H29+'A1-Sum'!H31)/('A1-Sum'!H32-'A1-Sum'!H28)))","v":1},{"$f":"IF(ISERROR(('A1-Sum'!I29+'A1-Sum'!I31)/('A1-Sum'!I32-'A1-Sum'!I28)),0,(('A1-Sum'!I29+'A1-Sum'!I31)/('A1-Sum'!I32-'A1-Sum'!I28)))","v":1},{"$f":"IF(ISERROR(('A1-Sum'!J29+'A1-Sum'!J31)/('A1-Sum'!J32-'A1-Sum'!J28)),0,(('A1-Sum'!J29+'A1-Sum'!J31)/('A1-Sum'!J32-'A1-Sum'!J28)))","v":1},{"$f":"IF(ISERROR(('A1-Sum'!K29+'A1-Sum'!K31)/('A1-Sum'!K32-'A1-Sum'!K28)),0,(('A1-Sum'!K29+'A1-Sum'!K31)/('A1-Sum'!K32-'A1-Sum'!K28)))","v":1}]
["Borrowing % of Non Grant Funding",null,null,{"$f":"IF(ISERROR('A1-Sum'!B30/('A1-Sum'!B32-'A1-Sum'!B28)),0,('A1-Sum'!B30/('A1-Sum'!B32-'A1-Sum'!B28)))","v":0},{"$f":"IF(ISERROR('A1-Sum'!C30/('A1-Sum'!C32-'A1-Sum'!C28)),0,('A1-Sum'!C30/('A1-Sum'!C32-'A1-Sum'!C28)))","v":0},{"$f":"IF(ISERROR('A1-Sum'!D30/('A1-Sum'!D32-'A1-Sum'!D28)),0,('A1-Sum'!D30/('A1-Sum'!D32-'A1-Sum'!D28)))","v":0},{"$f":"IF(ISERROR('A1-Sum'!E30/('A1-Sum'!E32-'A1-Sum'!E28)),0,('A1-Sum'!E30/('A1-Sum'!E32-'A1-Sum'!E28)))","v":0},{"$f":"IF(ISERROR('A1-Sum'!F30/('A1-Sum'!F32-'A1-Sum'!F28)),0,('A1-Sum'!F30/('A1-Sum'!F32-'A1-Sum'!F28)))","v":0},{"$f":"IF(ISERROR('A1-Sum'!G30/('A1-Sum'!G32-'A1-Sum'!G28)),0,('A1-Sum'!G30/('A1-Sum'!G32-'A1-Sum'!G28)))","v":0},{"$f":"IF(ISERROR('A1-Sum'!H30/('A1-Sum'!H32-'A1-Sum'!H28)),0,('A1-Sum'!H30/('A1-Sum'!H32-'A1-Sum'!H28)))","v":0},{"$f":"IF(ISERROR('A1-Sum'!I30/('A1-Sum'!I32-'A1-Sum'!I28)),0,('A1-Sum'!I30/('A1-Sum'!I32-'A1-Sum'!I28)))","v":0},{"$f":"IF(ISERROR('A1-Sum'!J30/('A1-Sum'!J32-'A1-Sum'!J28)),0,('A1-Sum'!J30/('A1-Sum'!J32-'A1-Sum'!J28)))","v":0},{"$f":"IF(ISERROR('A1-Sum'!K30/('A1-Sum'!K32-'A1-Sum'!K28)),0,('A1-Sum'!K30/('A1-Sum'!K32-'A1-Sum'!K28)))","v":0}]
["Grant Funding % of Total Funding",null,null,{"$f":"IF(ISERROR('A1-Sum'!B28/'A1-Sum'!B32),0,('A1-Sum'!B28/'A1-Sum'!B32))","v":0.50676907699521523},{"$f":"IF(ISERROR('A1-Sum'!C28/'A1-Sum'!C32),0,('A1-Sum'!C28/'A1-Sum'!C32))","v":0.50921725049991107},{"$f":"IF(ISERROR('A1-Sum'!D28/'A1-Sum'!D32),0,('A1-Sum'!D28/'A1-Sum'!D32))","v":0.39816329351200436},{"$f":"IF(ISERROR('A1-Sum'!E28/'A1-Sum'!E32),0,('A1-Sum'!E28/'A1-Sum'!E32))","v":0.34830395945826559},{"$f":"IF(ISERROR('A1-Sum'!F28/'A1-Sum'!F32),0,('A1-Sum'!F28/'A1-Sum'!F32))","v":0.42570657831940895},{"$f":"IF(ISERROR('A1-Sum'!G28/'A1-Sum'!G32),0,('A1-Sum'!G28/'A1-Sum'!G32))","v":0.42570657831940895},{"$f":"IF(ISERROR('A1-Sum'!H28/'A1-Sum'!H32),0,('A1-Sum'!H28/'A1-Sum'!H32))","v":0.42570657831940895},{"$f":"IF(ISERROR('A1-Sum'!I28/'A1-Sum'!I32),0,('A1-Sum'!I28/'A1-Sum'!I32))","v":0.3801147866420348},{"$f":"IF(ISERROR('A1-Sum'!J28/'A1-Sum'!J32),0,('A1-Sum'!J28/'A1-Sum'!J32))","v":0.36477323867285805},{"$f":"IF(ISERROR('A1-Sum'!K28/'A1-Sum'!K32),0,('A1-Sum'!K28/'A1-Sum'!K32))","v":0.36076071101198698}]
["Capital Expenditure"]
["Total Capital Programme (R'000)",null,null,{"$f":"'A1-Sum'!B27","v":176242640},{"$f":"'A1-Sum'!C27","v":104957167},{"$f":"'A1-Sum'!D27","v":168679537},{"$f":"'A1-Sum'!E27","v":179277318.86000001},{"$f":"'A1-Sum'!F27","v":193661559.86000001},{"$f":"'A1-Sum'!G27","v":193661559.86000001},{"$f":"'A1-Sum'!H27","v":193661559.86000001},{"$f":"'A1-Sum'!I27","v":151554220},{"$f":"'A1-Sum'!J27","v":185822294},{"$f":"'A1-Sum'!K27","v":200551218}]
["Asset Renewal",null,null,{"$f":"'A1-Sum'!B55","v":146294805},{"$f":"'A1-Sum'!C55","v":86979567},{"$f":"'A1-Sum'!D55","v":29229415},{"$f":"'A1-Sum'!E55","v":27083510.539999999},{"$f":"'A1-Sum'!F55","v":27083510.539999999},{"$f":"'A1-Sum'!G55","v":27083510.539999999},{"$f":"'A1-Sum'!H55","v":27083510.539999999},{"$f":"'A1-Sum'!I55","v":0},{"$f":"'A1-Sum'!J55","v":0},{"$f":"'A1-Sum'!K55","v":0}]
["Asset Renewal % of Total Capital Expenditure",null,null,{"$f":"IF(ISERROR('A1-Sum'!B55/'A1-Sum'!B32),0,('A1-Sum'!B55/'A1-Sum'!B32))","v":0.83007610984492741},{"$f":"IF(ISERROR('A1-Sum'!C55/'A1-Sum'!C32),0,('A1-Sum'!C55/'A1-Sum'!C32))","v":0.82871488899848067},{"$f":"IF(ISERROR('A1-Sum'!D55/'A1-Sum'!D32),0,('A1-Sum'!D55/'A1-Sum'!D32))","v":0.17328370423497191},{"$f":"IF(ISERROR('A1-Sum'!E55/'A1-Sum'!E32),0,('A1-Sum'!E55/'A1-Sum'!E32))","v":0.15107047959117384},{"$f":"IF(ISERROR('A1-Sum'!F55/'A1-Sum'!F32),0,('A1-Sum'!F55/'A1-Sum'!F32))","v":0.13984969737710962},{"$f":"IF(ISERROR('A1-Sum'!G55/'A1-Sum'!G32),0,('A1-Sum'!G55/'A1-Sum'!G32))","v":0.13984969737710962},{"$f":"IF(ISERROR('A1-Sum'!H55/'A1-Sum'!H32),0,('A1-Sum'!H55/'A1-Sum'!H32))","v":0.13984969737710962},{"$f":"IF(ISERROR('A1-Sum'!I55/'A1-Sum'!I32),0,('A1-Sum'!I55/'A1-Sum'!I32))","v":0},{"$f":"IF(ISERROR('A1-Sum'!J55/'A1-Sum'!J32),0,('A1-Sum'!J55/'A1-Sum'!J32))","v":0},{"$f":"IF(ISERROR('A1-Sum'!K55/'A1-Sum'!K32),0,('A1-Sum'!K55/'A1-Sum'!K32))","v":0}]
["Cash"]
["Cash Receipts % of Rate Payer & Other",null,null,{"$f":"'SA10'!D10","v":1.2592912807215864},{"$f":"'SA10'!E10","v":0.39553875247334264},{"$f":"'SA10'!F10","v":0.22492357574542626},{"$f":"'SA10'!G10","v":0.56323575669139114},{"$f":"'SA10'!H10","v":0.68889441977459676},{"$f":"'SA10'!I10","v":0.68889441977459676},{"$f":"'SA10'!J10","v":0.69434663659542273},{"$f":"'SA10'!K10","v":0.47037740011229362},{"$f":"'SA10'!L10","v":0.47037739979104076},{"$f":"'SA10'!M10","v":0.47037739541184914}]
["Cash Coverage Ratio",null,null,{"$f":"'SA10'!D7","v":5.4792300734639676},{"$f":"'SA10'!E7","v":4.1251705000216372},{"$f":"'SA10'!F7","v":0.9101402357161883},{"$f":"'SA10'!G7","v":2.6577150149557145},{"$f":"'SA10'!H7","v":0.23946710152016348},{"$f":"'SA10'!I7","v":0.23946710152016348},{"$f":"'SA10'!J7","v":0.23946710152016348},{"$f":"'SA10'!K7","v":0.12991664971063774},{"$f":"'SA10'!L7","v":0.17080715507260802},{"$f":"'SA10'!M7","v":0.15686816499265738}]
["Borrowing"]
[]
["Credit Rating (2009/10)",null,null,null,null,null,null,null,null,null,{"$f":"'SA8'!F6","v":0}]
["Capital Charges to Operating",null,null,{"$f":"'SA8'!C7","v":0},{"$f":"'SA8'!D7","v":0},{"$f":"'SA8'!E7","v":0},{"$f":"'SA8'!F7","v":0},{"$f":"'SA8'!G7","v":0},{"$f":"'SA8'!H7","v":0},{"$f":"'SA8'!I7","v":0},{"$f":"'SA8'!J7","v":0},{"$f":"'SA8'!K7","v":0},{"$f":"'SA8'!L7","v":0}]
["Borrowing Receipts % of Capital Expenditure",null,null,{"$f":"'SA10'!D13","v":0},{"$f":"'SA10'!E13","v":0},{"$f":"'SA10'!F13","v":0},{"$f":"'SA10'!G13","v":0},{"$f":"'SA10'!H13","v":0},{"$f":"'SA10'!I13","v":0},{"$f":"'SA10'!J13","v":0},{"$f":"'SA10'!K13","v":0},{"$f":"'SA10'!L13","v":0},{"$f":"'SA10'!M13","v":0}]
["Reserves"]
["Surplus/(Deficit)",null,null,{"$f":"'A8-ResRecon'!C19","v":49163433},{"$f":"'A8-ResRecon'!D19","v":47066386},{"$f":"'A8-ResRecon'!E19","v":-25996081},{"$f":"'A8-ResRecon'!F19","v":5081449.8822319955},{"$f":"'A8-ResRecon'!G19","v":-14182550.117768005},{"$f":"'A8-ResRecon'!H19","v":-14182550.117768005},{"$f":"'A8-ResRecon'!I19","v":-13903550.117768005},{"$f":"'A8-ResRecon'!J19","v":1357594.7999999998},{"$f":"'A8-ResRecon'!K19","v":7320890.9191999994},{"$f":"'A8-ResRecon'!L19","v":4014611.0288367993}]
["Free Services"]
["Free Basic Services as a % of Equitable Share",null,null,{"$f":"IF(ISERROR('A10-SerDel'!C60/'SA18'!C8),0,('A10-SerDel'!C60/'SA18'!C8))","v":0},{"$f":"IF(ISERROR('A10-SerDel'!D60/'SA18'!D8),0,('A10-SerDel'!D60/'SA18'!D8))","v":0},{"$f":"IF(ISERROR('A10-SerDel'!E60/'SA18'!E8),0,('A10-SerDel'!E60/'SA18'!E8))","v":0},{"$f":"IF(ISERROR('A10-SerDel'!F60/'SA18'!F8),0,('A10-SerDel'!F60/'SA18'!F8))","v":0},{"$f":"IF(ISERROR('A10-SerDel'!G60/'SA18'!G8),0,('A10-SerDel'!G60/'SA18'!G8))","v":0},{"$f":"IF(ISERROR('A10-SerDel'!H60/'SA18'!H8),0,('A10-SerDel'!H60/'SA18'!H8))","v":0},null,{"$f":"IF(ISERROR('A10-SerDel'!I60/'SA18'!I8),0,('A10-SerDel'!I60/'SA18'!I8))","v":0},{"$f":"IF(ISERROR('A10-SerDel'!J60/'SA18'!J8),0,('A10-SerDel'!J60/'SA18'!J8))","v":0},{"$f":"IF(ISERROR('A10-SerDel'!K60/'SA18'!K8),0,('A10-SerDel'!K60/'SA18'!K8))","v":0}]
["Free Services as a % of Operating Revenue \n(excl operational transfers)",null,null,{"$f":"IF(ISERROR('A10-SerDel'!C79/('A1-Sum'!B10-'A1-Sum'!B8)),0,('A10-SerDel'!C79/('A1-Sum'!B10-'A1-Sum'!B8)))","v":7.5457135436345732E-2},{"$f":"IF(ISERROR('A10-SerDel'!D79/('A1-Sum'!C10-'A1-Sum'!C8)),0,('A10-SerDel'!D79/('A1-Sum'!C10-'A1-Sum'!C8)))","v":5.5442813973574125E-2},{"$f":"IF(ISERROR('A10-SerDel'!E79/('A1-Sum'!D10-'A1-Sum'!D8)),0,('A10-SerDel'!E79/('A1-Sum'!D10-'A1-Sum'!D8)))","v":3.8951291620585485E-2},{"$f":"IF(ISERROR('A10-SerDel'!F79/('A1-Sum'!E10-'A1-Sum'!E8)),0,('A10-SerDel'!F79/('A1-Sum'!E10-'A1-Sum'!E8)))","v":8.6523606228617642E-2},{"$f":"IF(ISERROR('A10-SerDel'!G79/('A1-Sum'!F10-'A1-Sum'!F8)),0,('A10-SerDel'!G79/('A1-Sum'!F10-'A1-Sum'!F8)))","v":5.7488969650710819E-2},{"$f":"IF(ISERROR('A10-SerDel'!H79/('A1-Sum'!G10-'A1-Sum'!G8)),0,('A10-SerDel'!H79/('A1-Sum'!G10-'A1-Sum'!G8)))","v":5.7488969650710819E-2},null,{"$f":"IF(ISERROR('A10-SerDel'!I79/('A1-Sum'!I10-'A1-Sum'!I8)),0,('A10-SerDel'!I79/('A1-Sum'!I10-'A1-Sum'!I8)))","v":6.9188448842255917E-2},{"$f":"IF(ISERROR('A10-SerDel'!J79/('A1-Sum'!J10-'A1-Sum'!J8)),0,('A10-SerDel'!J79/('A1-Sum'!J10-'A1-Sum'!J8)))","v":6.9188458269582878E-2},{"$f":"IF(ISERROR('A10-SerDel'!K79/('A1-Sum'!K10-'A1-Sum'!K8)),0,('A10-SerDel'!K79/('A1-Sum'!K10-'A1-Sum'!K8)))","v":6.9188451997793415E-2}]
[]
["High Level Outcome of Funding Compliance"]
["Total Operating Revenue",null,null,{"$f":"D86","v":256563325},{"$f":"E86","v":259236856},279554821,340264680.23000002,386681881.23000002,386681881.23000002,{"$f":"J86","v":385635740.23000002},402534443,427544608,456211346]
["Total Operating Expenditure",null,null,{"$f":"D87","v":189518607},230489996,247665393,223430361.3624,275463466.06239998,275463466.06239998,275463466.06239998,308588222,309505316,328011130]
["Surplus/(Deficit) Budgeted Operating Statement",null,null,67044718,28746860,31889428,116834318.86760002,111218415.16760004,111218415.16760004,110172274.16760004,93946221,118039292,128200216]
["Surplus/(Deficit) Considering Reserves and Cash Backing",null,null,{"$f":"'A8-ResRecon'!C19","v":49163433},{"$f":"'A8-ResRecon'!D19","v":47066386},{"$f":"'A8-ResRecon'!E19","v":-25996081},{"$f":"'A8-ResRecon'!F19","v":5081449.8822319955},{"$f":"'A8-ResRecon'!G19","v":-14182550.117768005},{"$f":"'A8-ResRecon'!H19","v":-14182550.117768005},{"$f":"'A8-ResRecon'!I19","v":-13903550.117768005},{"$f":"'A8-ResRecon'!J19","v":1357594.7999999998},{"$f":"'A8-ResRecon'!K19","v":7320890.9191999994},{"$f":"'A8-ResRecon'!L19","v":4014611.0288367993}]
["MTREF Funded (1) / Unfunded (0)",null,15,{"$f":"IF(D133>=0,1,0)","v":1},{"$f":"IF(E133>=0,1,0)","v":1},0,1,0,0,0,1,1,1]
["MTREF Funded ü / Unfunded û",null,15,{"$f":"IF(D134=1,\"ü\",\"û\")","v":"ü"},{"$f":"IF(E134=1,\"ü\",\"û\")","v":"ü"},"û","ü","û","û","û","ü","ü","ü"]
[]
[{"$f":"head27a","v":"References"}]
["15. Subject to figures provided in Schedule."]

{"sheet":"SA11","index":30,"n_rows":73,"n_cols":11,"rows_kept":73,"cut":false,"hidden":false,"merged":[[1,5,1,7],[1,8,1,10],[1,1,3,1],[1,0,2,0]]}
[{"$f":"muni&\" - \"&TableA11","v":"LIM332 Greater Letaba - Supporting Table SA11 Property rates summary"}]
[{"$f":"desc","v":"Description"},{"$f":"head27","v":"Ref"},{"$f":"head1b","v":"2015/16"},{"$f":"head1A","v":"2016/17"},{"$f":"Head1","v":"2017/18"},{"$f":"Head2","v":"Current Year 2018/19"},null,null,{"$f":"Head3","v":"2019/20 Medium Term Revenue & Expenditure Framework"}]
[null,null,{"$f":"Head5","v":"Audited Outcome"},{"$f":"Head5","v":"Audited Outcome"},{"$f":"Head5","v":"Audited Outcome"},{"$f":"Head6","v":"Original Budget"},{"$f":"Head7","v":"Adjusted Budget"},{"$f":"Head8","v":"Full Year Forecast"},{"$f":"Head9","v":"Budget Year 2019/20"},{"$f":"Head10","v":"Budget Year +1 2020/21"},{"$f":"Head11","v":"Budget Year +2 2021/22"}]
[]
["Valuation:",1]
["Date of valuation:"]
["Financial year valuation used"]
["Municipal by-laws s6 in place? (Y/N)","2","Yes","Yes","Yes","Yes",null,null,"Yes"]
["Municipal/assistant valuer appointed? (Y/N)",null,"No","No","No","No",null,null,"No"]
["Municipal partnership s38 used? (Y/N)",null,"No","No","No","No","No","No","No","No","No"]
["No. of assistant valuers (FTE)",3,3,4,4,4,4,4,4,4,4]
["No. of data collectors (FTE)",3,10,10,10,10,10,10,10,10,10]
["No. of internal valuers (FTE)",3]
["No. of external valuers (FTE)",3,10,10,10,10,10,10,10,10,10]
["No. of additional valuers (FTE)",4,"No","No","No","No","No","No","No","No","No"]
["Valuation appeal board established? (Y/N)"]
["Implementation time of new valuation roll (mths)"]
["No. of properties",5,5700,5700,5700,5700,5700,5700,5700,5700,5700]
["No. of sectional title values",5]
["No. of unreasonably difficult properties s7(2)"]
["No. of supplementary valuations"]
["No. of valuation roll amendments"]
["No. of objections by rate payers"]
["No. of appeals by rate payers"]
["No. of successful objections",8]
["No. of successful objections > 10%",8]
["Supplementary valuation"]
["Public service infrastructure value (Rm)",5]
["Municipality owned property value (Rm)"]
["Valuation reductions:"]
["Valuation reductions-public infrastructure (Rm)"]
["Valuation reductions-nature reserves/park (Rm)"]
["Valuation reductions-mineral rights (Rm)"]
["Valuation reductions-R15,000 threshold (Rm)"]
["Valuation reductions-public worship (Rm)"]
["Valuation reductions-other (Rm)"]
["Total valuation reductions:",null,{"$f":"SUM(C31:C36)","v":0},{"$f":"SUM(D31:D36)","v":0},0,0,0,0,0,0,0]
["Total value used for rating (Rm)",5,72000,72000,72000,72000,72000,72000,72000,72000,72000]
["Total land value (Rm)",5,72000,72000,72000,72000,72000,72000,72000,72000,72000]
["Total value of improvements (Rm)",5,192000,192000,192000,192000,192000,192000,192000,192000,192000]
["Total market value (Rm)",5,505000,505000,505000,505000,505000,505000,505000,505000,505000]
[]
["Rating:"]
["Residential rate used to determine rate for other categories? (Y/N)",null,"Yes","Yes","Yes","Yes",null,null,"Yes"]
["Differential rates used? (Y/N)",5,"Yes","Yes","Yes","Yes",null,null,"Yes"]
["Limit on annual rate increase (s20)? (Y/N)",null,"Yes","Yes","Yes","Yes","Yes","Yes","Yes","Yes","Yes"]
["Special rating area used? (Y/N)",null,"Yes","Yes","Yes","Yes",null,null,"Yes"]
["Phasing-in properties s21 (number)",null,null,null,null,null,"Yes","Yes","Yes","Yes","Yes"]
["Rates policy accompanying budget? (Y/N)",null,"Yes","Yes","Yes","Yes",null,null,"Yes"]
["Fixed amount minimum value (R'000)"]
["Non-residential prescribed ratio s19? (%)"]
[]
["Rate revenue:"]
["Rate revenue budget (R '000)",6,5499,5499,5499,12255327.57,12255328.57,12255329.57,17740178,18698147,19707847]
["Rate revenue expected to collect (R'000)",6,5499,5499,5499,6453196.5420000004,6453197.5420000004,6453198.5420000004,10644106.602911999,{"$f":"18698147.2657821*0.6","v":11218888.359469259},{"$f":"19707847.2181343*0.6","v":11824708.330880579}]
["Expected cash collection rate (%)",null,1,1,1,0.6,0.6,0.6,{"$f":"I55/I54","v":0.59999998889030315},{"$f":"J55/J54","v":0.60000000852861302},{"$f":"K55/K54","v":0.60000000664103892}]
["Special rating areas (R'000)",7,0,0,0,0,0,0,0]
["Rebates, exemptions - indigent (R'000)"]
["Rebates, exemptions - pensioners (R'000)"]
["Rebates, exemptions - bona fide farm. (R'000)"]
["Rebates, exemptions - other (R'000)"]
["Phase-in reductions/discounts (R'000)"]
["Total rebates,exemptns,reductns,discs (R'000)",null,{"$f":"SUM(C58:C62)","v":0},{"$f":"SUM(D58:D62)","v":0},0,0,0,0,0,0,0]
[]
[{"$f":"head27a","v":"References"}]
["1. All numbers to be expressed as whole numbers except FTEs and Rates in the Rand"]
["2. To give effect to rates policy"]
["3. Full Time Equivalent (FTE)  should be expressed to one decimal place and takes into account full time and part time staff"]
["4. Required to implement new system (FTE)"]
["5. Provide relevant information for historical comparisons. Must reconcile to the total of Table SA12"]
[{"$f":"\"6. Current and budget year must reconcile to \"&'Template names'!F103","v":"6. Current and budget year must reconcile to Table A4 Budgeted Financial Performance (revenue and expenditure)"}]
["7. Included in rate revenue budget"]
["8. In favour of the rate-payer"]

{"sheet":"SA12a","index":31,"n_rows":56,"n_cols":19,"rows_kept":56,"cut":false,"hidden":false,"merged":[]}
[{"$f":"muni&\" - \"&TableA12a","v":"LIM332 Greater Letaba - Supporting Table SA12a Property rates by category (current year)"}]
[{"$f":"desc","v":"Description"},{"$f":"head27","v":"Ref"},"Resi.","Indust.","Bus. & Comm.","Farm props.","State-owned ","Muni props.","Public service infra.","Private owned towns","Formal & Informal Settle.","Comm. Land","State trust land","Section 8(2)(n) (note 1)","Protect. Areas","National Monum/ts","Public benefit organs.","Mining Props."]
[{"$f":"Head2","v":"Current Year 2018/19"}]
["Valuation:"]
["No. of properties",null,3115,23,88,2,17,136,13,null,null,null,null,null,null,null,21]
["No. of sectional title property values"]
["No. of unreasonably difficult properties s7(2)"]
["No. of supplementary valuations"]
["Supplementary valuation (Rm)"]
["No. of valuation roll amendments"]
["No. of objections by rate-payers"]
["No. of appeals by rate-payers"]
["No. of appeals by rate-payers finalised"]
["No. of successful objections",5]
["No. of successful objections > 10%",5]
["Estimated no. of properties not valued"]
["Years since last valuation (select)",null,4,4,4,4,4,4,4,null,null,null,null,null,null,null,3]
["Frequency of valuation (select)",null,5,5,5,5,5,5,5,null,null,5,null,null,null,null,5]
["Method of valuation used (select)",null,"Market","Market","Market","Market","Market","Market","Market",null,null,"Market",null,null,null,null,"Market"]
["Base of valuation (select)",null,"Land & impr.","Land & impr.","Land & impr.","Land & impr.","Land & impr.","Land & impr.","Land & impr.",null,null,"Land & impr.",null,null,null,null,"Land & impr."]
["Phasing-in properties s21 (number)",null,0,0,0,0,0,0,0,null,null,0,null,null,null,null,0]
["Combination of rating types used? (Y/N)",null,"No","No","No","No","No","No","No",null,null,"No",null,null,null,null,"No"]
["Flat rate used? (Y/N)",null,"No","No","No","No","No","No","No",null,null,"No",null,null,null,null,"No"]
["Is balance rated by uniform rate/variable rate?",null,"Uniform","Uniform","Uniform","Uniform","Uniform","Uniform","Uniform",null,null,"Uniform",null,null,null,null,"Uniform"]
["Valuation reductions:"]
["Valuation reductions-public infrastructure (Rm)"]
["Valuation reductions-nature reserves/park (Rm)"]
["Valuation reductions-mineral rights (Rm)"]
["Valuation reductions-R15,000 threshold (Rm)"]
["Valuation reductions-public worship (Rm)"]
["Valuation reductions-other (Rm)",2]
["Total valuation reductions:"]
["Total value used for rating (Rm)",6,54000000,1000000,6000000,null,2000000,8000000,1000000,null,null,null,null,null,null,null,1000000]
["Total land value (Rm)",6,54000000,1000000,6000000,null,2000000,8000000,1000000,null,null,null,null,null,null,null,1000000]
["Total value of improvements (Rm)",6,155000000,4000000,14000000,null,5000000,12000000,null,null,null,null,null,null,null,null,3000000]
["Total market value (Rm)",6,209000000,5000000,20000000,null,7000000,20000000,1000000,null,null,null,null,null,null,null,3000000]
["Rating:"]
["Average rate",3]
["Rate revenue budget (R '000)",null,12255327.57,null,null,null,null,null,null,null,null,null,null,null,null,null,null,null,{"$f":"SUM(C39:R39)","v":12255327.57}]
["Rate revenue expected to collect (R'000)",null,6453196.5420000004,null,null,null,null,null,null,null,null,null,null,null,null,null,null,null,{"$f":"SUM(C40:R40)","v":6453196.5420000004}]
["Expected cash collection rate (%)",4,0.6]
["Special rating areas (R'000)"]
["Rebates, exemptions - indigent (R'000)"]
["Rebates, exemptions - pensioners (R'000)"]
["Rebates, exemptions - bona fide farm. (R'000)"]
["Rebates, exemptions - other (R'000)"]
["Phase-in reductions/discounts (R'000)"]
["Total rebates,exemptns,reductns,discs (R'000)"]
[]
[{"$f":"head27a","v":"References"}]
["1. Land & Assistance Act, Restitution of Land Rights, Communual Property Associations"]
["2. Include value of additional reductions is 'free' value greater than MPRA minimum."]
["3. Average rate - cents in  the Rand. Eg 10.26 cents in the Rand is 0.1026, expressed to 6 decimal places maximum"]
["4. Include arrears collections"]
["5. In favour of the rate-payer"]
["6. Provide relevant information for historical comparisons."]

{"sheet":"SA12b","index":32,"n_rows":56,"n_cols":19,"rows_kept":56,"cut":false,"hidden":false,"merged":[]}
[{"$f":"muni&\" - \"&TableA12b","v":"LIM332 Greater Letaba - Supporting Table SA12b Property rates by category (budget year)"}]
[{"$f":"desc","v":"Description"},{"$f":"head27","v":"Ref"},"Resi.","Indust.","Bus. & Comm.","Farm props.","State-owned ","Muni props.","Public service infra.","Private owned towns","Formal & Informal Settle.","Comm. Land","State trust land","Section 8(2)(n) (note 1)","Protect. Areas","National Monum/ts","Public benefit organs.","Mining Props."]
[{"$f":"Head9","v":"Budget Year 2019/20"}]
["Valuation:"]
["No. of properties",null,3115,23,88,2,17,136,13,null,null,null,null,null,null,null,21]
["No. of sectional title property values"]
["No. of unreasonably difficult properties s7(2)"]
["No. of supplementary valuations"]
["Supplementary valuation (Rm)"]
["No. of valuation roll amendments"]
["No. of objections by rate-payers"]
["No. of appeals by rate-payers"]
["No. of appeals by rate-payers finalised"]
["No. of successful objections",5]
["No. of successful objections > 10%",5]
["Estimated no. of properties not valued"]
["Years since last valuation (select)",null,4,4,4,4,4,4,4,null,null,null,null,null,null,null,3]
["Frequency of valuation (select)",null,5,5,5,5,5,5,5,null,null,5,null,null,null,null,5]
["Method of valuation used (select)",null,"Market","Market","Market","Market","Market","Market","Market",null,null,"Market",null,null,null,null,"Market"]
["Base of valuation (select)",null,"Land & impr.","Land & impr.","Land & impr.","Land & impr.","Land & impr.","Land & impr.","Land & impr.",null,null,"Land & impr.",null,null,null,null,"Land & impr."]
["Phasing-in properties s21 (number)",null,0,0,0,0,0,0,0,null,null,0,null,null,null,null,0]
["Combination of rating types used? (Y/N)",null,"No","No","No","No","No","No","No",null,null,"No",null,null,null,null,"No"]
["Flat rate used? (Y/N)",null,"No","No","No","No","No","No","No",null,null,"No",null,null,null,null,"No"]
["Is balance rated by uniform rate/variable rate?",null,"Uniform","Uniform","Uniform","Uniform","Uniform","Uniform","Uniform",null,null,"Uniform",null,null,null,null,"Uniform"]
["Valuation reductions:"]
["Valuation reductions-public infrastructure (Rm)"]
["Valuation reductions-nature reserves/park (Rm)"]
["Valuation reductions-mineral rights (Rm)"]
["Valuation reductions-R15,000 threshold (Rm)"]
["Valuation reductions-public worship (Rm)"]
["Valuation reductions-other (Rm)",2]
["Total valuation reductions:"]
["Total value used for rating (Rm)",6,54000000,1000000,6000000,null,2000000,8000000,1000000,null,null,null,null,null,null,null,1000000]
["Total land value (Rm)",6,54000000,1000000,6000000,null,2000000,8000000,1000000,null,null,null,null,null,null,null,1000000]
["Total value of improvements (Rm)",6,155000000,4000000,14000000,null,5000000,12000000,null,null,null,null,null,null,null,null,3000000]
["Total market value (Rm)",6,209000000,5000000,20000000,null,7000000,20000000,1000000,null,null,null,null,null,null,null,3000000]
["Rating:"]
["Average rate",3]
["Rate revenue budget (R '000)",null,17740178,null,null,null,null,null,null,null,null,null,null,null,null,null,null,null,{"$f":"SUM(C39:R39)","v":17740178}]
["Rate revenue expected to collect (R'000)",null,10644106.602911999,null,null,null,null,null,null,null,null,null,null,null,null,null,null,null,{"$f":"SUM(C40:R40)","v":10644106.602911999}]
["Expected cash collection rate (%)",4,{"$f":"C40/C39","v":0.59999998889030315}]
["Special rating areas (R'000)"]
["Rebates, exemptions - indigent (R'000)"]
["Rebates, exemptions - pensioners (R'000)"]
["Rebates, exemptions - bona fide farm. (R'000)"]
["Rebates, exemptions - other (R'000)"]
["Phase-in reductions/discounts (R'000)"]
["Total rebates,exemptns,reductns,discs (R'000)"]
[]
[{"$f":"head27a","v":"References"}]
["1. Land & Assistance Act, Restitution of Land Rights, Communual Property Associations"]
["2. Include value of additional reductions is 'free' value greater than MPRA minimum."]
["3. Average rate - cents in  the Rand. Eg 10.26 cents in the Rand is 0.1026, expressed to 6 decimal places maximum"]
["4. Include arrears collections"]
["5. In favour of the rate-payer"]
["6. Provide relevant information for historical comparisons."]

{"sheet":"SA13a","index":33,"n_rows":90,"n_cols":19,"rows_kept":90,"cut":false,"hidden":false,"merged":[[93,6,94,6],[93,0,94,0],[93,1,94,1],[93,2,94,2],[93,3,94,3],[93,4,94,4],[93,5,94,5],[1,6,2,6],[1,0,2,0],[1,1,2,1],[1,2,2,2],[1,3,2,3],[1,4,2,4],[1,5,2,5]]}
[{"$f":"muni&\" - \"&TableA13a","v":"LIM332 Greater Letaba - Supporting Table SA13a Service Tariffs by category"}]
[{"$f":"desc","v":"Description"},{"$f":"head27","v":"Ref"},"Provide description of tariff structure where appropriate",{"$f":"head1b","v":"2015/16"},{"$f":"head1A","v":"2016/17"},{"$f":"Head1","v":"2017/18"},{"$f":"Head2","v":"Current Year 2018/19"},{"$f":"Head3","v":"2019/20 Medium Term Revenue & Expenditure Framework"}]
[null,null,null,null,null,null,null,{"$f":"Head9","v":"Budget Year 2019/20"},{"$f":"Head10","v":"Budget Year +1 2020/21"},{"$f":"Head11","v":"Budget Year +2 2021/22"}]
["Property rates (rate in the Rand)",1]
["Residential properties"]
["Residential properties - vacant land"]
["Formal/informal settlements",null,"rated"]
["Small holdings"]
["Farm properties - used"]
["Farm properties - not used"]
["Industrial properties"]
["Business and commercial properties"]
["Communal land - residential",null,"zero rated",null,null,null,null,0.01,0.01,0.01]
["Communal land - small holdings",null,"zero rated",null,null,null,null,0.02,0.02,0.02]
["Communal land - farm property",null,"zero rated",null,null,null,null,2.5000000000000001E-3,2.5000000000000001E-3,2.5000000000000001E-3]
["Communal land - business and commercial",null,"zero rated",null,null,null,null,0.02,0.02,0.02]
["Communal land - other",null,"zero rated",null,null,null,null,0.02,0.02,0.02]
["State-owned properties"]
["Municipal properties"]
["Public service infrastructure"]
["Privately owned towns serviced by the owner"]
["State trust land"]
["Restitution and redistribution properties"]
["Protected areas"]
["National monuments properties"]
[]
["Exemptions, reductions and rebates (Rands)"]
["Residential properties"]
["R15 000 threshhold rebate",null,null,15000,15000,15000,15000,15000,15000,15000]
["General residential rebate"]
["Indigent rebate or exemption"]
["Pensioners/social grants rebate or exemption "]
["Temporary relief rebate or exemption"]
[" Bona fide farmers rebate or exemption"]
["Other rebates or exemptions",2]
[]
["Water tariffs"]
["Domestic"]
["Basic charge/fixed fee (Rands/month)",null,null,null,null,null,null,null,null,null,null,null,null,null,null,null,null,null,{"$f":"SUM(C39:R39)","v":0}]
["Service point - vacant land (Rands/month)",null,null,null,null,null,null,null,null,null,null,null,null,null,null,null,null,null,{"$f":"SUM(C40:R40)","v":0}]
["Water usage - flat rate tariff (c/kl)"]
["Water usage - life line tariff",null,"0 to 6",3.6,3.6,3.6,3.6,5.03,{"$f":"H42*1.054","v":5.3016200000000007},{"$f":"I42*1.054","v":5.587907480000001}]
["Water usage - Block 1 (c/kl)",null,"7 to 10",3.95,3.95,3.95,3.95,5.56,{"$f":"H43*1.054","v":5.8602400000000001},6.1766929600000005]
["Water usage - Block 2 (c/kl)",null,"11 to 50",4.95,4.95,4.95,4.95,6.94,{"$f":"H44*1.054","v":7.3147600000000006},7.7097570400000013]
["Water usage - Block 3 (c/kl)",null,"50+",5.95,5.95,5.95,5.95,8.36,{"$f":"H45*1.054","v":8.8114399999999993},9.2872577599999993]
["Water usage - Block 4 (c/kl)",null," (fill in thresholds)"]
["Other",2]
[]
["Waste water tariffs"]
["Domestic"]
["Basic charge/fixed fee (Rands/month)"]
["Service point - vacant land (Rands/month)"]
["Waste water - flat rate tariff (c/kl)"]
["Volumetric charge - Block 1 (c/kl)",null,"per litre",null,null,null,53.5,80,80,80]
["Volumetric charge - Block 2 (c/kl)",null,"water consumed",null,null,null,330,490,490,490]
["Volumetric charge - Block 3 (c/kl)",null,"previous month",null,null,null,4.8,7.11,7.11,7.11]
["Volumetric charge - Block 4 (c/kl)",null,"(fill in structure)"]
["Other",2]
[]
["Electricity tariffs"]
["Domestic"]
["Basic charge/fixed fee (Rands/month)"]
["Service point - vacant land (Rands/month)",null,null,null,null,null,45,67,67,67]
["FBE",null,"(how is this targeted?)"]
["Life-line tariff - meter",null,"(describe structure)"]
["Life-line tariff - prepaid",null,"(describe structure)"]
["Flat rate tariff - meter (c/kwh)"]
["Flat rate tariff - prepaid(c/kwh)"]
["Meter - IBT Block 1 (c/kwh)",null,"0 to 50",null,null,null,79.94,95.82,95.82,95.82]
["Meter - IBT Block 2 (c/kwh)",null,"51 to 300",null,null,null,88.82,118.14,118.14,118.14]
["Meter - IBT Block 3 (c/kwh)",null,"351 to 600",null,null,null,105.48,167.1,167.1,167.1]
["Meter - IBT Block 4 (c/kwh)",null,"600+",null,null,null,128.80000000000001,0,0,0]
["Meter - IBT Block 5 (c/kwh)"]
["Prepaid - IBT Block 1 (c/kwh)",null,"0 to 50",null,null,null,79.94,95.82,95.82,95.82]
["Prepaid - IBT Block 2 (c/kwh)",null,"51 to 300",null,null,null,88.82,118.14,118.14,118.14]
["Prepaid - IBT Block 3 (c/kwh)",null,"351 to 600",null,null,null,105.48,167.1,167.1,167.1]
["Prepaid - IBT Block 4 (c/kwh)",null,"600+",null,null,null,128.80000000000001]
["Prepaid - IBT Block 5 (c/kwh)",null,"(fill in thresholds)"]
["Other",2]
[]
["Waste management tariffs"]
["Domestic"]
["Street cleaning charge"]
["Basic charge/fixed fee"]
["80l bin - once a week",null,"All sizes ga-kgapane",null,null,null,93,105,105,105]
["250l bin - once a week",null,"All sizes Modjadjiskloof",null,null,null,127,160,160,160]
[]
[{"$f":"head27a","v":"References"}]
["1. If properties are not rated or zero rated this must be indicated as such"]
["2.Please provide detailed descriptions on Sheet SA13b"]

{"sheet":"SA13b","index":34,"n_rows":50,"n_cols":19,"rows_kept":50,"cut":false,"hidden":false,"merged":[[94,0,95,0],[1,0,2,0],[1,1,2,1],[1,2,2,2],[1,3,2,3],[94,1,95,1],[94,2,95,2],[94,3,95,3],[94,5,95,5],[94,6,95,6],[1,6,2,6],[1,5,2,5],[1,4,2,4],[94,4,95,4]]}
[{"$f":"muni&\" - \"&TableA13b","v":"LIM332 Greater Letaba - Supporting Table SA13b Service Tariffs by category - explanatory"}]
[{"$f":"desc","v":"Description"},{"$f":"head27","v":"Ref"},"Provide description of tariff structure where appropriate",{"$f":"head1b","v":"2015/16"},{"$f":"head1A","v":"2016/17"},{"$f":"Head1","v":"2017/18"},{"$f":"Head2","v":"Current Year 2018/19"},{"$f":"Head3","v":"2019/20 Medium Term Revenue & Expenditure Framework"}]
[null,null,null,null,null,null,null,{"$f":"Head9","v":"Budget Year 2019/20"},{"$f":"Head10","v":"Budget Year +1 2020/21"},{"$f":"Head11","v":"Budget Year +2 2021/22"}]
["Exemptions, reductions and rebates (Rands)"]
["[Insert lines as applicable]"]
[]
[]
[]
[]
[]
[]
[]
[]
["Water tariffs"]
["Water Distridution",null,1500,null,null,null,0,0,0,0]
[null,null," (fill in thresholds)"]
[null,null," (fill in thresholds)"]
[null,null," (fill in thresholds)"]
[null,null," (fill in thresholds)"]
[null,null," (fill in thresholds)"]
[null,null," (fill in thresholds)"]
[null,null," (fill in thresholds)"]
[null,null," (fill in thresholds)"]
[null,null," (fill in thresholds)"]
[]
["Waste water tariffs"]
["sanitation",null,1500,null,null,null,491829.53450904001,{"$f":"G27*1.052","v":517404.67030351009},{"$f":"H27*1.054","v":545344.52249989961},{"$f":"I27*1.054","v":574793.1267148942}]
[null,null,"(fill in structure)"]
[null,null,"(fill in structure)"]
[null,null,"(fill in structure)"]
[null,null,"(fill in structure)"]
[null,null,"(fill in structure)"]
[null,null,"(fill in structure)"]
[null,null,"(fill in structure)"]
[null,null,"(fill in structure)"]
[]
["Electricity tariffs"]
["Electricity",null,1500,null,null,null,546140.88243,{"$f":"G38*1.052","v":574540.20831636002},{"$f":"H38*1.054","v":605565.37956544349},{"$f":"I38*1.054","v":638265.91006197745}]
[null,null,"(fill in thresholds)",null,null,null,null,null,null,null,null,null,null,null,null,null,null,null,{"$f":"SUM(C39:R39)","v":0}]
[null,null,"(fill in thresholds)",null,null,null,null,null,null,null,null,null,null,null,null,null,null,null,{"$f":"SUM(C40:R40)","v":0}]
[null,null,"(fill in thresholds)"]
[null,null,"(fill in thresholds)"]
[null,null,"(fill in thresholds)"]
[null,null,"(fill in thresholds)"]
[null,null,"(fill in thresholds)"]
[null,null,"(fill in thresholds)"]
[null,null,"(fill in thresholds)"]
[null,null,"(fill in thresholds)"]
[null,null,"(fill in thresholds)"]
[null,null,"(fill in thresholds)"]

{"sheet":"SA14","index":35,"n_rows":54,"n_cols":12,"rows_kept":54,"cut":false,"hidden":false,"merged":[[1,1,3,1],[1,5,1,7],[1,0,2,0]]}
[{"$f":"muni&\" - \"&TableA14","v":"LIM332 Greater Letaba - Supporting Table SA14 Household bills"}]
[{"$f":"desc","v":"Description"},{"$f":"head27","v":"Ref"},{"$f":"head1b","v":"2015/16"},{"$f":"head1A","v":"2016/17"},{"$f":"Head1","v":"2017/18"},{"$f":"Head2","v":"Current Year 2018/19"},null,null,{"$f":"Head3","v":"2019/20 Medium Term Revenue & Expenditure Framework"}]
[null,null,{"$f":"Head5","v":"Audited Outcome"},{"$f":"Head5","v":"Audited Outcome"},{"$f":"Head5","v":"Audited Outcome"},{"$f":"Head6","v":"Original Budget"},{"$f":"Head7","v":"Adjusted Budget"},{"$f":"Head8","v":"Full Year Forecast"},{"$f":"Head9","v":"Budget Year 2019/20"},{"$f":"Head9","v":"Budget Year 2019/20"},{"$f":"Head10","v":"Budget Year +1 2020/21"},{"$f":"Head11","v":"Budget Year +2 2021/22"}]
["Rand/cent",null,null,null,null,null,null,null,"% incr."]
["Monthly Account for Household - 'Middle Income Range'",1]
["Rates and services charges:"]
["Property rates",null,725,725,725,725,725,725,5.1999999999999998E-2,{"$f":"H7*1.052","v":762.7},{"$f":"J7*1.054","v":803.88580000000013},{"$f":"K7*1.054","v":847.29563320000022}]
["Electricity: Basic levy",null,253.39228032968788,231.62000030136005,269.60938627078792,{"$f":"D8*105.3/100","v":243.89586031733211},725,725,5.1999999999999998E-2,{"$f":"H8*1.052","v":762.7},{"$f":"J8*1.054","v":803.88580000000013},{"$f":"K8*1.054","v":847.29563320000022}]
["Electricity: Consumption",null,1545.1106444756451,1412.3497664311199,1643.9977257220864,1487.2043040519691,725,725,5.1999999999999998E-2,{"$f":"H9*1.052","v":762.7},{"$f":"J9*1.054","v":803.88580000000013},847.29563320000022]
["Water: Basic levy",null,45.260803789344003,42.618459311999999,48.157495231862022,{"$f":"D10*106.2/100","v":45.260803789344003},725,725,5.1999999999999998E-2,762.7,{"$f":"J10*1.054","v":803.88580000000013},847.29563320000022]
["Water: Consumption",null,172.68737445780479,162.60581399039998,183.73936642310431,{"$f":"D11*106.2/100","v":172.68737445780479},725,725,5.1999999999999998E-2,762.7,{"$f":"J11*1.054","v":803.88580000000013},847.29563320000022]
["Sanitation",null,164.58474105215998,154.97621568,175.11816447949823,163.18995511104001,725,725,5.1999999999999998E-2,762.7,{"$f":"J12*1.054","v":803.88580000000013},847.29563320000022]
["Refuse removal",null,129.13571990246402,121.596723072,137.40040597622172,128.041349394816,725,725,5.1999999999999998E-2,762.7,{"$f":"J13*1.054","v":803.88580000000013},847.29563320000022]
["Other",null,0,0,0,0,0,0,0,0,0,0]
["sub-total",null,{"$f":"SUM(C7:C14)","v":3035.1715640071061},{"$f":"SUM(D7:D14)","v":2850.7669787868799},{"$f":"SUM(E7:E14)","v":3183.0225441035609},{"$f":"SUM(F7:F14)","v":2965.279647122306},{"$f":"SUM(G7:G14)","v":5075},5075,{"$f":"IF(ISERROR(ROUND((J15-F15)/F15,3)),0,(ROUND((J15-F15)/F15,3)))","v":0.8},5338.9,5627.200600000001,5931.0694324000015]
["VAT on Services"]
["Total large household bill:",null,{"$f":"SUM(C15:C16)","v":3035.1715640071061},{"$f":"SUM(D15:D16)","v":2850.7669787868799},{"$f":"SUM(E15:E16)","v":3183.0225441035609},{"$f":"SUM(F15:F16)","v":2965.279647122306},{"$f":"SUM(G15:G16)","v":5075},5075,{"$f":"IF(ISERROR(ROUND((J17-F17)/F17,3)),0,(ROUND((J17-F17)/F17,3)))","v":0.8},5338.9,5627.200600000001,5931.0694324000015]
["% increase/-decrease",null,null,{"$f":"IF(ISERROR((D17/C17)-1),0,((D17/C17)-1))","v":-6.0755901711457394E-2},{"$f":"IF(ISERROR((E17/D17)-1),0,((E17/D17)-1))","v":0.11654953484064468},{"$f":"IF(ISERROR((F17/E17)-1),0,((F17/E17)-1))","v":-6.8407588687870335E-2},{"$f":"IF(ISERROR((G17/F17)-1),0,((G17/F17)-1))","v":0.71147433090335999},{"$f":"IF(ISERROR((H17/G17)-1),0,((H17/G17)-1))","v":0},null,{"$f":"IF(ISERROR((J17/H17)-1),0,((J17/H17)-1))","v":5.1999999999999824E-2},{"$f":"IF(ISERROR((K17/J17)-1),0,((K17/J17)-1))","v":5.400000000000027E-2},{"$f":"IF(ISERROR((L17/K17)-1),0,((L17/K17)-1))","v":5.4000000000000048E-2}]
[]
["Monthly Account for Household - 'Affordable Range' ",2]
[{"$f":"A6","v":"Rates and services charges:"}]
[{"$f":"A7","v":"Property rates"},null,324.20999999999998,324.20999999999998,324.20999999999998,341.39312999999993,341.39312999999993,341.39312999999993,5.1999999999999998E-2,{"$f":"H22*1.052","v":359.14557275999994},{"$f":"J22*1.054","v":378.53943368903992},398.98056310824808]
["Electricity: Basic levy",null,253.39228032968788,253.39228032968788,269.60938627078792,283.89868374313966,283.89868374313966,283.89868374313966,5.1999999999999998E-2,{"$f":"H23*1.052","v":298.66141529778292},314.78913172386319,331.78774483695184]
["Electricity: Consumption",null,661.49066270683443,661.49066270683443,703.82606512007192,741.1288465714357,741.1288465714357,741.1288465714357,5.1999999999999998E-2,779.6675465931504,{"$f":"J24*1.054","v":821.76959410918062},866.14515219107636]
["Water: Basic levy",null,45.260803789344003,45.260803789344003,48.157495231862022,51.14325993623747,51.14325993623747,51.14325993623747,5.1999999999999998E-2,53.802709452921825,{"$f":"J25*1.054","v":56.708055763379605},59.770290774602103]
["Water: Consumption",null,141.35297183441278,141.35297183441278,150.39956203181521,159.72433487778775,159.72433487778775,159.72433487778775,5.1999999999999998E-2,168.03000029143271,{"$f":"J26*1.054","v":177.10362030717008},186.66721580375727]
["Sanitation",null,164.58474105215998,164.58474105215998,175.11816447949823,184.39942719691163,184.39942719691163,184.39942719691163,5.1999999999999998E-2,193.98819741115105,{"$f":"J27*1.054","v":204.46356007135321},215.50459231520631]
["Refuse removal",null,129.13571990246402,129.13571990246402,137.40040597622172,144.68262749296147,144.68262749296147,144.68262749296147,5.1999999999999998E-2,152.20612412259547,{"$f":"J28*1.054","v":160.42525482521563},169.08821858577727]
["Other",null,0,0,0,0,0,0]
["sub-total",null,{"$f":"SUM(C22:C29)","v":1719.427179614903},1719.427179614903,1808.7210791102568,1906.3703098184735,1906.3703098184735,1906.3703098184735,{"$f":"IF(ISERROR(ROUND((J30-F30)/F30,3)),0,(ROUND((J30-F30)/F30,3)))","v":5.1999999999999998E-2},{"$f":"SUM(J22:J29)","v":2005.5015659290343},{"$f":"SUM(K22:K29)","v":2113.7986504892024},{"$f":"SUM(L22:L29)","v":2227.9437776156192}]
["VAT on Services"]
["Total small household bill:",null,{"$f":"SUM(C30:C31)","v":1719.427179614903},1719.427179614903,1808.7210791102568,1906.3703098184735,1906.3703098184735,1906.3703098184735,{"$f":"IF(ISERROR(ROUND((J32-F32)/F32,3)),0,(ROUND((J32-F32)/F32,3)))","v":5.1999999999999998E-2},{"$f":"SUM(J30:J31)","v":2005.5015659290343},{"$f":"SUM(K30:K31)","v":2113.7986504892024},{"$f":"SUM(L30:L31)","v":2227.9437776156192}]
["% increase/-decrease",null,null,{"$f":"IF(ISERROR((D32/C32)-1),0,((D32/C32)-1))","v":0},{"$f":"IF(ISERROR((E32/D32)-1),0,((E32/D32)-1))","v":5.1932353142953636E-2},{"$f":"IF(ISERROR((F32/E32)-1),0,((F32/E32)-1))","v":5.3987998390692793E-2},{"$f":"IF(ISERROR((G32/F32)-1),0,((G32/F32)-1))","v":0},{"$f":"IF(ISERROR((H32/G32)-1),0,((H32/G32)-1))","v":0},null,{"$f":"IF(ISERROR((J32/H32)-1),0,((J32/H32)-1))","v":5.2000000000000046E-2},{"$f":"IF(ISERROR((K32/J32)-1),0,((K32/J32)-1))","v":5.4000000000000048E-2},{"$f":"IF(ISERROR((L32/K32)-1),0,((L32/K32)-1))","v":5.4000000000000048E-2}]
[null,null,null,null,{"$f":"IF(ISERROR((E33/D33)-1),0,((E33/D33)-1))","v":0},{"$f":"IF(ISERROR((F33/E33)-1),0,((F33/E33)-1))","v":3.9583133120900671E-2},{"$f":"IF(ISERROR((G33/F33)-1),0,((G33/F33)-1))","v":-1},{"$f":"IF(ISERROR((H33/G33)-1),0,((H33/G33)-1))","v":0}]
["Monthly Account for Household - 'Indigent' Household receiving free basic services",3]
[{"$f":"A6","v":"Rates and services charges:"}]
[{"$f":"A7","v":"Property rates"},null,null,null,null,null,null,null,{"$f":"IF(J37>0,ROUND((J37-F37)/F37,3),\"\")","v":""}]
["Electricity: Basic levy",null,null,null,null,null,null,null,{"$f":"IF(J38>0,ROUND((J38-F38)/F38,3),\"\")","v":""}]
["Electricity: Consumption",null,null,null,null,null,null,null,""]
["Water: Basic levy",null,null,null,null,null,null,null,""]
["Water: Consumption",null,null,null,null,null,null,null,""]
["Sanitation",null,null,null,null,null,null,null,""]
["Refuse removal",null,null,null,null,null,null,null,""]
["Other",null,null,null,null,null,null,null,""]
["sub-total",null,{"$f":"SUM(C37:C44)","v":0},{"$f":"SUM(D37:D44)","v":0},{"$f":"SUM(E37:E44)","v":0},{"$f":"SUM(F37:F44)","v":0},{"$f":"SUM(G37:G44)","v":0},0,{"$f":"IF(ISERROR(ROUND((J45-F45)/F45,3)),0,(ROUND((J45-F45)/F45,3)))","v":0},0,0,0]
["VAT on Services",null,null,null,null,null,null,null,{"$f":"IF(J46>0,I13ROUND((J46-F46)/F46,3),\"\")","v":""}]
["Total small household bill:",null,{"$f":"SUM(C45:C46)","v":0},{"$f":"SUM(D45:D46)","v":0},{"$f":"SUM(E45:E46)","v":0},{"$f":"SUM(F45:F46)","v":0},{"$f":"SUM(G45:G46)","v":0},0,{"$f":"IF(ISERROR(ROUND((J47-F47)/F47,3)),0,(ROUND((J47-F47)/F47,3)))","v":0},0,0,0]
[{"$f":"A18","v":"% increase/-decrease"},null,null,{"$f":"IF(ISERROR((D47/C47)-1),0,((D47/C47)-1))","v":0},{"$f":"IF(ISERROR((E47/D47)-1),0,((E47/D47)-1))","v":0},{"$f":"IF(ISERROR((F47/E47)-1),0,((F47/E47)-1))","v":0},{"$f":"IF(ISERROR((G47/F47)-1),0,((G47/F47)-1))","v":0},{"$f":"IF(ISERROR((H47/G47)-1),0,((H47/G47)-1))","v":0},null,{"$f":"IF(ISERROR((J47/H47)-1),0,((J47/H47)-1))","v":0},{"$f":"IF(ISERROR((K47/J47)-1),0,((K47/J47)-1))","v":0},{"$f":"IF(ISERROR((L47/K47)-1),0,((L47/K47)-1))","v":0}]
[]
[{"$f":"head27a","v":"References"}]
["1. Use as basis property value of R700 000, 1 000 kWh electricity and 30kl water"]
["2. Use as basis property value  of R500 000 and R700 000, 500 kWh electricity and 25kl water"]
["3. Use as basis property value of R 300 000, 350kWh electricity and 20kl water (50 kWh electricity and 6 kl water free)"]
["4. Note this is for a SINGLE household."]

{"sheet":"SA15","index":36,"n_rows":36,"n_cols":11,"rows_kept":36,"cut":false,"hidden":false,"merged":[[1,5,1,7],[1,8,1,10],[1,1,3,1],[1,0,2,0]]}
[{"$f":"muni&\" - \"&TableA15","v":"LIM332 Greater Letaba - Supporting Table SA15 Investment particulars by type"}]
["Investment type",{"$f":"head27","v":"Ref"},{"$f":"head1b","v":"2015/16"},{"$f":"head1A","v":"2016/17"},{"$f":"Head1","v":"2017/18"},{"$f":"Head2","v":"Current Year 2018/19"},null,null,{"$f":"Head3","v":"2019/20 Medium Term Revenue & Expenditure Framework"}]
[null,null,{"$f":"Head5","v":"Audited Outcome"},{"$f":"Head5","v":"Audited Outcome"},{"$f":"Head5","v":"Audited Outcome"},{"$f":"Head6","v":"Original Budget"},{"$f":"Head7","v":"Adjusted Budget"},{"$f":"Head8","v":"Full Year Forecast"},{"$f":"Head9","v":"Budget Year 2019/20"},{"$f":"Head10","v":"Budget Year +1 2020/21"},{"$f":"Head11","v":"Budget Year +2 2021/22"}]
["R thousand"]
["Parent municipality"]
["Securities - National Government"]
["Listed Corporate Bonds"]
["Deposits - Bank",null,59480361,53630633,{"$f":"10378254+2337096","v":12715350},28521281.529999997,3521281.5299999975,3521281.5299999975,2299000,{"$f":"I8*1.054","v":2423146},{"$f":"J8*1.054","v":2553995.8840000001}]
["Deposits - Public Investment Commissioners"]
["Deposits - Corporation for Public Deposits"]
["Bankers Acceptance Certificates"]
["Negotiable Certificates of Deposit - Banks"]
["Guaranteed Endowment Policies (sinking)"]
["Repurchase Agreements - Banks"]
["Municipal Bonds"]
[]
["Municipality sub-total",1,{"$f":"SUM(C6:C15)","v":59480361},53630633,12715350,28521281.529999997,3521281.5299999975,3521281.5299999975,2299000,2423146,2553995.8840000001]
[]
["Entities"]
[{"$f":"A6","v":"Securities - National Government"}]
[{"$f":"A7","v":"Listed Corporate Bonds"}]
["Deposits - Bank"]
["Deposits - Public Investment Commissioners"]
["Deposits - Corporation for Public Deposits"]
["Bankers Acceptance Certificates"]
["Negotiable Certificates of Deposit - Banks"]
["Guaranteed Endowment Policies (sinking)"]
["Repurchase Agreements - Banks"]
[]
["Entities sub-total",null,{"$f":"SUM(C20:C29)","v":0},0,0,0,0,0,0,0,0]
[]
["Consolidated total:",null,{"$f":"C17+C30","v":59480361},53630633,12715350,28521281.529999997,3521281.5299999975,3521281.5299999975,2299000,2423146,2553995.8840000001]
[]
[{"$f":"head27a","v":"References"}]
["1. Total investments must reconcile to Budgeted Financial Position ('current' call investment deposits plus 'non-current' investments)"]
["check investment balance",null,{"$f":"C17-'A6-FinPos'!C7-'A6-FinPos'!C16","v":0},{"$f":"D17-'A6-FinPos'!D7-'A6-FinPos'!D16","v":0},{"$f":"E17-'A6-FinPos'!E7-'A6-FinPos'!E16","v":0},{"$f":"F17-'A6-FinPos'!F7-'A6-FinPos'!F16","v":0},{"$f":"G17-'A6-FinPos'!G7-'A6-FinPos'!G16","v":0},{"$f":"H17-'A6-FinPos'!H7-'A6-FinPos'!H16","v":0},{"$f":"I17-'A6-FinPos'!J7-'A6-FinPos'!J16","v":0},{"$f":"J17-'A6-FinPos'!K7-'A6-FinPos'!K16","v":0},{"$f":"K17-'A6-FinPos'!L7-'A6-FinPos'!L16","v":0}]

{"sheet":"SA16","index":37,"n_rows":32,"n_cols":15,"rows_kept":32,"cut":false,"hidden":false,"merged":[[1,3,2,3],[1,9,2,9],[2,10,2,14]]}
[{"$f":"muni&\" - \"&TableA16","v":"LIM332 Greater Letaba - Supporting Table SA16 Investment particulars by maturity"}]
["Investments by Maturity",{"$f":"head27","v":"Ref"},"Period of Investment","Type of Investment","Capital Guarantee\n(Yes/ No)","Variable or Fixed interest rate","Interest Rate ᶟ","Commission Paid (Rands)","Commission Recipient","Expiry date of investment","Opening balance","Interest to be realised","Partial / Premature Withdrawal (4)","Investment Top Up","Closing Balance"]
["Name of institution & investment ID",1,"Yrs/Months"]
["Parent municipality"]
["Investec Bank - 465 297",null,"4 months","Call deposit","No","Variable","6.25%  -   6.50%",0,"N/A","N/A",0,0,0,0,{"$f":"SUM(K5:N5)","v":0}]
["Absa - 20-5202-3167",null,"3 Months","Fixed deposit","No","Variable","7%  - 7.36%",0,"N/A","N/A",105990,4944,0,0,{"$f":"SUM(K6:N6)","v":110934}]
["Nedbank - 9011509772",null,"Not Fixed","Call Account","No","Variable","5.50%  - 5.75%",0,"N/A","N/A",2094397,108956,0,0,2203353]
["Old Mutuall- UT108356132",null,"Not Fixed","Unit trust","No","Variable","N/A",0,"N/A","N/A",99056,8088,0,0,107144]
[null,null,null,null,null,null,null,null,null,null,null,null,null,null,0]
[null,null,null,null,null,null,null,null,null,null,null,null,null,null,0]
[null,null,null,null,null,null,null,null,null,null,null,null,null,null,0]
["Municipality sub-total",null,null,null,null,null,null,null,null,null,{"$f":"SUM(K5:K11)","v":2299443},null,{"$f":"SUM(M5:M11)","v":0},{"$f":"SUM(N5:N11)","v":0},{"$f":"SUM(O5:O11)","v":2421431}]
[]
["Entities"]
[null,null,null,null,null,null,null,null,null,null,null,null,null,null,{"$f":"SUM(K15:N15)","v":0}]
[null,null,null,null,null,null,null,null,null,null,null,null,null,null,{"$f":"SUM(K16:N16)","v":0}]
[null,null,null,null,null,null,null,null,null,null,null,null,null,null,0]
[null,null,null,null,null,null,null,null,null,null,null,null,null,null,0]
[null,null,null,null,null,null,null,null,null,null,null,null,null,null,0]
[null,null,null,null,null,null,null,null,null,null,null,null,null,null,0]
[null,null,null,null,null,null,null,null,null,null,null,null,null,null,0]
["Entities sub-total",null,null,null,null,null,null,null,null,null,{"$f":"SUM(K15:K21)","v":0},null,{"$f":"SUM(M15:M21)","v":0},{"$f":"SUM(N15:N21)","v":0},{"$f":"SUM(O15:O21)","v":0}]
[]
["TOTAL INVESTMENTS AND INTEREST",1,null,null,null,null,null,null,null,null,{"$f":"K12+K22","v":2299443},null,{"$f":"M12+M22","v":0},{"$f":"N12+N22","v":0},{"$f":"O12+O22","v":2421431}]
[]
[{"$f":"head27a","v":"References"}]
["1. Total investments must reconcile to all items in Table SA15 for the Current Year (30 June)"]
["2. List investments in expiry date order"]
["3. If 'variable' is selected in column F, input interest rate range"]
["4. Withdrawals to be entered as negative"]
["check"]
[null,null,null,null,null,null,null,null,null,null,null,null,"`"]

{"sheet":"SA17","index":38,"n_rows":71,"n_cols":45,"rows_kept":71,"cut":false,"hidden":false,"merged":[[1,5,1,7],[1,8,1,10]]}
[{"$f":"muni&\" - \"&TableA17","v":"LIM332 Greater Letaba - Supporting Table SA17 Borrowing"}]
["Borrowing - Categorised by type",{"$f":"head27","v":"Ref"},{"$f":"head1b","v":"2015/16"},{"$f":"head1A","v":"2016/17"},{"$f":"Head1","v":"2017/18"},{"$f":"Head2","v":"Current Year 2018/19"},null,null,{"$f":"Head3","v":"2019/20 Medium Term Revenue & Expenditure Framework"}]
["R thousand",null,{"$f":"Head5","v":"Audited Outcome"},{"$f":"Head5","v":"Audited Outcome"},{"$f":"Head5","v":"Audited Outcome"},{"$f":"Head6","v":"Original Budget"},{"$f":"Head7","v":"Adjusted Budget"},{"$f":"Head8","v":"Full Year Forecast"},{"$f":"Head9","v":"Budget Year 2019/20"},{"$f":"Head10","v":"Budget Year +1 2020/21"},{"$f":"Head11","v":"Budget Year +2 2021/22"}]
["Parent municipality"]
["Annuity and Bullet Loans"]
["Long-Term Loans (non-annuity)"]
["Local registered stock"]
["Instalment Credit"]
["Financial Leases"]
["PPP liabilities"]
["Finance Granted By Cap Equipment Supplier"]
["Marketable Bonds"]
["Non-Marketable Bonds"]
["Bankers Acceptances"]
["Financial derivatives"]
["Other Securities"]
["Municipality sub-total",1,{"$f":"SUM(C5:C16)","v":0},{"$f":"SUM(D5:D16)","v":0},0,0,0,0,0,0,0]
[]
["Entities"]
[{"$f":"A5","v":"Annuity and Bullet Loans"}]
["Long-Term Loans (non-annuity)"]
["Local registered stock"]
["Instalment Credit"]
["Financial Leases"]
["PPP liabilities"]
["Finance Granted By Cap Equipment Supplier"]
["Marketable Bonds"]
["Non-Marketable Bonds"]
["Bankers Acceptances"]
["Financial derivatives"]
["Other Securities"]
["Entities sub-total",1,{"$f":"SUM(C20:C31)","v":0},{"$f":"SUM(D20:D31)","v":0},0,0,0,0,0,0,0]
[]
["Total Borrowing",1,{"$f":"C17+C32","v":0},{"$f":"D17+D32","v":0},0,0,0,0,0,0,0]
[]
["Unspent Borrowing - Categorised by type"]
["Parent municipality"]
["Long-Term Loans (annuity/reducing balance)"]
["Long-Term Loans (non-annuity)"]
["Local registered stock"]
["Instalment Credit",null,null,null,null,null,null,null,null,null,null,null,null,null,null,null,null,null,null,null,null,null,null,null,null,null,null,null,null,null,null,null,null,null,null,null,null,null,null,null,null,null,439005000,null,539442200]
["Financial Leases"]
["PPP liabilities",null,null,null,null,null,null,null,null,null,null,null,null,null,null,null,null,null,null,null,null,null,0,null,0,null,null,0,null,0,null,null,0,null,0,null,null,0,null,0,null,null,1834701353,null,1241876995]
["Finance Granted By Cap Equipment Supplier",null,null,null,null,null,null,null,null,null,null,null,null,null,null,null,null,null,null,null,null,null,null,null,null,null,null,null,null,null,null,null,null,null,null,null,null,null,null,null,null,null,839041298,null,440387617]
["Marketable Bonds",null,null,null,null,null,null,null,null,null,null,null,null,null,null,null,null,null,null,null,null,null,null,null,null,null,null,null,null,null,null,null,null,null,null,null,null,null,null,null,null,null,976543638,null,782372961]
["Non-Marketable Bonds",null,null,null,null,null,null,null,null,null,null,null,null,null,null,null,null,null,null,null,null,null,null,null,null,null,null,null,null,null,null,null,null,null,null,null,null,null,null,null,null,null,19116417,null,19116417]
["Bankers Acceptances",null,null,null,null,null,null,null,null,null,null,null,null,null,null,null,null,null,null,null,null,null,null,null,null,null,null,null,null,null,null,null,null,null,null,null,null,null,null,null,null,null,2273706353,null,1781319195]
["Financial derivatives",null,null,null,null,null,null,null,null,null,null,null,null,null,null,null,null,null,null,null,null,null,null,null,null,null,null,null,null,null,null,null,null,null,null,null,null,null,null,null,null,null,180259232,null,140396729]
["Other Securities",null,null,null,null,null,null,null,null,null,null,null,null,null,null,null,null,null,null,null,null,null,null,null,null,null,null,null,null,null,null,null,null,null,null,null,null,null,null,null,null,null,125005000,null,100442200]
["Municipality sub-total",1,{"$f":"SUM(C38:C49)","v":0},{"$f":"SUM(D38:D49)","v":0},0,0,0,0,0,0,0,null,null,null,null,null,null,null,null,null,null,null,null,null,null,null,null,null,null,null,null,null,null,null,null,null,null,null,null,null,null,null,40341797,null,38954529]
[null,null,null,null,null,null,null,null,null,null,null,null,null,null,null,null,null,null,null,null,null,null,null,null,null,null,null,null,null,null,null,null,null,null,null,null,null,null,null,null,null,null,14912435,null,1000000]
["Entities"]
[{"$f":"A38","v":"Long-Term Loans (annuity/reducing balance)"}]
["Long-Term Loans (non-annuity)"]
["Local registered stock"]
["Instalment Credit"]
["Financial Leases"]
["PPP liabilities"]
["Finance Granted By Cap Equipment Supplier"]
["Marketable Bonds"]
["Non-Marketable Bonds"]
["Bankers Acceptances"]
["Financial derivatives"]
["Other Securities"]
["Entities sub-total",1,{"$f":"SUM(C53:C64)","v":0},{"$f":"SUM(D53:D64)","v":0},0,0,0,0,0,0,0]
[]
["Total Unspent Borrowing",1,{"$f":"C50+C65","v":0},{"$f":"D50+D65","v":0},0,0,0,0,0,0,0]
[]
[{"$f":"head27a","v":"References"}]
["1. Total borrowing must reconcile to Budgeted Financial Position (Borrowing - non-current)"]
["check borrowing balance",null,{"$f":"C34-'A6-FinPos'!C37","v":0},{"$f":"D34-'A6-FinPos'!D37","v":0},{"$f":"E34-'A6-FinPos'!E37","v":0},{"$f":"F34-'A6-FinPos'!F37","v":0},{"$f":"G34-'A6-FinPos'!G37","v":0},{"$f":"H34-'A6-FinPos'!H37","v":0},{"$f":"I34-'A6-FinPos'!J37","v":0},{"$f":"J34-'A6-FinPos'!K37","v":0},{"$f":"K34-'A6-FinPos'!L37","v":0}]

{"sheet":"SA18","index":39,"n_rows":53,"n_cols":11,"rows_kept":53,"cut":false,"hidden":false,"merged":[[1,5,1,7],[1,8,1,10]]}
[{"$f":"muni&\" - \"& TableA18","v":"LIM332 Greater Letaba - Supporting Table SA18 Transfers and grant receipts"}]
[{"$f":"desc","v":"Description"},{"$f":"head27","v":"Ref"},{"$f":"head1b","v":"2015/16"},{"$f":"head1A","v":"2016/17"},{"$f":"Head1","v":"2017/18"},{"$f":"Head2","v":"Current Year 2018/19"},null,null,{"$f":"Head3","v":"2019/20 Medium Term Revenue & Expenditure Framework"}]
["R thousand",null,{"$f":"Head5","v":"Audited Outcome"},{"$f":"Head5","v":"Audited Outcome"},{"$f":"Head5","v":"Audited Outcome"},{"$f":"Head6","v":"Original Budget"},{"$f":"Head7","v":"Adjusted Budget"},{"$f":"Head8","v":"Full Year Forecast"},{"$f":"Head9","v":"Budget Year 2019/20"},{"$f":"Head10","v":"Budget Year +1 2020/21"},{"$f":"Head11","v":"Budget Year +2 2021/22"}]
["RECEIPTS:","1, 2"]
[]
["Operating Transfers and Grants"]
["National Government:",null,{"$f":"SUM(C8:C14)","v":212960000},{"$f":"SUM(D8:D14)","v":209514001},227036999,251181000,251181000,251181000,285167047.14999998,303861986.08999997,325888732.89999998]
["Local Government Equitable Share",{"$f":"IF(A8=\"  Levy replacement\",3,\"\")","v":""},208866000,206299001,222507999,244692000,244692000,244692000,278284000,297969000,319745000]
["Finance Management ","",1675000,1810000,2145000,2145000,2145000,2145000,2145000,2145000,2145000]
["EPWP Incentive","",1489000,1405000,2384000,1521000,1521000,1521000,1225000,0,0]
["Municipal Systems Improvement","",930000,0,0,0,0,0,0,0,0]
[null,""]
[null,""]
["  Other transfers/grants [MIG Operation]",null,0,0,0,2823000,2823000,2823000,3513047.15,3747986.09,3998732.9]
["Provincial Government:",null,{"$f":"SUM(C16:C20)","v":0},{"$f":"SUM(D16:D20)","v":0},0,0,0,0,0,0,0]
[null,{"$f":"IF(A16=\"  Housing\",4,\"\")","v":""}]
[null,{"$f":"IF(A17=\"  Housing\",4,\"\")","v":""}]
[null,{"$f":"IF(A18=\"  Housing\",4,\"\")","v":""}]
[null,{"$f":"IF(A19=\"  Housing\",4,\"\")","v":""}]
[{"$f":"A14","v":"  Other transfers/grants [MIG Operation]"}]
["District Municipality:",null,{"$f":"SUM(C22:C23)","v":0},{"$f":"SUM(D22:D23)","v":0},0,0,0,0,0,0,0]
["  [insert description]"]
[]
["Other grant providers:",null,{"$f":"SUM(C25:C26)","v":0},{"$f":"SUM(D25:D26)","v":0},0,0,0,0,0,0,0]
["  [insert description]"]
[]
["Total Operating Transfers and Grants",5,{"$f":"C7+C15+C21+C24","v":212960000},{"$f":"D7+D15+D21+D24","v":209514001},227036999,251181000,251181000,251181000,285167047.14999998,303861986.08999997,325888732.89999998]
[]
["Capital Transfers and Grants"]
[{"$f":"A7","v":"National Government:"},null,{"$f":"SUM(C31:C36)","v":89314320},{"$f":"SUM(D31:D36)","v":61332323},67164000,59620000,59620000,59620000,54094952.850000001,64035013.909999996,68352267.099999994]
[" Municipal Infrastructure Grant (MIG)",null,89314320,54976000,61164000,{"$f":"56460000-2823000","v":53637000},{"$f":"56460000-2823000","v":53637000},53637000,{"$f":"57608000-I14","v":54094952.850000001},{"$f":"60783000-J14","v":57035013.909999996},{"$f":"65351000-K14","v":61352267.100000001}]
[]
[]
[]
[]
["  Other capital transfers/grants [INEP]",null,0,6356323,6000000,5983000,5983000,5983000,0,7000000,7000000]
[{"$f":"A15","v":"Provincial Government:"},null,{"$f":"SUM(C38)","v":0},{"$f":"SUM(D38)","v":0},0,0,0,0,0,0,0]
["Other capital transfers/grants [insert description]"]
[{"$f":"A21","v":"District Municipality:"},null,{"$f":"SUM(C40:C41)","v":0},0,0,0,0,0,0,0,0]
[{"$f":"A22","v":"  [insert description]"}]
[]
[{"$f":"A24","v":"Other grant providers:"},null,{"$f":"SUM(C43:C44)","v":0},{"$f":"SUM(D43:D44)","v":0},0,0,0,0,0,0,0]
[{"$f":"LEFT(A25,22)","v":"  [insert description]"}]
[]
["Total Capital Transfers and Grants",5,{"$f":"C30+C37+C39+C42","v":89314320},61332323,67164000,59620000,59620000,59620000,54094952.850000001,64035013.909999996,68352267.099999994]
["TOTAL RECEIPTS OF TRANSFERS & GRANTS",null,{"$f":"C27+C45","v":302274320},270846324,294200999,310801000,310801000,310801000,339262000,367897000,394241000]
[{"$f":"head27a","v":"References"}]
["1. Each transfer/grant is listed by name as gazetted together with the name of the transferring department or municipality, donor or other organisation"]
["2. Amounts actually RECEIVED; not revenue recognised (objective is to confirm grants transferred)"]
["3. Replacement of RSC levies"]
["4. Housing subsidies for housing where ownership transferred to organisations or persons outside the control of the municipality"]
["5. Total transfers and grants must reconcile to Budgeted Cash Flows"]
["6. Motor vehicle licensing refunds to be included under 'agency' services (Not Grant Receipts)"]

{"sheet":"SA19","index":40,"n_rows":49,"n_cols":11,"rows_kept":49,"cut":false,"hidden":false,"merged":[[1,5,1,7],[1,8,1,10]]}
[{"$f":"muni&\" - \"& TableA19","v":"LIM332 Greater Letaba - Supporting Table SA19 Expenditure on transfers and grant programme"}]
[{"$f":"desc","v":"Description"},{"$f":"head27","v":"Ref"},{"$f":"head1b","v":"2015/16"},{"$f":"head1A","v":"2016/17"},{"$f":"Head1","v":"2017/18"},{"$f":"Head2","v":"Current Year 2018/19"},null,null,{"$f":"Head3","v":"2019/20 Medium Term Revenue & Expenditure Framework"}]
["R thousand",null,{"$f":"Head5","v":"Audited Outcome"},{"$f":"Head5","v":"Audited Outcome"},{"$f":"Head5","v":"Audited Outcome"},{"$f":"Head6","v":"Original Budget"},{"$f":"Head7","v":"Adjusted Budget"},{"$f":"Head8","v":"Full Year Forecast"},{"$f":"Head9","v":"Budget Year 2019/20"},{"$f":"Head10","v":"Budget Year +1 2020/21"},{"$f":"Head11","v":"Budget Year +2 2021/22"}]
["EXPENDITURE:",1]
[]
["Operating expenditure of Transfers and Grants"]
[{"$f":"'SA18'!A7","v":"National Government:"},null,{"$f":"SUM(C8:C14)","v":212960000},{"$f":"SUM(D8:D14)","v":209514001},227036999,251181000,251181000,251181000,285167047.14999998,303861986.08999997,325888732.89999998]
[{"$f":"IF('SA18'!A8=\"\",\"\",'SA18'!A8)","v":"Local Government Equitable Share"},null,208866000,206299001,222507999,244692000,244692000,244692000,278284000,297969000,319745000]
[{"$f":"IF('SA18'!A9=\"\",\"\",'SA18'!A9)","v":"Finance Management "},null,1675000,1810000,2145000,2145000,2145000,2145000,2145000,2145000,2145000]
[{"$f":"IF('SA18'!A10=\"\",\"\",'SA18'!A10)","v":"EPWP Incentive"},null,1489000,1405000,2384000,1521000,1521000,1521000,1225000,0,0]
[{"$f":"IF('SA18'!A11=\"\",\"\",'SA18'!A11)","v":"Municipal Systems Improvement"},null,930000,0,0,0,0,0,0,0,0]
[{"$f":"IF('SA18'!A12=\"\",\"\",'SA18'!A12)","v":""}]
[{"$f":"IF('SA18'!A13=\"\",\"\",'SA18'!A13)","v":""}]
[{"$f":"'SA18'!A14","v":"  Other transfers/grants [MIG Operation]"},null,0,0,0,2823000,2823000,2823000,3513047.15,3747986.09,3998732.9]
[{"$f":"'SA18'!A15","v":"Provincial Government:"},null,{"$f":"SUM(C16:C20)","v":0},{"$f":"SUM(D16:D20)","v":0},0,0,0,0,0,0,0]
[{"$f":"IF('SA18'!A16=\"\",\"\",'SA18'!A16)","v":""}]
[{"$f":"IF('SA18'!A17=\"\",\"\",'SA18'!A17)","v":""}]
[{"$f":"IF('SA18'!A18=\"\",\"\",'SA18'!A18)","v":""}]
[{"$f":"IF('SA18'!A19=\"\",\"\",'SA18'!A19)","v":""}]
[{"$f":"'SA18'!A20","v":"  Other transfers/grants [MIG Operation]"}]
[{"$f":"'SA18'!A21","v":"District Municipality:"},null,{"$f":"SUM(C22:C23)","v":0},{"$f":"SUM(D22:D23)","v":0},0,0,0,0,0,0,0]
[{"$f":"'SA18'!A22","v":"  [insert description]"}]
[]
[{"$f":"'SA18'!A24","v":"Other grant providers:"},null,{"$f":"SUM(C25:C26)","v":0},{"$f":"SUM(D25:D26)","v":0},0,0,0,0,0,0,0]
[{"$f":"'SA18'!A25","v":"  [insert description]"}]
[]
["Total operating expenditure of Transfers and Grants:",null,{"$f":"C7+C15+C21+C24","v":212960000},209514001,227036999,251181000,251181000,251181000,285167047.14999998,303861986.08999997,325888732.89999998]
[]
["Capital expenditure of Transfers and Grants"]
[{"$f":"'SA18'!A30","v":"National Government:"},null,{"$f":"SUM(C31:C36)","v":89314320},{"$f":"SUM(D31:D36)","v":61332323},67164000,59620000,59620000,59620000,54094952.850000001,64035013.909999996,68352267.099999994]
[{"$f":"IF('SA18'!A31=\"\",\"\",'SA18'!A31)","v":" Municipal Infrastructure Grant (MIG)"},null,89314320,54976000,61164000,{"$f":"56460000-2823000","v":53637000},{"$f":"56460000-2823000","v":53637000},53637000,{"$f":"57608000-I14","v":54094952.850000001},{"$f":"60783000-J14","v":57035013.909999996},{"$f":"65351000-K14","v":61352267.100000001}]
[{"$f":"IF('SA18'!A32=\"\",\"\",'SA18'!A32)","v":""}]
[{"$f":"IF('SA18'!A33=\"\",\"\",'SA18'!A33)","v":""}]
[{"$f":"IF('SA18'!A34=\"\",\"\",'SA18'!A34)","v":""}]
[{"$f":"IF('SA18'!A35=\"\",\"\",'SA18'!A35)","v":""}]
[{"$f":"'SA18'!A36","v":"  Other capital transfers/grants [INEP]"},null,0,6356323,6000000,5983000,5983000,5983000,0,7000000,7000000]
[{"$f":"'SA18'!A37","v":"Provincial Government:"},null,{"$f":"SUM(C38)","v":0},{"$f":"SUM(D38)","v":0},0,0,0,0,0,0,0]
[{"$f":"'SA18'!A38","v":"Other capital transfers/grants [insert description]"}]
[{"$f":"'SA18'!A39","v":"District Municipality:"},null,{"$f":"SUM(C40:C41)","v":0},{"$f":"SUM(D40:D41)","v":0},0,0,0,0,0,0,0]
[{"$f":"'SA18'!A40","v":"  [insert description]"}]
[]
[{"$f":"'SA18'!A42","v":"Other grant providers:"},null,{"$f":"SUM(C43:C44)","v":0},{"$f":"SUM(D43:D44)","v":0},0,0,0,0,0,0,0]
[{"$f":"'SA18'!A43","v":"  [insert description]"}]
[]
["Total capital expenditure of Transfers and Grants",null,{"$f":"C30+C37+C39+C42","v":89314320},{"$f":"D30+D37+D39+D42","v":61332323},67164000,59620000,59620000,59620000,54094952.850000001,64035013.909999996,68352267.099999994]
[]
["TOTAL EXPENDITURE OF TRANSFERS AND GRANTS",null,{"$f":"C27+C45","v":302274320},270846324,294200999,310801000,310801000,310801000,339262000,367897000,394241000]
[{"$f":"head27a","v":"References"}]
["1. Expenditure must be separately listed for each transfer or grant received or recognised"]

{"sheet":"SA20","index":41,"n_rows":60,"n_cols":11,"rows_kept":60,"cut":false,"hidden":false,"merged":[[56,0,56,10],[1,5,1,7],[1,8,1,10],[54,0,54,10],[55,0,55,10]]}
[{"$f":"muni&\" - \"& TableA20","v":"LIM332 Greater Letaba - Supporting Table SA20 Reconciliation of transfers, grant receipts and unspent funds"}]
[{"$f":"desc","v":"Description"},{"$f":"head27","v":"Ref"},{"$f":"head1b","v":"2015/16"},{"$f":"head1A","v":"2016/17"},{"$f":"Head1","v":"2017/18"},{"$f":"Head2","v":"Current Year 2018/19"},null,null,{"$f":"Head3","v":"2019/20 Medium Term Revenue & Expenditure Framework"}]
["R thousand",null,{"$f":"Head5","v":"Audited Outcome"},{"$f":"Head5","v":"Audited Outcome"},{"$f":"Head5","v":"Audited Outcome"},{"$f":"Head6","v":"Original Budget"},{"$f":"Head7","v":"Adjusted Budget"},{"$f":"Head8","v":"Full Year Forecast"},{"$f":"Head9","v":"Budget Year 2019/20"},{"$f":"Head10","v":"Budget Year +1 2020/21"},{"$f":"Head11","v":"Budget Year +2 2021/22"}]
["Operating transfers and grants:","1,3"]
[{"$f":"'SA18'!A7","v":"National Government:"}]
["Balance unspent at beginning of the year"]
["Current year receipts",null,212960000,{"$f":"206299001+1810000+1405000","v":209514001},227036999,248358000,248358000,248358000,281624000,300105000,321890000]
["Conditions met - transferred to revenue",null,{"$f":"C6+C7-C9","v":212960000},{"$f":"D6+D7-D9","v":209514001},227036999,248358000,248358000,248358000,281624000,300105000,321890000]
["Conditions still to be met - transferred to liabilities"]
["Provincial Government:"]
["Balance unspent at beginning of the year"]
[{"$f":"A7","v":"Current year receipts"}]
[{"$f":"A8","v":"Conditions met - transferred to revenue"},null,{"$f":"C11+C12-C14","v":0},0,0,0,0,0,0,0,0]
[{"$f":"A9","v":"Conditions still to be met - transferred to liabilities"}]
["District Municipality:"]
[{"$f":"A11","v":"Balance unspent at beginning of the year"}]
[{"$f":"A12","v":"Current year receipts"}]
[{"$f":"A13","v":"Conditions met - transferred to revenue"},null,{"$f":"C16+C17-C19","v":0},0,0,0,0,0,0,0,0]
[{"$f":"A14","v":"Conditions still to be met - transferred to liabilities"}]
["Other grant providers:"]
[{"$f":"A11","v":"Balance unspent at beginning of the year"}]
[{"$f":"A12","v":"Current year receipts"}]
[{"$f":"A13","v":"Conditions met - transferred to revenue"},null,{"$f":"C21+C22-C24","v":0},0,0,0,0,0,0,0,0]
[{"$f":"A14","v":"Conditions still to be met - transferred to liabilities"}]
["Total operating transfers and grants revenue",null,{"$f":"C8+C13+C18+C23","v":212960000},209514001,227036999,248358000,248358000,248358000,281624000,300105000,321890000]
["Total operating transfers and grants - CTBM",2,0,0,0,0,0,0,0,0,0]
[]
["Capital transfers and grants:","1,3"]
[{"$f":"A5","v":"National Government:"}]
["Balance unspent at beginning of the year"]
["Current year receipts",null,89314320,{"$f":"48341000+5105000","v":53446000},{"$f":"61164000+6000000","v":67164000},{"$f":"56460000+5983000","v":62443000},{"$f":"56460000+5983000","v":62443000},62443000,57608000,{"$f":"60783000+7000000","v":67783000},{"$f":"65351000+7000000","v":72351000}]
["Conditions met - transferred to revenue",null,{"$f":"C30+C31-C33","v":89314320},53446000,67164000,62443000,62443000,62443000,57608000,67783000,72351000]
["Conditions still to be met - transferred to liabilities"]
["Provincial Government:"]
["Balance unspent at beginning of the year"]
[{"$f":"A31","v":"Current year receipts"}]
[{"$f":"A32","v":"Conditions met - transferred to revenue"},null,{"$f":"C35+C36-C38","v":0},0,0,0,0,0,0,0,0]
[{"$f":"A33","v":"Conditions still to be met - transferred to liabilities"}]
["District Municipality:"]
[{"$f":"A35","v":"Balance unspent at beginning of the year"}]
[{"$f":"A36","v":"Current year receipts"}]
[{"$f":"A37","v":"Conditions met - transferred to revenue"},null,{"$f":"C40+C41-C43","v":0},0,0,0,0,0,0,0,0]
[{"$f":"A38","v":"Conditions still to be met - transferred to liabilities"}]
["Other grant providers:"]
[{"$f":"A35","v":"Balance unspent at beginning of the year"}]
[{"$f":"A36","v":"Current year receipts"}]
[{"$f":"A37","v":"Conditions met - transferred to revenue"},null,{"$f":"C45+C46-C48","v":0},0,0,0,0,0,0,0,0]
[{"$f":"A38","v":"Conditions still to be met - transferred to liabilities"}]
["Total capital transfers and grants revenue",null,{"$f":"C32+C37+C42+C47","v":89314320},53446000,67164000,62443000,62443000,62443000,57608000,67783000,72351000]
["Total capital transfers and grants - CTBM",2,0,0,0,0,0,0,0,0,0]
[]
["TOTAL TRANSFERS AND GRANTS REVENUE",null,{"$f":"C25+C49","v":302274320},262960001,294200999,310801000,310801000,310801000,339232000,367888000,394241000]
["TOTAL TRANSFERS AND GRANTS - CTBM",null,{"$f":"C26+C50","v":0},{"$f":"D26+D50","v":0},0,0,0,0,0,0,0]
[{"$f":"head27a","v":"References"}]
["1. Total capital transfers and grants revenue must reconcile to Budgeted Financial Performance and Financial Position; total recurrent grants revenue must reconcile to Budgeted Financial Performance"]
["2. CTBM = conditions to be met"]
["3. National Treasury database will require this reconciliation for each transfer/grant"]
[]
["Check opex",null,{"$f":"C25-'A4-FinPerf RE'!C18","v":0},{"$f":"D25-'A4-FinPerf RE'!D18","v":0},{"$f":"E25-'A4-FinPerf RE'!E18","v":0},{"$f":"F25-'A4-FinPerf RE'!F18","v":0},{"$f":"G25-'A4-FinPerf RE'!G18","v":0},{"$f":"H25-'A4-FinPerf RE'!H18","v":0},{"$f":"I25-'A4-FinPerf RE'!J18","v":0},{"$f":"J25-'A4-FinPerf RE'!K18","v":0},{"$f":"K25-'A4-FinPerf RE'!L18","v":0}]
["Check capex",null,{"$f":"C49-'A5-Capex'!C70","v":0},{"$f":"D49-'A5-Capex'!D70","v":0},{"$f":"E49-'A5-Capex'!E70","v":2000},{"$f":"F49-'A5-Capex'!F70","v":0},{"$f":"G49-'A5-Capex'!G70","v":-20000000},{"$f":"H49-'A5-Capex'!H70","v":-20000000},{"$f":"I49-'A5-Capex'!J70","v":0},{"$f":"J49-'A5-Capex'!K70","v":0},{"$f":"K49-'A5-Capex'!L70","v":0}]

{"sheet":"SA21","index":42,"n_rows":71,"n_cols":12,"rows_kept":71,"cut":false,"hidden":false,"merged":[[1,9,1,11],[1,5,1,8]]}
[{"$f":"muni&\" - \"& TableA21","v":"LIM332 Greater Letaba - Supporting Table SA21 Transfers and grants made by the municipality"}]
[{"$f":"desc","v":"Description"},{"$f":"head27","v":"Ref"},{"$f":"head1b","v":"2015/16"},{"$f":"head1A","v":"2016/17"},{"$f":"Head1","v":"2017/18"},{"$f":"Head2","v":"Current Year 2018/19"},null,null,null,{"$f":"Head3","v":"2019/20 Medium Term Revenue & Expenditure Framework"}]
["R thousand",null,{"$f":"Head5","v":"Audited Outcome"},{"$f":"Head5","v":"Audited Outcome"},{"$f":"Head5","v":"Audited Outcome"},{"$f":"Head6","v":"Original Budget"},{"$f":"Head7","v":"Adjusted Budget"},{"$f":"Head8","v":"Full Year Forecast"},{"$f":"Head5b","v":"Pre-audit outcome"},{"$f":"Head9","v":"Budget Year 2019/20"},{"$f":"Head10","v":"Budget Year +1 2020/21"},{"$f":"Head11","v":"Budget Year +2 2021/22"}]
[]
["Cash Transfers to other municipalities"]
["Insert description",1]
[]
[]
["Total Cash Transfers To Municipalities:",null,{"$f":"SUM(C6:C8)","v":0},{"$f":"SUM(D6:D8)","v":0},0,0,0,0,0,0,0,0]
[]
["Cash Transfers to Entities/Other External Mechanisms"]
[{"$f":"$A$6","v":"Insert description"},2]
[]
[]
["Total Cash Transfers To Entities/Ems'",null,{"$f":"SUM(C12:C14)","v":0},{"$f":"SUM(D12:D14)","v":0},0,0,0,0,0,0,0,0]
[]
["Cash Transfers to other Organs of State"]
[{"$f":"$A$6","v":"Insert description"},3]
[]
[]
["Total Cash Transfers To Other Organs Of State:",null,{"$f":"SUM(C18:C20)","v":0},{"$f":"SUM(D18:D20)","v":0},0,0,0,0,0,0,{"$f":"SUM(K18:K20)","v":0},0]
[]
["Cash Transfers to Organisations"]
[{"$f":"$A$6","v":"Insert description"}]
[]
["Total Cash Transfers To Organisations",null,{"$f":"SUM(C24:C25)","v":0},0,0,0,0,0,0,0,0,0]
[]
["Cash Transfers to Groups of Individuals"]
[{"$f":"$A$6","v":"Insert description"}]
[]
["Total Cash Transfers To Groups Of Individuals:",null,{"$f":"SUM(C29:C30)","v":0},0,0,0,0,0,0,0,0,0]
["TOTAL CASH TRANSFERS AND GRANTS",6,{"$f":"C9+C15+C21+C26+C31","v":0},0,0,0,0,0,0,0,0,0]
[]
["Non-Cash Transfers to other municipalities"]
["Insert description",1]
[]
[]
["Total Non-Cash Transfers To Municipalities:",null,{"$f":"SUM(C35:C37)","v":0},{"$f":"SUM(D35:D37)","v":0},0,0,0,0,0,0,0,0]
[]
["Non-Cash Transfers to Entities/Other External Mechanisms"]
[{"$f":"$A$6","v":"Insert description"},2]
[]
[]
["Total Non-Cash Transfers To Entities/Ems'",null,{"$f":"SUM(C41:C43)","v":0},{"$f":"SUM(D41:D43)","v":0},0,0,0,0,0,0,0,0]
[]
["Non-Cash Transfers to other Organs of State"]
[{"$f":"$A$6","v":"Insert description"},3]
[]
[]
["Total Non-Cash Transfers To Other Organs Of State:",null,{"$f":"SUM(C47:C49)","v":0},{"$f":"SUM(D47:D49)","v":0},0,0,0,0,0,0,{"$f":"SUM(K47:K49)","v":0},{"$f":"SUM(L47:L49)","v":0}]
[]
["Non-Cash Grants to Organisations"]
[{"$f":"$A$6","v":"Insert description"},4]
[]
[]
["Total Non-Cash Grants To Organisations",null,{"$f":"SUM(C53:C55)","v":0},{"$f":"SUM(D53:D55)","v":0},0,0,0,0,0,0,{"$f":"SUM(K53:K55)","v":0},{"$f":"SUM(L53:L55)","v":0}]
[]
["Groups of Individuals"]
[{"$f":"$A$6","v":"Insert description"},5]
[]
[]
["Total Non-Cash Grants To Groups Of Individuals:",null,{"$f":"SUM(C59:C61)","v":0},0,0,0,0,0,0,0,0,0]
["TOTAL NON-CASH TRANSFERS AND GRANTS",null,{"$f":"C38+C44+C50+C56+C62","v":0},0,0,0,0,0,0,0,0,0]
["TOTAL TRANSFERS AND GRANTS",6,{"$f":"C32+C63","v":0},{"$f":"D32+D63","v":0},0,0,0,0,0,0,0,0]
[{"$f":"head27a","v":"References"}]
["1. Insert description listed by municipal name and demarcation code of recipient"]
["2. Insert description of each entity or external mechanism (an external mechanism may be provided with resources to ensure a minimum level of service)"]
["3. Insert description of each Organ of State (e.g. transfer to electricity provider to compensate for FBS provided)"]
["4. Insert description of each other organisation (e.g. charity)"]
["5 Insert description of each other organisation (e.g. the aged, child-headed households)"]
["6. All descriptions should separate transfers for 'capital purposes' and 'operating purposes'"]

{"sheet":"SA22","index":43,"n_rows":120,"n_cols":11,"rows_kept":120,"cut":false,"hidden":false,"merged":[[1,5,1,7],[1,8,1,10]]}
[{"$f":"muni&\" - \"&TableA22","v":"LIM332 Greater Letaba - Supporting Table SA22 Summary councillor and staff benefits"}]
["Summary of Employee and Councillor remuneration",{"$f":"head27","v":"Ref"},{"$f":"head1b","v":"2015/16"},{"$f":"head1A","v":"2016/17"},{"$f":"Head1","v":"2017/18"},{"$f":"Head2","v":"Current Year 2018/19"},null,null,{"$f":"Head3","v":"2019/20 Medium Term Revenue & Expenditure Framework"}]
["R thousand",null,{"$f":"Head5","v":"Audited Outcome"},{"$f":"Head5","v":"Audited Outcome"},{"$f":"Head5","v":"Audited Outcome"},{"$f":"Head6","v":"Original Budget"},{"$f":"Head7","v":"Adjusted Budget"},{"$f":"Head8","v":"Full Year Forecast"},{"$f":"Head9","v":"Budget Year 2019/20"},{"$f":"Head10","v":"Budget Year +1 2020/21"},{"$f":"Head11","v":"Budget Year +2 2021/22"}]
[null,1,"A","B","C","D","E","F","G","H","I"]
["Councillors (Political Office Bearers plus Other)"]
["Basic Salaries and Wages",null,null,null,null,22467854.930760719,22882031.930760719,22882031.930760719,24071901,25371784,26741860]
["Pension and UIF Contributions"]
["Medical Aid Contributions"]
["Motor Vehicle Allowance"]
["Cellphone Allowance"]
["Housing Allowances"]
["Other benefits and allowances"]
["Sub Total - Councillors",null,{"$f":"SUM(C6:C12)","v":0},0,0,22467854.930760719,22882031.930760719,22882031.930760719,24071901,25371784,26741860]
["% increase",4,null,{"$f":"IF(ISERROR((D13/C13)-1),0,((D13/C13)-1))","v":0},{"$f":"IF(ISERROR((E13/D13)-1),0,((E13/D13)-1))","v":0},0,1.8434203054825238E-2,0,5.20001489745201E-2,5.4000014373605243E-2,5.3999986756942286E-2]
[]
["Senior Managers of the Municipality",2]
["Basic Salaries and Wages",null,null,null,null,5812871,6334126.0199999996,6334126.0199999996,6625206.9299999997,6982968.1042200001,7360048.3818478808]
["Pension and UIF Contributions"]
["Medical Aid Contributions"]
["Overtime"]
["Performance Bonus"]
["Motor Vehicle Allowance",3]
["Cellphone Allowance",3]
["Housing Allowances",3]
["Other benefits and allowances",3]
["Payments in lieu of leave"]
["Long service awards"]
["Post-retirement benefit obligations",6]
["Sub Total - Senior Managers of Municipality",null,{"$f":"SUM(C17:C28)","v":0},{"$f":"SUM(D17:D28)","v":0},0,5812871,6334126.0199999996,6334126.0199999996,6625206.9299999997,6982968.1042200001,7360048.3818478808]
[{"$f":"$A$14","v":"% increase"},{"$f":"$B$14","v":4},null,{"$f":"IF(ISERROR((D29/C29)-1),0,((D29/C29)-1))","v":0},{"$f":"IF(ISERROR((E29/D29)-1),0,((E29/D29)-1))","v":0},0,8.9672559394488482E-2,0,4.5954391984136755E-2,5.4000000000000048E-2,5.4000000000000048E-2]
[]
["Other Municipal Staff"]
["Basic Salaries and Wages",null,40648962,42332560,45210928,43220425,56745021.980000004,56745021.980000004,{"$f":"66697279-I17","v":60072072.07},{"$f":"71299392-J17","v":64316423.895779997},{"$f":"76219050-K17","v":68859001.618152112}]
["Pension and UIF Contributions",null,8633797,9340584,10137519,9941819.1400000006,10963921.140000001,10963921.140000001,12700717,13577067,14513885]
["Medical Aid Contributions",null,2774478,3230794,3723940,3788001.87,4315789.87,4315789.87,5705868,6099573,6520444]
["Overtime",null,4264517,4619370,4557051,2767431.78,3902754.78,3902754.78,5404937,5777877,6176551]
["Performance Bonus",null,3001520,3092283,3589321,4651085.8099999996,3770739.8099999996,3770739.8099999996,5412000,5785428,6184623]
["Motor Vehicle Allowance",3,3049722,3309934,4333619,4658216.47,5173354.47,5173354.47,6206321,6634557,7092342]
["Cellphone Allowance",3,0,0,0,0,0,0,0,0,0]
["Housing Allowances",3,584944,661691,419332,494732.71,717566.71,717566.71,745999,797473,852499]
["Other benefits and allowances",3,374751,400323,1201410,876429.04999999993,1154992.0499999998,1154992.0499999998,{"$f":"624389+28568+620852+960000","v":2233809},{"$f":"667472+30540+663690+1026240","v":2387942},{"$f":"713528+32647+709485+1097051","v":2552711}]
["Payments in lieu of leave",null,1073848,1389476,1541100,2092783.93,2188031.9299999997,2188031.9299999997,2529205,2703720,2890276]
["Long service awards",null,0,0,0,0,0,0,0,0,0]
["Post-retirement benefit obligations",6,0,0,0,0,0,0,0,0,0]
["Sub Total - Other Municipal Staff",null,{"$f":"SUM(C33:C44)","v":64406539},68377015,74714220,72490925.760000005,88932172.74000001,88932172.74000001,101010928.06999999,108080060.89578,115642332.61815211]
[{"$f":"$A$14","v":"% increase"},{"$f":"$B$14","v":4},null,{"$f":"IF(ISERROR((D45/C45)-1),0,((D45/C45)-1))","v":6.1647094559762028E-2},{"$f":"IF(ISERROR((E45/D45)-1),0,((E45/D45)-1))","v":9.268034002361758E-2},-2.9757310455760577E-2,0.22680420766639142,0,0.13581986088783804,6.9983841955012283E-2,6.9969166002453509E-2]
[]
["Total Parent Municipality",null,{"$f":"C13+C29+C45","v":64406539},68377015,74714220,100771651.69076073,118148330.69076073,118148330.69076073,131708036,140434813,149744241]
[null,null,null,{"$f":"IF(ISERROR((D48/C48)-1),0,((D48/C48)-1))","v":6.1647094559762028E-2},{"$f":"IF(ISERROR((E48/D48)-1),0,((E48/D48)-1))","v":9.268034002361758E-2},0.34876134276394422,0.17243618327626553,0,0.1147684883058584,6.6258500734154069E-2,6.6290030236306086E-2]
[]
["Board Members of Entities"]
["Basic Salaries and Wages"]
["Pension and UIF Contributions"]
["Medical Aid Contributions"]
["Overtime"]
["Performance Bonus"]
["Motor Vehicle Allowance",3]
["Cellphone Allowance",3]
["Housing Allowances",3]
["Other benefits and allowances",3]
["Board Fees"]
["Payments in lieu of leave"]
["Long service awards"]
["Post-retirement benefit obligations",6]
["Sub Total - Board Members of Entities",null,{"$f":"SUM(C52:C64)","v":0},{"$f":"SUM(D52:D64)","v":0},0,0,0,0,0,0,0]
[{"$f":"$A$14","v":"% increase"},{"$f":"$B$14","v":4},null,{"$f":"IF(ISERROR((D65/C65)-1),0,((D65/C65)-1))","v":0},{"$f":"IF(ISERROR((E65/D65)-1),0,((E65/D65)-1))","v":0},0,0,0,0,0,0]
[]
["Senior Managers of Entities"]
["Basic Salaries and Wages"]
["Pension and UIF Contributions"]
["Medical Aid Contributions"]
["Overtime"]
["Performance Bonus"]
["Motor Vehicle Allowance",3]
["Cellphone Allowance",3]
["Housing Allowances",3]
["Other benefits and allowances",3]
["Payments in lieu of leave"]
["Long service awards"]
["Post-retirement benefit obligations",6]
["Sub Total - Senior Managers of Entities",null,{"$f":"SUM(C69:C80)","v":0},{"$f":"SUM(D69:D80)","v":0},0,0,0,0,0,0,0]
[{"$f":"$A$14","v":"% increase"},{"$f":"$B$14","v":4},null,{"$f":"IF(ISERROR((D81/C81)-1),0,((D81/C81)-1))","v":0},{"$f":"IF(ISERROR((E81/D81)-1),0,((E81/D81)-1))","v":0},0,0,0,0,0,0]
[]
["Other Staff of Entities"]
["Basic Salaries and Wages"]
["Pension and UIF Contributions"]
["Medical Aid Contributions"]
["Overtime"]
["Performance Bonus"]
["Motor Vehicle Allowance",3]
["Cellphone Allowance",3]
["Housing Allowances",3]
["Other benefits and allowances",3]
["Payments in lieu of leave"]
["Long service awards"]
["Post-retirement benefit obligations",6]
["Sub Total - Other Staff of Entities",null,{"$f":"SUM(C85:C96)","v":0},{"$f":"SUM(D85:D96)","v":0},0,0,0,0,0,0,0]
[{"$f":"$A$14","v":"% increase"},{"$f":"$B$14","v":4},null,{"$f":"IF(ISERROR((D97/C97)-1),0,((D97/C97)-1))","v":0},{"$f":"IF(ISERROR((E97/D97)-1),0,((E97/D97)-1))","v":0},0,0,0,0,0,0]
[]
["Total Municipal Entities",null,{"$f":"C65+C81+C97","v":0},{"$f":"D65+D81+D97","v":0},0,0,0,0,0,0,0]
[]
["TOTAL SALARY, ALLOWANCES & BENEFITS",null,{"$f":"C48+C100","v":64406539},{"$f":"D48+D100","v":68377015},{"$f":"E48+E100","v":74714220},100771651.69076073,118148330.69076073,118148330.69076073,131708036,140434813,149744241]
[{"$f":"$A$14","v":"% increase"},{"$f":"$B$14","v":4},null,{"$f":"IF(ISERROR((D102/C102)-1),0,((D102/C102)-1))","v":6.1647094559762028E-2},{"$f":"IF(ISERROR((E102/D102)-1),0,((E102/D102)-1))","v":9.268034002361758E-2},0.34876134276394422,0.17243618327626553,0,0.1147684883058584,6.6258500734154069E-2,6.6290030236306086E-2]
["TOTAL MANAGERS AND STAFF","5,7",{"$f":"C29+C45+C81+C97","v":64406539},68377015,74714220,78303796.760000005,95266298.760000005,95266298.760000005,107636135,115063029,123002381]
[{"$f":"head27a","v":"References"}]
["1. Include 'Loans and advances' where applicable if any reportable amounts until phased compliance with s164 of MFMA achieved"]
["2. s57 of the Systems Act"]
["3. In kind benefits (e.g. provision of living quarters) must be shown as the cost (full market value) to the municipality, as part of the relevant allowance"]
["4. B/A, C/B, D/C, E/C, F/C, G/D, H/D, I/D"]
["5. Must agree to the sub-total appearing on Table A1 (Employee costs)"]
["6. Includes pension payments and employer contributions to medical aid"]
["7. Correct as at 30 June"]
[]
["Column Definitions:"]
["A, B and C. Audited actual as per the audited financial statements. If audited amounts are unavailable, unaudited amounts must be provided with a note stating these are unaudited"]
["D. The original budget approved by council for the budget year."]
["E. The budget for the budget year as adjusted by council resolution in terms of section 28 of the MFMA."]
["F. An estimate of final actual amounts (pre audit) for the current year at the point in time of preparing the budget for the budget year. This may differ from E."]
["G. The amount to be appropriated for the budget year."]
["H and I. The indicative projection"]

{"sheet":"SA23","index":44,"n_rows":70,"n_cols":9,"rows_kept":70,"cut":false,"hidden":false,"merged":[[1,2,2,2],[1,5,2,5],[1,3,2,3],[1,6,2,6]]}
[{"$f":"muni&\" - \"&TableA23","v":"LIM332 Greater Letaba - Supporting Table SA23 Salaries, allowances & benefits (political office bearers/councillors/senior managers)"}]
["Disclosure of Salaries, Allowances & Benefits 1.",{"$f":"head27","v":"Ref"},"No.","Salary","\nContributions\n","Allowances","Performance  Bonuses","In-kind benefits","Total Package"]
["Rand per annum",null,null,null,"1.",null,null,null,"2."]
["Councillors",3]
["Speaker",4,1,{"$f":"41543*12","v":498516},{"$f":"5969.35*12","v":71632.200000000012},{"$f":"159182.76+40800","v":199982.76},null,null,{"$f":"SUM(D5:F5)","v":770130.96}]
["Chief Whip",null,1,{"$f":"37308.5*12","v":447702},{"$f":"5596.28*12","v":67155.360000000001},{"$f":"149234.04+40800","v":190034.04},null,null,704891.4]
["Executive Mayor",null,1,{"$f":"51928.35*12","v":623140.19999999995},{"$f":"7461.68*12","v":89540.160000000003},{"$f":"198978.24+40800","v":239778.24},null,null,952458.6]
["Deputy Executive Mayor",null,0,0,0,0,null,null,0]
["Executive Committee",null,6,1498581,224787,744327,null,null,2467695]
["Total for all other councillors",null,null,{"$f":"1343106+438707+242432+8280178","v":10304423},{"$f":"201466+65806+1076776+327282","v":1671330},{"$f":"372164+187035+1094495+3943233","v":5596927},null,null,17572680]
[{"$f":"\"Total \"&A4","v":"Total Councillors"},8,{"$f":"SUM(C5:C10)","v":9},13372362.199999999,2124444.7199999997,6971049.04,null,null,22467855.960000001]
[]
["Senior Managers of the Municipality",5]
["Municipal Manager (MM)",null,1,1348302.3,null,null,null,null,{"$f":"SUM(D14:H14)","v":1348302.3}]
["Chief Finance Officer",null,1,1167405.72,null,null,null,null,1167405.72]
["Director Corporate",null,1,963578.88,null,null,null,null,963578.88]
["Director Community Services",null,1,1061252.73,null,null,null,null,1061252.73]
["Director Planning & Development",null,1,1041252.31,null,null,null,null,1041252.31]
["Director Technical Services",null,1,1043414.99,null,null,null,null,1043414.99]
[]
["List of each offical with packages >= senior manager"]
[null,null,null,null,null,null,null,null,{"$f":"SUM(D22:H22)","v":0}]
[null,null,null,null,null,null,null,null,{"$f":"SUM(D23:H23)","v":0}]
[null,null,null,null,null,null,null,null,0]
[null,null,null,null,null,null,null,null,0]
[null,null,null,null,null,null,null,null,0]
[null,null,null,null,null,null,null,null,0]
[null,null,null,null,null,null,null,null,0]
[null,null,null,null,null,null,null,null,0]
[null,null,null,null,null,null,null,null,0]
[null,null,null,null,null,null,null,null,0]
[null,null,null,null,null,null,null,null,0]
[null,null,null,null,null,null,null,null,{"$f":"SUM(D33:H33)","v":0}]
[null,null,null,null,null,null,null,null,{"$f":"SUM(D34:H34)","v":0}]
[{"$f":"\"Total \"&A13","v":"Total Senior Managers of the Municipality"},"8,10",{"$f":"SUM(C14:C34)","v":6},{"$f":"SUM(D14:D34)","v":6625206.9299999997},{"$f":"SUM(E14:E34)","v":0},{"$f":"SUM(F14:F34)","v":0},{"$f":"SUM(G14:G34)","v":0},null,{"$f":"SUM(I14:I34)","v":6625206.9299999997}]
[]
["A Heading for Each Entity","6,7"]
["List each member of board by designation"]
[null,null,null,null,null,null,null,null,{"$f":"SUM(D39:G39)","v":0}]
[null,null,null,null,null,null,null,null,{"$f":"SUM(D40:G40)","v":0}]
[null,null,null,null,null,null,null,null,0]
[null,null,null,null,null,null,null,null,0]
[null,null,null,null,null,null,null,null,0]
[null,null,null,null,null,null,null,null,0]
[null,null,null,null,null,null,null,null,0]
[null,null,null,null,null,null,null,null,0]
[null,null,null,null,null,null,null,null,0]
[null,null,null,null,null,null,null,null,0]
[null,null,null,null,null,null,null,null,0]
[null,null,null,null,null,null,null,null,0]
[null,null,null,null,null,null,null,null,0]
[null,null,null,null,null,null,null,null,0]
[null,null,null,null,null,null,null,null,0]
[null,null,null,null,null,null,null,null,0]
["Total for municipal entities","8,10",{"$f":"SUM(C38:C54)","v":0},{"$f":"SUM(D39:D54)","v":0},0,0,0,null,0]
[]
["TOTAL COST OF COUNCILLOR, DIRECTOR and EXECUTIVE REMUNERATION",10,{"$f":"C11+C35+C55","v":15},19997569.129999999,2124444.7199999997,6971049.04,0,null,29093062.890000001]
[]
[{"$f":"head27a","v":"References"}]
["1. Pension and medical aid"]
["2. Total package must equal the total cost to the municipality"]
["3. List each political office bearer by designation. Provide a total for all other councillors"]
["4. Political office bearer is defined in MFMA s 1: speaker, executive mayor, deputy executive mayor, member of executive committee,"]
["    mayor, deputy mayor, member of mayoral committee, the councillor designated to exercise powers and duties of mayor (MSA s 57)"]
["5. Also list each senior manager reporting to MM by designation and each official with package >= senior manager by designation"]
["6. List each entity where municipality has an interest and state percentage ownership and control"]
["7. List each senior manager reporting to the CEO of an Entity by designation"]
["8. Must reconcile to relevant section of Table SA24"]
["9. Must reconcile to totals shown for the budget year of Table SA22"]
["10. Correct as at 30 June"]

{"sheet":"SA24","index":45,"n_rows":53,"n_cols":11,"rows_kept":53,"cut":false,"hidden":false,"merged":[[1,5,1,7],[1,8,1,10],[1,2,1,4]]}
[{"$f":"muni&\" - \"&TableA24","v":"LIM332 Greater Letaba - Supporting Table SA24 Summary of personnel numbers"}]
["Summary of Personnel Numbers",{"$f":"head27","v":"Ref"},{"$f":"Head1","v":"2017/18"},null,null,{"$f":"Head2","v":"Current Year 2018/19"},null,null,{"$f":"Head9","v":"Budget Year 2019/20"}]
["Number","1,2","Positions","Permanent employees","Contract employees","Positions","Permanent employees","Contract employees","Positions","Permanent employees","Contract employees"]
["Municipal Council and Boards of Municipal Entities"]
["Councillors (Political Office Bearers plus Other Councillors)",null,57,0,57,60,0,60,60,0,60]
["Board Members of municipal entities",4]
["Municipal employees",5]
["Municipal Manager and Senior Managers",3,5,0,5,6,0,6,6,0,6]
["Other Managers",7]
["Professionals",null,{"$f":"SUM(C11:C19)","v":180},{"$f":"SUM(D11:D19)","v":180},0,189,165,2,168,165,3]
["Finance",null,32,32,null,41,32,null,32,31,1]
["Spatial/town planning",null,null,null,null,4,3,null,6,5,1]
["Information Technology",null,3,3,null,3,3,0,3,3,0]
["Roads",null,17,17,null,17,16,2,16,15,1]
["Electricity",null,8,8,null,11,11,0,10,10,0]
["Water",null,17,17,null,17,17,0,20,20,0]
["Sanitation",null,null,null,null,null,null,null,2,2,0]
["Refuse",null,7,7,null,9,9,0,9,9,0]
["Other",null,96,96,null,87,74,0,{"$f":"267-197","v":70},{"$f":"267-197","v":70},0]
["Technicians",null,{"$f":"SUM(C21:C29)","v":0},{"$f":"SUM(D21:D29)","v":0},0,0,0,0,0,0,0]
["Finance"]
["Spatial/town planning"]
["Information Technology"]
["Roads"]
["Electricity"]
["Water"]
["Sanitation"]
["Refuse"]
["Other"]
["Clerks (Clerical and administrative)",null,29,29,null,59,39,0,25,25,0]
["Service and sales workers"]
["Skilled agricultural and fishery workers"]
["Craft and related trades"]
["Plant and Machine Operators",null,5,5,null,5,5,0,5,5,0]
["Elementary Occupations"]
["TOTAL PERSONNEL NUMBERS",9,{"$f":"SUM(C5:C9)+SUM(C11:C19)+SUM(C21:C35)","v":276},{"$f":"SUM(D5:D9)+SUM(D11:D19)+SUM(D21:D35)","v":214},62,319,209,{"$f":"SUM(H5:H9)+SUM(H11:H19)+SUM(H21:H35)","v":68},264,195,69]
["% increase",null,null,null,null,{"$f":"IF(ISERROR((F36/C36)-1),0,((F36/C36)-1))","v":0.15579710144927539},-2.3364485981308358E-2,9.6774193548387011E-2,-0.17241379310344829,-6.6985645933014371E-2,1.4705882352941124E-2]
[]
["Total municipal employees headcount","6, 10",217,212,5,319,311,8,267,261,6]
["Finance personnel headcount","8, 10",39,29,1,41,41,1,32,31,1]
["Human Resources personnel headcount","8, 10",20,19,1,21,21,1,5,5,0]
[]
[{"$f":"head27a","v":"References"}]
["1. Positions must be funded and aligned to the municipality's current organisational structure"]
["2. Full Time Equivalent (FTE). E.g. One full time person = 1FTE. A person working half time (say 4 hours out of 8) = 0.5FTE."]
["3. s57 of the Systems Act"]
["4. Include only in Consolidated Statements"]
["5. Include municipal entity employees in Consolidated Statements"]
["6.  Include headcount (number fo persons, Not FTE) of managers and staff only (exclude councillors)"]
["7. Managers who provide the direction of a critical technical function"]
["8. Total number of employees working on these functions"]
["9. Correct as at 30 June"]
["10. Must account for all budgeted positions, as per the municipal organogram"]

{"sheet":"SA25","index":46,"n_rows":48,"n_cols":17,"rows_kept":48,"cut":false,"hidden":false,"merged":[[1,2,1,13],[1,14,1,16]]}
[{"$f":"muni&\" - \"& TableA25","v":"LIM332 Greater Letaba - Supporting Table SA25 Budgeted monthly revenue and expenditure"}]
[{"$f":"desc","v":"Description"},{"$f":"head27","v":"Ref"},{"$f":"Head9","v":"Budget Year 2019/20"},null,null,null,null,null,null,null,null,null,null,null,"Medium Term Revenue and Expenditure Framework"]
["R thousand",null,"July","August","Sept.","October","November","December","January","February","March","April","May","June",{"$f":"Head9","v":"Budget Year 2019/20"},{"$f":"Head10","v":"Budget Year +1 2020/21"},{"$f":"Head11","v":"Budget Year +2 2021/22"}]
[{"$f":"'A4-FinPerf RE'!A4","v":"Revenue By Source"}]
[{"$f":"'A4-FinPerf RE'!A5","v":"Property rates"},null,1040000,989000,1893897,891597,877403,875608,875608,1993897,2001000,1993608,2314000,{"$f":"O5-SUM(C5:M5)","v":1994560},{"$f":"'A4-FinPerf RE'!J5","v":17740178},{"$f":"'A4-FinPerf RE'!K5","v":18698147},{"$f":"'A4-FinPerf RE'!L5","v":19707847}]
[{"$f":"'A4-FinPerf RE'!A6","v":"Service charges - electricity revenue"},null,1423000,1352000,1571044,2290601,6368246,1290653,647513,1250000,1290653,2897000,3254000,2104199,{"$f":"'A4-FinPerf RE'!J6","v":25738909},{"$f":"'A4-FinPerf RE'!K6","v":27128809},{"$f":"'A4-FinPerf RE'!L6","v":28593766}]
[{"$f":"'A4-FinPerf RE'!A7","v":"Service charges - water revenue"},null,0,0,0,0,0,0,0,0,0,0,0,0,{"$f":"'A4-FinPerf RE'!J7","v":0},{"$f":"'A4-FinPerf RE'!K7","v":0},{"$f":"'A4-FinPerf RE'!L7","v":0}]
[{"$f":"'A4-FinPerf RE'!A8","v":"Service charges - sanitation revenue"},null,0,0,0,0,0,0,0,0,0,0,0,0,{"$f":"'A4-FinPerf RE'!J8","v":0},{"$f":"'A4-FinPerf RE'!K8","v":0},{"$f":"'A4-FinPerf RE'!L8","v":0}]
[{"$f":"'A4-FinPerf RE'!A9","v":"Service charges - refuse revenue"},null,434079,433864,433280,433066,433864,433804,434542,1200000,1005000,989000,975000,1466554,{"$f":"'A4-FinPerf RE'!J9","v":8672053},{"$f":"'A4-FinPerf RE'!K9","v":9140344},{"$f":"'A4-FinPerf RE'!L9","v":9633923}]
[]
[{"$f":"'A4-FinPerf RE'!A11","v":"Rental of facilities and equipment"},null,83000,86000,88000,79000,69000,46000,54000,85000,101000,104000,105000,106551,{"$f":"'A4-FinPerf RE'!J11","v":1006551},{"$f":"'A4-FinPerf RE'!K11","v":1060905},{"$f":"'A4-FinPerf RE'!L11","v":1118194}]
[{"$f":"'A4-FinPerf RE'!A12","v":"Interest earned - external investments"},null,463000,363000,362000,463000,262000,454000,401000,457000,461000,464000,389000,215530,{"$f":"'A4-FinPerf RE'!J12","v":4754530},{"$f":"'A4-FinPerf RE'!K12","v":5011275},{"$f":"'A4-FinPerf RE'!L12","v":5281884}]
[{"$f":"'A4-FinPerf RE'!A13","v":"Interest earned - outstanding debtors"},null,1125000,1136000,1153000,1475000,1806676,1830000,1730000,1950000,1806676,1846000,2425000,1944139,{"$f":"'A4-FinPerf RE'!J13","v":20227491},{"$f":"'A4-FinPerf RE'!K13","v":21319776},{"$f":"'A4-FinPerf RE'!L13","v":22471044}]
[{"$f":"'A4-FinPerf RE'!A14","v":"Dividends received"},null,0,0,0,0,0,0,0,0,0,0,0,0,{"$f":"'A4-FinPerf RE'!J14","v":0},{"$f":"'A4-FinPerf RE'!K14","v":0},{"$f":"'A4-FinPerf RE'!L14","v":0}]
[{"$f":"'A4-FinPerf RE'!A15","v":"Fines, penalties and forfeits"},null,9100,6275,3534,0,3546,6200,4200,99875,111000,140000,180000,698670,{"$f":"'A4-FinPerf RE'!J15","v":1262400},{"$f":"'A4-FinPerf RE'!K15","v":1330570},{"$f":"'A4-FinPerf RE'!L15","v":1402420}]
[{"$f":"'A4-FinPerf RE'!A16","v":"Licences and permits"},null,1281356,1355115,1189501,1177999,1631888,1064869,1692925,2487000,3100000,2800000,2500000,3583972,{"$f":"'A4-FinPerf RE'!J16","v":23864625},{"$f":"'A4-FinPerf RE'!K16","v":25153315},{"$f":"'A4-FinPerf RE'!L16","v":26511594}]
[{"$f":"'A4-FinPerf RE'!A17","v":"Agency services"},null,0,394478,0,0,0,0,0,456000,321000,221000,395000,501689,{"$f":"'A4-FinPerf RE'!J17","v":2289167},{"$f":"'A4-FinPerf RE'!K17","v":2412782},{"$f":"'A4-FinPerf RE'!L17","v":2543072}]
[{"$f":"'A4-FinPerf RE'!A18","v":"Transfers and subsidies"},null,115531000,2526000,0,0,0,99820000,0,4356000,59391000,0,0,0,{"$f":"'A4-FinPerf RE'!J18","v":281624000},{"$f":"'A4-FinPerf RE'!K18","v":300105000},{"$f":"'A4-FinPerf RE'!L18","v":321890000}]
[{"$f":"'A4-FinPerf RE'!A19","v":"Other revenue"},null,1047000,985000,1320000,1010000,1272000,825000,809282,1540000,1750000,1800000,1250000,1139253,{"$f":"'A4-FinPerf RE'!J19","v":14747535},{"$f":"'A4-FinPerf RE'!K19","v":15543903},{"$f":"'A4-FinPerf RE'!L19","v":16383272}]
[{"$f":"'A4-FinPerf RE'!A20","v":"Gains on disposal of PPE"},null,0,0,0,0,0,0,0,0,607004,0,0,0,{"$f":"'A4-FinPerf RE'!J20","v":607004},{"$f":"'A4-FinPerf RE'!K20","v":639782},{"$f":"'A4-FinPerf RE'!L20","v":674330}]
[{"$f":"'A4-FinPerf RE'!A21","v":"Total Revenue (excluding capital transfers and contributions)"},null,{"$f":"SUM(C5:C9)+SUM(C11:C20)","v":122436535},{"$f":"SUM(D5:D9)+SUM(D11:D20)","v":9626732},8014256,7820263,12724623,106646134,6649070,15874772,71945333,13254608,13787000,13755117,402534443,427544608,456211346]
[]
[{"$f":"'A4-FinPerf RE'!A23","v":"Expenditure By Type"}]
[{"$f":"'A4-FinPerf RE'!A24","v":"Employee related costs"},null,8912000,8902217,8906896,8911710,8502874,8305283,7575073,8986000,9351000,9527200,9912000,{"$f":"O24-SUM(C24:M24)","v":9843882},{"$f":"'A4-FinPerf RE'!J24","v":107636135},{"$f":"'A4-FinPerf RE'!K24","v":115063029},{"$f":"'A4-FinPerf RE'!L24","v":123002381}]
[{"$f":"'A4-FinPerf RE'!A25","v":"Remuneration of councillors"},null,1931000,1917000,1951000,1917000,1905000,1905000,1917000,2150000,2100000,2100000,2100000,2178901,{"$f":"'A4-FinPerf RE'!J25","v":24071901},{"$f":"'A4-FinPerf RE'!K25","v":25371784},{"$f":"'A4-FinPerf RE'!L25","v":26741860}]
[{"$f":"'A4-FinPerf RE'!A26","v":"Debt impairment"},null,201000,198000,142000,171530.33333333334,201000,114000,201000,199000,171530.33333333334,134000,138000,187303.33333333326,{"$f":"'A4-FinPerf RE'!J26","v":2058364},{"$f":"'A4-FinPerf RE'!K26","v":2169516},{"$f":"'A4-FinPerf RE'!L26","v":2286670}]
[{"$f":"'A4-FinPerf RE'!A27","v":"Depreciation & asset impairment"},null,0,1650000,0,0,0,1875000,0,0,1526000,0,0,1200207,{"$f":"'A4-FinPerf RE'!J27","v":6251207},{"$f":"'A4-FinPerf RE'!K27","v":6588772},{"$f":"'A4-FinPerf RE'!L27","v":6944565}]
[{"$f":"'A4-FinPerf RE'!A28","v":"Finance charges"},null,0,0,0,0,0,0,0,0,0,0,0,0,{"$f":"'A4-FinPerf RE'!J28","v":0},{"$f":"'A4-FinPerf RE'!K28","v":0},{"$f":"'A4-FinPerf RE'!L28","v":0}]
[{"$f":"'A4-FinPerf RE'!A29","v":"Bulk purchases"},null,1943765,1941629,2445230,1077018,1051644,1001826,925624,1077018,1250000,1547000,1865000,1859826,{"$f":"'A4-FinPerf RE'!J29","v":17985580},{"$f":"'A4-FinPerf RE'!K29","v":18956801},{"$f":"'A4-FinPerf RE'!L29","v":19980468}]
[{"$f":"'A4-FinPerf RE'!A30","v":"Other materials"},null,0,0,0,0,0,0,0,0,0,0,0,0,{"$f":"'A4-FinPerf RE'!J30","v":0},{"$f":"'A4-FinPerf RE'!K30","v":0},{"$f":"'A4-FinPerf RE'!L30","v":0}]
[{"$f":"'A4-FinPerf RE'!A31","v":"Contracted services"},null,977784,867912,2830276,2628462,735088,2037696,1411417,1540000,895000,1542000,1798000,2195991,{"$f":"'A4-FinPerf RE'!J31","v":19459626},{"$f":"'A4-FinPerf RE'!K31","v":20510449},{"$f":"'A4-FinPerf RE'!L31","v":21618010}]
[{"$f":"'A4-FinPerf RE'!A32","v":"Transfers and subsidies"},null,0,0,0,0,0,0,0,0,0,0,0,0,{"$f":"'A4-FinPerf RE'!J32","v":0},{"$f":"'A4-FinPerf RE'!K32","v":0},{"$f":"'A4-FinPerf RE'!L32","v":0}]
[{"$f":"'A4-FinPerf RE'!A33","v":"Other expenditure"},null,9331000,9822000,9484000,9217000,9838000,18681599,10258000,9975000,12956000,11542000,10778000,9242810,{"$f":"'A4-FinPerf RE'!J33","v":131125409},{"$f":"'A4-FinPerf RE'!K33","v":120844965},{"$f":"'A4-FinPerf RE'!L33","v":127437176}]
[{"$f":"'A4-FinPerf RE'!A34","v":"Loss on disposal of PPE"},null,0,0,0,0,0,0,0,0,0,0,0,0,{"$f":"'A4-FinPerf RE'!J34","v":0},{"$f":"'A4-FinPerf RE'!K34","v":0},{"$f":"'A4-FinPerf RE'!L34","v":0}]
[{"$f":"'A4-FinPerf RE'!A35","v":"Total Expenditure"},null,{"$f":"SUM(C24:C34)","v":23296549},{"$f":"SUM(D24:D34)","v":25298758},25759402,23922720.333333336,22233606,33920404,22288114,23927018,28249530.333333336,26392200,26591000,26708920.333333336,308588222,309505316,328011130]
[]
[{"$f":"'A4-FinPerf RE'!A37","v":"Surplus/(Deficit)"},null,{"$f":"C21-C35","v":99139986},-15672026,-17745146,-16102457.333333336,-9508983,72725730,-15639044,-8052246,43695802.666666664,-13137592,-12804000,-12953803.333333336,93946221,118039292,128200216]
[{"$f":"'A4-FinPerf RE'!A38","v":"Transfers and subsidies - capital (monetary allocations) (National / Provincial and District)"},null,8500000,7969703,4101013,1509177,1509177,7500000,1789000,802000,5400000,7521000,5610000,{"$f":"O38-SUM(C38:M38)","v":5396930},{"$f":"'A4-FinPerf RE'!J38","v":57608000},{"$f":"'A4-FinPerf RE'!K38","v":67783000},{"$f":"'A4-FinPerf RE'!L38","v":72351000}]
[{"$f":"'A4-FinPerf RE'!A39","v":"Transfers and subsidies - capital (monetary allocations) (National / Provincial Departmental Agencies, Households, Non-profit Institutions, Private Enterprises, Public Corporatons, Higher Educational Institutions)"},null,null,null,null,null,null,null,null,null,null,null,null,{"$f":"O39-SUM(C39:M39)","v":0},{"$f":"'A4-FinPerf RE'!J39","v":0},{"$f":"'A4-FinPerf RE'!K39","v":0},{"$f":"'A4-FinPerf RE'!L39","v":0}]
[{"$f":"'A4-FinPerf RE'!A40","v":"Transfers and subsidies - capital (in-kind - all) "},null,null,null,null,null,null,null,null,null,null,null,null,{"$f":"O40-SUM(C40:M40)","v":0},{"$f":"'A4-FinPerf RE'!J40","v":0},{"$f":"'A4-FinPerf RE'!K40","v":0},{"$f":"'A4-FinPerf RE'!L40","v":0}]
[{"$f":"'A4-FinPerf RE'!A41","v":"Surplus/(Deficit) after capital transfers & contributions"},null,{"$f":"C37+SUM(C38:C40)","v":107639986},-7702323,-13644133,-14593280.333333336,-7999806,80225730,-13850044,-7250246,49095802.666666664,-5616592,-7194000,-7556873.3333333358,{"$f":"O37+SUM(O38:O40)","v":151554221},{"$f":"P37+SUM(P38:P40)","v":185822292},{"$f":"Q37+SUM(Q38:Q40)","v":200551216}]
[{"$f":"'A4-FinPerf RE'!A42","v":"Taxation"},null,null,null,null,null,null,null,null,null,null,null,null,{"$f":"O42-SUM(C42:M42)","v":0},{"$f":"'A4-FinPerf RE'!J42","v":0},{"$f":"'A4-FinPerf RE'!K42","v":0},{"$f":"'A4-FinPerf RE'!L42","v":0}]
[{"$f":"'A4-FinPerf RE'!A44","v":"Attributable to minorities"},null,null,null,null,null,null,null,null,null,null,null,null,{"$f":"O43-SUM(C43:M43)","v":0},{"$f":"'A4-FinPerf RE'!J44","v":0},{"$f":"'A4-FinPerf RE'!K44","v":0},{"$f":"'A4-FinPerf RE'!L44","v":0}]
[{"$f":"'A4-FinPerf RE'!A46","v":"Share of surplus/ (deficit) of associate"},null,null,null,null,null,null,null,null,null,null,null,null,{"$f":"O44-SUM(C44:M44)","v":0},{"$f":"'A4-FinPerf RE'!J46","v":0},{"$f":"'A4-FinPerf RE'!K46","v":0},{"$f":"'A4-FinPerf RE'!L46","v":0}]
[{"$f":"'A4-FinPerf RE'!A37","v":"Surplus/(Deficit)"},1,{"$f":"C41-C42+SUM(C43:C44)","v":107639986},{"$f":"D41-D42+SUM(D43:D44)","v":-7702323},-13644133,-14593280.333333336,-7999806,80225730,-13850044,-7250246,49095802.666666664,-5616592,-7194000,{"$f":"N41-N42+SUM(N43:N44)","v":-7556873.3333333358},{"$f":"O41-O42+SUM(O43:O44)","v":151554221},{"$f":"P41-P42+SUM(P43:P44)","v":185822292},{"$f":"Q41-Q42+SUM(Q43:Q44)","v":200551216}]
[{"$f":"head27a","v":"References"}]
["1. Surplus (Deficit) must reconcile with Budgeted Financial Performance"]
["check",null,null,null,null,null,null,null,null,null,null,null,null,null,{"$f":"O45-'A4-FinPerf RE'!J47","v":0},{"$f":"P45-'A4-FinPerf RE'!K47","v":0},{"$f":"Q45-'A4-FinPerf RE'!L47","v":0}]

{"sheet":"SA26","index":47,"n_rows":48,"n_cols":17,"rows_kept":48,"cut":false,"hidden":false,"merged":[[1,2,1,13],[1,14,1,16]]}
[{"$f":"muni&\" - \"&TableA26","v":"LIM332 Greater Letaba - Supporting Table SA26 Budgeted monthly revenue and expenditure (municipal vote)"}]
[{"$f":"desc","v":"Description"},{"$f":"head27","v":"Ref"},{"$f":"Head9","v":"Budget Year 2019/20"},null,null,null,null,null,null,null,null,null,null,null,"Medium Term Revenue and Expenditure Framework"]
["R thousand",null,"July","August","Sept.","October","November","December","January","February","March","April","May","June",{"$f":"Head9","v":"Budget Year 2019/20"},{"$f":"Head10","v":"Budget Year +1 2020/21"},{"$f":"Head11","v":"Budget Year +2 2021/22"}]
[{"$f":"'A3-FinPerf V'!A4","v":"Revenue by Vote"}]
[{"$f":"'A3-FinPerf V'!A5","v":"Vote 1 - Executive & Council"},null,null,null,null,null,null,null,null,null,null,null,null,{"$f":"O5-SUM(C5:M5)","v":0},{"$f":"'A3-FinPerf V'!I5","v":0},{"$f":"'A3-FinPerf V'!J5","v":0},{"$f":"'A3-FinPerf V'!K5","v":0}]
[{"$f":"'A3-FinPerf V'!A6","v":"Vote 2 - Finance and Administration"},null,138225024,4058511,1489422,2382104,2178136,93674951,3569000,38989000,91471000,9875000,6987000,2490213,{"$f":"'A3-FinPerf V'!I6","v":395389361},{"$f":"'A3-FinPerf V'!J6","v":420077858},{"$f":"'A3-FinPerf V'!K6","v":449627111}]
[{"$f":"'A3-FinPerf V'!A7","v":"Vote 3 - Internal Audit"},null,null,null,null,null,null,null,null,null,null,null,null,0,{"$f":"'A3-FinPerf V'!I7","v":0},{"$f":"'A3-FinPerf V'!J7","v":0},{"$f":"'A3-FinPerf V'!K7","v":0}]
[{"$f":"'A3-FinPerf V'!A8","v":"Vote 4 - Community and Public Safety"},null,null,null,null,null,null,null,null,null,null,null,null,0,{"$f":"'A3-FinPerf V'!I8","v":0},{"$f":"'A3-FinPerf V'!J8","v":0},{"$f":"'A3-FinPerf V'!K8","v":0}]
[{"$f":"'A3-FinPerf V'!A9","v":"Vote 5 - Sports and Recreation"},null,null,null,null,null,null,null,null,null,null,null,null,0,{"$f":"'A3-FinPerf V'!I9","v":0},{"$f":"'A3-FinPerf V'!J9","v":0},{"$f":"'A3-FinPerf V'!K9","v":0}]
[{"$f":"'A3-FinPerf V'!A10","v":"Vote 6 - Housing"},null,null,null,null,null,null,null,null,null,null,null,null,0,{"$f":"'A3-FinPerf V'!I10","v":0},{"$f":"'A3-FinPerf V'!J10","v":0},{"$f":"'A3-FinPerf V'!K10","v":0}]
[{"$f":"'A3-FinPerf V'!A11","v":"Vote 7 - Planning and development "},null,null,null,null,null,null,null,null,null,null,null,null,{"$f":"O11-SUM(C11:M11)","v":0},{"$f":"'A3-FinPerf V'!I11","v":0},{"$f":"'A3-FinPerf V'!J11","v":0},{"$f":"'A3-FinPerf V'!K11","v":0}]
[{"$f":"'A3-FinPerf V'!A12","v":"Vote 8 - Road Transport"},null,{"$f":"9100+1281356","v":1290456},{"$f":"6275+1355115+394478","v":1755868},{"$f":"3534+1189501","v":1193035},1177999,{"$f":"3546+1631888","v":1635434},{"$f":"6200+1064869","v":1071069},3587400,2900000,2854000,2398000,3587400,{"$f":"O12-SUM(C12:M12)","v":3965531},{"$f":"'A3-FinPerf V'!I12","v":27416192},{"$f":"'A3-FinPerf V'!J12","v":28896666},{"$f":"'A3-FinPerf V'!K12","v":30457086}]
[{"$f":"'A3-FinPerf V'!A13","v":"Vote 9 - Energy Sources"},null,{"$f":"980865+2417","v":983282},{"$f":"751288+2313","v":753601},{"$f":"617206+2157","v":619363},{"$f":"821378+2470","v":823848},{"$f":"268544+312151","v":580695},{"$f":"625868+658534","v":1284402},2542000,3542000,3841000,4854000,6637200,{"$f":"O13-SUM(C13:M13)","v":2203446},{"$f":"'A3-FinPerf V'!I13","v":28664837},{"$f":"'A3-FinPerf V'!J13","v":37212738},{"$f":"'A3-FinPerf V'!K13","v":38844226}]
[{"$f":"'A3-FinPerf V'!A14","v":"Vote 10 - Waste Water Management"},null,0,0,0,0,0,0,0,0,0,0,0,{"$f":"O14-SUM(C14:M14)","v":0},{"$f":"'A3-FinPerf V'!I14","v":0},{"$f":"'A3-FinPerf V'!J14","v":0},{"$f":"'A3-FinPerf V'!K14","v":0}]
[{"$f":"'A3-FinPerf V'!A15","v":"Vote 11 - Waste Management"},null,402000,609000,759000,838000,948000,860000,254000,498000,850000,1095000,1023000,536053,{"$f":"'A3-FinPerf V'!I15","v":8672053},{"$f":"'A3-FinPerf V'!J15","v":9140344},{"$f":"'A3-FinPerf V'!K15","v":9633923}]
[{"$f":"'A3-FinPerf V'!A16","v":"Vote 12 - [NAME OF VOTE 12]"},null,0,0,0,0,0,0,0,0,0,0,0,0,{"$f":"'A3-FinPerf V'!I16","v":0},{"$f":"'A3-FinPerf V'!J16","v":0},{"$f":"'A3-FinPerf V'!K16","v":0}]
[{"$f":"'A3-FinPerf V'!A17","v":"Vote 13 - [NAME OF VOTE 13]"},null,0,0,0,0,0,0,0,0,0,0,0,0,{"$f":"'A3-FinPerf V'!I17","v":0},{"$f":"'A3-FinPerf V'!J17","v":0},{"$f":"'A3-FinPerf V'!K17","v":0}]
[{"$f":"'A3-FinPerf V'!A18","v":"Vote 14 - [NAME OF VOTE 14]"},null,0,0,0,0,0,0,0,0,0,0,0,0,{"$f":"'A3-FinPerf V'!I18","v":0},{"$f":"'A3-FinPerf V'!J18","v":0},{"$f":"'A3-FinPerf V'!K18","v":0}]
[{"$f":"'A3-FinPerf V'!A19","v":"Vote 15 - [NAME OF VOTE 15]"},null,0,0,0,0,0,0,0,0,0,0,0,0,{"$f":"'A3-FinPerf V'!I19","v":0},{"$f":"'A3-FinPerf V'!J19","v":0},{"$f":"'A3-FinPerf V'!K19","v":0}]
[{"$f":"'A3-FinPerf V'!A20","v":"Total Revenue by Vote"},null,{"$f":"SUM(C5:C19)","v":140900762},7176980,4060820,{"$f":"SUM(F5:F19)","v":5221951},5342265,96890422,9952400,45929000,99016000,18222000,18234600,9195243,460142443,495327606,528562346]
[]
[{"$f":"'A3-FinPerf V'!A22","v":"Expenditure by Vote to be appropriated"}]
[{"$f":"A5","v":"Vote 1 - Executive & Council"},null,2863654,4374829,4329771,4433841,4433841,7928117,3317269,3541000,4100000,3894000,4521000,{"$f":"O23-SUM(C23:M23)","v":7305485},{"$f":"'A3-FinPerf V'!I23","v":55042807},{"$f":"'A3-FinPerf V'!J23","v":58188850},{"$f":"'A3-FinPerf V'!K23","v":61461249}]
["Vote 2 - Finance and Administration",null,8447000,9154000,8193438,8174277,8174277,15762859,6707169,9412000,6061800,6874000,7251000,4134557,{"$f":"'A3-FinPerf V'!I24","v":98346377},{"$f":"'A3-FinPerf V'!J24","v":103669749},{"$f":"'A3-FinPerf V'!K24","v":109799312}]
["Vote 3 - Internal Audit",null,213000,240000,183000,182000,132219,196970,157386,254000,352000,252000,289000,175156,{"$f":"'A3-FinPerf V'!I25","v":2626731},{"$f":"'A3-FinPerf V'!J25","v":2792493},{"$f":"'A3-FinPerf V'!K25","v":2968857}]
["Vote 4 - Community and Public Safety",null,268117,337371,441731,296998,296998,345619,294257,365000,246000,651000,698000,5861818,{"$f":"'A3-FinPerf V'!I26","v":10102909},{"$f":"'A3-FinPerf V'!J26","v":6712339},{"$f":"'A3-FinPerf V'!K26","v":7359085}]
["Vote 5 - Sports and Recreation",null,1276000,1144415,1240000,1452000,1240000,985922,1452000,1024000,1052000,1405000,1200000,1710759,{"$f":"'A3-FinPerf V'!I27","v":15182096},{"$f":"'A3-FinPerf V'!J27","v":16321355},{"$f":"'A3-FinPerf V'!K27","v":17399646}]
["Vote 6 - Housing",null,81000,69000,56861,55661,55661,57666,54958,66800,63000,69000,66800,80381,{"$f":"'A3-FinPerf V'!I28","v":776788},{"$f":"'A3-FinPerf V'!J28","v":830087},{"$f":"'A3-FinPerf V'!K28","v":887048}]
["Vote 7 - Planning and development ",null,1993000,1850000,1847000,1850000,1985000,1975000,1988000,1998000,1984000,1998000,1810000,2264563,{"$f":"'A3-FinPerf V'!I29","v":23542563},{"$f":"'A3-FinPerf V'!J29","v":16226548},{"$f":"'A3-FinPerf V'!K29","v":17220675}]
["Vote 8 - Road Transport",null,3240681,2462143,3713806,2771738,2771738,16446802,6507866,2800000,1520000,6500000,3512000,{"$f":"O30-SUM(C30:M30)","v":1773615},{"$f":"'A3-FinPerf V'!I30","v":54020389},{"$f":"'A3-FinPerf V'!J30","v":57289076},{"$f":"'A3-FinPerf V'!K30","v":60758546}]
["Vote 9 - Energy Sources",null,2387408,2367805,3005143,2886000,2886000,6034510,2632000,7520000,1952000,4368000,3421000,{"$f":"O31-SUM(C31:M31)","v":3226779},{"$f":"'A3-FinPerf V'!I31","v":42686645},{"$f":"'A3-FinPerf V'!J31","v":40832094},{"$f":"'A3-FinPerf V'!K31","v":43108554}]
[{"$f":"A14","v":"Vote 10 - Waste Water Management"},null,95000,52145,48241,52046,52046,48497,68624,81000,95000,52000,48000,{"$f":"O32-SUM(C32:M32)","v":59006},{"$f":"'A3-FinPerf V'!I32","v":751605},{"$f":"'A3-FinPerf V'!J32","v":802836},{"$f":"'A3-FinPerf V'!K32","v":857569}]
["Vote 11 - Waste Management",null,430000,429000,572345,445757,445757,437015,534536,415000,621000,298000,436000,444906,{"$f":"'A3-FinPerf V'!I33","v":5509316},{"$f":"'A3-FinPerf V'!J33","v":5839885},{"$f":"'A3-FinPerf V'!K33","v":6190587}]
["Vote 12 - [NAME OF VOTE 12]",null,0,0,0,0,0,0,0,0,0,0,0,0,{"$f":"'A3-FinPerf V'!I34","v":0},{"$f":"'A3-FinPerf V'!J34","v":0},{"$f":"'A3-FinPerf V'!K34","v":0}]
["Vote 13 - [NAME OF VOTE 13]",null,0,0,0,0,0,0,0,0,0,0,0,0,{"$f":"'A3-FinPerf V'!I35","v":0},{"$f":"'A3-FinPerf V'!J35","v":0},{"$f":"'A3-FinPerf V'!K35","v":0}]
["Vote 14 - [NAME OF VOTE 14]",null,0,0,0,0,0,0,0,0,0,0,0,0,{"$f":"'A3-FinPerf V'!I36","v":0},{"$f":"'A3-FinPerf V'!J36","v":0},{"$f":"'A3-FinPerf V'!K36","v":0}]
["Vote 15 - [NAME OF VOTE 15]",null,null,null,null,null,null,null,null,null,null,null,null,0,{"$f":"'A3-FinPerf V'!I37","v":0},{"$f":"'A3-FinPerf V'!J37","v":0},{"$f":"'A3-FinPerf V'!K37","v":0}]
[{"$f":"'A3-FinPerf V'!A38","v":"Total Expenditure by Vote"},null,{"$f":"SUM(C23:C37)","v":21294860},{"$f":"SUM(D23:D37)","v":22480708},23631336,22600318,22473537,50218977,23714065,27476800,18046800,26361000,23252800,27037025,{"$f":"SUM(O23:O37)","v":308588226},{"$f":"SUM(P23:P37)","v":309505312},{"$f":"SUM(Q23:Q37)","v":328011128}]
[]
[{"$f":"'A4-FinPerf RE'!A37&\" before assoc.\"","v":"Surplus/(Deficit) before assoc."},null,{"$f":"C20-C38","v":119605902},-15303728,-19570516,-17378367,-17131272,46671445,-13761665,18452200,80969200,-8139000,-5018200,-17841782,151554217,185822294,200551218]
[]
[{"$f":"'SA25'!A42","v":"Taxation"},null,0,0,0,0,0,0,0,0,0,0,0,{"$f":"O42-SUM(C42:M42)","v":0},{"$f":"'SA25'!O42","v":0},{"$f":"'SA25'!P42","v":0},{"$f":"'SA25'!Q42","v":0}]
[{"$f":"'SA25'!A43","v":"Attributable to minorities"},null,0,0,0,0,0,0,0,0,0,0,0,{"$f":"O43-SUM(C43:M43)","v":0},{"$f":"'SA25'!O43","v":0},{"$f":"'SA25'!P43","v":0},{"$f":"'SA25'!Q43","v":0}]
[{"$f":"'A4-FinPerf RE'!A46","v":"Share of surplus/ (deficit) of associate"},null,0,0,0,0,0,0,0,0,0,0,0,{"$f":"O44-SUM(C44:M44)","v":0},{"$f":"'A4-FinPerf RE'!J46","v":0},{"$f":"'A4-FinPerf RE'!K46","v":0},{"$f":"'A4-FinPerf RE'!L46","v":0}]
[{"$f":"'A4-FinPerf RE'!A37","v":"Surplus/(Deficit)"},1,{"$f":"C40+C44","v":119605902},{"$f":"D40+D44","v":-15303728},-19570516,-17378367,-17131272,46671445,-13761665,18452200,80969200,-8139000,-5018200,-17841782,151554217,185822294,200551218]
[{"$f":"head27a","v":"References"}]
["1. Surplus (Deficit) must reconcile with Budgeted Financial Performance"]
["check",null,null,null,null,null,null,null,null,null,null,null,null,null,{"$f":"O45-'A4-FinPerf RE'!J47","v":-4},{"$f":"P45-'A4-FinPerf RE'!K47","v":2},{"$f":"Q45-'A4-FinPerf RE'!L47","v":2}]

{"sheet":"SA27","index":48,"n_rows":56,"n_cols":17,"rows_kept":56,"cut":false,"hidden":false,"merged":[[1,2,1,13],[1,14,1,16]]}
[{"$f":"muni&\" - \"&TableA27","v":"LIM332 Greater Letaba - Supporting Table SA27 Budgeted monthly revenue and expenditure (functional classification)"}]
[{"$f":"desc","v":"Description"},{"$f":"head27","v":"Ref"},{"$f":"Head9","v":"Budget Year 2019/20"},null,null,null,null,null,null,null,null,null,null,null,"Medium Term Revenue and Expenditure Framework"]
["R thousand",null,"July","August","Sept.","October","November","December","January","February","March","April","May","June",{"$f":"Head9","v":"Budget Year 2019/20"},{"$f":"Head10","v":"Budget Year +1 2020/21"},{"$f":"Head11","v":"Budget Year +2 2021/22"}]
[{"$f":"'A2-FinPerf SC'!A4","v":"Revenue - Functional"}]
[{"$f":"'A2-FinPerf SC'!A5","v":"Governance and administration"},null,{"$f":"SUM(C6:C8)","v":138225024},{"$f":"SUM(D6:D8)","v":4058511},{"$f":"SUM(E6:E8)","v":1489422},2382104,2178136,93674951,3569000,38989000,91471000,9875000,6987000,{"$f":"O5-SUM(C5:M5)","v":2490213},{"$f":"'A2-FinPerf SC'!I5","v":395389361},{"$f":"'A2-FinPerf SC'!J5","v":420077858},{"$f":"'A2-FinPerf SC'!K5","v":449627111}]
[{"$f":"'A2-FinPerf SC'!A6","v":"Executive and council"},null,null,null,null,null,null,null,null,null,null,null,null,0,{"$f":"'A2-FinPerf SC'!I6","v":0},{"$f":"'A2-FinPerf SC'!J6","v":0},{"$f":"'A2-FinPerf SC'!K6","v":0}]
[{"$f":"'A2-FinPerf SC'!A7","v":"Finance and administration"},null,{"$f":"35556000+340301+3316+62736+1024763+100531000+706908","v":138225024},{"$f":"145894+5429+62709+1036239+2526000+282240","v":4058511},{"$f":"247296+883+62253+1052880+126110","v":1489422},{"$f":"253776+63495+2000000+64833","v":2382104},{"$f":"234981+15246+61562+1806676+59671","v":2178136},{"$f":"119758+4043+54437+1330280+81210000+215433+10741000","v":93674951},3569000,{"$f":"37500000+1489000","v":38989000},{"$f":"61000000+10471000+20000000","v":91471000},9875000,6987000,2490213,{"$f":"'A2-FinPerf SC'!I7","v":395389361},{"$f":"'A2-FinPerf SC'!J7","v":420077858},{"$f":"'A2-FinPerf SC'!K7","v":449627111}]
[{"$f":"'A2-FinPerf SC'!A8","v":"Internal audit"},null,null,null,null,null,null,null,null,null,null,null,null,0,{"$f":"'A2-FinPerf SC'!I8","v":0},{"$f":"'A2-FinPerf SC'!J8","v":0},{"$f":"'A2-FinPerf SC'!K8","v":0}]
[{"$f":"'A2-FinPerf SC'!A9","v":"Community and public safety"},null,{"$f":"SUM(C10:C14)","v":0},{"$f":"SUM(D10:D14)","v":0},0,0,0,0,0,0,0,0,0,0,{"$f":"'A2-FinPerf SC'!I9","v":0},{"$f":"'A2-FinPerf SC'!J9","v":0},{"$f":"'A2-FinPerf SC'!K9","v":0}]
[{"$f":"'A2-FinPerf SC'!A10","v":"Community and social services"},null,null,null,null,null,null,null,null,null,null,null,null,0,{"$f":"'A2-FinPerf SC'!I10","v":0},{"$f":"'A2-FinPerf SC'!J10","v":0},{"$f":"'A2-FinPerf SC'!K10","v":0}]
[{"$f":"'A2-FinPerf SC'!A11","v":"Sport and recreation"},null,null,null,null,null,null,null,null,null,null,null,null,0,{"$f":"'A2-FinPerf SC'!I11","v":0},{"$f":"'A2-FinPerf SC'!J11","v":0},{"$f":"'A2-FinPerf SC'!K11","v":0}]
[{"$f":"'A2-FinPerf SC'!A12","v":"Public safety"},null,null,null,null,null,null,null,null,null,null,null,null,0,{"$f":"'A2-FinPerf SC'!I12","v":0},{"$f":"'A2-FinPerf SC'!J12","v":0},{"$f":"'A2-FinPerf SC'!K12","v":0}]
[{"$f":"'A2-FinPerf SC'!A13","v":"Housing"},null,null,null,null,null,null,null,null,null,null,null,null,0,{"$f":"'A2-FinPerf SC'!I13","v":0},{"$f":"'A2-FinPerf SC'!J13","v":0},{"$f":"'A2-FinPerf SC'!K13","v":0}]
[{"$f":"'A2-FinPerf SC'!A14","v":"Health"},null,null,null,null,null,null,null,null,null,null,null,null,0,{"$f":"'A2-FinPerf SC'!I14","v":0},{"$f":"'A2-FinPerf SC'!J14","v":0},{"$f":"'A2-FinPerf SC'!K14","v":0}]
[{"$f":"'A2-FinPerf SC'!A15","v":"Economic and environmental services"},null,{"$f":"SUM(C16:C18)","v":1290456},{"$f":"SUM(D16:D18)","v":1755868},1193035,1177999,1635434,1071069,3587400,2900000,2854000,2398000,3587400,3965531,{"$f":"'A2-FinPerf SC'!I15","v":27416192},{"$f":"'A2-FinPerf SC'!J15","v":28896666},{"$f":"'A2-FinPerf SC'!K15","v":30457086}]
[{"$f":"'A2-FinPerf SC'!A16","v":"Planning and development"},null,null,null,null,null,null,null,null,null,null,null,null,0,{"$f":"'A2-FinPerf SC'!I16","v":0},{"$f":"'A2-FinPerf SC'!J16","v":0},{"$f":"'A2-FinPerf SC'!K16","v":0}]
[{"$f":"'A2-FinPerf SC'!A17","v":"Road transport"},null,{"$f":"9100+1281356","v":1290456},{"$f":"6275+1355115+394478","v":1755868},{"$f":"3534+1189501","v":1193035},1177999,{"$f":"3546+1631888","v":1635434},{"$f":"6200+1064869","v":1071069},3587400,2900000,2854000,2398000,3587400,3965531,{"$f":"'A2-FinPerf SC'!I17","v":27416192},{"$f":"'A2-FinPerf SC'!J17","v":28896666},{"$f":"'A2-FinPerf SC'!K17","v":30457086}]
[{"$f":"'A2-FinPerf SC'!A18","v":"Environmental protection"},null,null,null,null,null,null,null,null,null,null,null,null,0,{"$f":"'A2-FinPerf SC'!I18","v":0},{"$f":"'A2-FinPerf SC'!J18","v":0},{"$f":"'A2-FinPerf SC'!K18","v":0}]
[{"$f":"'A2-FinPerf SC'!A19","v":"Trading services"},null,{"$f":"SUM(C20:C23)","v":1385282},{"$f":"SUM(D20:D23)","v":1362601},1378363,1661848,1528695,2144402,2796000,4040000,4691000,5949000,7660200,{"$f":"O19-SUM(C19:M19)","v":2739499},{"$f":"'A2-FinPerf SC'!I19","v":37336890},{"$f":"'A2-FinPerf SC'!J19","v":46353082},{"$f":"'A2-FinPerf SC'!K19","v":48478149}]
[{"$f":"'A2-FinPerf SC'!A20","v":"Energy sources"},null,{"$f":"980865+2417","v":983282},{"$f":"751288+2313","v":753601},{"$f":"617206+2157","v":619363},{"$f":"821378+2470","v":823848},{"$f":"268544+312151","v":580695},{"$f":"625868+658534","v":1284402},2542000,3542000,3841000,4854000,6637200,2203446,{"$f":"'A2-FinPerf SC'!I20","v":28664837},{"$f":"'A2-FinPerf SC'!J20","v":37212738},{"$f":"'A2-FinPerf SC'!K20","v":38844226}]
[{"$f":"'A2-FinPerf SC'!A21","v":"Water management"},null,0,0,0,0,0,0,0,0,0,0,0,0,{"$f":"'A2-FinPerf SC'!I21","v":0},{"$f":"'A2-FinPerf SC'!J21","v":0},{"$f":"'A2-FinPerf SC'!K21","v":0}]
[{"$f":"'A2-FinPerf SC'!A22","v":"Waste water management"},null,0,0,0,0,0,0,0,0,0,0,0,0,{"$f":"'A2-FinPerf SC'!I22","v":0},{"$f":"'A2-FinPerf SC'!J22","v":0},{"$f":"'A2-FinPerf SC'!K22","v":0}]
[{"$f":"'A2-FinPerf SC'!A23","v":"Waste management"},null,402000,609000,759000,838000,948000,860000,254000,498000,850000,1095000,1023000,536053,{"$f":"'A2-FinPerf SC'!I23","v":8672053},{"$f":"'A2-FinPerf SC'!J23","v":9140344},{"$f":"'A2-FinPerf SC'!K23","v":9633923}]
[{"$f":"'A2-FinPerf SC'!A24","v":"Other"},null,null,null,null,null,null,null,null,null,null,null,null,0,{"$f":"'A2-FinPerf SC'!I24","v":0},{"$f":"'A2-FinPerf SC'!J24","v":0},{"$f":"'A2-FinPerf SC'!K24","v":0}]
[{"$f":"'A2-FinPerf SC'!A25","v":"Total Revenue - Functional"},null,{"$f":"C5+C9+C15+C19+C24","v":140900762},7176980,4060820,5221951,5342265,96890422,9952400,45929000,99016000,18222000,18234600,9195243,460142443,495327606,528562346]
[null,null,null,{"$f":"D6+D10+D16+D20+D25","v":7930581},4680183,6045799,5922960,98174824,12494400,49471000,102857000,23076000,{"$f":"M6+M10+M16+M20+M25","v":24871800}]
[{"$f":"'A2-FinPerf SC'!A27","v":"Expenditure - Functional"}]
[{"$f":"'A2-FinPerf SC'!A28","v":"Governance and administration"},null,{"$f":"SUM(C29:C31)","v":11523654},{"$f":"SUM(D29:D31)","v":13768829},{"$f":"SUM(E29:E31)","v":12706209},12790118,12740337,23887946,10181824,13207000,10513800,11020000,12061000,{"$f":"O28-SUM(C28:M28)","v":11615198},{"$f":"'A2-FinPerf SC'!I28","v":156015915},{"$f":"'A2-FinPerf SC'!J28","v":164651092},{"$f":"'A2-FinPerf SC'!K28","v":174229418}]
[{"$f":"'A2-FinPerf SC'!A29","v":"Executive and council"},null,2863654,4374829,4329771,4433841,4433841,7928117,3317269,3541000,4100000,3894000,4521000,7305485,{"$f":"'A2-FinPerf SC'!I29","v":55042807},{"$f":"'A2-FinPerf SC'!J29","v":58188850},{"$f":"'A2-FinPerf SC'!K29","v":61461249}]
[{"$f":"'A2-FinPerf SC'!A30","v":"Finance and administration"},null,8447000,9154000,8193438,8174277,8174277,15762859,6707169,9412000,6061800,6874000,7251000,4134557,{"$f":"'A2-FinPerf SC'!I30","v":98346377},{"$f":"'A2-FinPerf SC'!J30","v":103669749},{"$f":"'A2-FinPerf SC'!K30","v":109799312}]
[{"$f":"'A2-FinPerf SC'!A31","v":"Internal audit"},null,213000,240000,183000,182000,132219,196970,157386,254000,352000,252000,289000,175156,{"$f":"'A2-FinPerf SC'!I31","v":2626731},{"$f":"'A2-FinPerf SC'!J31","v":2792493},{"$f":"'A2-FinPerf SC'!K31","v":2968857}]
[{"$f":"'A2-FinPerf SC'!A32","v":"Community and public safety"},null,{"$f":"SUM(C33:C37)","v":1625117},{"$f":"SUM(D33:D37)","v":1550786},1738592,1804659,1592659,1389207,1801215,1455800,1361000,2125000,1964800,7652958,{"$f":"'A2-FinPerf SC'!I32","v":26061793},{"$f":"'A2-FinPerf SC'!J32","v":23863781},{"$f":"'A2-FinPerf SC'!K32","v":25645779}]
[{"$f":"'A2-FinPerf SC'!A33","v":"Community and social services"},null,268117,337371,441731,296998,296998,345619,294257,365000,246000,651000,698000,5861818,{"$f":"'A2-FinPerf SC'!I33","v":10102909},{"$f":"'A2-FinPerf SC'!J33","v":6712339},{"$f":"'A2-FinPerf SC'!K33","v":7359085}]
[{"$f":"'A2-FinPerf SC'!A34","v":"Sport and recreation"},null,1276000,1144415,1240000,1452000,1240000,985922,1452000,1024000,1052000,1405000,1200000,1710759,{"$f":"'A2-FinPerf SC'!I34","v":15182096},{"$f":"'A2-FinPerf SC'!J34","v":16321355},{"$f":"'A2-FinPerf SC'!K34","v":17399646}]
[{"$f":"'A2-FinPerf SC'!A35","v":"Public safety"},null,0,0,0,0,0,0,0,0,0,0,0,0,{"$f":"'A2-FinPerf SC'!I35","v":0},{"$f":"'A2-FinPerf SC'!J35","v":0},{"$f":"'A2-FinPerf SC'!K35","v":0}]
[{"$f":"'A2-FinPerf SC'!A36","v":"Housing"},null,81000,69000,56861,55661,55661,57666,54958,66800,63000,69000,66800,80381,{"$f":"'A2-FinPerf SC'!I36","v":776788},{"$f":"'A2-FinPerf SC'!J36","v":830087},{"$f":"'A2-FinPerf SC'!K36","v":887048}]
[{"$f":"'A2-FinPerf SC'!A37","v":"Health"},null,0,0,0,0,0,0,0,0,0,0,0,0,{"$f":"'A2-FinPerf SC'!I37","v":0},{"$f":"'A2-FinPerf SC'!J37","v":0},{"$f":"'A2-FinPerf SC'!K37","v":0}]
[{"$f":"'A2-FinPerf SC'!A38","v":"Economic and environmental services"},null,{"$f":"SUM(C39:C41)","v":5233681},{"$f":"SUM(D39:D41)","v":4312143},5560806,4621738,4756738,18421802,8495866,4798000,3504000,8498000,5322000,{"$f":"O38-SUM(C38:M38)","v":4038178},{"$f":"'A2-FinPerf SC'!I38","v":77562952},{"$f":"'A2-FinPerf SC'!J38","v":73515624},{"$f":"'A2-FinPerf SC'!K38","v":77979221}]
[{"$f":"'A2-FinPerf SC'!A39","v":"Planning and development"},null,1993000,1850000,1847000,1850000,1985000,1975000,1988000,1998000,1984000,1998000,1810000,2264563,{"$f":"'A2-FinPerf SC'!I39","v":23542563},{"$f":"'A2-FinPerf SC'!J39","v":16226548},{"$f":"'A2-FinPerf SC'!K39","v":17220675}]
[{"$f":"'A2-FinPerf SC'!A40","v":"Road transport"},null,3240681,2462143,3713806,2771738,2771738,16446802,6507866,2800000,1520000,6500000,3512000,1773615,{"$f":"'A2-FinPerf SC'!I40","v":54020389},{"$f":"'A2-FinPerf SC'!J40","v":57289076},{"$f":"'A2-FinPerf SC'!K40","v":60758546}]
[{"$f":"'A2-FinPerf SC'!A41","v":"Environmental protection"},null,0,0,0,0,0,0,0,0,0,0,0,0,{"$f":"'A2-FinPerf SC'!I41","v":0},{"$f":"'A2-FinPerf SC'!J41","v":0},{"$f":"'A2-FinPerf SC'!K41","v":0}]
[{"$f":"'A2-FinPerf SC'!A42","v":"Trading services"},null,{"$f":"SUM(C43:C46)","v":2912408},{"$f":"SUM(D43:D46)","v":2848950},3625729,3383803,3383803,6520022,3235160,8016000,2668000,4718000,3905000,{"$f":"O42-SUM(C42:M42)","v":3730691},{"$f":"'A2-FinPerf SC'!I42","v":48947566},{"$f":"'A2-FinPerf SC'!J42","v":47474815},{"$f":"'A2-FinPerf SC'!K42","v":50156710}]
[{"$f":"'A2-FinPerf SC'!A43","v":"Energy sources"},null,2387408,2367805,3005143,2886000,2886000,6034510,2632000,7520000,1952000,4368000,3421000,3226779,{"$f":"'A2-FinPerf SC'!I43","v":42686645},{"$f":"'A2-FinPerf SC'!J43","v":40832094},{"$f":"'A2-FinPerf SC'!K43","v":43108554}]
[{"$f":"'A2-FinPerf SC'!A44","v":"Water management"},null,0,0,0,0,0,0,0,0,0,0,0,0,{"$f":"'A2-FinPerf SC'!I44","v":0},{"$f":"'A2-FinPerf SC'!J44","v":0},{"$f":"'A2-FinPerf SC'!K44","v":0}]
[{"$f":"'A2-FinPerf SC'!A45","v":"Waste water management"},null,95000,52145,48241,52046,52046,48497,68624,81000,95000,52000,48000,59006,{"$f":"'A2-FinPerf SC'!I45","v":751605},{"$f":"'A2-FinPerf SC'!J45","v":802836},{"$f":"'A2-FinPerf SC'!K45","v":857569}]
[{"$f":"'A2-FinPerf SC'!A46","v":"Waste management"},null,430000,429000,572345,445757,445757,437015,534536,415000,621000,298000,436000,444906,{"$f":"'A2-FinPerf SC'!I46","v":5509316},{"$f":"'A2-FinPerf SC'!J46","v":5839885},{"$f":"'A2-FinPerf SC'!K46","v":6190587}]
[{"$f":"'A2-FinPerf SC'!A47","v":"Other"},null,0,0,0,0,0,0,0,0,0,0,0,0,{"$f":"'A2-FinPerf SC'!I47","v":0},{"$f":"'A2-FinPerf SC'!J47","v":0},{"$f":"'A2-FinPerf SC'!K47","v":0}]
[{"$f":"'A2-FinPerf SC'!A48","v":"Total Expenditure - Functional"},null,{"$f":"C28+C32+C38+C42+C47","v":21294860},{"$f":"D28+D32+D38+D42+D47","v":22480708},23631336,22600318,22473537,50218977,23714065,27476800,18046800,26361000,23252800,27037025,308588226,309505312,{"$f":"Q28+Q32+Q38+Q42+Q47","v":328011128}]
[]
[{"$f":"'A4-FinPerf RE'!A37&\" before assoc.\"","v":"Surplus/(Deficit) before assoc."},null,{"$f":"C25-C48","v":119605902},-15303728,-19570516,-17378367,-17131272,46671445,-13761665,18452200,80969200,-8139000,-5018200,-17841782,151554217,185822294,200551218]
[]
[{"$f":"'A4-FinPerf RE'!A46","v":"Share of surplus/ (deficit) of associate"},null,0,0,0,0,0,0,0,0,0,0,0,{"$f":"O52-SUM(C52:M52)","v":0},{"$f":"'A4-FinPerf RE'!J46","v":0},{"$f":"'A4-FinPerf RE'!K46","v":0},{"$f":"'A4-FinPerf RE'!L46","v":0}]
[{"$f":"'A4-FinPerf RE'!A37","v":"Surplus/(Deficit)"},1,{"$f":"C50+C52","v":119605902},{"$f":"D50+D52","v":-15303728},-19570516,-17378367,-17131272,46671445,-13761665,18452200,80969200,-8139000,-5018200,-17841782,151554217,185822294,200551218]
[{"$f":"head27a","v":"References"}]
["1. Surplus (Deficit) must reconcile with Budeted Financial Performance"]
["check",null,null,null,null,null,null,null,null,null,null,null,null,null,{"$f":"O53-'A4-FinPerf RE'!J47","v":-4},{"$f":"P53-'A4-FinPerf RE'!K47","v":2},{"$f":"Q53-'A4-FinPerf RE'!L47","v":2}]

{"sheet":"SA28","index":49,"n_rows":47,"n_cols":17,"rows_kept":47,"cut":false,"hidden":false,"merged":[[1,2,1,13],[1,14,1,16]]}
[{"$f":"muni&\" - \"& TableA28","v":"LIM332 Greater Letaba - Supporting Table SA28 Budgeted monthly capital expenditure (municipal vote)"}]
[{"$f":"desc","v":"Description"},{"$f":"head27","v":"Ref"},{"$f":"Head9","v":"Budget Year 2019/20"},null,null,null,null,null,null,null,null,null,null,null,"Medium Term Revenue and Expenditure Framework"]
["R thousand",null,"July","August","Sept.","October","Nov.","Dec.","January","Feb.","March","April","May","June",{"$f":"Head9","v":"Budget Year 2019/20"},{"$f":"Head10","v":"Budget Year +1 2020/21"},{"$f":"Head11","v":"Budget Year +2 2021/22"}]
["Multi-year expenditure to be appropriated",1]
[{"$f":"'A5-Capex'!A6","v":"Vote 1 - Executive & Council"},null,0,0,0,0,0,0,0,0,0,0,0,{"$f":"O5-SUM(C5:M5)","v":0},{"$f":"'A5-Capex'!J6","v":0},{"$f":"'A5-Capex'!K6","v":0},{"$f":"'A5-Capex'!L6","v":0}]
[{"$f":"'A5-Capex'!A7","v":"Vote 2 - Finance and Administration"},null,0,0,0,0,0,0,0,0,0,0,0,{"$f":"O6-SUM(C6:M6)","v":0},{"$f":"'A5-Capex'!J7","v":0},{"$f":"'A5-Capex'!K7","v":0},{"$f":"'A5-Capex'!L7","v":0}]
[{"$f":"'A5-Capex'!A8","v":"Vote 3 - Internal Audit"},null,0,0,0,0,0,0,0,0,0,0,0,0,{"$f":"'A5-Capex'!J8","v":0},{"$f":"'A5-Capex'!K8","v":0},{"$f":"'A5-Capex'!L8","v":0}]
[{"$f":"'A5-Capex'!A9","v":"Vote 4 - Community and Public Safety"},null,0,970000,0,1010000,0,1120000,0,0,0,0,0,0,{"$f":"'A5-Capex'!J9","v":3100000},{"$f":"'A5-Capex'!K9","v":3900000},{"$f":"'A5-Capex'!L9","v":0}]
[{"$f":"'A5-Capex'!A10","v":"Vote 5 - Sports and Recreation"},null,8640000,6500000,5100000,2300000,4520000,3600000,4150000,1950000,3540000,2035415,1300000,0,{"$f":"'A5-Capex'!J10","v":43635415},{"$f":"'A5-Capex'!K10","v":38582889},{"$f":"'A5-Capex'!L10","v":21681111}]
[{"$f":"'A5-Capex'!A11","v":"Vote 6 - Housing"},null,0,0,0,0,0,0,0,0,0,0,0,0,{"$f":"'A5-Capex'!J11","v":0},{"$f":"'A5-Capex'!K11","v":0},{"$f":"'A5-Capex'!L11","v":0}]
[{"$f":"'A5-Capex'!A12","v":"Vote 7 - Planning and development "},null,0,0,0,0,0,0,0,0,0,0,0,0,{"$f":"'A5-Capex'!J12","v":0},{"$f":"'A5-Capex'!K12","v":0},{"$f":"'A5-Capex'!L12","v":0}]
[{"$f":"'A5-Capex'!A13","v":"Vote 8 - Road Transport"},null,9870000,8500000,8900000,3740000,1850000,6200000,4500000,3500000,4471000,5209758,0,{"$f":"O12-SUM(C12:M12)","v":0},{"$f":"'A5-Capex'!J13","v":56740758},{"$f":"'A5-Capex'!K13","v":126765055},{"$f":"'A5-Capex'!L13","v":141871156}]
[{"$f":"'A5-Capex'!A14","v":"Vote 9 - Energy Sources"},null,0,0,0,0,0,0,0,0,0,0,0,{"$f":"O13-SUM(C13:M13)","v":0},{"$f":"'A5-Capex'!J14","v":0},{"$f":"'A5-Capex'!K14","v":0},{"$f":"'A5-Capex'!L14","v":0}]
[{"$f":"'A5-Capex'!A15","v":"Vote 10 - Waste Water Management"},null,0,0,0,0,0,0,0,0,0,0,0,{"$f":"O14-SUM(C14:M14)","v":0},{"$f":"'A5-Capex'!J15","v":0},{"$f":"'A5-Capex'!K15","v":0},{"$f":"'A5-Capex'!L15","v":0}]
[{"$f":"'A5-Capex'!A16","v":"Vote 11 - Waste Management"},null,0,0,0,0,0,0,0,0,0,0,0,0,{"$f":"'A5-Capex'!J16","v":0},{"$f":"'A5-Capex'!K16","v":0},{"$f":"'A5-Capex'!L16","v":0}]
[{"$f":"'A5-Capex'!A17","v":"Vote 12 - [NAME OF VOTE 12]"},null,0,0,0,0,0,0,0,0,0,0,0,0,{"$f":"'A5-Capex'!J17","v":0},{"$f":"'A5-Capex'!K17","v":0},{"$f":"'A5-Capex'!L17","v":0}]
[{"$f":"'A5-Capex'!A18","v":"Vote 13 - [NAME OF VOTE 13]"},null,0,0,0,0,0,0,0,0,0,0,0,0,{"$f":"'A5-Capex'!J18","v":0},{"$f":"'A5-Capex'!K18","v":0},{"$f":"'A5-Capex'!L18","v":0}]
[{"$f":"'A5-Capex'!A19","v":"Vote 14 - [NAME OF VOTE 14]"},null,0,0,0,0,0,0,0,0,0,0,0,0,{"$f":"'A5-Capex'!J19","v":0},{"$f":"'A5-Capex'!K19","v":0},{"$f":"'A5-Capex'!L19","v":0}]
[{"$f":"'A5-Capex'!A20","v":"Vote 15 - [NAME OF VOTE 15]"},null,0,0,0,0,0,0,0,0,0,0,0,0,{"$f":"'A5-Capex'!J20","v":0},{"$f":"'A5-Capex'!K20","v":0},{"$f":"'A5-Capex'!L20","v":0}]
["Capital multi-year expenditure sub-total",2,{"$f":"SUM(C5:C19)","v":18510000},{"$f":"SUM(D5:D19)","v":15970000},14000000,7050000,6370000,10920000,8650000,5450000,8011000,7245173,{"$f":"SUM(M5:M19)","v":1300000},0,103476173,169247944,163552267]
[]
["Single-year expenditure to be appropriated"]
[{"$f":"'A5-Capex'!A24","v":"Vote 1 - Executive & Council"},null,0,0,525000,0,0,0,0,0,0,0,0,{"$f":"O23-SUM(C23:M23)","v":0},{"$f":"'A5-Capex'!J24","v":525000},{"$f":"'A5-Capex'!K24","v":0},{"$f":"'A5-Capex'!L24","v":0}]
[{"$f":"'A5-Capex'!A25","v":"Vote 2 - Finance and Administration"},null,0,0,0,417000,2000000,0,2000000,0,0,0,0,{"$f":"O24-SUM(C24:M24)","v":0},{"$f":"'A5-Capex'!J25","v":4417000},{"$f":"'A5-Capex'!K25","v":0},{"$f":"'A5-Capex'!L25","v":0}]
[{"$f":"'A5-Capex'!A26","v":"Vote 3 - Internal Audit"},null,0,0,0,0,0,0,0,0,0,0,0,0,{"$f":"'A5-Capex'!J26","v":0},{"$f":"'A5-Capex'!K26","v":0},{"$f":"'A5-Capex'!L26","v":0}]
[{"$f":"'A5-Capex'!A27","v":"Vote 4 - Community and Public Safety"},null,575000,0,900000,0,388000,0,0,0,0,0,0,0,{"$f":"'A5-Capex'!J27","v":1863000},{"$f":"'A5-Capex'!K27","v":0},{"$f":"'A5-Capex'!L27","v":0}]
[{"$f":"'A5-Capex'!A28","v":"Vote 5 - Sports and Recreation"},null,0,0,0,0,0,0,0,0,0,0,0,0,{"$f":"'A5-Capex'!J28","v":0},{"$f":"'A5-Capex'!K28","v":0},{"$f":"'A5-Capex'!L28","v":0}]
[{"$f":"'A5-Capex'!A29","v":"Vote 6 - Housing"},null,0,0,0,0,0,0,0,0,0,0,0,0,{"$f":"'A5-Capex'!J29","v":0},{"$f":"'A5-Capex'!K29","v":0},{"$f":"'A5-Capex'!L29","v":0}]
[{"$f":"'A5-Capex'!A30","v":"Vote 7 - Planning and development "},null,0,0,0,0,0,0,0,0,0,0,0,0,{"$f":"'A5-Capex'!J30","v":0},{"$f":"'A5-Capex'!K30","v":0},{"$f":"'A5-Capex'!L30","v":0}]
[{"$f":"'A5-Capex'!A31","v":"Vote 8 - Road Transport"},null,520000,1800000,0,0,1823047,0,5500000,6000000,0,0,0,{"$f":"O30-SUM(C30:M30)","v":0},{"$f":"'A5-Capex'!J31","v":15643047},{"$f":"'A5-Capex'!K31","v":3747986},{"$f":"'A5-Capex'!L31","v":3998733}]
[{"$f":"'A5-Capex'!A32","v":"Vote 9 - Energy Sources"},null,700000,0,1100000,2400000,600000,0,1200000,0,5200000,3300000,600000,{"$f":"O31-SUM(C31:M31)","v":0},{"$f":"'A5-Capex'!J32","v":15100000},{"$f":"'A5-Capex'!K32","v":9500000},{"$f":"'A5-Capex'!L32","v":17491920}]
[{"$f":"'A5-Capex'!A33","v":"Vote 10 - Waste Water Management"},null,0,2980000,0,0,0,700000,0,0,0,0,0,{"$f":"O32-SUM(C32:M32)","v":0},{"$f":"'A5-Capex'!J33","v":3680000},{"$f":"'A5-Capex'!K33","v":3326364},{"$f":"'A5-Capex'!L33","v":15508298}]
[{"$f":"'A5-Capex'!A34","v":"Vote 11 - Waste Management"},null,0,0,1400000,2115000,0,890000,1000000,0,0,0,850000,595000,{"$f":"'A5-Capex'!J34","v":6850000},{"$f":"'A5-Capex'!K34","v":0},{"$f":"'A5-Capex'!L34","v":0}]
[{"$f":"'A5-Capex'!A35","v":"Vote 12 - [NAME OF VOTE 12]"},null,0,0,0,0,0,0,0,0,0,0,0,0,{"$f":"'A5-Capex'!J35","v":0},{"$f":"'A5-Capex'!K35","v":0},{"$f":"'A5-Capex'!L35","v":0}]
[{"$f":"'A5-Capex'!A36","v":"Vote 13 - [NAME OF VOTE 13]"},null,0,0,0,0,0,0,0,0,0,0,0,0,{"$f":"'A5-Capex'!J36","v":0},{"$f":"'A5-Capex'!K36","v":0},{"$f":"'A5-Capex'!L36","v":0}]
[{"$f":"'A5-Capex'!A37","v":"Vote 14 - [NAME OF VOTE 14]"},null,0,0,0,0,0,0,0,0,0,0,0,0,{"$f":"'A5-Capex'!J37","v":0},{"$f":"'A5-Capex'!K37","v":0},{"$f":"'A5-Capex'!L37","v":0}]
[{"$f":"'A5-Capex'!A38","v":"Vote 15 - [NAME OF VOTE 15]"},null,0,0,0,0,0,0,0,0,0,0,0,0,{"$f":"'A5-Capex'!J38","v":0},{"$f":"'A5-Capex'!K38","v":0},{"$f":"'A5-Capex'!L38","v":0}]
["Capital single-year expenditure sub-total",2,{"$f":"SUM(C23:C37)","v":1795000},4780000,3925000,4932000,4811047,1590000,9700000,6000000,5200000,3300000,1450000,595000,48078047,16574350,36998951]
["Total Capital Expenditure",2,{"$f":"C20+C38","v":20305000},{"$f":"D20+D38","v":20750000},17925000,11982000,11181047,12510000,18350000,11450000,13211000,10545173,2750000,595000,{"$f":"O20+O38","v":151554220},{"$f":"P20+P38","v":185822294},{"$f":"Q20+Q38","v":200551218}]
[]
[]
[{"$f":"head27a","v":"References"}]
["1. Table should be completed as either Multi-Year expenditure appropriation or Budget Year and Forward Year estimates"]
["2. Total Capital Expenditure must reconcile to Budgeted Capital Expenditure"]
["check",null,null,null,null,null,null,null,null,null,null,null,null,null,{"$f":"O20-'A5-Capex'!J21","v":0},{"$f":"P20-'A5-Capex'!K21","v":0},{"$f":"Q20-'A5-Capex'!L21","v":0}]
[]
[null,null,null,null,"Add single year stuff"]

{"sheet":"SA29","index":50,"n_rows":40,"n_cols":17,"rows_kept":40,"cut":false,"hidden":false,"merged":[[1,2,1,13],[1,14,1,16]]}
[{"$f":"muni&\" - \"& TableA29","v":"LIM332 Greater Letaba - Supporting Table SA29 Budgeted monthly capital expenditure (functional classification)"}]
[{"$f":"desc","v":"Description"},{"$f":"head27","v":"Ref"},{"$f":"Head9","v":"Budget Year 2019/20"},null,null,null,null,null,null,null,null,null,null,null,"Medium Term Revenue and Expenditure Framework"]
["R thousand",null,"July","August","Sept.","October","Nov.","Dec.","January","Feb.","March","April","May","June",{"$f":"Head9","v":"Budget Year 2019/20"},{"$f":"Head10","v":"Budget Year +1 2020/21"},{"$f":"Head11","v":"Budget Year +2 2021/22"}]
[{"$f":"'A5-Capex'!A42","v":"Capital Expenditure - Functional"},1]
[{"$f":"'A5-Capex'!A43","v":"Governance and administration"},null,{"$f":"SUM(C6:C8)","v":0},{"$f":"SUM(D6:D8)","v":0},{"$f":"SUM(E6:E8)","v":525000},417000,2000000,0,2000000,0,0,0,0,{"$f":"O5-SUM(C5:M5)","v":0},{"$f":"'A5-Capex'!J43","v":4942000},{"$f":"'A5-Capex'!K43","v":0},{"$f":"'A5-Capex'!L43","v":0}]
[{"$f":"'A5-Capex'!A44","v":"Executive and council"},null,0,0,525000,0,0,0,0,0,0,0,0,{"$f":"O6-SUM(C6:M6)","v":0},{"$f":"'A5-Capex'!J44","v":525000},{"$f":"'A5-Capex'!K44","v":0},{"$f":"'A5-Capex'!L44","v":0}]
[{"$f":"'A5-Capex'!A45","v":"Finance and administration"},null,0,0,0,417000,2000000,0,2000000,0,0,0,0,0,{"$f":"'A5-Capex'!J45","v":4417000},{"$f":"'A5-Capex'!K45","v":0},{"$f":"'A5-Capex'!L45","v":0}]
[{"$f":"'A5-Capex'!A46","v":"Internal audit"},null,null,null,null,null,null,null,null,null,null,null,null,0,{"$f":"'A5-Capex'!J46","v":0},{"$f":"'A5-Capex'!K46","v":0},{"$f":"'A5-Capex'!L46","v":0}]
[{"$f":"'A5-Capex'!A47","v":"Community and public safety"},null,{"$f":"SUM(C10:C14)","v":1500000},{"$f":"SUM(D10:D14)","v":4441000},4500000,7700000,9400000,14900000,9157000,0,0,0,0,415,{"$f":"'A5-Capex'!J47","v":51598415},{"$f":"'A5-Capex'!K47","v":55259253},{"$f":"'A5-Capex'!L47","v":76173031}]
[{"$f":"'A5-Capex'!A48","v":"Community and social services"},null,0,963000,0,1500000,900000,900000,700000,0,0,0,0,0,{"$f":"'A5-Capex'!J48","v":4963000},{"$f":"'A5-Capex'!K48","v":3900000},{"$f":"'A5-Capex'!L48","v":0}]
[{"$f":"'A5-Capex'!A49","v":"Sport and recreation"},null,1500000,478000,4500000,6200000,8500000,14000000,8457000,0,0,0,0,415,{"$f":"'A5-Capex'!J49","v":43635415},{"$f":"'A5-Capex'!K49","v":38582889},{"$f":"'A5-Capex'!L49","v":21681111}]
[{"$f":"'A5-Capex'!A50","v":"Public safety"},null,0,3000000,0,0,0,0,0,0,0,0,0,0,{"$f":"'A5-Capex'!J50","v":3000000},{"$f":"'A5-Capex'!K50","v":12776364},{"$f":"'A5-Capex'!L50","v":54491920}]
[{"$f":"'A5-Capex'!A51","v":"Housing"},null,null,null,null,null,null,null,null,null,null,null,null,0,{"$f":"'A5-Capex'!J51","v":0},{"$f":"'A5-Capex'!K51","v":0},{"$f":"'A5-Capex'!L51","v":0}]
[{"$f":"'A5-Capex'!A52","v":"Health"},null,null,null,null,null,null,null,null,null,null,null,null,0,{"$f":"'A5-Capex'!J52","v":0},{"$f":"'A5-Capex'!K52","v":0},{"$f":"'A5-Capex'!L52","v":0}]
[{"$f":"'A5-Capex'!A53","v":"Economic and environmental services"},null,{"$f":"SUM(C16:C18)","v":5870000},{"$f":"SUM(D16:D18)","v":9100000},6750000,4570000,2700000,12000000,11800000,4800000,8400000,6694000,0,-195,{"$f":"'A5-Capex'!J53","v":72683805},{"$f":"'A5-Capex'!K53","v":110513041},{"$f":"'A5-Capex'!L53","v":85869889}]
[{"$f":"'A5-Capex'!A54","v":"Planning and development"},null,null,null,null,null,null,null,null,null,null,null,null,0,{"$f":"'A5-Capex'!J54","v":0},{"$f":"'A5-Capex'!K54","v":0},{"$f":"'A5-Capex'!L54","v":0}]
[{"$f":"'A5-Capex'!A55","v":"Road transport"},null,5870000,9100000,6750000,4570000,2700000,12000000,11800000,4800000,8400000,6694000,null,-195,{"$f":"'A5-Capex'!J55","v":72683805},{"$f":"'A5-Capex'!K55","v":110513041},{"$f":"'A5-Capex'!L55","v":85869889}]
[{"$f":"'A5-Capex'!A56","v":"Environmental protection"},null,null,null,null,null,null,null,null,null,null,null,null,0,{"$f":"'A5-Capex'!J56","v":0},{"$f":"'A5-Capex'!K56","v":0},{"$f":"'A5-Capex'!L56","v":0}]
[{"$f":"'A5-Capex'!A57","v":"Trading services"},null,{"$f":"SUM(C20:C23)","v":700000},{"$f":"SUM(D20:D23)","v":2980000},2500000,4515000,600000,1590000,2200000,0,5200000,0,1450000,{"$f":"O19-SUM(C19:M19)","v":595000},{"$f":"'A5-Capex'!J57","v":22330000},{"$f":"'A5-Capex'!K57","v":20050000},{"$f":"'A5-Capex'!L57","v":38508298}]
[{"$f":"'A5-Capex'!A58","v":"Energy sources"},null,700000,0,1100000,2400000,600000,0,1200000,0,5200000,0,600000,0,{"$f":"'A5-Capex'!J58","v":11800000},{"$f":"'A5-Capex'!K58","v":7000000},{"$f":"'A5-Capex'!L58","v":7000000}]
[{"$f":"'A5-Capex'!A59","v":"Water management"},null,null,null,null,null,null,null,null,null,null,null,null,0,{"$f":"'A5-Capex'!J59","v":0},{"$f":"'A5-Capex'!K59","v":0},{"$f":"'A5-Capex'!L59","v":0}]
[{"$f":"'A5-Capex'!A60","v":"Waste water management"},null,0,2980000,0,0,0,700000,0,0,0,0,0,0,{"$f":"'A5-Capex'!J60","v":3680000},{"$f":"'A5-Capex'!K60","v":13050000},{"$f":"'A5-Capex'!L60","v":31508298}]
[{"$f":"'A5-Capex'!A61","v":"Waste management"},null,0,0,1400000,2115000,0,890000,1000000,0,0,0,850000,595000,{"$f":"'A5-Capex'!J61","v":6850000},{"$f":"'A5-Capex'!K61","v":0},{"$f":"'A5-Capex'!L61","v":0}]
[{"$f":"'A5-Capex'!A62","v":"Other"},null,0,0,0,0,0,0,0,0,0,0,0,{"$f":"O24-SUM(C24:M24)","v":0},{"$f":"'A5-Capex'!J62","v":0},{"$f":"'A5-Capex'!K62","v":0},{"$f":"'A5-Capex'!L62","v":0}]
[{"$f":"'A5-Capex'!A63","v":"Total Capital Expenditure - Functional"},2,{"$f":"C5+C9+C15+C19+C24","v":8070000},{"$f":"D5+D9+D15+D19+D24","v":16521000},14275000,17202000,14700000,28490000,25157000,4800000,13600000,6694000,1450000,{"$f":"N5+N9+N15+N19+N24","v":595220},151554220,185822294,200551218]
[]
["Funded by:"]
["National Government",null,31000000,0,0,0,0,18000000,0,0,8608000,0,0,{"$f":"O28-SUM(C28:M28)","v":0},{"$f":"'A5-Capex'!J66","v":57608000},{"$f":"'A5-Capex'!K66","v":60783000},{"$f":"'A5-Capex'!L66","v":65351000}]
["Provincial Government",null,null,null,null,null,null,null,null,null,null,null,null,{"$f":"O29-SUM(C29:M29)","v":0},{"$f":"'A5-Capex'!J67","v":0},{"$f":"'A5-Capex'!K67","v":0},{"$f":"'A5-Capex'!L67","v":0}]
["District Municipality",null,null,null,null,null,null,null,null,null,null,null,null,0,{"$f":"'A5-Capex'!J68","v":0},{"$f":"'A5-Capex'!K68","v":0},{"$f":"'A5-Capex'!L68","v":0}]
["Other transfers and grants",null,0,0,0,0,0,0,0,0,0,0,0,{"$f":"O31-SUM(C31:M31)","v":0},{"$f":"'A5-Capex'!J69","v":0},{"$f":"'A5-Capex'!K69","v":7000000},{"$f":"'A5-Capex'!L69","v":7000000}]
["Transfers recognised - capital",null,{"$f":"SUM(C28:C31)","v":31000000},0,0,0,0,18000000,0,0,8608000,0,0,{"$f":"SUM(N28:N31)","v":0},57608000,67783000,72351000]
[]
["Borrowing",null,null,null,null,null,null,null,null,null,null,null,null,0,{"$f":"'A5-Capex'!J72","v":0},{"$f":"'A5-Capex'!K72","v":0},{"$f":"'A5-Capex'!L72","v":0}]
["Internally generated funds",null,5870000,15000000,8700000,6240000,2450000,15000000,10500000,8640000,7500000,5780000,6600000,1666220,{"$f":"'A5-Capex'!J73","v":93946220},{"$f":"'A5-Capex'!K73","v":118039294},{"$f":"'A5-Capex'!L73","v":128200218}]
["Total Capital Funding",null,{"$f":"+C32+C34+C35","v":36870000},{"$f":"+D32+D34+D35","v":15000000},8700000,6240000,2450000,33000000,10500000,8640000,16108000,5780000,6600000,1666220,151554220,185822294,200551218]
[{"$f":"head27a","v":"References"}]
["1. Table should be completed as either Multi-Year expenditure appropriation or Budget Year and Forward Year estimates"]
[{"$f":"'SA28'!A44","v":"2. Total Capital Expenditure must reconcile to Budgeted Capital Expenditure"}]
["check"]

{"sheet":"SA30","index":51,"n_rows":63,"n_cols":19,"rows_kept":63,"cut":false,"hidden":false,"merged":[[1,13,1,15],[1,1,1,12],[56,0,56,15]]}
[{"$f":"muni&\" - \"& TableA30","v":"LIM332 Greater Letaba - Supporting Table SA30 Budgeted monthly cash flow"}]
["MONTHLY CASH FLOWS",{"$f":"Head9","v":"Budget Year 2019/20"},null,null,null,null,null,null,null,null,null,null,null,"Medium Term Revenue and Expenditure Framework"]
["R thousand","July","August","Sept.","October","November","December","January","February","March","April","May","June",{"$f":"Head9","v":"Budget Year 2019/20"},{"$f":"Head10","v":"Budget Year +1 2020/21"},{"$f":"Head11","v":"Budget Year +2 2021/22"}]
["Cash Receipts By Source",null,null,null,null,null,null,null,null,null,null,null,null,1]
[{"$f":"'A4-FinPerf RE'!A5","v":"Property rates"},340301,345894,247296,253776,234981,119758,875608,1393897,1985000,1993608,1523000,{"$f":"N5-SUM(B5:L5)","v":1330987.6029119994},{"$f":"17740177.67152*0.6","v":10644106.602911999},{"$f":"18698147.2657821*0.6","v":11218888.359469259},{"$f":"19707847.2181343*0.6","v":11824708.330880579},100001,100001,100001]
[{"$f":"'A4-FinPerf RE'!A6","v":"Service charges - electricity revenue"},983282,753601,619363,823848,580695,1284402,1647513,1650000,2290653,2897000,3254000,3806769.925536003,{"$f":"25738908.65692*0.8","v":20591126.925536003},{"$f":"27128809.7243937*0.8","v":21703047.779514961},{"$f":"28593765.4495109*0.8","v":22875012.359608721}]
[{"$f":"'A4-FinPerf RE'!A7","v":"Service charges - water revenue"},0,0,0,0,0,0,0,0,0,0,0,0,0,0,0]
[{"$f":"'A4-FinPerf RE'!A8","v":"Service charges - sanitation revenue"},0,0,0,0,0,0,0,0,0,0,0,0,0,0,0]
[{"$f":"'A4-FinPerf RE'!A9","v":"Service charges - refuse revenue"},101626,109070,474076,137964,147832,59980,634542,800000,852000,752000,775000,359142.07278399915,{"$f":"8672053.45464*0.6","v":5203232.0727839991},{"$f":"9140344.34119056*0.6","v":5484206.6047143359},{"$f":"9633922.93561485*0.6","v":5780353.7613689099}]
[]
[{"$f":"'A4-FinPerf RE'!A11","v":"Rental of facilities and equipment"},85000,69000,71000,28000,15246,43000,25000,24000,50500,87000,91000,15184.599999999977,{"$f":"1006551*0.6","v":603930.6},{"$f":"1060905*0.6","v":636543},{"$f":"1118194*0.6","v":670916.4}]
[{"$f":"'A4-FinPerf RE'!A12","v":"Interest earned - external investments"},62736,62709,62253,63495,61562,54437,54816,56700,165000,145000,125000,1939010,{"$f":"4754530*0.6","v":2852718},{"$f":"5011275*0.6","v":3006765},{"$f":"5281884*0.6","v":3169130.4}]
[{"$f":"'A4-FinPerf RE'!A13","v":"Interest earned - outstanding debtors"},1024763,1036239,1052880,1011000,1007000,1030000,985000,950000,1107000,1036000,1025000,871612.59999999963,{"$f":"20227491*0.6","v":12136494.6},{"$f":"21319776*0.6","v":12791865.6},{"$f":"22471044*0.6","v":13482626.4}]
[{"$f":"'A4-FinPerf RE'!A14","v":"Dividends received"},0,0,0,0,0,0,0,0,0,0,0,0,0,0,0]
[{"$f":"'A4-FinPerf RE'!A15","v":"Fines, penalties and forfeits"},49000,76000,89000,95000,74000,66000,54000,99875,81000,140000,108000,78045,{"$f":"1262400*0.8","v":1009920},{"$f":"1330570*0.8","v":1064456},{"$f":"1402420*0.8","v":1121936}]
[{"$f":"'A4-FinPerf RE'!A16","v":"Licences and permits"},1281356,1355115,1189501,1177999,1631888,1064869,1293000,1287000,1003000,1020000,1078000,937047,{"$f":"23864625*0.6","v":14318775},{"$f":"25153315*0.6","v":15091989},{"$f":"26511594*0.6","v":15906956.399999999}]
[{"$f":"'A4-FinPerf RE'!A17","v":"Agency services"},115000,125000,106000,97000,101000,97500,87000,99000,136000,141000,169000,100000.19999999995,{"$f":"2289167*0.6","v":1373500.2},{"$f":"2412782*0.6","v":1447669.2},{"$f":"2543072*0.6","v":1525843.2}]
["Transfer receipts - operational",115531000,2526000,0,0,0,99820000,0,4356000,59391000,0,0,0,281624000,300105000,321890000]
[{"$f":"'A4-FinPerf RE'!A19","v":"Other revenue"},43000,45000,41000,39000,39000,46000,44000,55000,61000,93000,64000,37004,607004,639782,674330]
["Cash Receipts by Source",{"$f":"SUM(B5:B9)+SUM(B11:B19)","v":119617064},{"$f":"SUM(C5:C9)+SUM(C11:C19)","v":6503628},3952369,3727082,3893204,103685946,5700479,10771472,67122153,8304608,8212000,9474803.0012320019,350964808.00123197,373190212.54369855,398921813.25185823]
[]
["Other Cash Flows by Source"]
["Transfer receipts - capital",22900000,0,0,0,0,20108000,0,null,14600000,0,0,{"$f":"N23-SUM(B23:L23)","v":0},57608000,{"$f":"60783000+7000000","v":67783000},{"$f":"65351000+7000000","v":72351000}]
[{"$f":"'A4-FinPerf RE'!A39&\" & \"&'A4-FinPerf RE'!A40","v":"Transfers and subsidies - capital (monetary allocations) (National / Provincial Departmental Agencies, Households, Non-profit Institutions, Private Enterprises, Public Corporatons, Higher Educational Institutions) & Transfers and subsidies - capital (in-kind - all) "},null,null,null,null,null,null,null,null,null,null,null,0]
[{"$f":"'A7-CFlow'!A21","v":"Proceeds on disposal of PPE"},0,0,0,0,0,0,0,0,0,577000,0,0,577000,577000,577000]
[{"$f":"'A7-CFlow'!A31","v":"Short term loans"},null,null,null,null,null,null,null,null,null,null,null,0]
[{"$f":"'A7-CFlow'!A32","v":"Borrowing long term/refinancing"},null,null,null,null,null,null,null,null,null,null,null,0]
[{"$f":"'A7-CFlow'!A33","v":"Increase (decrease) in consumer deposits"},null,null,null,null,null,null,null,null,null,null,null,0]
[{"$f":"'A7-CFlow'!A22","v":"Decrease (Increase) in non-current debtors"},null,null,null,null,null,null,null,null,null,null,null,0]
[{"$f":"'A7-CFlow'!A23","v":"Decrease (increase) other non-current receivables"},null,null,null,null,null,null,null,null,null,null,null,0]
[{"$f":"'A7-CFlow'!A24","v":"Decrease (increase) in non-current investments"},null,null,null,null,null,null,null,null,null,null,null,0]
["Total Cash Receipts by Source",{"$f":"SUM(B20:B31)","v":142517064},6503628,3952369,3727082,3893204,123793946,5700479,10771472,81722153,8881608,8212000,9474803.0012320019,409149808.00123197,441550212.54369855,471849813.25185823]
[]
["Cash Payments by Type"]
["Employee related costs",8912000,8902217,8906896,8911710,8502874,8305283,{"$f":"8172227-68179-528975","v":7575073},8986000,9351000,9527200,9912000,{"$f":"N35-SUM(B35:L35)","v":9843882},107636135,115063029,123002381]
["Remuneration of councillors",1931000,1917000,1951000,1917000,1905000,1905000,1917000,2150000,2100000,2100000,2100000,2178901,24071901,25371784,26741860]
["Finance charges",null,null,null,null,null,null,null,null,null,null,null,0]
["Bulk purchases - Electricity",1943765,1941629,2445230,1077018,1051644,1001826,925624,1077018,1250000,1547000,1865000,1859826,17985580,18956801,19980468]
["Bulk purchases - Water & Sewer",0,0,0,0,0,0,0,0,0,0,0,0]
["Other materials",0,0,0,0,0,0,0,0,0,0,0,0]
["Contracted services",977784,867912,2830276,2628462,735088,2037696,1411417,1540000,895000,1542000,1798000,2195991,19459626,20510449,21618010]
["Transfers and grants - other municipalities",0,0,0,0,0,0,0,0,0,0,0,0]
["Transfers and grants - other",0,0,0,0,0,0,0,0,0,0,0,0]
["Other expenditure",3831257,8821685,8484000,8216812,2837810,18681599,{"$f":"10458000-200000","v":10258000},2975000,12956000,9542000,10778000,4895656.0200000107,{"$f":"131125409*0.78","v":102277819.02000001},120844965,127437176]
["Cash Payments by Type",{"$f":"SUM(B35:B44)","v":17595806},22450443,24617402,22751002,15032416,31931404,22087114,16728018,26552000,24258200,26453000,20974256.020000011,{"$f":"SUM(N35:N44)","v":271431061.01999998},300747028,{"$f":"SUM(P35:P44)","v":318779895}]
[]
["Other Cash Flows/Payments by Type"]
[{"$f":"'A7-CFlow'!A26","v":"Capital assets"},5800000,10500000,11000000,10500000,13500000,13450000,11900000,11780000,19000000,11400000,9700000,{"$f":"N48-SUM(B48:L48)","v":6888798},{"$f":"136398798-980000","v":135418798},139945000,153152000]
[{"$f":"'A7-CFlow'!A35","v":"Repayment of borrowing"},0,0,0,0,0,0,0,0,0,0,0,{"$f":"N49-SUM(B49:L49)","v":0},0,0,0]
[{"$f":"LEFT(A47,25)","v":"Other Cash Flows/Payments"},0,0,0,0,0,0,0,0,0,0,0,{"$f":"N50-SUM(B50:L50)","v":0},0,0,0]
["Total Cash Payments by Type",{"$f":"SUM(B45:B50)","v":23395806},{"$f":"SUM(C45:C50)","v":32950443},35617402,33251002,28532416,45381404,33987114,28508018,45552000,35658200,36153000,27863054.020000011,406849859.01999998,440692028,471931895,null,"Check"]
[]
["NET INCREASE/(DECREASE) IN CASH HELD",{"$f":"B32-B51","v":119121258},-26446815,-31665033,-29523920,-24639212,78412542,-28286635,-17736546,36170153,-26776592,-27941000,-18388251.018768009,2299948.9812319875,858184.54369854927,-82081.748141765594]
["Cash/cash equivalents at the month/year begin:",121500,{"$f":"B55","v":119242758},{"$f":"C55","v":92795943},61130910,31606990,6967778,85380320,57093685,39357139,75527292,48750700,20809700,{"$f":"B54","v":121500},{"$f":"N55","v":2421448.9812319875},{"$f":"O55","v":3279633.5249305367}]
["Cash/cash equivalents at the month/year end:",{"$f":"B54+B53","v":119242758},{"$f":"C54+C53","v":92795943},{"$f":"D54+D53","v":61130910},31606990,6967778,85380320,57093685,39357139,75527292,48750700,20809700,2421448.9812319912,2421448.9812319875,3279633.5249305367,3197551.7767887712]
[{"$f":"head27a","v":"References"}]
["1. Note that this section of Table SA 30 is deliberately not linked to Table A4 because timing differences between the invoicing of clients and receiving the cash means that the cashflow will differ from budgeted revenue, and similarly for budgeted expenditure. However for the MTREF it is now directly linked to A7."]
[]
[]
[]
[]
[null,null,null,null,{"$f":"E45+E61","v":22751002},15032416,31931404,22087114,16728018,26552000,24258200,26453000,20974256.020000011,271431061.01999998,300747028,318779895]
[null,null,null,null,{"$f":"E53-E61","v":-29523920},-24639212,78412542,-28286635,-17736546,36170153,-26776592,-27941000,-18388251.018768009,2299948.9812319875,858184.54369854927,-82081.748141765594]

{"sheet":"SA31","index":52,"n_rows":41,"n_cols":11,"rows_kept":41,"cut":false,"hidden":false,"merged":[[1,5,1,7],[1,8,1,10],[1,1,2,1]]}
[{"$f":"muni&\" - \"& TableA31","v":"LIM332 Greater Letaba - NOT REQUIRED - municipality does not have entities"}]
[{"$f":"desc","v":"Description"},{"$f":"head27","v":"Ref"},{"$f":"head1b","v":"2015/16"},{"$f":"head1A","v":"2016/17"},{"$f":"Head1","v":"2017/18"},{"$f":"Head2","v":"Current Year 2018/19"},null,null,{"$f":"Head3","v":"2019/20 Medium Term Revenue & Expenditure Framework"}]
["R million",null,{"$f":"Head5","v":"Audited Outcome"},{"$f":"Head5","v":"Audited Outcome"},{"$f":"Head5","v":"Audited Outcome"},{"$f":"Head6","v":"Original Budget"},{"$f":"Head7","v":"Adjusted Budget"},{"$f":"Head8","v":"Full Year Forecast"},{"$f":"Head9","v":"Budget Year 2019/20"},{"$f":"Head10","v":"Budget Year +1 2020/21"},{"$f":"Head11","v":"Budget Year +2 2021/22"}]
["Financial Performance"]
[{"$f":"'A1-Sum'!A5","v":"Property rates"}]
[{"$f":"'A1-Sum'!A6","v":"Service charges"}]
[{"$f":"'A1-Sum'!A7","v":"Investment revenue"}]
[{"$f":"'A1-Sum'!A8","v":"Transfers recognised - operational"}]
[{"$f":"'A1-Sum'!A9","v":"Other own revenue"}]
[{"$f":"'A1-Sum'!A21","v":"Contributions recognised - capital & contributed assets"}]
[{"$f":"'A4-FinPerf RE'!A21","v":"Total Revenue (excluding capital transfers and contributions)"},null,{"$f":"SUM(C5:C10)","v":0},{"$f":"SUM(D5:D10)","v":0},{"$f":"SUM(E5:E10)","v":0},0,0,0,0,0,0]
[{"$f":"'A1-Sum'!A11","v":"Employee costs"}]
["Remuneration of Board Members"]
[{"$f":"'A1-Sum'!A13","v":"Depreciation & asset impairment"}]
[{"$f":"'A1-Sum'!A14","v":"Finance charges"}]
[{"$f":"'A1-Sum'!A15","v":"Materials and bulk purchases"}]
[{"$f":"'A1-Sum'!A16","v":"Transfers and grants"}]
[{"$f":"'A1-Sum'!A17","v":"Other expenditure"}]
[{"$f":"'A4-FinPerf RE'!A35","v":"Total Expenditure"},null,{"$f":"SUM(C12:C18)","v":0},{"$f":"SUM(D12:D18)","v":0},0,0,0,0,0,0,0]
[{"$f":"'A4-FinPerf RE'!A37","v":"Surplus/(Deficit)"},null,{"$f":"C11-C19","v":0},{"$f":"D11-D19","v":0},0,0,0,0,0,0,0]
[]
["Capital expenditure & funds sources"]
["Capital expenditure"]
[{"$f":"A8","v":"Transfers recognised - operational"}]
[]
[{"$f":"'A5-Capex'!A72","v":"Borrowing"}]
[{"$f":"'A5-Capex'!A73","v":"Internally generated funds"}]
["Total sources",null,{"$f":"+C24+C26+C27","v":0},{"$f":"+D24+D26+D27","v":0},0,0,0,0,0,0,0]
[]
["Financial position"]
[{"$f":"'A6-FinPos'!A12","v":"Total current assets"}]
[{"$f":"'A6-FinPos'!A24","v":"Total non current assets"}]
[{"$f":"'A6-FinPos'!A34","v":"Total current liabilities"}]
[{"$f":"'A6-FinPos'!A39","v":"Total non current liabilities"}]
["Equity"]
[]
["Cash flows"]
[{"$f":"'A1-Sum'!A42","v":"Net cash from (used) operating"}]
[{"$f":"'A1-Sum'!A43","v":"Net cash from (used) investing"}]
[{"$f":"'A1-Sum'!A44","v":"Net cash from (used) financing"}]
[{"$f":"'A1-Sum'!A45","v":"Cash/cash equivalents at the year end"}]

{"sheet":"SA32","index":53,"n_rows":27,"n_cols":6,"rows_kept":27,"cut":false,"hidden":false,"merged":[[1,3,2,3],[1,4,2,4],[1,1,2,1]]}
[{"$f":"muni&\" - \"&TableA32","v":"LIM332 Greater Letaba - Supporting Table SA32 List of external mechanisms"}]
["External mechanism","Yrs/ Mths","Period of agreement 1.","Service provided","Expiry date of service delivery agreement or contract","Monetary value of agreement 2."]
["Name of organisation",null,"Number",null,null,"R thousand"]
["Kgosi Monene","Yrs",3,"Security services","31/05/2019",8470325]
["Khwati Consulting","Yrs",4,"Supplementary Valuations",null,0]
["Nashua ","Yrs",null,"Operating lease",null,2639000]
["G4S","Yrs",null,"Banking Services",null,105300]
["Greater Tzaneen","Yrs",null,"Refuse removal",null,1724000]
["Cathu Inc","Yrs",2,"Annual Financial Statements",null,853900]
[]
[]
[]
[]
[]
[]
[]
[]
[]
[]
[]
[]
[]
[]
[]
[{"$f":"head27a","v":"References"}]
["1. Total agreement period from commencement until end"]
["2. Annual value"]

{"sheet":"SA33","index":54,"n_rows":48,"n_cols":15,"rows_kept":48,"cut":false,"hidden":false,"merged":[[1,4,1,6],[47,0,47,13]]}
[{"$f":"muni&\" - \"& TableA33","v":"LIM332 Greater Letaba - Supporting Table SA33 Contracts having future budgetary implications"}]
[{"$f":"desc","v":"Description"},{"$f":"head27","v":"Ref"},"Preceding Years",{"$f":"Head2","v":"Current Year 2018/19"},{"$f":"Head3","v":"2019/20 Medium Term Revenue & Expenditure Framework"},null,null,{"$f":"Head12","v":"Forecast 2022/23"},{"$f":"Head13","v":"Forecast 2023/24"},{"$f":"Head14","v":"Forecast 2024/25"},{"$f":"Head15","v":"Forecast 2025/26"},{"$f":"Head16","v":"Forecast 2026/27"},{"$f":"Head17","v":"Forecast 2027/28"},{"$f":"Head18","v":"Forecast 2028/29"},"Total Contract Value"]
["R thousand","1,3","Total",{"$f":"Head6","v":"Original Budget"},{"$f":"Head9","v":"Budget Year 2019/20"},{"$f":"Head10","v":"Budget Year +1 2020/21"},{"$f":"Head11","v":"Budget Year +2 2021/22"},"Estimate","Estimate","Estimate","Estimate","Estimate","Estimate","Estimate","Estimate"]
["Parent Municipality:"]
["Revenue Obligation By Contract",2]
["Contract 1",null,null,null,null,null,null,null,null,null,null,null,null,null,{"$f":"SUM(C6:N6)","v":0}]
["Contract 2",null,null,null,null,null,null,null,null,null,null,null,null,null,{"$f":"SUM(C7:N7)","v":0}]
["Contract 3 etc",null,null,null,null,null,null,null,null,null,null,null,null,null,{"$f":"SUM(C8:N8)","v":0}]
["Total Operating Revenue Implication",null,{"$f":"SUM(C6:C8)","v":0},{"$f":"SUM(D6:D8)","v":0},0,0,0,0,0,0,0,0,0,0,{"$f":"SUM(C9:N9)","v":0}]
[]
["Expenditure Obligation By Contract",2]
["Kgosi Monene",null,6000000,6000000,6200000,6300000,6652800,7025356.8000000007,7418776.7808000008,7834228.2805248015,8272945.0642341906,8736229.9878313057,9225458.8671498597,9225458.8671498597,{"$f":"SUM(C12:N12)","v":88891254.647690013}]
["Khwati Consulting",null,100000,100000,102900,127096,134213.37600000002,141729.32505600003,149666.16725913604,158047.47262564767,166898.13109268394,176244.42643387424,186114.11431417119,186114.11431417119,{"$f":"SUM(C13:N13)","v":1729023.1270956844}]
["Cathu Inc",null,1500000,1500000,1585500,1674288,1768048.128,1867058.8231680002,1971614.1172654084,2082024.5078322713,2198617.8802708788,2321740.4815660482,2451757.9485337469,2451757.9485337469,{"$f":"SUM(C14:N14)","v":23372407.835170105}]
["Total Operating Expenditure Implication",null,{"$f":"SUM(C12:C14)","v":7600000},7600000,7888400,8101384,8555061.5040000007,9034144.9482240006,9540057.0653245449,10074300.26098272,10638461.075597752,11234214.895831227,11863330.929997778,11863330.929997778,{"$f":"SUM(C15:N15)","v":113992685.60995579}]
[]
["Capital Expenditure Obligation By Contract",2]
["Contract 1",null,null,null,null,null,null,null,null,null,null,null,null,null,{"$f":"SUM(C18:N18)","v":0}]
["Contract 2",null,null,null,null,null,null,null,null,null,null,null,null,null,{"$f":"SUM(C19:N19)","v":0}]
["Contract 3 etc",null,null,null,null,null,null,null,null,null,null,null,null,null,{"$f":"SUM(C20:N20)","v":0}]
["Total Capital Expenditure Implication",null,{"$f":"SUM(C18:C20)","v":0},0,0,0,0,0,0,0,0,0,0,0,{"$f":"SUM(C21:N21)","v":0}]
[]
["Total Parent Expenditure Implication",null,{"$f":"C15+C21","v":7600000},{"$f":"D15+D21","v":7600000},7888400,8101384,8555061.5040000007,9034144.9482240006,9540057.0653245449,10074300.26098272,10638461.075597752,11234214.895831227,11863330.929997778,11863330.929997778,113992685.60995579]
[]
["Entities:"]
["Revenue Obligation By Contract",2]
["Contract 1",null,null,null,null,null,null,null,null,null,null,null,null,null,{"$f":"SUM(C27:N27)","v":0}]
["Contract 2",null,null,null,null,null,null,null,null,null,null,null,null,null,{"$f":"SUM(C28:N28)","v":0}]
["Contract 3 etc",null,null,null,null,null,null,null,null,null,null,null,null,null,{"$f":"SUM(C29:N29)","v":0}]
["Total Operating Revenue Implication",null,{"$f":"SUM(C27:C29)","v":0},0,0,0,0,0,0,0,0,0,0,0,{"$f":"SUM(C30:N30)","v":0}]
[]
["Expenditure Obligation By Contract",2]
["Contract 1",null,null,null,null,null,null,null,null,null,null,null,null,null,{"$f":"SUM(C33:N33)","v":0}]
["Contract 2",null,null,null,null,null,null,null,null,null,null,null,null,null,{"$f":"SUM(C34:N34)","v":0}]
["Contract 3 etc",null,null,null,null,null,null,null,null,null,null,null,null,null,{"$f":"SUM(C35:N35)","v":0}]
["Total Operating Expenditure Implication",null,{"$f":"SUM(C33:C35)","v":0},0,0,0,0,0,0,0,0,0,0,0,{"$f":"SUM(C36:N36)","v":0}]
[]
["Capital Expenditure Obligation By Contract",2]
["Contract 1",null,null,null,null,null,null,null,null,null,null,null,null,null,{"$f":"SUM(C39:N39)","v":0}]
["Contract 2",null,null,null,null,null,null,null,null,null,null,null,null,null,{"$f":"SUM(C40:N40)","v":0}]
["Contract 3 etc",null,null,null,null,null,null,null,null,null,null,null,null,null,{"$f":"SUM(C41:N41)","v":0}]
["Total Capital Expenditure Implication",null,{"$f":"SUM(C39:C41)","v":0},0,0,0,0,0,0,0,0,0,0,0,{"$f":"SUM(C42:N42)","v":0}]
[]
["Total Entity Expenditure Implication",null,{"$f":"C36+C42","v":0},{"$f":"D36+D42","v":0},0,0,0,0,0,0,0,0,0,0,0]
[{"$f":"head27a","v":"References"}]
["1. Total implication for all preceding years to be summed and total stated in 'Preceding Years' column"]
["2. List all contracts with future financial obligations beyond the three years covered by the MTREF (MFMA s33)"]
["3. For municipalities with approved total revenue not exceeding R250 m - all contracts with an annual cost greater than R500 000. For municipalities with approved total revenue greater than R250 m - all contracts with an annual cost greater than R1million. For municipalities with approved total revenue greater than R500 m - all contracts with an annual cost greater than R5 million"]

{"sheet":"SA34a","index":55,"n_rows":173,"n_cols":11,"rows_kept":173,"cut":false,"hidden":false,"merged":[[1,5,1,7],[1,8,1,10]]}
[{"$f":"muni&\" - \"&TableA34a","v":"LIM332 Greater Letaba - Supporting Table SA34a Capital expenditure on new assets by asset class"}]
[{"$f":"desc","v":"Description"},{"$f":"head27","v":"Ref"},{"$f":"head1b","v":"2015/16"},{"$f":"head1A","v":"2016/17"},{"$f":"Head1","v":"2017/18"},{"$f":"Head2","v":"Current Year 2018/19"},null,null,{"$f":"Head3","v":"2019/20 Medium Term Revenue & Expenditure Framework"}]
["R thousand",1,{"$f":"Head5","v":"Audited Outcome"},{"$f":"Head5","v":"Audited Outcome"},{"$f":"Head5","v":"Audited Outcome"},{"$f":"Head6","v":"Original Budget"},{"$f":"Head7","v":"Adjusted Budget"},{"$f":"Head8","v":"Full Year Forecast"},{"$f":"Head9","v":"Budget Year 2019/20"},{"$f":"Head10","v":"Budget Year +1 2020/21"},{"$f":"Head11","v":"Budget Year +2 2021/22"}]
["Capital expenditure on new assets by Asset Class/Sub-class"]
[]
["Infrastructure",null,{"$f":"C7+C12+C16+C26+C37+C44+C52+C62+C68","v":7201440},{"$f":"D7+D12+D16+D26+D37+D44+D52+D62+D68","v":13045000},92779800,88028718.260000005,99766375.260000005,99766375.260000005,79620758,139591294,168758263]
["Roads Infrastructure",null,{"$f":"SUM(C8:C11)","v":3223432},2154000,76356418,65206303.810000002,71993960.810000002,71993960.810000002,57540758,126854930,135758045]
["Roads",null,3223432,{"$f":"230000+1924000","v":2154000},{"$f":"76373418-17000","v":76356418},65206303.810000002,{"$f":"51993960.81+20000000","v":71993960.810000002},{"$f":"51993960.81+20000000","v":71993960.810000002},{"$f":"40178994-350000-1050000-2500000-2500000-1500000-600000+9861764+8000000+1000000+7000000","v":57540758},{"$f":"99562930+600000+600000+4000000+8000000+14092000","v":126854930},{"$f":"102200000+15700000+15458045+2400000","v":135758045}]
["Road Structures"]
["Road Furniture"]
["Capital Spares"]
["Storm water Infrastructure",null,{"$f":"SUM(C13:C15)","v":0},{"$f":"SUM(D13:D15)","v":0},3160235,5664654.4500000002,5664654.4500000002,5664654.4500000002,3680000,3236364,15508298]
["Drainage Collection"]
["Storm water Conveyance",null,0,0,3160235,5664654.4500000002,5664654.4500000002,5664654.4500000002,3680000,3236364,15508298]
["Attenuation"]
["Electrical Infrastructure",null,{"$f":"SUM(C17:C25)","v":3873785},7289000,10984462,15457760,22107760,22107760,15100000,9500000,17491920]
["Power Plants"]
["HV Substations"]
["HV Switching Station"]
["HV Transmission Conductors"]
["MV Substations"]
["MV Switching Stations"]
["MV Networks"]
["LV Networks",null,3873785,120000,3200000,4724760,4724760,4724760,2800000,0,0]
["Capital Spares",null,null,7169000,7784462,10733000,17383000,17383000,{"$f":"11800000-2800000+3300000","v":12300000},{"$f":"2500000+7000000","v":9500000},{"$f":"10491920+7000000","v":17491920}]
["Water Supply Infrastructure",null,{"$f":"SUM(C27:C36)","v":0},{"$f":"SUM(D27:D36)","v":0},0,0,0,0,0,0,0]
["Dams and Weirs"]
["Boreholes"]
["Reservoirs"]
["Pump Stations"]
["Water Treatment Works"]
["Bulk Mains"]
["Distribution"]
["Distribution Points"]
["PRV Stations"]
["Capital Spares"]
["Sanitation Infrastructure",null,{"$f":"SUM(C38:C43)","v":0},{"$f":"SUM(D38:D43)","v":0},0,0,0,0,0,0,0]
["Pump Station"]
["Reticulation"]
["Waste Water Treatment Works"]
["Outfall Sewers"]
["Toilet Facilities"]
["Capital Spares"]
["Solid Waste Infrastructure",null,{"$f":"SUM(C45:C51)","v":104223},{"$f":"SUM(D45:D51)","v":3602000},2278685,1700000,0,0,3300000,0,0]
["Landfill Sites",null,104223,3586000,2278685,1700000,0,0,0,0,0]
["Waste Transfer Stations"]
["Waste Processing Facilities"]
["Waste Drop-off Points"]
["Waste Separation Facilities"]
["Electricity Generation Facilities"]
["Capital Spares",null,0,16000,0,null,null,null,{"$f":"1500000+700000+300000+800000","v":3300000},0,0]
["Rail Infrastructure",null,{"$f":"SUM(C53:C61)","v":0},0,0,0,0,0,0,0,0]
["Rail Lines"]
["Rail Structures"]
["Rail Furniture"]
["Drainage Collection"]
["Storm water Conveyance"]
["Attenuation"]
["MV Substations"]
["LV Networks"]
["Capital Spares"]
["Coastal Infrastructure",null,{"$f":"SUM(C63:C67)","v":0},{"$f":"SUM(D63:D67)","v":0},0,0,0,0,0,0,0]
["Sand Pumps"]
["Piers"]
["Revetments"]
["Promenades"]
["Capital Spares"]
["Information and Communication Infrastructure",null,{"$f":"SUM(C69:C72)","v":0},{"$f":"SUM(D69:D72)","v":0},0,0,0,0,0,0,0]
["Data Centres"]
["Core Layers"]
["Distribution Layers"]
["Capital Spares"]
[]
["Community Assets",null,{"$f":"C75+C98","v":6771504},{"$f":"D75+D98","v":0},43057805,40840432.199999996,41480332.199999996,41480332.199999996,46735415,42482889,27794111]
["Community Facilities",null,{"$f":"SUM(C76:C97)","v":6771504},{"$f":"SUM(D76:D97)","v":0},8865104,4418446.4000000004,2118446.4,2118446.4,3100000,3900000,0]
["Halls",null,4931836,0,5033257,1600000,600000,600000,3100000,3900000,0]
["Centres"]
["Crèches"]
["Clinics/Care Centres"]
["Fire/Ambulance Stations"]
["Testing Stations"]
["Museums"]
["Galleries"]
["Theatres"]
["Libraries",null,238825,0,3831847,1618446.4,1118446.3999999999,1118446.3999999999,0,0,0]
["Cemeteries/Crematoria",null,0,0,0,400000,400000,400000]
["Police"]
["Parks"]
["Public Open Space"]
["Nature Reserves"]
["Public Ablution Facilities"]
["Markets"]
["Stalls"]
["Abattoirs"]
["Airports"]
["Taxi Ranks/Bus Terminals",null,0,0,0,800000,0,0]
["Capital Spares",null,1600843,0,0]
["Sport and Recreation Facilities",null,{"$f":"SUM(C99:C101)","v":0},{"$f":"SUM(D99:D101)","v":0},34192701,36421985.799999997,39361885.799999997,39361885.799999997,43635415,38582889,27794111]
["Indoor Facilities"]
["Outdoor Facilities",null,0,0,34192701,36421985.799999997,39361885.799999997,39361885.799999997,{"$f":"15402226+8233189+10000000+10000000","v":43635415},{"$f":"8750000+14681858+15151031","v":38582889},{"$f":"11325142+10355969+6113000","v":27794111}]
["Capital Spares"]
[]
["Heritage assets",null,{"$f":"SUM(C104:C108)","v":0},{"$f":"SUM(D104:D108)","v":0},0,0,0,0,0,0,0]
["Monuments"]
["Historic Buildings"]
["Works of Art"]
["Conservation Areas"]
["Other Heritage"]
[]
["Investment properties",null,{"$f":"+C111+C114","v":0},{"$f":"+D111+D114","v":0},0,0,0,0,0,0,0]
["Revenue Generating",null,{"$f":"SUM(C112:C113)","v":0},0,0,0,0,0,0,0,0]
["Improved Property"]
["Unimproved Property"]
["Non-revenue Generating",null,{"$f":"SUM(C115:C116)","v":0},{"$f":"SUM(D115:D116)","v":0},0,0,0,0,0,0,0]
["Improved Property"]
["Unimproved Property"]
[]
["Other assets",null,{"$f":"+C119+C131","v":15952719},{"$f":"+D119+D131","v":1011116},617339,9383657.8599999994,8583657.8599999994,8583657.8599999994,7100047,3747986,3998733]
["Operational Buildings",null,{"$f":"SUM(C120:C130)","v":15952719},{"$f":"SUM(D120:D130)","v":1011116},617339,9383657.8599999994,8583657.8599999994,8583657.8599999994,7100047,3747986,3998733]
["Municipal Offices",null,0,0,617339,3420000,2620000,2620000,{"$f":"30000+300000","v":330000},0,0]
["Pay/Enquiry Points"]
["Building Plan Offices"]
["Workshops"]
["Yards"]
["Stores"]
["Laboratories"]
["Training Centres"]
["Manufacturing Plant"]
["Depots"]
["Capital Spares",null,15952719,1011116,0,5963657.8599999994,5963657.8599999994,5963657.8599999994,{"$f":"25000+2167000-500000-350000+35000+1250000-350000+250000+10000+20000+200000+350000+150000+3513047","v":6770047},3747986,3998733]
["Housing",null,{"$f":"SUM(C132:C134)","v":0},{"$f":"SUM(D132:D134)","v":0},0,0,0,0,0,0,0]
["Staff Housing"]
["Social Housing"]
["Capital Spares"]
[]
["Biological or Cultivated Assets",null,{"$f":"SUM(C137:C137)","v":0},0,0,0,0,0,0,0,0]
["Biological or Cultivated Assets"]
[]
["Intangible Assets",null,{"$f":"+C140+C141","v":0},{"$f":"+D140+D141","v":20551},0,1050000,1050000,1050000,0,0,0]
["Servitudes"]
["Licences and Rights",null,{"$f":"SUM(C142:C147)","v":0},{"$f":"SUM(D142:D147)","v":20551},0,1050000,1050000,1050000,0,0,0]
["Water Rights"]
["Effluent Licenses"]
["Solid Waste Licenses"]
["Computer Software and Applications",null,0,20551,0,1050000,1050000,1050000,0,0,0]
["Load Settlement Software Applications"]
["Unspecified",null,null,null,0]
[]
["Computer Equipment",null,{"$f":"SUM(C150:C150)","v":0},369179,530822,380000,380000,380000,600000,0,0]
["Computer Equipment",null,0,369179,530822,380000,380000,380000,{"$f":"350000+250000","v":600000},0,0]
[]
["Furniture and Office Equipment",null,{"$f":"SUM(C153:C153)","v":22173},31754,505214,1660000,2466838,2466838,2618000,0,0]
["Furniture and Office Equipment",null,22173,31754,505214,1660000,2466838,2466838,{"$f":"965000+3000+1500000+50000+40000+50000+10000","v":2618000},0,0]
[]
["Machinery and Equipment",null,{"$f":"SUM(C156:C156)","v":0},3500000,0,9750000,11750000,11750000,13430000,0,0]
["Machinery and Equipment",null,0,3500000,null,9750000,11750000,11750000,{"$f":"500000+900000+900000+120000+130000+1500000+350000+1050000+2500000+2500000+1500000+600000+900000+300000+180000-500000","v":13430000},0,0]
[]
["Transport Assets",null,{"$f":"SUM(C159:C159)","v":0},0,1959142,1100000,1100000,1100000,1450000,0,0]
["Transport Assets",null,null,null,1959142,1100000,1100000,1100000,{"$f":"500000+350000+600000","v":1450000},0,0]
[]
["Land",null,{"$f":"SUM(C162:C162)","v":0},0,0,0,0,0,0,0,0]
["Land"]
[]
["Zoo's, Marine and Non-biological Animals",null,{"$f":"SUM(C165:C165)","v":0},0,0,0,0,0,0,0,0]
["Zoo's, Marine and Non-biological Animals"]
[]
["Total Capital Expenditure on new assets ",1,{"$f":"C6+C74+C103+C110+C118+C136+C139+C149+C152+C155+C158+C161+C164","v":29947836},{"$f":"D6+D74+D103+D110+D118+D136+D139+D149+D152+D155+D158+D161+D164","v":17977600},139450122,152192808.31999999,166577203.31999999,166577203.31999999,151554220,185822169,200551107]
[]
[{"$f":"head27a","v":"References"}]
["1. Total Capital Expenditure on new assets (SA34a) plus Total Capital Expenditure on renewal of existing assets (SA34b) plus Total Capital Expenditure  on upgrading of existing assets (SA34e) must reconcile to total capital expenditure in Budgeted Capital Expenditure"]
[]
[]
["check balance",null,{"$f":"SUM(C167+SA34b!C167++SA34e!C167)-'A5-Capex'!C40","v":0},{"$f":"SUM(D167+SA34b!D167++SA34e!D167)-'A5-Capex'!D40","v":0},{"$f":"SUM(E167+SA34b!E167++SA34e!E167)-'A5-Capex'!E40","v":5860838},{"$f":"SUM(F167+SA34b!F167++SA34e!F167)-'A5-Capex'!F40","v":-1000.2600000202656},{"$f":"SUM(G167+SA34b!G167++SA34e!G167)-'A5-Capex'!G40","v":-692.26000002026558},{"$f":"SUM(H167+SA34b!H167++SA34e!H167)-'A5-Capex'!H40","v":-692.26000002026558},{"$f":"SUM(I167+SA34b!I167++SA34e!I167)-'A5-Capex'!I40","v":-42107186.120000005},{"$f":"SUM(J167+SA34b!J167++SA34e!J167)-'A5-Capex'!J40","v":34267949},{"$f":"SUM(K167+SA34b!K167++SA34e!K167)-'A5-Capex'!K40","v":14728813}]

{"sheet":"SA34b","index":56,"n_rows":175,"n_cols":11,"rows_kept":175,"cut":false,"hidden":false,"merged":[[1,5,1,7],[1,8,1,10]]}
[{"$f":"muni&\" - \"&TableA34b","v":"LIM332 Greater Letaba - Supporting Table SA34b Capital expenditure on the renewal of existing assets by asset class"}]
[{"$f":"desc","v":"Description"},{"$f":"head27","v":"Ref"},{"$f":"head1b","v":"2015/16"},{"$f":"head1A","v":"2016/17"},{"$f":"Head1","v":"2017/18"},{"$f":"Head2","v":"Current Year 2018/19"},null,null,{"$f":"Head3","v":"2019/20 Medium Term Revenue & Expenditure Framework"}]
["R thousand",1,{"$f":"Head5","v":"Audited Outcome"},{"$f":"Head5","v":"Audited Outcome"},{"$f":"Head5","v":"Audited Outcome"},{"$f":"Head6","v":"Original Budget"},{"$f":"Head7","v":"Adjusted Budget"},{"$f":"Head8","v":"Full Year Forecast"},{"$f":"Head9","v":"Budget Year 2019/20"},{"$f":"Head10","v":"Budget Year +1 2020/21"},{"$f":"Head11","v":"Budget Year +2 2021/22"}]
["Capital expenditure on renewal of existing assets by Asset Class/Sub-class"]
[]
["Infrastructure",null,{"$f":"C7+C12+C16+C26+C37+C44+C52+C62+C68","v":144516617},{"$f":"D7+D12+D16+D26+D37+D44+D52+D62+D68","v":61799400},10046178,0,0,0,0,0,0]
["Roads Infrastructure",null,{"$f":"SUM(C8:C11)","v":144516617},55008400,7967877,0,0,0,0,0,0]
["Roads",null,144516617,55008400,7967877,0,0,0,0,0,0]
["Road Structures"]
["Road Furniture"]
["Capital Spares"]
["Storm water Infrastructure",null,{"$f":"SUM(C13:C15)","v":0},{"$f":"SUM(D13:D15)","v":0},0,0,0,0,0,0,0]
["Drainage Collection"]
["Storm water Conveyance"]
["Attenuation"]
["Electrical Infrastructure",null,{"$f":"SUM(C17:C25)","v":0},6791000,2078301,0,0,0,0,0,0]
["Power Plants"]
["HV Substations"]
["HV Switching Station"]
["HV Transmission Conductors"]
["MV Substations"]
["MV Switching Stations"]
["MV Networks"]
["LV Networks",null,0,0,2078301,null,null,null,0,0,0]
["Capital Spares",null,0,6791000,0]
["Water Supply Infrastructure",null,{"$f":"SUM(C27:C36)","v":0},{"$f":"SUM(D27:D36)","v":0},0,0,0,0,0,0,0]
["Dams and Weirs"]
["Boreholes"]
["Reservoirs"]
["Pump Stations"]
["Water Treatment Works"]
["Bulk Mains"]
["Distribution"]
["Distribution Points"]
["PRV Stations"]
["Capital Spares"]
["Sanitation Infrastructure",null,{"$f":"SUM(C38:C43)","v":0},{"$f":"SUM(D38:D43)","v":0},0,0,0,0,0,0,0]
["Pump Station"]
["Reticulation"]
["Waste Water Treatment Works"]
["Outfall Sewers"]
["Toilet Facilities"]
["Capital Spares"]
["Solid Waste Infrastructure",null,{"$f":"SUM(C45:C51)","v":0},{"$f":"SUM(D45:D51)","v":0},0,0,0,0,0,0,0]
["Landfill Sites"]
["Waste Transfer Stations"]
["Waste Processing Facilities"]
["Waste Drop-off Points"]
["Waste Separation Facilities"]
["Electricity Generation Facilities"]
["Capital Spares"]
["Rail Infrastructure",null,{"$f":"SUM(C53:C61)","v":0},0,0,0,0,0,0,0,0]
["Rail Lines"]
["Rail Structures"]
["Rail Furniture"]
["Drainage Collection"]
["Storm water Conveyance"]
["Attenuation"]
["MV Substations"]
["LV Networks"]
["Capital Spares"]
["Coastal Infrastructure",null,{"$f":"SUM(C63:C67)","v":0},{"$f":"SUM(D63:D67)","v":0},0,0,0,0,0,0,0]
["Sand Pumps"]
["Piers"]
["Revetments"]
["Promenades"]
["Capital Spares"]
["Information and Communication Infrastructure",null,{"$f":"SUM(C69:C72)","v":0},{"$f":"SUM(D69:D72)","v":0},0,0,0,0,0,0,0]
["Data Centres"]
["Core Layers"]
["Distribution Layers"]
["Capital Spares"]
[]
["Community Assets",null,{"$f":"C75+C98","v":1778188},{"$f":"D75+D98","v":25180167},19166237,27083510.539999999,27083510.539999999,27083510.539999999,0,0,0]
["Community Facilities",null,{"$f":"SUM(C76:C97)","v":0},{"$f":"SUM(D76:D97)","v":18440000},7226813,0,0,0,0,0,0]
["Halls",null,0,17252000,7226813,0,0,0,0,0,0]
["Centres"]
["Crèches"]
["Clinics/Care Centres"]
["Fire/Ambulance Stations"]
["Testing Stations"]
["Museums"]
["Galleries"]
["Theatres"]
["Libraries",null,0,1188000]
["Cemeteries/Crematoria"]
["Police"]
["Parks"]
["Public Open Space"]
["Nature Reserves"]
["Public Ablution Facilities"]
["Markets"]
["Stalls"]
["Abattoirs"]
["Airports"]
["Taxi Ranks/Bus Terminals"]
["Capital Spares"]
["Sport and Recreation Facilities",null,{"$f":"SUM(C99:C101)","v":1778188},{"$f":"SUM(D99:D101)","v":6740167},11939424,27083510.539999999,27083510.539999999,27083510.539999999,0,0,0]
["Indoor Facilities"]
["Outdoor Facilities",null,1778188,6740167,11939424,27083510.539999999,27083510.539999999,27083510.539999999,0,0,0]
["Capital Spares"]
[]
["Heritage assets",null,{"$f":"SUM(C104:C108)","v":0},{"$f":"SUM(D104:D108)","v":0},0,0,0,0,0,0,0]
["Monuments"]
["Historic Buildings"]
["Works of Art"]
["Conservation Areas"]
["Other Heritage"]
[]
["Investment properties",null,{"$f":"+C111+C114","v":0},{"$f":"+D111+D114","v":0},0,0,0,0,0,0,0]
["Revenue Generating",null,{"$f":"SUM(C112:C113)","v":0},0,0,0,0,0,0,0,0]
["Improved Property"]
["Unimproved Property"]
["Non-revenue Generating",null,{"$f":"SUM(C115:C116)","v":0},{"$f":"SUM(D115:D116)","v":0},0,0,0,0,0,0,0]
["Improved Property"]
["Unimproved Property"]
[]
["Other assets",null,{"$f":"+C119+C131","v":0},{"$f":"+D119+D131","v":0},0,0,0,0,0,0,0]
["Operational Buildings",null,{"$f":"SUM(C120:C130)","v":0},{"$f":"SUM(D120:D130)","v":0},0,0,0,0,0,0,0]
["Municipal Offices"]
["Pay/Enquiry Points"]
["Building Plan Offices"]
["Workshops"]
["Yards"]
["Stores"]
["Laboratories"]
["Training Centres"]
["Manufacturing Plant"]
["Depots"]
["Capital Spares"]
["Housing",null,{"$f":"SUM(C132:C134)","v":0},{"$f":"SUM(D132:D134)","v":0},0,0,0,0,0,0,0]
["Staff Housing"]
["Social Housing"]
["Capital Spares"]
[]
["Biological or Cultivated Assets",null,{"$f":"SUM(C137:C137)","v":0},0,0,0,0,0,0,0,0]
["Biological or Cultivated Assets"]
[]
["Intangible Assets",null,{"$f":"+C140+C141","v":0},{"$f":"+D140+D141","v":0},0,0,0,0,0,0,0]
["Servitudes"]
["Licences and Rights",null,{"$f":"SUM(C142:C147)","v":0},{"$f":"SUM(D142:D147)","v":0},0,0,0,0,0,0,0]
["Water Rights"]
["Effluent Licenses"]
["Solid Waste Licenses"]
["Computer Software and Applications"]
["Load Settlement Software Applications"]
["Unspecified"]
[]
["Computer Equipment",null,{"$f":"SUM(C150:C150)","v":0},0,0,0,0,0,0,0,0]
["Computer Equipment"]
[]
["Furniture and Office Equipment",null,{"$f":"SUM(C153:C153)","v":0},0,0,0,0,0,0,0,0]
["Furniture and Office Equipment"]
[]
["Machinery and Equipment",null,{"$f":"SUM(C156:C156)","v":0},0,0,0,0,0,0,0,0]
["Machinery and Equipment"]
[]
["Transport Assets",null,{"$f":"SUM(C159:C159)","v":0},0,0,0,0,0,0,0,0]
["Transport Assets"]
[]
["Land",null,{"$f":"SUM(C162:C162)","v":0},0,0,0,0,0,0,0,0]
["Land"]
[]
["Zoo's, Marine and Non-biological Animals",null,{"$f":"SUM(C165:C165)","v":0},0,0,0,0,0,0,0,0]
["Zoo's, Marine and Non-biological Animals"]
[]
["Total Capital Expenditure on renewal of existing assets ",1,{"$f":"C6+C74+C103+C110+C118+C136+C139+C149+C152+C155+C158+C161+C164","v":146294805},{"$f":"D6+D74+D103+D110+D118+D136+D139+D149+D152+D155+D158+D161+D164","v":86979567},29212415,27083510.539999999,27083510.539999999,27083510.539999999,0,0,0]
[]
["Renewal of Existing Assets as % of total capex",null,{"$f":"IF(ISERROR(C167/'A9-Asset'!C69),0,(C167/'A9-Asset'!C69))","v":0},{"$f":"IF(ISERROR(D167/'A9-Asset'!D132),0,(D167/'A9-Asset'!D132))","v":0.82871488899848067},{"$f":"IF(ISERROR(E167/'A9-Asset'!E132),0,(E167/'A9-Asset'!E132))","v":0.17318292141150471},{"$f":"IF(ISERROR(F167/'A9-Asset'!F132),0,(F167/'A9-Asset'!F132))","v":0.15107132225952266},{"$f":"IF(ISERROR(G167/'A9-Asset'!G132),0,(G167/'A9-Asset'!G132))","v":0.13985030830558151},{"$f":"IF(ISERROR(H167/'A9-Asset'!H132),0,(H167/'A9-Asset'!H132))","v":0.13985030830558151},{"$f":"IF(ISERROR(I167/'A9-Asset'!I132),0,(I167/'A9-Asset'!I132))","v":0},{"$f":"IF(ISERROR(J167/'A9-Asset'!J132),0,(J167/'A9-Asset'!J132))","v":0},{"$f":"IF(ISERROR(K167/'A9-Asset'!K132),0,(K167/'A9-Asset'!K132))","v":0}]
["Renewal of Existing Assets as % of deprecn\"",null,{"$f":"IF(ISERROR(C167/'A9-Asset'!C168),0,(C167/'A9-Asset'!C168))","v":6.7824724951237947},{"$f":"IF(ISERROR(D167/'A9-Asset'!D168),0,(D167/'A9-Asset'!D168))","v":2.7961927033216414},{"$f":"IF(ISERROR(E167/'A9-Asset'!E168),0,(E167/'A9-Asset'!E168))","v":1.0185346119900935},{"$f":"IF(ISERROR(F167/'A9-Asset'!F168),0,(F167/'A9-Asset'!F168))","v":5.3701112249670322},{"$f":"IF(ISERROR(G167/'A9-Asset'!G168),0,(G167/'A9-Asset'!G168))","v":4.5578165917559685},{"$f":"IF(ISERROR(H167/'A9-Asset'!H168),0,(H167/'A9-Asset'!H168))","v":4.5578165917559685},{"$f":"IF(ISERROR(I167/'A9-Asset'!I168),0,(I167/'A9-Asset'!I168))","v":0},{"$f":"IF(ISERROR(J167/'A9-Asset'!J168),0,(J167/'A9-Asset'!J168))","v":0},{"$f":"IF(ISERROR(K167/'A9-Asset'!K168),0,(K167/'A9-Asset'!K168))","v":0}]
[{"$f":"head27a","v":"References"}]
["1. Total Capital Expenditure  on renewal of existing assets (SA34b) plus Total Capital Expenditure on new assets (SA34a) plus Total Capital Expenditure  on upgrading of existing assets (SA34e) must reconcile to total capital expenditure in Budgeted Capital Expenditure"]
[]
[]
["check balance",null,{"$f":"SUM(C167+SA34a!C167++SA34e!C167)-'A5-Capex'!C40","v":0},{"$f":"SUM(D167+SA34a!D167++SA34e!D167)-'A5-Capex'!D40","v":0},{"$f":"SUM(E167+SA34a!E167++SA34e!E167)-'A5-Capex'!E40","v":5860838},{"$f":"SUM(F167+SA34a!F167++SA34e!F167)-'A5-Capex'!F40","v":-1000.2600000202656},{"$f":"SUM(G167+SA34a!G167++SA34e!G167)-'A5-Capex'!G40","v":-692.26000002026558},{"$f":"SUM(H167+SA34a!H167++SA34e!H167)-'A5-Capex'!H40","v":-692.26000002026558},{"$f":"SUM(I167+SA34a!I167++SA34e!I167)-'A5-Capex'!I40","v":-42107186.120000005},{"$f":"SUM(J167+SA34a!J167++SA34e!J167)-'A5-Capex'!J40","v":34267949},{"$f":"SUM(K167+SA34a!K167++SA34e!K167)-'A5-Capex'!K40","v":14728813}]

{"sheet":"SA34c","index":57,"n_rows":175,"n_cols":11,"rows_kept":175,"cut":false,"hidden":false,"merged":[[1,5,1,7],[1,8,1,10]]}
[{"$f":"muni&\" - \"&TableA34c","v":"LIM332 Greater Letaba - Supporting Table SA34c Repairs and maintenance expenditure by asset class"}]
[{"$f":"desc","v":"Description"},{"$f":"head27","v":"Ref"},{"$f":"head1b","v":"2015/16"},{"$f":"head1A","v":"2016/17"},{"$f":"Head1","v":"2017/18"},{"$f":"Head2","v":"Current Year 2018/19"},null,null,{"$f":"Head3","v":"2019/20 Medium Term Revenue & Expenditure Framework"}]
["R thousand",1,{"$f":"Head5","v":"Audited Outcome"},{"$f":"Head5","v":"Audited Outcome"},{"$f":"Head5","v":"Audited Outcome"},{"$f":"Head6","v":"Original Budget"},{"$f":"Head7","v":"Adjusted Budget"},{"$f":"Head8","v":"Full Year Forecast"},{"$f":"Head9","v":"Budget Year 2019/20"},{"$f":"Head10","v":"Budget Year +1 2020/21"},{"$f":"Head11","v":"Budget Year +2 2021/22"}]
["Repairs and maintenance expenditure by Asset Class/Sub-class"]
[]
["Infrastructure",null,{"$f":"C7+C12+C16+C26+C37+C44+C52+C62+C68","v":1491501},{"$f":"D7+D12+D16+D26+D37+D44+D52+D62+D68","v":4102201},5308000,14068174,14736826,14736826,15503140.952,13936310.563407999,14902687.33383204]
["Roads Infrastructure",null,{"$f":"SUM(C8:C11)","v":1045141},4102201,3785000,9315704,9984356,9984356,10503542.512,8666733.8076479994,9348553.4332609996]
["Roads",null,1045141,4102201,3785000,9315704,9984356,9984356,{"$f":"H8*1.052","v":10503542.512},{"$f":"11070733.807648-2404000","v":8666733.8076479994},{"$f":"11668553.433261-2320000","v":9348553.4332609996}]
["Road Structures"]
["Road Furniture"]
["Capital Spares"]
["Storm water Infrastructure",null,{"$f":"SUM(C13:C15)","v":0},{"$f":"SUM(D13:D15)","v":0},0,0,0,0,0,0,0]
["Drainage Collection"]
["Storm water Conveyance"]
["Attenuation"]
["Electrical Infrastructure",null,{"$f":"SUM(C17:C25)","v":446360},0,1523000,4752470,4752470,4752470,4999598.4400000004,5269576.7557600001,5554133.9005710408]
["Power Plants"]
["HV Substations"]
["HV Switching Station"]
["HV Transmission Conductors"]
["MV Substations"]
["MV Switching Stations"]
["MV Networks",null,0,0,0,1300000,1300000,1300000,{"$f":"H23*1.052","v":1367600},{"$f":"I23*1.054","v":1441450.4000000001},1519288.7216000003]
["LV Networks",null,437983,0,1265000,1452470,1452470,1452470,1527998.4400000002,{"$f":"I24*1.054","v":1610510.3557600002},1697477.9149710403]
["Capital Spares",null,8377,0,258000,2000000,2000000,2000000,2104000,{"$f":"I25*1.054","v":2217616},2337367.264]
["Water Supply Infrastructure",null,{"$f":"SUM(C27:C36)","v":0},{"$f":"SUM(D27:D36)","v":0},0,0,0,0,0,0,0]
["Dams and Weirs"]
["Boreholes"]
["Reservoirs"]
["Pump Stations"]
["Water Treatment Works"]
["Bulk Mains"]
["Distribution"]
["Distribution Points"]
["PRV Stations"]
["Capital Spares"]
["Sanitation Infrastructure",null,{"$f":"SUM(C38:C43)","v":0},{"$f":"SUM(D38:D43)","v":0},0,0,0,0,0,0,0]
["Pump Station"]
["Reticulation"]
["Waste Water Treatment Works"]
["Outfall Sewers"]
["Toilet Facilities"]
["Capital Spares"]
["Solid Waste Infrastructure",null,{"$f":"SUM(C45:C51)","v":0},{"$f":"SUM(D45:D51)","v":0},0,0,0,0,0,0,0]
["Landfill Sites"]
["Waste Transfer Stations"]
["Waste Processing Facilities"]
["Waste Drop-off Points"]
["Waste Separation Facilities"]
["Electricity Generation Facilities"]
["Capital Spares"]
["Rail Infrastructure",null,{"$f":"SUM(C53:C61)","v":0},0,0,0,0,0,0,0,0]
["Rail Lines"]
["Rail Structures"]
["Rail Furniture"]
["Drainage Collection"]
["Storm water Conveyance"]
["Attenuation"]
["MV Substations"]
["LV Networks"]
["Capital Spares"]
["Coastal Infrastructure",null,{"$f":"SUM(C63:C67)","v":0},{"$f":"SUM(D63:D67)","v":0},0,0,0,0,0,0,0]
["Sand Pumps"]
["Piers"]
["Revetments"]
["Promenades"]
["Capital Spares"]
["Information and Communication Infrastructure",null,{"$f":"SUM(C69:C72)","v":0},{"$f":"SUM(D69:D72)","v":0},0,0,0,0,0,0,0]
["Data Centres"]
["Core Layers"]
["Distribution Layers"]
["Capital Spares"]
[]
["Community Assets",null,{"$f":"C75+C98","v":0},{"$f":"D75+D98","v":0},1777700,749933,749933,749933,788929.51600000006,831531.70986400009,876434.42219665623]
["Community Facilities",null,{"$f":"SUM(C76:C97)","v":0},{"$f":"SUM(D76:D97)","v":0},1032700,549933,549933,549933,578529.51600000006,609770.10986400011,642697.69579665619]
["Halls",null,null,null,348700,549933,549933,549933,{"$f":"H76*1.052","v":578529.51600000006},{"$f":"I76*1.054","v":609770.10986400011},642697.69579665619]
["Centres"]
["Crèches"]
["Clinics/Care Centres"]
["Fire/Ambulance Stations"]
["Testing Stations"]
["Museums"]
["Galleries"]
["Theatres"]
["Libraries",null,null,null,684000]
["Cemeteries/Crematoria"]
["Police"]
["Parks"]
["Public Open Space"]
["Nature Reserves"]
["Public Ablution Facilities"]
["Markets"]
["Stalls"]
["Abattoirs"]
["Airports"]
["Taxi Ranks/Bus Terminals"]
["Capital Spares"]
["Sport and Recreation Facilities",null,{"$f":"SUM(C99:C101)","v":0},{"$f":"SUM(D99:D101)","v":0},745000,200000,200000,200000,210400,221761.6,233736.72640000001]
["Indoor Facilities"]
["Outdoor Facilities",null,null,null,745000,200000,200000,200000,{"$f":"H100*1.052","v":210400},{"$f":"I100*1.054","v":221761.6},233736.72640000001]
["Capital Spares"]
[null,null,1000,1000,1000,1000,1000,1000,1000,1000,1000]
["Heritage assets",null,{"$f":"SUM(C104:C108)","v":0},{"$f":"SUM(D104:D108)","v":0},0,0,0,0,0,0,0]
["Monuments"]
["Historic Buildings"]
["Works of Art"]
["Conservation Areas"]
["Other Heritage"]
[]
["Investment properties",null,{"$f":"+C111+C114","v":0},{"$f":"+D111+D114","v":0},0,0,0,0,0,0,0]
["Revenue Generating",null,{"$f":"SUM(C112:C113)","v":0},0,0,0,0,0,0,0,0]
["Improved Property"]
["Unimproved Property"]
["Non-revenue Generating",null,{"$f":"SUM(C115:C116)","v":0},{"$f":"SUM(D115:D116)","v":0},0,0,0,0,0,0,0]
["Improved Property"]
["Unimproved Property"]
[]
["Other assets",null,{"$f":"+C119+C131","v":4251318},{"$f":"+D119+D131","v":0},849000,1765731,1765731,1765731,1999948.0120000001,2107945.2046480002,2221774.2456989922]
["Operational Buildings",null,{"$f":"SUM(C120:C130)","v":4251318},{"$f":"SUM(D120:D130)","v":0},849000,1765731,1765731,1765731,1999948.0120000001,2107945.2046480002,2221774.2456989922]
["Municipal Offices",null,160197,0,849000,1765731,1765731,1765731,{"$f":"1857549.012+142399","v":1999948.0120000001},{"$f":"I120*1.054","v":2107945.2046480002},2221774.2456989922]
["Pay/Enquiry Points"]
["Building Plan Offices"]
["Workshops"]
["Yards"]
["Stores"]
["Laboratories"]
["Training Centres"]
["Manufacturing Plant"]
["Depots"]
["Capital Spares",null,4091121,0]
["Housing",null,{"$f":"SUM(C132:C134)","v":0},{"$f":"SUM(D132:D134)","v":0},0,0,0,0,0,0,0]
["Staff Housing"]
["Social Housing"]
["Capital Spares"]
[]
["Biological or Cultivated Assets",null,{"$f":"SUM(C137:C137)","v":0},0,0,0,0,0,0,0,0]
["Biological or Cultivated Assets"]
[]
["Intangible Assets",null,{"$f":"+C140+C141","v":0},{"$f":"+D140+D141","v":0},0,0,0,0,0,0,0]
["Servitudes"]
["Licences and Rights",null,{"$f":"SUM(C142:C147)","v":0},{"$f":"SUM(D142:D147)","v":0},0,0,0,0,0,0,0]
["Water Rights"]
["Effluent Licenses"]
["Solid Waste Licenses"]
["Computer Software and Applications"]
["Load Settlement Software Applications"]
["Unspecified"]
[]
["Computer Equipment",null,{"$f":"SUM(C150:C150)","v":0},0,785000,1801663,1801663,1801663,1895349.476,1598000,1684292]
["Computer Equipment",null,null,null,785000,1801663,1801663,1801663,{"$f":"H150*1.052","v":1895349.476},1598000,{"$f":"J150*1.054","v":1684292}]
[]
["Furniture and Office Equipment",null,{"$f":"SUM(C153:C153)","v":0},0,0,0,0,0,0,0,0]
["Furniture and Office Equipment"]
[]
["Machinery and Equipment",null,{"$f":"SUM(C156:C156)","v":0},0,312000,1100777.1400000011,1100777.1400000011,1100777.1400000011,1158017.5512800012,1220550.4990491213,1286460.2259977739]
["Machinery and Equipment",null,null,null,312000,1100777.1400000011,1100777.1400000011,1100777.1400000011,{"$f":"H156*1.052","v":1158017.5512800012},{"$f":"I156*1.054","v":1220550.4990491213},1286460.2259977739]
[]
["Transport Assets",null,{"$f":"SUM(C159:C159)","v":11197},0,215000,2612371,2612371,2612371,2748214.2919999999,1700000,1791800]
["Transport Assets",null,11197,null,215000,2612371,2612371,2612371,{"$f":"H159*1.052","v":2748214.2919999999},1700000,{"$f":"J159*1.054","v":1791800}]
[]
["Land",null,{"$f":"SUM(C162:C162)","v":0},0,0,0,0,0,0,0,0]
["Land"]
[]
["Zoo's, Marine and Non-biological Animals",null,{"$f":"SUM(C165:C165)","v":0},0,0,0,0,0,0,0,0]
["Zoo's, Marine and Non-biological Animals"]
[]
["Total Repairs and Maintenance Expenditure",1,{"$f":"C6+C74+C103+C110+C118+C136+C139+C149+C152+C155+C158+C161+C164","v":5754016},{"$f":"D6+D74+D103+D110+D118+D136+D139+D149+D152+D155+D158+D161+D164","v":4102201},9246700,22098649.140000001,22767301.140000001,22767301.140000001,24093599.799279999,21394337.976969119,22763448.227725461]
[]
["R&M as a % of PPE",null,{"$f":"IF(ISERROR(ROUND(C167/'A6-FinPos'!C19,3)),0,(ROUND(C167/'A6-FinPos'!C19,3)))","v":8.9999999999999993E-3},{"$f":"IF(ISERROR(ROUND(D167/'A6-FinPos'!D19,3)),0,(ROUND(D167/'A6-FinPos'!D19,3)))","v":6.0000000000000001E-3},{"$f":"IF(ISERROR(ROUND(E167/'A6-FinPos'!E19,3)),0,(ROUND(E167/'A6-FinPos'!E19,3)))","v":1.0999999999999999E-2},{"$f":"IF(ISERROR(ROUND(F167/'A6-FinPos'!F19,3)),0,(ROUND(F167/'A6-FinPos'!F19,3)))","v":2.5999999999999999E-2},{"$f":"IF(ISERROR(ROUND(G167/'A6-FinPos'!G19,3)),0,(ROUND(G167/'A6-FinPos'!G19,3)))","v":2.7E-2},{"$f":"IF(ISERROR(ROUND(H167/'A6-FinPos'!H19,3)),0,(ROUND(H167/'A6-FinPos'!H19,3)))","v":2.7E-2},{"$f":"IF(ISERROR(ROUND(I167/'A6-FinPos'!I19,3)),0,(ROUND(I167/'A6-FinPos'!I19,3)))","v":2.8000000000000001E-2},{"$f":"IF(ISERROR(ROUND(J167/'A6-FinPos'!J19,3)),0,(ROUND(J167/'A6-FinPos'!J19,3)))","v":2.1999999999999999E-2},{"$f":"IF(ISERROR(ROUND(K167/'A6-FinPos'!K19,3)),0,(ROUND(K167/'A6-FinPos'!K19,3)))","v":0.02}]
["R&M as % Operating Expenditure",null,{"$f":"IF(ISERROR(ROUND(C167/'A1-Sum'!B18,3)),0,(ROUND(C167/'A1-Sum'!B18,3)))","v":0.03},{"$f":"IF(ISERROR(ROUND(D167/'A1-Sum'!C18,3)),0,(ROUND(D167/'A1-Sum'!C18,3)))","v":1.7999999999999999E-2},{"$f":"IF(ISERROR(ROUND(E167/'A1-Sum'!D18,3)),0,(ROUND(E167/'A1-Sum'!D18,3)))","v":3.6999999999999998E-2},{"$f":"IF(ISERROR(ROUND(F167/'A1-Sum'!E18,3)),0,(ROUND(F167/'A1-Sum'!E18,3)))","v":9.9000000000000005E-2},{"$f":"IF(ISERROR(ROUND(G167/'A1-Sum'!F18,3)),0,(ROUND(G167/'A1-Sum'!F18,3)))","v":8.3000000000000004E-2},{"$f":"IF(ISERROR(ROUND(H167/'A1-Sum'!G18,3)),0,(ROUND(H167/'A1-Sum'!G18,3)))","v":8.3000000000000004E-2},{"$f":"IF(ISERROR(ROUND(I167/'A1-Sum'!H18,3)),0,(ROUND(I167/'A1-Sum'!H18,3)))","v":8.6999999999999994E-2},{"$f":"IF(ISERROR(ROUND(J167/'A1-Sum'!I18,3)),0,(ROUND(J167/'A1-Sum'!I18,3)))","v":6.9000000000000006E-2},{"$f":"IF(ISERROR(ROUND(K167/'A1-Sum'!J18,3)),0,(ROUND(K167/'A1-Sum'!J18,3)))","v":7.3999999999999996E-2}]
[{"$f":"head27a","v":"References"}]
["1. Total Repairs and Maintenance Expenditure by Asset Category must reconcile to total repairs and maintenance expenditure on Table SA1"]
[]
[]
["check balance",null,{"$f":"C167-'SA1'!C164","v":5754016},{"$f":"D167-'SA1'!D164","v":4102201},{"$f":"E167-'SA1'!E164","v":9246700},{"$f":"F167-'SA1'!F164","v":22098649.140000001},{"$f":"G167-'SA1'!G164","v":22767301.140000001},{"$f":"H167-'SA1'!H164","v":22767301.140000001},{"$f":"I167-'SA1'!J164","v":24093599.799279999},{"$f":"J167-'SA1'!K164","v":21394337.976969119},{"$f":"K167-'SA1'!L164","v":22763448.227725461}]

{"sheet":"SA34d","index":58,"n_rows":173,"n_cols":11,"rows_kept":173,"cut":false,"hidden":false,"merged":[[1,5,1,7],[1,8,1,10]]}
[{"$f":"muni&\" - \"&TableA34d","v":"LIM332 Greater Letaba - Supporting Table SA34d Depreciation by asset class"}]
[{"$f":"desc","v":"Description"},{"$f":"head27","v":"Ref"},{"$f":"head1b","v":"2015/16"},{"$f":"head1A","v":"2016/17"},{"$f":"Head1","v":"2017/18"},{"$f":"Head2","v":"Current Year 2018/19"},null,null,{"$f":"Head3","v":"2019/20 Medium Term Revenue & Expenditure Framework"}]
["R thousand",1,{"$f":"Head5","v":"Audited Outcome"},{"$f":"Head5","v":"Audited Outcome"},{"$f":"Head5","v":"Audited Outcome"},{"$f":"Head6","v":"Original Budget"},{"$f":"Head7","v":"Adjusted Budget"},{"$f":"Head8","v":"Full Year Forecast"},{"$f":"Head9","v":"Budget Year 2019/20"},{"$f":"Head10","v":"Budget Year +1 2020/21"},{"$f":"Head11","v":"Budget Year +2 2021/22"}]
["Depreciation by Asset Class/Sub-class"]
[]
["Infrastructure",null,{"$f":"C7+C12+C16+C26+C37+C44+C52+C62+C68","v":21569539},{"$f":"D7+D12+D16+D26+D37+D44+D52+D62+D68","v":31106428},28591073,4828858.2910000002,5477690.0609999998,5477690.0609999998,5453070.6716879997,5735690.4879591521,6045613.774308946]
["Roads Infrastructure",null,{"$f":"SUM(C8:C11)","v":21569539},31106428,28591073,4779931.7970000003,5378763.5669999998,5378763.5669999998,5349000,5626000,5930000]
["Roads",null,21569539,31106428,28591073,4779931.7970000003,5378763.5669999998,5378763.5669999998,5349000,5626000,5930000]
["Road Structures"]
["Road Furniture"]
["Capital Spares"]
["Storm water Infrastructure",null,{"$f":"SUM(C13:C15)","v":0},{"$f":"SUM(D13:D15)","v":0},0,0,0,0,0,0,0]
["Drainage Collection"]
["Storm water Conveyance"]
["Attenuation"]
["Electrical Infrastructure",null,{"$f":"SUM(C17:C25)","v":0},0,0,0,0,0,0,0,0]
["Power Plants"]
["HV Substations"]
["HV Switching Station"]
["HV Transmission Conductors"]
["MV Substations"]
["MV Switching Stations"]
["MV Networks"]
["LV Networks"]
["Capital Spares"]
["Water Supply Infrastructure",null,{"$f":"SUM(C27:C36)","v":0},{"$f":"SUM(D27:D36)","v":0},0,0,0,0,0,0,0]
["Dams and Weirs"]
["Boreholes"]
["Reservoirs"]
["Pump Stations"]
["Water Treatment Works"]
["Bulk Mains"]
["Distribution"]
["Distribution Points"]
["PRV Stations"]
["Capital Spares"]
["Sanitation Infrastructure",null,{"$f":"SUM(C38:C43)","v":0},{"$f":"SUM(D38:D43)","v":0},0,0,0,0,0,0,0]
["Pump Station"]
["Reticulation"]
["Waste Water Treatment Works"]
["Outfall Sewers"]
["Toilet Facilities"]
["Capital Spares"]
["Solid Waste Infrastructure",null,{"$f":"SUM(C45:C51)","v":0},{"$f":"SUM(D45:D51)","v":0},0,0,0,0,0,0,0]
["Landfill Sites"]
["Waste Transfer Stations"]
["Waste Processing Facilities"]
["Waste Drop-off Points"]
["Waste Separation Facilities"]
["Electricity Generation Facilities"]
["Capital Spares"]
["Rail Infrastructure",null,{"$f":"SUM(C53:C61)","v":0},0,0,48926.493999999999,98926.494000000006,98926.494000000006,104070.671688,109690.487959152,115613.77430894622]
["Rail Lines"]
["Rail Structures"]
["Rail Furniture"]
["Drainage Collection"]
["Storm water Conveyance"]
["Attenuation"]
["MV Substations"]
["LV Networks",null,null,null,null,48926.493999999999,48926.493999999999,48926.493999999999,{"$f":"H60*1.052","v":51470.671688000002},{"$f":"I60*1.054","v":54250.087959152006},{"$f":"J60*1.054","v":57179.59270894622}]
["Capital Spares",null,null,null,null,0,50000,50000,{"$f":"H61*1.052","v":52600},{"$f":"I61*1.054","v":55440.4},{"$f":"J61*1.054","v":58434.181600000004}]
["Coastal Infrastructure",null,{"$f":"SUM(C63:C67)","v":0},{"$f":"SUM(D63:D67)","v":0},0,0,0,0,0,0,0]
["Sand Pumps"]
["Piers"]
["Revetments"]
["Promenades"]
["Capital Spares"]
["Information and Communication Infrastructure",null,{"$f":"SUM(C69:C72)","v":0},{"$f":"SUM(D69:D72)","v":0},0,0,0,0,0,0,0]
["Data Centres"]
["Core Layers"]
["Distribution Layers"]
["Capital Spares"]
[]
["Community Assets",null,{"$f":"C75+C98","v":0},{"$f":"D75+D98","v":0},0,0,0,0,0,0,0]
["Community Facilities",null,{"$f":"SUM(C76:C97)","v":0},{"$f":"SUM(D76:D97)","v":0},0,0,0,0,0,0,0]
["Halls"]
["Centres"]
["Crèches"]
["Clinics/Care Centres"]
["Fire/Ambulance Stations"]
["Testing Stations"]
["Museums"]
["Galleries"]
["Theatres"]
["Libraries"]
["Cemeteries/Crematoria"]
["Police"]
["Parks"]
["Public Open Space"]
["Nature Reserves"]
["Public Ablution Facilities"]
["Markets"]
["Stalls"]
["Abattoirs"]
["Airports"]
["Taxi Ranks/Bus Terminals"]
["Capital Spares"]
["Sport and Recreation Facilities",null,{"$f":"SUM(C99:C101)","v":0},{"$f":"SUM(D99:D101)","v":0},0,0,0,0,0,0,0]
["Indoor Facilities"]
["Outdoor Facilities"]
["Capital Spares"]
[]
["Heritage assets",null,{"$f":"SUM(C104:C108)","v":0},{"$f":"SUM(D104:D108)","v":0},0,0,0,0,0,0,0]
["Monuments"]
["Historic Buildings"]
["Works of Art"]
["Conservation Areas"]
["Other Heritage"]
[]
["Investment properties",null,{"$f":"+C111+C114","v":0},{"$f":"+D111+D114","v":0},8992,0,0,0,0,0,0]
["Revenue Generating",null,{"$f":"SUM(C112:C113)","v":0},0,0,0,0,0,0,0,0]
["Improved Property"]
["Unimproved Property"]
["Non-revenue Generating",null,{"$f":"SUM(C115:C116)","v":0},{"$f":"SUM(D115:D116)","v":0},8992,0,0,0,0,0,0]
["Improved Property",null,null,null,8992]
["Unimproved Property"]
[]
["Other assets",null,{"$f":"+C119+C131","v":0},{"$f":"+D119+D131","v":0},0,0,0,0,0,0,0]
["Operational Buildings",null,{"$f":"SUM(C120:C130)","v":0},{"$f":"SUM(D120:D130)","v":0},0,0,0,0,0,0,0]
["Municipal Offices"]
["Pay/Enquiry Points"]
["Building Plan Offices"]
["Workshops"]
["Yards"]
["Stores"]
["Laboratories"]
["Training Centres"]
["Manufacturing Plant"]
["Depots"]
["Capital Spares"]
["Housing",null,{"$f":"SUM(C132:C134)","v":0},{"$f":"SUM(D132:D134)","v":0},0,0,0,0,0,0,0]
["Staff Housing"]
["Social Housing"]
["Capital Spares"]
[]
["Biological or Cultivated Assets",null,{"$f":"SUM(C137:C137)","v":0},0,0,0,0,0,0,0,0]
["Biological or Cultivated Assets"]
[]
["Intangible Assets",null,{"$f":"+C140+C141","v":0},{"$f":"+D140+D141","v":0},80762,0,0,0,0,0,0]
["Servitudes"]
["Licences and Rights",null,{"$f":"SUM(C142:C147)","v":0},{"$f":"SUM(D142:D147)","v":0},80762,0,0,0,0,0,0]
["Water Rights"]
["Effluent Licenses"]
["Solid Waste Licenses"]
["Computer Software and Applications",null,0,0,80762,0,0,0,0,0,0]
["Load Settlement Software Applications"]
["Unspecified"]
[]
["Computer Equipment",null,{"$f":"SUM(C150:C150)","v":0},0,0,0,0,0,0,0,0]
["Computer Equipment"]
[]
["Furniture and Office Equipment",null,{"$f":"SUM(C153:C153)","v":0},0,0,61452.152096399994,111452.15209639999,111452.15209639999,117247.66400541279,123579.03786170509,130252.30590623718]
["Furniture and Office Equipment",null,null,null,null,61452.152096399994,111452.15209639999,111452.15209639999,{"$f":"H153*1.052","v":117247.66400541279},{"$f":"I153*1.054","v":123579.03786170509},{"$f":"J153*1.054","v":130252.30590623718}]
[]
["Machinery and Equipment",null,{"$f":"SUM(C156:C156)","v":0},0,0,77587.684433799994,177587.68443379999,177587.68443379999,186822.24402435761,196910.64520167295,207543.82004256328]
["Machinery and Equipment",null,0,0,0,77587.684433799994,177587.68443379999,177587.68443379999,{"$f":"H156*1.052","v":186822.24402435761},{"$f":"I156*1.054","v":196910.64520167295},{"$f":"J156*1.054","v":207543.82004256328}]
[]
["Transport Assets",null,{"$f":"SUM(C159:C159)","v":0},0,0,75481.684433799994,175481.68443379999,175481.68443379999,184606.7320243576,194575.49555367292,205082.57231357126]
["Transport Assets",null,null,null,null,75481.684433799994,175481.68443379999,175481.68443379999,{"$f":"H159*1.052","v":184606.7320243576},{"$f":"I159*1.054","v":194575.49555367292},{"$f":"J159*1.054","v":205082.57231357126}]
[]
["Land",null,{"$f":"SUM(C162:C162)","v":0},0,0,0,0,0,0,0,0]
["Land"]
[]
["Zoo's, Marine and Non-biological Animals",null,{"$f":"SUM(C165:C165)","v":0},0,0,0,0,0,0,0,0]
["Zoo's, Marine and Non-biological Animals"]
[]
["Total Depreciation",1,{"$f":"C6+C74+C103+C110+C118+C136+C139+C149+C152+C155+C158+C161+C164","v":21569539},{"$f":"D6+D74+D103+D110+D118+D136+D139+D149+D152+D155+D158+D161+D164","v":31106428},28680827,5043379.8119640006,5942211.5819640001,5942211.5819640001,5941747.3117421279,6250755.666576203,6588492.472571318]
[]
[{"$f":"head27a","v":"References"}]
["1. Depreciation based on write down values. Not including Depreciation resulting from revaluation."]
[]
[]
["Check",null,{"$f":"C$167-'A4-FinPerf RE'!C$27","v":0},{"$f":"D$167-'A4-FinPerf RE'!D$27","v":0},{"$f":"E$167-'A4-FinPerf RE'!E$27","v":-2},{"$f":"F$167-'A4-FinPerf RE'!F$27","v":1.9640009850263596E-3},{"$f":"G$167-'A4-FinPerf RE'!G$27","v":0.77196400053799152},{"$f":"H$167-'A4-FinPerf RE'!H$27","v":0.77196400053799152},{"$f":"I$167-'A4-FinPerf RE'!I$27","v":-463.49825787171721},{"$f":"J$167-'A4-FinPerf RE'!J$27","v":-451.33342379704118},{"$f":"K$167-'A4-FinPerf RE'!K$27","v":-279.52742868196219}]

{"sheet":"SA34e","index":59,"n_rows":175,"n_cols":11,"rows_kept":175,"cut":false,"hidden":false,"merged":[[1,5,1,7],[1,8,1,10]]}
[{"$f":"muni&\" - \"&TableA34e","v":"LIM332 Greater Letaba - Supporting Table SA34e Capital expenditure on the upgrading of existing assets by asset class"}]
[{"$f":"desc","v":"Description"},{"$f":"head27","v":"Ref"},{"$f":"head1b","v":"2015/16"},{"$f":"head1A","v":"2016/17"},{"$f":"Head1","v":"2017/18"},{"$f":"Head2","v":"Current Year 2018/19"},null,null,{"$f":"Head3","v":"2019/20 Medium Term Revenue & Expenditure Framework"}]
["R thousand",1,{"$f":"Head5","v":"Audited Outcome"},{"$f":"Head5","v":"Audited Outcome"},{"$f":"Head5","v":"Audited Outcome"},{"$f":"Head6","v":"Original Budget"},{"$f":"Head7","v":"Adjusted Budget"},{"$f":"Head8","v":"Full Year Forecast"},{"$f":"Head9","v":"Budget Year 2019/20"},{"$f":"Head10","v":"Budget Year +1 2020/21"},{"$f":"Head11","v":"Budget Year +2 2021/22"}]
["Capital expenditure on upgrading of existing assets by Asset Class/Sub-class"]
[]
["Infrastructure",null,{"$f":"C7+C12+C16+C26+C37+C44+C52+C62+C68","v":0},{"$f":"D7+D12+D16+D26+D37+D44+D52+D62+D68","v":0},17000,0,0,0,0,0,0]
["Roads Infrastructure",null,{"$f":"SUM(C8:C11)","v":0},0,17000,0,0,0,0,0,0]
["Roads",null,null,null,17000]
["Road Structures"]
["Road Furniture"]
["Capital Spares"]
["Storm water Infrastructure",null,{"$f":"SUM(C13:C15)","v":0},{"$f":"SUM(D13:D15)","v":0},0,0,0,0,0,0,0]
["Drainage Collection"]
["Storm water Conveyance"]
["Attenuation"]
["Electrical Infrastructure",null,{"$f":"SUM(C17:C25)","v":0},0,0,0,0,0,0,0,0]
["Power Plants"]
["HV Substations"]
["HV Switching Station"]
["HV Transmission Conductors"]
["MV Substations"]
["MV Switching Stations"]
["MV Networks"]
["LV Networks"]
["Capital Spares"]
["Water Supply Infrastructure",null,{"$f":"SUM(C27:C36)","v":0},{"$f":"SUM(D27:D36)","v":0},0,0,0,0,0,0,0]
["Dams and Weirs"]
["Boreholes"]
["Reservoirs"]
["Pump Stations"]
["Water Treatment Works"]
["Bulk Mains"]
["Distribution"]
["Distribution Points"]
["PRV Stations"]
["Capital Spares"]
["Sanitation Infrastructure",null,{"$f":"SUM(C38:C43)","v":0},{"$f":"SUM(D38:D43)","v":0},0,0,0,0,0,0,0]
["Pump Station"]
["Reticulation"]
["Waste Water Treatment Works"]
["Outfall Sewers"]
["Toilet Facilities"]
["Capital Spares"]
["Solid Waste Infrastructure",null,{"$f":"SUM(C45:C51)","v":0},{"$f":"SUM(D45:D51)","v":0},0,0,0,0,0,0,0]
["Landfill Sites"]
["Waste Transfer Stations"]
["Waste Processing Facilities"]
["Waste Drop-off Points"]
["Waste Separation Facilities"]
["Electricity Generation Facilities"]
["Capital Spares"]
["Rail Infrastructure",null,{"$f":"SUM(C53:C61)","v":0},0,0,0,0,0,0,0,0]
["Rail Lines"]
["Rail Structures"]
["Rail Furniture"]
["Drainage Collection"]
["Storm water Conveyance"]
["Attenuation"]
["MV Substations"]
["LV Networks"]
["Capital Spares"]
["Coastal Infrastructure",null,{"$f":"SUM(C63:C67)","v":0},{"$f":"SUM(D63:D67)","v":0},0,0,0,0,0,0,0]
["Sand Pumps"]
["Piers"]
["Revetments"]
["Promenades"]
["Capital Spares"]
["Information and Communication Infrastructure",null,{"$f":"SUM(C69:C72)","v":0},{"$f":"SUM(D69:D72)","v":0},0,0,0,0,0,0,0]
["Data Centres"]
["Core Layers"]
["Distribution Layers"]
["Capital Spares"]
[]
["Community Assets",null,{"$f":"C75+C98","v":0},{"$f":"D75+D98","v":0},0,0,0,0,0,0,0]
["Community Facilities",null,{"$f":"SUM(C76:C97)","v":0},{"$f":"SUM(D76:D97)","v":0},0,0,0,0,0,0,0]
["Halls"]
["Centres"]
["Crèches"]
["Clinics/Care Centres"]
["Fire/Ambulance Stations"]
["Testing Stations"]
["Museums"]
["Galleries"]
["Theatres"]
["Libraries"]
["Cemeteries/Crematoria"]
["Police"]
["Parks"]
["Public Open Space"]
["Nature Reserves"]
["Public Ablution Facilities"]
["Markets"]
["Stalls"]
["Abattoirs"]
["Airports"]
["Taxi Ranks/Bus Terminals"]
["Capital Spares"]
["Sport and Recreation Facilities",null,{"$f":"SUM(C99:C101)","v":0},{"$f":"SUM(D99:D101)","v":0},0,0,0,0,0,0,0]
["Indoor Facilities"]
["Outdoor Facilities"]
["Capital Spares"]
[]
["Heritage assets",null,{"$f":"SUM(C104:C108)","v":0},{"$f":"SUM(D104:D108)","v":0},0,0,0,0,0,0,0]
["Monuments"]
["Historic Buildings"]
["Works of Art"]
["Conservation Areas"]
["Other Heritage"]
[]
["Investment properties",null,{"$f":"+C111+C114","v":0},{"$f":"+D111+D114","v":0},0,0,0,0,0,0,0]
["Revenue Generating",null,{"$f":"SUM(C112:C113)","v":0},0,0,0,0,0,0,0,0]
["Improved Property"]
["Unimproved Property"]
["Non-revenue Generating",null,{"$f":"SUM(C115:C116)","v":0},{"$f":"SUM(D115:D116)","v":0},0,0,0,0,0,0,0]
["Improved Property"]
["Unimproved Property"]
[]
["Other assets",null,{"$f":"+C119+C131","v":0},{"$f":"+D119+D131","v":0},0,0,0,0,0,0,0]
["Operational Buildings",null,{"$f":"SUM(C120:C130)","v":0},{"$f":"SUM(D120:D130)","v":0},0,0,0,0,0,0,0]
["Municipal Offices"]
["Pay/Enquiry Points"]
["Building Plan Offices"]
["Workshops"]
["Yards"]
["Stores"]
["Laboratories"]
["Training Centres"]
["Manufacturing Plant"]
["Depots"]
["Capital Spares"]
["Housing",null,{"$f":"SUM(C132:C134)","v":0},{"$f":"SUM(D132:D134)","v":0},0,0,0,0,0,0,0]
["Staff Housing"]
["Social Housing"]
["Capital Spares"]
[]
["Biological or Cultivated Assets",null,{"$f":"SUM(C137:C137)","v":0},0,0,0,0,0,0,0,0]
["Biological or Cultivated Assets"]
[]
["Intangible Assets",null,{"$f":"+C140+C141","v":0},{"$f":"+D140+D141","v":0},0,0,0,0,0,0,0]
["Servitudes"]
["Licences and Rights",null,{"$f":"SUM(C142:C147)","v":0},{"$f":"SUM(D142:D147)","v":0},0,0,0,0,0,0,0]
["Water Rights"]
["Effluent Licenses"]
["Solid Waste Licenses"]
["Computer Software and Applications"]
["Load Settlement Software Applications"]
["Unspecified"]
[]
["Computer Equipment",null,{"$f":"SUM(C150:C150)","v":0},0,0,0,0,0,0,0,0]
["Computer Equipment"]
[]
["Furniture and Office Equipment",null,{"$f":"SUM(C153:C153)","v":0},0,0,0,0,0,0,0,0]
["Furniture and Office Equipment"]
[]
["Machinery and Equipment",null,{"$f":"SUM(C156:C156)","v":0},0,0,0,0,0,0,0,0]
["Machinery and Equipment"]
[]
["Transport Assets",null,{"$f":"SUM(C159:C159)","v":0},0,0,0,0,0,0,0,0]
["Transport Assets"]
[]
["Land",null,{"$f":"SUM(C162:C162)","v":0},0,0,0,0,0,0,0,0]
["Land"]
[]
["Zoo's, Marine and Non-biological Animals",null,{"$f":"SUM(C165:C165)","v":0},0,0,0,0,0,0,0,0]
["Zoo's, Marine and Non-biological Animals"]
[]
["Total Capital Expenditure on upgrading of existing assets ",1,{"$f":"C6+C74+C103+C110+C118+C136+C139+C149+C152+C155+C158+C161+C164","v":0},{"$f":"D6+D74+D103+D110+D118+D136+D139+D149+D152+D155+D158+D161+D164","v":0},17000,0,0,0,0,0,0]
[]
["Upgrading of Existing Assets as % of total capex",null,{"$f":"IF(ISERROR(C167/'A9-Asset'!C67),0,(C167/'A9-Asset'!C67))","v":0},{"$f":"IF(ISERROR(D167/'A9-Asset'!D132),0,(D167/'A9-Asset'!D132))","v":0},{"$f":"IF(ISERROR(E167/'A9-Asset'!E132),0,(E167/'A9-Asset'!E132))","v":1.0078282346719982E-4},{"$f":"IF(ISERROR(F167/'A9-Asset'!F132),0,(F167/'A9-Asset'!F132))","v":0},{"$f":"IF(ISERROR(G167/'A9-Asset'!G132),0,(G167/'A9-Asset'!G132))","v":0},{"$f":"IF(ISERROR(H167/'A9-Asset'!H132),0,(H167/'A9-Asset'!H132))","v":0},{"$f":"IF(ISERROR(I167/'A9-Asset'!I132),0,(I167/'A9-Asset'!I132))","v":0},{"$f":"IF(ISERROR(J167/'A9-Asset'!J132),0,(J167/'A9-Asset'!J132))","v":0},{"$f":"IF(ISERROR(K167/'A9-Asset'!K132),0,(K167/'A9-Asset'!K132))","v":0}]
["Upgrading of Existing Assets as % of deprecn\"",null,{"$f":"IF(ISERROR(C167/'A9-Asset'!C168),0,(C167/'A9-Asset'!C168))","v":0},{"$f":"IF(ISERROR(D167/'A9-Asset'!D168),0,(D167/'A9-Asset'!D168))","v":0},{"$f":"IF(ISERROR(E167/'A9-Asset'!E168),0,(E167/'A9-Asset'!E168))","v":5.9273046763958371E-4},{"$f":"IF(ISERROR(F167/'A9-Asset'!F168),0,(F167/'A9-Asset'!F168))","v":0},{"$f":"IF(ISERROR(G167/'A9-Asset'!G168),0,(G167/'A9-Asset'!G168))","v":0},{"$f":"IF(ISERROR(H167/'A9-Asset'!H168),0,(H167/'A9-Asset'!H168))","v":0},{"$f":"IF(ISERROR(I167/'A9-Asset'!I168),0,(I167/'A9-Asset'!I168))","v":0},{"$f":"IF(ISERROR(J167/'A9-Asset'!J168),0,(J167/'A9-Asset'!J168))","v":0},{"$f":"IF(ISERROR(K167/'A9-Asset'!K168),0,(K167/'A9-Asset'!K168))","v":0}]
[{"$f":"head27a","v":"References"}]
["1.  Total Capital Expenditure  on upgrading of existing assets (SA34e) plus Total Capital Expenditure on new assets (SA34a)  plus Total Capital Expenditure  on renewal of existing assets (SA34b) must reconcile to total capital expenditure in Budgeted Capital Expenditure"]
[]
[]
["check balance",null,{"$f":"SUM(C167+SA34a!C167++SA34b!C167)-'A5-Capex'!C40","v":0},{"$f":"SUM(D167+SA34a!D167++SA34b!D167)-'A5-Capex'!D40","v":0},{"$f":"SUM(E167+SA34a!E167++SA34b!E167)-'A5-Capex'!E40","v":5860838},{"$f":"SUM(F167+SA34a!F167++SA34b!F167)-'A5-Capex'!F40","v":-1000.2600000202656},{"$f":"SUM(G167+SA34a!G167++SA34b!G167)-'A5-Capex'!G40","v":-692.26000002026558},{"$f":"SUM(H167+SA34a!H167++SA34b!H167)-'A5-Capex'!H40","v":-692.26000002026558},{"$f":"SUM(I167+SA34a!I167++SA34b!I167)-'A5-Capex'!I40","v":-42107186.120000005},{"$f":"SUM(J167+SA34a!J167++SA34b!J167)-'A5-Capex'!J40","v":34267949},{"$f":"SUM(K167+SA34a!K167++SA34b!K167)-'A5-Capex'!K40","v":14728813}]

{"sheet":"SA35","index":60,"n_rows":67,"n_cols":9,"rows_kept":67,"cut":false,"hidden":false,"merged":[[1,5,1,8],[1,2,1,4]]}
[{"$f":"muni&\" - \"&TableA35","v":"LIM332 Greater Letaba - Supporting Table SA35 Future financial implications of the capital budget"}]
[{"$f":"Vdesc","v":"Vote Description"},{"$f":"head27","v":"Ref"},{"$f":"Head3","v":"2019/20 Medium Term Revenue & Expenditure Framework"},null,null,"Forecasts"]
["R thousand",null,{"$f":"Head9","v":"Budget Year 2019/20"},{"$f":"Head10","v":"Budget Year +1 2020/21"},{"$f":"Head11","v":"Budget Year +2 2021/22"},{"$f":"Head12","v":"Forecast 2022/23"},{"$f":"Head13","v":"Forecast 2023/24"},{"$f":"Head14","v":"Forecast 2024/25"},{"$f":"Head48","v":"Present value"}]
["Capital expenditure",1]
[{"$f":"'A5-Capex'!A6","v":"Vote 1 - Executive & Council"},null,{"$f":"'A5-Capex'!J6+'A5-Capex'!J24","v":525000},{"$f":"'A5-Capex'!K6+'A5-Capex'!K24","v":0},{"$f":"'A5-Capex'!L6+'A5-Capex'!L24","v":0},2000000,0,400000,0]
[{"$f":"'A5-Capex'!A7","v":"Vote 2 - Finance and Administration"},null,{"$f":"'A5-Capex'!J7+'A5-Capex'!J25","v":4417000},{"$f":"'A5-Capex'!K7+'A5-Capex'!K25","v":0},{"$f":"'A5-Capex'!L7+'A5-Capex'!L25","v":0},0,700000,0,5286000]
[{"$f":"'A5-Capex'!A8","v":"Vote 3 - Internal Audit"},null,{"$f":"'A5-Capex'!J8+'A5-Capex'!J26","v":0},{"$f":"'A5-Capex'!K8+'A5-Capex'!K26","v":0},{"$f":"'A5-Capex'!L8+'A5-Capex'!L26","v":0},0,0,0,0]
[{"$f":"'A5-Capex'!A9","v":"Vote 4 - Community and Public Safety"},null,{"$f":"'A5-Capex'!J9+'A5-Capex'!J27","v":4963000},{"$f":"'A5-Capex'!K9+'A5-Capex'!K27","v":3900000},{"$f":"'A5-Capex'!L9+'A5-Capex'!L27","v":0},7500000,12000000,8100000,3618446]
[{"$f":"'A5-Capex'!A10","v":"Vote 5 - Sports and Recreation"},null,{"$f":"'A5-Capex'!J10+'A5-Capex'!J28","v":43635415},{"$f":"'A5-Capex'!K10+'A5-Capex'!K28","v":38582889},{"$f":"'A5-Capex'!L10+'A5-Capex'!L28","v":21681111},38000000,42000000,35000000,63205497]
[{"$f":"'A5-Capex'!A11","v":"Vote 6 - Housing"},null,{"$f":"'A5-Capex'!J11+'A5-Capex'!J29","v":0},{"$f":"'A5-Capex'!K11+'A5-Capex'!K29","v":0},{"$f":"'A5-Capex'!L11+'A5-Capex'!L29","v":0},0,0,0,0]
[{"$f":"'A5-Capex'!A12","v":"Vote 7 - Planning and development "},null,{"$f":"'A5-Capex'!J12+'A5-Capex'!J30","v":0},{"$f":"'A5-Capex'!K12+'A5-Capex'!K30","v":0},{"$f":"'A5-Capex'!L12+'A5-Capex'!L30","v":0},0,3800000,0,3123000]
[{"$f":"'A5-Capex'!A13","v":"Vote 8 - Road Transport"},null,{"$f":"'A5-Capex'!J13+'A5-Capex'!J31","v":72383805},{"$f":"'A5-Capex'!K13+'A5-Capex'!K31","v":130513041},{"$f":"'A5-Capex'!L13+'A5-Capex'!L31","v":145869889},79000000,70000000,64900000,62805609]
[{"$f":"'A5-Capex'!A14","v":"Vote 9 - Energy Sources"},null,{"$f":"'A5-Capex'!J14+'A5-Capex'!J32","v":15100000},{"$f":"'A5-Capex'!K14+'A5-Capex'!K32","v":9500000},{"$f":"'A5-Capex'!L14+'A5-Capex'!L32","v":17491920},16400000,15100000,1700000,14834112]
[{"$f":"'A5-Capex'!A15","v":"Vote 10 - Waste Water Management"},null,{"$f":"'A5-Capex'!J15+'A5-Capex'!J33","v":3680000},{"$f":"'A5-Capex'!K15+'A5-Capex'!K33","v":3326364},{"$f":"'A5-Capex'!L15+'A5-Capex'!L33","v":15508298},2900000,4000000,1800000,1900000]
[{"$f":"'A5-Capex'!A16","v":"Vote 11 - Waste Management"},null,{"$f":"'A5-Capex'!J16+'A5-Capex'!J34","v":6850000},{"$f":"'A5-Capex'!K16+'A5-Capex'!K34","v":0},{"$f":"'A5-Capex'!L16+'A5-Capex'!L34","v":0},2500000,4100000,3300000,6440000]
[{"$f":"'A5-Capex'!A17","v":"Vote 12 - [NAME OF VOTE 12]"},null,{"$f":"'A5-Capex'!J17+'A5-Capex'!J35","v":0},{"$f":"'A5-Capex'!K17+'A5-Capex'!K35","v":0},{"$f":"'A5-Capex'!L17+'A5-Capex'!L35","v":0},0,0,0,0]
[{"$f":"'A5-Capex'!A18","v":"Vote 13 - [NAME OF VOTE 13]"},null,{"$f":"'A5-Capex'!J18+'A5-Capex'!J36","v":0},{"$f":"'A5-Capex'!K18+'A5-Capex'!K36","v":0},{"$f":"'A5-Capex'!L18+'A5-Capex'!L36","v":0},0,0,0,0]
[{"$f":"'A5-Capex'!A19","v":"Vote 14 - [NAME OF VOTE 14]"},null,{"$f":"'A5-Capex'!J19+'A5-Capex'!J37","v":0},{"$f":"'A5-Capex'!K19+'A5-Capex'!K37","v":0},{"$f":"'A5-Capex'!L19+'A5-Capex'!L37","v":0},0,0,0,0]
[{"$f":"'A5-Capex'!A20","v":"Vote 15 - [NAME OF VOTE 15]"},null,{"$f":"'A5-Capex'!J20+'A5-Capex'!J38","v":0},{"$f":"'A5-Capex'!K20+'A5-Capex'!K38","v":0},{"$f":"'A5-Capex'!L20+'A5-Capex'!L38","v":0},0,0,0,0]
["List entity summary if applicable"]
["Total Capital Expenditure ",null,{"$f":"SUM(C5:C20)","v":151554220},{"$f":"SUM(D5:D20)","v":185822294},200551218,148300000,151700000,115200000,161212664]
[]
["Future operational costs by vote",2]
[{"$f":"A5","v":"Vote 1 - Executive & Council"},null,55042807,58188850,61461249,57934235.2905,61120618.231477499,64482252.234208763,68028776.10709025]
[{"$f":"A6","v":"Vote 2 - Finance and Administration"},null,98346377,103669749,109799312,97911466.994599998,103296597.67930299,108977910.55166465,114971695.63200621]
["Vote 3 - Internal Audit",null,2626731,2792493,2968857,2065637.25,2179247.2987500001,2299105.9001812502,2425556.7246912192]
["Vote 4 - Community and Public Safety",null,10102909,6712339,7359085,5530363.8049999997,5834533.8142750002,6155433.1740601249,6493981.9986334313]
["Vote 5 - Sports and Recreation",null,15182096,16321355,17399646,9659773.434249999,10191060.973133748,10751569.326656105,11342905.639622189]
["Vote 6 - Housing",null,776788,830087,887048,872201.40544999985,920172.48274974991,970781.96930098603,1024174.9776125402]
["Vote 7 - Planning and development ",null,23542563,16226548,17220675,10542952.188549999,11122814.558920249,11734569.359660864,12379970.674442209]
["Vote 8 - Road Transport",null,54020389,57289076,60758546,45471680.566099994,47972622.997235492,50611117.262083441,53394728.71149803]
["Vote 9 - Energy Sources",null,42686645,40832094,43108554,38963240.609099999,41106218.842600495,43367060.878943518,45752249.227285415]
["Vote 10 - Waste Water Management",null,751605,802836,857569,804921.745,849192.44097499992,895898.02522862493,945172.41661619931]
["Vote 11 - Waste Management",null,5509316,5839885,6190587,8183858.6600000001,8633970.8862999994,9108839.2850464992,9609825.445724057]
["Vote 12 - [NAME OF VOTE 12]"]
["Vote 13 - [NAME OF VOTE 13]"]
["Vote 14 - [NAME OF VOTE 14]"]
["Vote 15 - [NAME OF VOTE 15]"]
["List entity summary if applicable"]
["Total future operational costs",null,{"$f":"SUM(C24:C39)","v":308588226},{"$f":"SUM(D24:D39)","v":309505312},328011128,277940331.94854999,293227050.20572031,309354537.96703488,326369037.55522174]
[]
["Future revenue by source",3]
[{"$f":"'A4-FinPerf RE'!A5","v":"Property rates"},null,17740178,18698147,19707847,17554000,16774000,17477000,14815849.261345945]
[{"$f":"'A4-FinPerf RE'!A6","v":"Service charges - electricity revenue"},null,25738909,27128809,28593766,28593766,28593766,28593766,28593766]
[{"$f":"'A4-FinPerf RE'!A7","v":"Service charges - water revenue"},null,0,0,0,0,0,0,0]
[{"$f":"'A4-FinPerf RE'!A8","v":"Service charges - sanitation revenue"},null,0,0,0,0,0,0,0]
[{"$f":"'A4-FinPerf RE'!A9","v":"Service charges - refuse revenue"},null,8672053,9140344,9633923,8672053,9140344,9633923,8600502.9102833085]
[]
[{"$f":"'A4-FinPerf RE'!A11","v":"Rental of facilities and equipment"},null,1006551,1060905,1118194,1108979.9611999998,1169973.8590659997,1234322.4213146297,1302210.1544869344]
["Interest earned - external investments",null,4754530,5011275,5281884,5301971.6974499999,5593580.1408097493,5901227.0485542854,6225794.5362247704]
["Interest earned - outstanding debtors",null,20227491,21319776,22471044,9265463.9032000005,9775064.4178759996,10312692.960859179,10879891.073706433]
["Fines, penalties and forfeits",null,1262400,1330570,1402420,1407754.02,1485180.4911000002,1566865.4181105003,1653043.0161065778]
["Licences and permits",null,23864625,25153315,26511594,9484748.153549999,10006409.301995249,10556761.813604988,11137383.713353261]
["Agency services",null,2289167,2412782,2543072,2552744.0957499999,2693145.0210162494,2841267.9971721428,2997537.7370166103]
["Transfers and subsidies",null,281624000,300105000,321890000,313611410,330860037.55000001,349057339.61524999,368255493.29408872]
["Other revenue",null,14747535,15543903,16383272,11022224.414399998,11628446.757191999,12268011.328837559,12942751.951923626]
["Gains on disposal of PPE",null,607004,639782,674330,676895.05794999981,714124.28613724979,753401.12187479855,794838.18357791239]
[]
[]
["Total future revenue",null,{"$f":"SUM(C43:C47)+SUM(C49:C59)","v":402534443},427544608,456211346,409252010.3035,428434071.82519251,450196578.72557813,468199061.83211404]
["Net Financial Implications",null,{"$f":"C21+C40-C60","v":57608003},67782998,72351000,16988321.645049989,16492978.380527794,-25642040.758543253,19382639.723107696]
[{"$f":"head27a","v":"References"}]
["1. Summarise the total capital cost until capital project is operational (MFMA s19(2)(a))"]
["2. Summary of future operational costs from when projects operational (present value until the end of each asset's useful life) (MFMA s19(2)(b))"]
["3. Summarise the future revenue from when projects are operational, including municipal tax and tariff implications, (present value until the end of asset's useful life)"]
[]
["check",null,{"$f":"C21-('A5-Capex'!J21+'A5-Capex'!J39)","v":0},{"$f":"D21-('A5-Capex'!K21+'A5-Capex'!K39)","v":0},{"$f":"E21-('A5-Capex'!L21+'A5-Capex'!L39)","v":0}]

{"sheet":"SA36","index":61,"n_rows":338,"n_cols":17,"rows_kept":338,"cut":false,"hidden":false,"merged":[[1,12,1,13],[1,14,1,16]]}
[{"$f":"muni&\" - \"&TableA36","v":"LIM332 Greater Letaba - Supporting Table SA36 Detailed capital budget"}]
["R thousand",null,null,null,null,null,null,null,null,null,null,null,null,null,{"$f":"Head3","v":"2019/20 Medium Term Revenue & Expenditure Framework"}]
["Function","Project Description","Project Number","Type","MTSF Service Outcome","IUDF","Own Strategic Objectives","Asset Class","Asset Sub-Class","Ward Location","GPS Longitude","GPS Lattitude",{"$f":"Head5&\"    \"&Head1","v":"Audited Outcome    2017/18"},{"$f":"Head2 & \"        \"&Head8","v":"Current Year 2018/19        Full Year Forecast"},{"$f":"Head9","v":"Budget Year 2019/20"},{"$f":"Head10","v":"Budget Year +1 2020/21"},{"$f":"Head11","v":"Budget Year +2 2021/22"}]
["Parent municipality:"]
["List all capital projects grouped by Function"]
[]
["Mayor' s Office","Council vehicles (Mayor)",null,"New",null,null,null,"Transport Assets","Capital Spares",29,null,null,1250088,0]
[null,"Council vehicles (Speaker)",null,"New",null,null,null,"Transport Assets","Capital Spares",29,null,null,709054,0]
[null,"vehicles",null,"New",null,null,null,"Transport Assets","Capital Spares",29,null,null,0,0,500000,0,0]
[null,"microwave",null,"New",null,null,null,"Furniture and Office Equipment","Municipal Offices",29,null,null,null,null,5000,0,0]
[null,"trophy cabinet",null,"New",null,null,null,"Furniture and Office Equipment","Municipal Offices",29,null,null,null,null,20000,0,0]
[null,"Scanner",null,"New",null,null,null,"Furniture and Office Equipment","Municipal Offices",29,null,null,0,0]
[null,"Banners",null,"New",null,null,null,"Furniture and Office Equipment","Municipal Offices",29,null,null,0,0]
[null,"2* Podiums",null,"New",null,null,null,"Furniture and Office Equipment","Municipal Offices",29,null,null,0,0]
[null,"Recording machine: Imbizo & Corporate",null,"New",null,null,null,"Machinery and Equipment","Municipal Offices",29,null,null,0,0]
[null,"Interior decoration: Reception ",null,"New",null,null,null,"Operational Buildings","Municipal Offices",29,null,null,0,0]
[]
["Budget and Treasury Office","Large lockable cash boxes (6)",null,"New",null,null,null,"Furniture and Office Equipment","Municipal Offices",29,null,null,0,0,12000,0,0]
[null,"Lockable cashiers tills *8 (Finance and Traffic)",null,"New",null,null,null,"Furniture and Office Equipment","Municipal Offices",29,null,null,0,0,50000]
[null,"Small safe for Cashiers",null,"New",null,null,null,"Furniture and Office Equipment","Municipal Offices",29,null,null,0,0,30000,0,0]
[null,"New tanks,pumps and shades",null,"New",null,null,null,"Machinery and Equipment","Municipal Offices",29,null,null,0,0]
[null,"Printers (4) Revenue, Asset, SCM",null,"New",null,null,null,"Furniture and Office Equipment","Municipal Offices",29,null,null,0,0]
[null,"Fencing of Municipal Workshop",null,"New",null,null,null,"Furniture and Office Equipment","Municipal Offices",29,null,null,0,0]
[null,"Printer all in one Fax,Scan & Print (Budget office)",null,"New",null,null,null,"Furniture and Office Equipment","Municipal Offices",29,null,null,0,0]
[null,"Adcanced Scanner (huge mega bytes)",null,"New",null,null,null,"Furniture and Office Equipment","Municipal Offices",29,null,null,0,0]
[null,"Slip Printers (4)",null,"New",null,null,null,"Furniture and Office Equipment","Municipal Offices",29,null,null,0,0]
[null,"Money note Counter with detector *4 (Finance and Traffic)",null,"New",null,null,null,"Furniture and Office Equipment","Municipal Offices",29,null,null,0,50000,0,0,0]
[null,"battery and tyre marking machine",null,"New",null,null,null,"Machinery and Equipment","Municipal Offices",29,null,null,null,null,25000]
[null,"Diesel Tanker with readings",null,"New",null,null,null,"Machinery and Equipment","Municipal Offices",29,null,null,null,null,500000]
[null,"Vehicle ",null,"New",null,null,null,"Transport Assets","Municipal Offices",29,null,null,null,null,350000]
[null,"instillation of steel shelves",null,"New",null,null,null,"Furniture and Office Equipment","Municipal Offices",29,null,null,null,null,150000]
[null,"Building of Municipal Washing bay",null,"New",null,null,null,"Operational Buildings","Municipal Offices",29,null,null,0,0,800000,0,0]
[null,"Accounts Folding machine",null,"New",null,null,null,"Machinery and Equipment","Municipal Offices",null,null,null,null,null,100000]
[null,"GIS System",null,"New",null,null,null,"Licences and Rights","Municipal Offices",29,null,null,0,0]
[null,"Steel cabinets *10 (Finance Offices)",null,"New",null,null,null,"Furniture and Office Equipment","Municipal Offices",29,null,null,0,50000]
[null,"Installation of security cameras",null,"New",null,null,null,"Machinery and Equipment","Municipal Offices",29,null,null,0,0,150000]
[null,"Fleet Management system - Tracking device",null,"New",null,null,null,"Licences and Rights","Municipal Offices",29,null,null,0,600000,0,0,0]
[null,"Refurbishment of room for lubricants outside warehouse",null,"New",null,null,null,"Operational Buildings","Municipal Offices",29,null,null,0,200000,0,0,0]
[null,"Scanner",null,"New",null,null,null,"Furniture and Office Equipment","Municipal Offices",29,null,null,0,0]
[]
["Customer Relations & media Communications"]
[null,"Camera",null,null,null,null,null,"Furniture and Office Equipment","Municipal Offices",29,null,null,null,null,20000,0,0]
[null,"Podium",null,null,null,null,null,"Furniture and Office Equipment","Municipal Offices",29,null,null,null,null,15000,0,0]
[]
["Human Resources","Office Furniture",null,"New",null,null,null,"Furniture and Office Equipment","Municipal Offices",29,null,null,505214,2106838,0,0,0]
[]
["Information Technology","Mobile Overhead Projector (2)",null,"New",null,null,null,"Furniture and Office Equipment","Municipal Offices",29,null,null,73291,0,0,0,0]
[null,"Overhead projectors celling",null,"New",null,null,null,"Furniture and Office Equipment","Municipal Offices",29,null,null,152086,0]
[null,"Records Management and Archiving system",null,"New",null,null,null,"Furniture and Office Equipment","Municipal Offices",29,null,null,0,800000,0,0,0]
[null,"Laptops  (15)",null,"New",null,null,null,"Computer Equipment","Municipal Offices",29,null,null,0,1336827,350000,0,0]
[null,"Desktop PC (20)",null,"New",null,null,null,"Computer Equipment","Municipal Offices",29,null,null,0,0,250000,0,0]
[null,"POE Switches replacement",null,"New",null,null,null,"Computer Equipment","Municipal Offices",29,null,null,null,null,450000,0,0]
[null,"UPS - Finance PC",null,"New",null,null,null,"Computer Equipment","Municipal Offices",29,null,null,110319]
[null,"Tablets for Councillors (60 contract)",null,"New",null,null,null,"Computer Equipment","Municipal Offices",29]
[null,"Automated PMS System",null,"New",null,null,null,"Computer Equipment","Municipal Offices",29]
[null,"Suprema - Pre Pair System",null,"New",null,null,null,"Computer Equipment","Municipal Offices",29]
[null,"SAFE - Data Centre ICT Tool Box Kit",null,"New",null,null,null,"Computer Equipment","Municipal Offices",29]
[null,"Scanner 1 - High Volume Registry System",null,"New",null,null,null,"Furniture and Office Equipment","Municipal Offices",29]
[null,"WI FI connection  equipment ",null,"New",null,null,null,"Computer Equipment","Municipal Offices",29,null,null,null,null,200000,0,0]
[null,"Slip Printers - sub Office",null,"New",null,null,null,"Furniture and Office Equipment","Municipal Offices",29,null,null,0,16000,0,0,0]
[null,"Brail note",null,"New",null,null,null,"Furniture and Office Equipment","Municipal Offices",29]
[null,"Share Point -Work Flow for Microsoft applications",null,"New",null,null,null,"Furniture and Office Equipment","Municipal Offices",29,null,null,0,0]
[null,"Civil designer Software (Allicad Software)",null,"New",null,null,null,"Furniture and Office Equipment","Municipal Offices",29,null,null,148800,0]
[null,"Portable Notetaker",null,"New",null,null,null,"Furniture and Office Equipment","Municipal Offices",29,null,null,0,0]
[null,"ICT Call System software",null,"New",null,null,null,"Computer Equipment","Municipal Offices",29,null,null,0,250000,0,0,0]
[null,"Fire proof server room door",null,"New",null,null,null,"Operational Buildings","Municipal Offices",29,null,null,46326]
[null,"Server Replacements",null,"New",null,null,null,"Licences and Rights","Municipal Offices",29]
[null,"Telephone Upgrade",null,"New",null,null,null,"Furniture and Office Equipment","Municipal Offices",29]
[null,"Org Plus Professional",null,"New",null,null,null,"Furniture and Office Equipment","Municipal Offices",29]
[null,"3 Overhead Projector ( Mayors, Mokwakwaila & Senwamokgope)",null,"New",null,null,null,"Furniture and Office Equipment","Municipal Offices","               29,27,13"]
[null,"PDF Converter Software",null,"New",null,null,null,"Furniture and Office Equipment","Municipal Offices",29]
[null,"Airconditioner (2 Server room)",null,"New",null,null,null,"Furniture and Office Equipment","Municipal Offices",29]
[null,"Blade Server Units",null,"New",null,null,null,"Furniture and Office Equipment","Municipal Offices",29]
[]
["Property Services","Bakkies  (3) sub-offices",null,"New",null,null,null,"Transport Assets","Municipal Offices",29,null,null,0,600000]
[null,"Rehibilitation of rotaba Cottages",null,"New",null,null,null,"Operational Buildings","Municipal Offices",29,null,null,0,0]
[null,"Air Condiioners (4) (Senwamokgope sub office)",null,"New",null,null,null,"Furniture and Office Equipment","Municipal Offices",13,null,null,74510]
[null,"Concil chamber Recording system",null,"New",null,null,null,"Furniture and Office Equipment","Municipal Offices",29,null,null,null,null,120000]
[null,"Vehicles (2) for registry & senwamokgope",null,"New",null,null,null,"Transport Assets","Municipal Offices",13]
[null,"Vihicle",null,"New",null,null,null,"Transport Assets","Municipal Offices",29,null,null,0,null,400000,0,0]
[null,"Tables(2) Bathopele",null,"New",null,null,null,"Furniture and Office Equipment","Municipal Offices",29,null,null,null,null,15000]
[null,"Refrigirator *3",null,"New",null,null,null,"Furniture and Office Equipment","Municipal Offices",29]
[null,"Cashpower System",null,"New",null,null,null,"Furniture and Office Equipment","Municipal Offices",29]
[null,"Filling Cabinets(20) All sections(community servicrs)",null,"New",null,null,null,"Furniture and Office Equipment","Municipal Offices",29,null,null,null,null,100000]
[null,"Air Condiioner at Ga-Kgapane Licencing office)",null,"New",null,null,null,"Furniture and Office Equipment","Municipal Offices","                   03,04",null,null,0,150000,100000]
[null,"Call Log System",null,"New",null,null,null,"Furniture and Office Equipment","Municipal Offices",29]
[null,"Mobile Filling Unit (2)",null,"New",null,null,null,"Furniture and Office Equipment","Municipal Offices",29,null,null,0,0,200000]
[null,"Foyer to the main entrance interior design (Resistry & Corps)",null,"New",null,null,null,"Furniture and Office Equipment","Municipal Offices",29,null,null,0]
[null,"Counter and security buglar(registry)",null,"New",null,null,null,"Furniture and Office Equipment","Municipal Offices",29,null,null,0,15000,30000]
[null,"Aqua cooler (3)",null,"New",null,null,null,"Furniture and Office Equipment","Municipal Offices",29,null,null,37500]
[null,"Microwave *3",null,"New",null,null,null,"Furniture and Office Equipment","Municipal Offices",29]
[null,"Shredding machine (2)  (Corporate & Kgapane sub office)",null,"New",null,null,null,"Furniture and Office Equipment","Municipal Offices","29/27",null,null,0,0]
[null,"Blinds for windows",null,"New",null,null,null,"Furniture and Office Equipment","Municipal Offices",29,null,null,0,0]
[null,"Suggestion Boxes (4)",null,"New",null,null,null,"Furniture and Office Equipment","Municipal Offices",29,null,null,0,15000]
[null,"Banners Bathopele (4)",null,"New",null,null,null,"Furniture and Office Equipment","Municipal Offices",29,null,null,0,0]
[null,"Renovation of Mokwakwaila Sub Office",null,"New",null,null,null,"Operational Buildings","Municipal Offices",27,null,null,389329,0]
[null,"Refurbishment of Municipal Workshop and stores",null,"New",null,null,null,"Operational Buildings","Municipal Offices",29,null,null,0,0]
[null,"Picture Camera",null,"New",null,null,null,"Furniture and Office Equipment","Municipal Offices",29]
[null,"Steel cabinets (Sub offices)",null,"New",null,null,null,"Furniture and Office Equipment","Municipal Offices",29,null,null,0,10000]
[null,"Sliding steel gate (Kgapane sub-office)",null,"New",null,null,null,"Operational Buildings","Municipal Offices",4,null,null,0,20000]
[null,"Steel Fence & gate (Senwamokgope)",null,"New",null,null,null,"Operational Buildings","Municipal Offices",13,null,null,0,200000]
[null,"Renovation of registry & Corporate service roof",null,"New",null,null,null,"Operational Buildings","Municipal Offices",29]
[null,"Urns (Mokwakwaila & kgapane)",null,"New",null,null,null,"Furniture and Office Equipment","Municipal Offices","              27,03,0,4"]
[null,"Picture Camera",null,"New",null,null,null,"Furniture and Office Equipment","Municipal Offices",29,null,null,0,0]
[null,"Refurbishment of corporate service offices, toilets, kitchen & registry",null,"New",null,null,null,"Operational Buildings","Municipal Offices",29,null,null,0,0]
[null,"Refurbishment of Mokwakwaila sub offices, toilets & kitchen",null,"New",null,null,null,"Operational Buildings","Municipal Offices",27,null,null,0,0]
[null,"Upgrading of municipal Offices",null,null,null,null,null,null,null,29,null,null,0,0]
[null,"Notice boards",null,"New",null,null,null,"Furniture and Office Equipment","Municipal Offices",29,null,null,116000,0]
[]
["Planning and Development","GLM Show Ground",null,null,null,null,null,"Sport and Recreation Facilities","Outdoor Facilities",29]
[null,"Madumeleng Youth Information Centre (Planning)",null,null,null,null,null,"Community Facilities","Centres",1,null,null,null,0,0,0,0]
[null,"Maphalle Youth Information Centre (Planning)",null,null,null,null,null,"Community Facilities","Centres",20,null,null,null,null,0,0,0]
[null,"Planning(Quantity Surveyor)",null,null,null,null,null,"Housing","Capital Spares",null,null,null,null,null,0,0]
[null,"Outdoor adverts (Electronic billboards (x2)",null,null,null,null,null,"Machinery and Equipment","Capital Spares",null,null,null,0,0,0,0,0]
[null,"Panarama Stand Development",null,null,null,null,null,"Housing","Capital Spares",29,null,null,null,null,0,0,0]
[null,"Modjadjiskloof Houses",null,null,null,null,null,"Housing","Capital Spares",29,null,null,null,null,0,0,0]
[null,"Urban Renewal",null,null,null,null,null,"Housing","Capital Spares",29,null,null,null,null,0,0,0]
[]
["Libraries & Archieves","Shotong Library",null,"New",null,null,null,"Community Facilities","Libraries",6,null,null,3501965,1118446.3999999999,0,0,0]
[null,"Mokwakwaila Library (MIG Counter)",null,"New",null,null,null,"Community Facilities","Libraries",27,null,null,329882,0,0,0,0]
[null,"Water Dispenser* 3",null,"New",null,null,null,"Community Facilities","Libraries",29,null,null,null,null,3000,0,0]
[null,"Rotterdam Library",null,"New",null,null,null,"Community Facilities","Libraries",16,null,null,0,0]
[]
["Community Halls & Facilities","New community hall - Rotterdam",null,null,null,null,null,"Community Facilities","Halls",16,null,null,0,0]
[null,"Chairs (2000) Tables (10) for Mokwakwaila & Senwamokgope Halls",null,null,null,null,null,"Community Facilities","Capital Spares","                   27,13",null,null,0,0]
[null,"Ward 2 Community Hall",null,"Renewal",null,null,null,"Community Facilities","Halls",2,null,null,0,0,0,0]
[null,"Ward 5 Community Hall ",null,"Renewal",null,null,null,"Community Facilities","Halls",5,null,null,261605,600000,3100000,3900000]
[null,"Gate (Main office (pedestrians),Old sub office and stores",null,"New",null,null,null,"Community Facilities","Capital Spares",null,null,null,null,null,30000]
[null,"Aircons 12 BTU for community halls",null,"New",null,null,null,"Community Facilities","Halls",null,null,null,null,null,1500000,0]
[null,"Matswi Community hall",null,"Renewal",null,null,null,"Community Facilities","Halls",11,null,null,0,0]
[null,"Mohlele community hall",null,"Renewal",null,null,null,"Community Facilities","Halls",26,null,null,4211607,0]
[null,"Mamaila-Kolobetona Community Hall",null,"Renewal",null,null,null,"Community Facilities","Halls",17,null,null,0,0]
[null,"Shamfana Community Hall (Construction)",null,"Renewal",null,null,null,"Community Facilities","Halls",25,null,null,0,0]
[null,"Lemondokop Community Hall",null,"New",null,null,null,"Community Facilities","Halls",18,null,null,259505,0]
[null,"Tlotlokwe Community Hall (Planning)",null,"New",null,null,null,"Community Facilities","Halls",27,null,null,300540,0]
[]
["Community & Social Services/Cemetries","Ga-Kgapane new cemetery establishment",null,"Renewal",null,null,null,"Community Facilities","Cemeteries/Crematoria","Ward3 /4",null,null,0,400000,0,0,0]
[]
["Disaster Management","Fire Extinguishers",null,"New",null,null,null,"Operational Buildings","Capital Spares",29,null,null,0,0,300000,0,0]
[null,"Torch *3",null,"New",null,null,null,"Operational Buildings","Capital Spares",29,null,null,null,null,10000,0,0]
[null,"Digital camera",null,"New",null,null,null,"Operational Buildings","Capital Spares",29,null,null,null,null,20000,0,0]
[]
["Street Lighting","Streetlight cherry Picker ",null,"New",null,null,null,"Electrical Infrastructure","Capital Spares",29,null,null,0,1000000,0,0,0]
[null,"Highmast Lights in 10 Villages(Remaining two villages : Rampepe and Mamatlepa)",null,"New",null,null,null,"Electrical Infrastructure","Capital Spares","                   27/26",null,null,0,1677256,0,0,0]
[null,"Highmast in Various Villages",null,"New",null,null,null,"Electrical Infrastructure","Capital Spares",null,null,null,2078301,3000000,3300000,2500000,10491920]
[]
["Sports & Recreation","Drive on Lawnmover",null,"New",null,null,null,"Machinery and Equipment","Capital Spares",29,null,null,0,0]
[null,"Enhancement & Beautifications of town entrance",null,"New",null,null,null,"Community Facilities","Capital Spares",29,null,null,0,0]
[null,"Mamanyoha Sports Complex",null,"Renewal",null,null,null,"Sport and Recreation Facilities","Outdoor Facilities",27,null,null,10959778,13050771,10902226.35,0,0]
[null,"Madumeleng/Shotong Sports Complex",null,"Renewal",null,null,null,"Sport and Recreation Facilities","Outdoor Facilities",1,null,null,201950,0,0,5500000,0]
[null,"Thakgalane Sports Complex",null,"Renewal",null,null,null,"Sport and Recreation Facilities","Outdoor Facilities",12,null,null,0,0,0,3250000,0]
[null,"Rotterdam Sports Complex",null,"Renewal",null,null,null,"Sport and Recreation Facilities","Outdoor Facilities",28,null,null,15278611,15350617,4500000,0,0]
[null,"Kgapane Stadium Phase Upgrading",null,"New",null,null,null,"Community Facilities","Nature Reserves","                    03,04",null,null,7752362,0,0,0,0]
[]
["Waste Management","Modjadjiskloof Transfer stations",null,"New",null,null,null,"Solid Waste Infrastructure","Waste Transfer Stations",29,null,null,0,0,700000]
[null,"Waste Management bakkie",null,"New",null,null,null,"Transport Assets","Capital Spares",29,null,null,0,0]
[null,"Skip truck",null,"New",null,null,null,"Transport Assets","Capital Spares",29,null,null,null,null,1500000,0,0]
[null,"Skip Bins (15)",null,"New",null,null,null,"Machinery and Equipment","Capital Spares",29,null,null,0,1440000,1500000,0,0]
[null,"Boreholes at kgapane community services with *2 Jojo tanks ",null,"New",null,null,null,"Solid Waste Infrastructure",null,null,null,null,null,null,300000,0,0]
[null,"Trolley Bins",null,"New",null,null,null,"Machinery and Equipment","Capital Spares",29,null,null,0,200000,0,0,0]
[null,"Landfill Site (Maphalle)",null,"Renewal",null,null,null,"Solid Waste Infrastructure","Landfill Sites",20,null,null,942704,0,0,0,0]
[null,"Tractor",null,"New",null,null,null,"Transport Assets","Capital Spares",29,null,null,null,null,900000,0,0]
[null,"Truck (Passenger)",null,"New",null,null,null,"Transport Assets","Capital Spares",29,null,null,null,null,900000,0,0]
[null,"Chain Saws",null,"New",null,null,null,"Machinery and Equipment","Capital Spares",29,null,null,0,0,120000,0,0]
[null,"Beautificationn of Town Entrence",null,"New",null,null,null,null,null,null,null,null,null,null,800000,0,0]
[null,"Industrial lawn mower(8)",null,"New",null,null,null,"Machinery and Equipment","Capital Spares",29,null,null,null,null,130000,0,0]
[null,"Grass Cutting Machine",null,"New",null,null,null,"Machinery and Equipment","Capital Spares",29,null,null,0,400000,0,0,0]
[null,"Refuse Compactor Truck",null,"New",null,null,null,"Transport Assets","Capital Spares",29,null,null,1335981,2200000,0,0,0]
[null,"Rural transfer stations",null,"New",null,null,null,"Solid Waste Infrastructure","Capital Spares",29,null,null,0,0,0,0,0]
[null,"TLB ",null,"New",null,null,null,"Transport Assets","Capital Spares",29,null,null,0,900000,0,0,0]
[null,"Brush Cutters",null,"New",null,null,null,"Machinery and Equipment","Capital Spares",29,null,null,0,0,0,0,0]
[]
["Storm Water","Ga-Kgapane Storm water Channels",null,"New",null,null,null,"Storm water Infrastructure","Storm water Conveyance","Ward 3/4",null,null,0,2700000]
[null,"Modjadjiskloof Channels",null,"New",null,null,null,"Storm water Infrastructure","Storm water Conveyance",29,null,null,0,0]
[null,"Kgapane pedestrian bridge",null,"New",null,null,null,"Storm water Infrastructure","Storm water Conveyance",null,null,null,null,null,700000]
[null,"Low level Bridges",null,"New",null,null,null,"Storm water Infrastructure","Storm water Conveyance",null,null,null,3160235,3764654,2980000,3326364,15508298]
[]
["Roads","Kgapane Side Walks",null,"Renewal",null,null,null,"Roads Infrastructure","Roads","03,04",null,null,0,0]
[null,"Modjadjiskloof Side Walks",null,"Renewal",null,null,null,"Roads Infrastructure","Roads",29,null,null,0,0]
[null,"Sekgopo Gabions",null,"New",null,null,null,"Roads Infrastructure","Roads",9,null,null,0,0]
[null,"Shamfana Street paving",null,"New",null,null,null,"Roads Infrastructure","Roads",25,null,null,0,0]
[null,"Medingen Street Paving",null,"New",null,null,null,"Roads Infrastructure","Roads",5,null,null,0,0]
[null,"Ward 5 Street Paving (Malematsa)",null,"New",null,null,null,"Roads Infrastructure","Roads",5,null,null,0,0,400000,2500000,7500000]
[null,"Ward 9 (Sekgopo Street Paving)",null,"New",null,null,null,"Roads Infrastructure","Roads",9,null,null,0,0,400000,2500000,7500000]
[null,"Maapana Street Paving ",null,"New",null,null,null,"Roads Infrastructure","Roads","03,04",null,null,0,0]
[null,"Las Vegas Street Paving",null,"New",null,null,null,"Roads Infrastructure","Roads","                  03,04",null,null,796810,0]
[null,"Ditshosing Street Paving",null,"New",null,null,null,"Roads Infrastructure","Roads",21,null,null,2714410,0]
[null,"Mamphakathi Street Paving",null,"New",null,null,null,"Roads Infrastructure","Roads",8,null,null,0,0]
[null,"Ga-Ntata Street Paving",null,"New",null,null,null,"Roads Infrastructure","Roads",24,null,null,3803265,1853086]
[null,"Sekgopo Moshate Street Paving",null,"New",null,null,null,"Roads Infrastructure","Roads",9,null,null,0,2891585]
[null,"Mamphakathi Street Paving",null,"New",null,null,null,"Roads Infrastructure","Roads",null,null,null,0,637408]
[null,"Mokwakwaila Library",null,"New",null,null,null,"Roads Infrastructure","Roads",27,null,null,0,0]
[null,"Maupa Street Paving",null,"New",null,null,null,"Roads Infrastructure","Roads",23,null,null,0,0,400000,2500000,7500000]
[null,"Ramoadi Street Paving",null,"New",null,null,null,"Roads Infrastructure","Roads",10,null,null,0,0,400000,2500000,7500000]
[null,"Abel Street Paving",null,"New",null,null,null,"Roads Infrastructure","Roads",26,null,null,0,0]
[null,"Modjadjiskloof Waterfall Paving",null,"New",null,null,null,"Roads Infrastructure","Roads",29,null,null,0,0]
[null,"Mokgoba Street Paving",null,"New",null,null,null,"Roads Infrastructure","Roads",29,null,null,0,0,400000,2500000,7500000]
[null,"Ward 13 (Senwamokgope) Street Paving",null,"New",null,null,null,"Roads Infrastructure","Roads",30,null,null,0,0,400000,2500000,7500000]
[null,"Ward 15 Phase 2 Street Paving",null,"New",null,null,null,"Roads Infrastructure","Roads",11,null,null,0,0,400000,2500000,7500000]
[null,"Raphahlelo Head Kraal paving - roll over (Consultant)",null,"New",null,null,null,"Roads Infrastructure","Roads",15,null,null,0,0]
[null,"4X2 Bakkie (Roads and stormwater)",null,"New",null,null,null,"Transport Assets","Roads",null,null,null,0,0,350000,0,0]
[null,"4X2 Bakkie (3)(Plumbing team in M/skloof and Kgapane)",null,null,null,null,null,null,null,null,null,null,null,null,1050000,0,0]
[null,"Maphalle Market stalls",null,"New",null,null,null,"Roads Infrastructure","Roads",20,null,null,0,0]
[null,"1X Graders",null,"New",null,null,null,"Transport Assets","Roads",29,null,null,0,5250000,0,0,0]
[null,"3X Tipper trucks",null,"New",null,null,null,"Transport Assets","Roads",29,null,null,0,0,2500000,0,0]
[null,"Suction Tanker",null,"New",null,null,null,"Transport Assets","Roads",29,null,null,0,1200000]
[null,"3X Water tankers ",null,"New",null,null,null,"Transport Assets","Roads",29,null,null,0,1200000,2500000,0,0]
[null,"1 ton quarter canopy truck for roads and storm water",null,"New",null,null,null,"Transport Assets","Roads",29,null,null,0,400000]
[null,"Pedestrian roller",null,"New",null,null,null,"Machinery and Equipment","Roads",29,null,null,0,360000]
[null,"Workshop (4x4 bakkie)",null,"New",null,null,null,"Transport Assets","Roads",29,null,null,0,500000]
[null,"Fencing of Municipal workshop",null,"New",null,null,null,"Operational Buildings","Roads",29,null,null,0,700000]
[null,"TLB (2) (Senwamokgope & Mokwakwaila)",null,"New",null,null,null,"Roads Infrastructure","Roads",null,null,null,0,0,1500000,0,0]
[null,"Mechanical broom machinery",null,"New",null,null,null,"Machinery and Equipment","Roads","                   03,04",null,null,0,0,600000,0,0]
[null,"Rehabilitation of Modjadjiskloof Streets ",null,"New",null,null,null,"Roads Infrastructure","Roads",29,null,null,0,350000,0,0,5500000]
[null,"Rehabilitation of Ga-kgapane Streets - Phase 2",null,"New",null,null,null,"Roads Infrastructure","Roads","                   03,04",null,null,0,1200000,3000000,0,4200000]
[null,"Modjadjiskloof Gabions",null,"New",null,null,null,"Roads Infrastructure","Roads",29,null,null,1347659,126262]
[null,"Itieleng-Sekgosese Street Paving - Construction",null,"New",null,null,null,"Roads Infrastructure","Roads",12,null,null,156520,200000,7178994,7644261,0]
[null,"Refilwe Street paving - Consultant",null,"New",null,null,null,"Roads Infrastructure","Roads",22,null,null,0,0]
[null,"Mmamakata Raselaka Street Paving - Consultant",null,"New",null,null,null,"Roads Infrastructure","Roads",7,null,null,0,0]
[null,"Khosotupa Taxi Rank",null,"New",null,null,null,"Roads Infrastructure","Roads",19,null,null,1718800,0]
[null,"Wholesaler Taxi Rank",null,"New",null,null,null,"Roads Infrastructure","Roads",18,null,null,1584843,0]
[null,"Mmaphakhati Taxi Rank",null,"New",null,null,null,"Roads Infrastructure","Roads",8,null,null,0,0]
[null,"Rehabiliation of Ga-Kgapane taxi rank, paving extension and storage\ntank",null,"New",null,null,null,"Roads Infrastructure","Roads","                  03,04",null,null,0,0]
[null,"Lemondokop Street Paving - Construction",null,"New",null,null,null,"Roads Infrastructure","Roads",18,null,null,175439,200000,4000000,8454525,4000000]
[null,"Modjadji Ivory Route Phase I",null,"New",null,null,null,"Roads Infrastructure","Roads",29,null,null,3617178,6152456]
[null,"Makaba Street Paving",null,"New",null,null,null,"Roads Infrastructure","Roads",2,null,null,0,0]
[null,"Rasewana and Lenokwe (Designs)",null,"New",null,null,null,"Roads Infrastructure","Roads",1,null,null,0,962961]
[null,"Jamela street paving",null,"New",null,null,null,"Roads Infrastructure","Roads",19,null,null,0,0]
[null,"Sedibeng street Paving",null,"New",null,null,null,"Roads Infrastructure","Roads",23,null,null,0,0]
[null,"Upgrading of  streets-Mokgoba",null,"New",null,null,null,"Roads Infrastructure","Roads",29,null,null,0,0]
[null,"Mmamokgadi Street Paving",null,"New",null,null,null,"Roads Infrastructure","Roads",24,null,null,0,0,400000,5600000,5500000]
[null,"Mapaana Street Upgrade ",null,"New",null,null,null,"Roads Infrastructure","Roads","03,04",null,null,0,0,300000,12332072,4000000]
[null,"Khethothone Street paving",null,"New",null,null,null,"Roads Infrastructure","Roads",7,null,null,0,0,300000,12332072,4000000]
[null,"Seatlaleng Street Paving",null,"New",null,null,null,"Roads Infrastructure","Roads",7,null,null,5060179,0]
[null,"Roller Compactor (x1)",null,"New",null,null,null,"Machinery and Equipment","Roads",null,null,null,0,0]
[null,"Tshabelamatswale Street Paving",null,"New",null,null,null,"Roads Infrastructure","Roads",7,null,null,0,0]
[null,"Ramodumo Street Paving",null,"New",null,null,null,"Roads Infrastructure","Roads",26,null,null,0,0]
[null,"Block 18 Street paving",null,"New",null,null,null,"Roads Infrastructure","Roads",24,null,null,0,0]
[null,"Kherobeng street paving",null,"New",null,null,null,"Roads Infrastructure","Roads",null,null,null,0,0]
[null,"Matshelapata street paving",null,"New",null,null,null,"Roads Infrastructure","Roads",30,null,null,0,0]
[null,"Jokong Street Paving",null,"New",null,null,null,"Roads Infrastructure","Roads",26,null,null,0,0]
[null,"Makhutukwe Street Paving (Planning)",null,"New",null,null,null,"Roads Infrastructure","Roads",1,null,null,0,400000,3000000,10000000,3000000]
[null,"Paving - Mokwasele Cemetry ",null,"New",null,null,null,"Roads Infrastructure","Roads",6,null,null,0,200000,3000000,10000000,3000000]
[null,"Sephukubye Street Paving ",null,"New",null,null,null,"Roads Infrastructure","Roads",16,null,null,0,0,400000,2500000,7500000]
[null,"Moshakga Street Paving",null,"New",null,null,null,"Roads Infrastructure","Roads",2,null,null,150000,10256126,5700000,0,0]
[null,"Refurbishment of Modjadjiskloof Taxi Rank",null,"New",null,null,null,"Roads Infrastructure","Roads",29,null,null,0,0,800000,0,0]
[null,"Manningburg Street Paving (Designs and Construction)",null,"New",null,null,null,"Roads Infrastructure","Roads","                   03,04",null,null,0,7000000]
[null,"Mohlabaneng Street Paving Designs",null,"New",null,null,null,"Roads Infrastructure","Roads",21,null,null,0,0,400000,6600000,4500000]
[null,"Mptsinoni Street Paving",null,"New",null,null,null,"Roads Infrastructure","Roads",1,null,null,0,0,400000,6600000,4500000]
[null,"Modjadji Valley Street Paving ph 2",null,"New",null,null,null,"Roads Infrastructure","Roads",29,null,null,0,0]
[]
["Road Transport/ Vehicle licensing & Testing","Stop Watches",null,null,null,null,null,"Machinery and Equipment","Capital Spares",null,null,null,0,0,10000,0,0]
[null,"Road Block Trailer ",null,null,null,null,null,"Machinery and Equipment","Capital Spares",null,null,null,0,0,300000,0,0]
[null,"Traffic Patrol vehicles *2",null,"New",null,null,null,"Operational Buildings","Capital Spares",29,null,null,0,0,600000,0,0]
[null,"4*Ton Truck with hakf tent",null,"New",null,null,null,"Operational Buildings","Capital Spares",29,null,null,0,0,900000,0,0]
[null,"Counter, Bullet Glass and cubicles",null,"New",null,null,null,"Operational Buildings","Capital Spares","                    03,04",null,null,0,0,350000,0,0]
[null,"Establishment of RA and DLTC (Mokwakwaila Licensing)",null,"New",null,null,null,"Machinery and Equipment","Capital Spares",29,null,null,0,0,200000,0,0]
[null,"Obstacles 60 (poles & pedestals) Modjadjiskloof DLTC",null,"New",null,null,null,"Machinery and Equipment","Capital Spares",29,null,null,0,100000]
[null,"Firearm and  ammunition",null,"New",null,null,null,"Machinery and Equipment","Capital Spares",29,null,null,143940,0]
[null,"Office safe & brick safe",null,"New",null,null,null,"Machinery and Equipment","Capital Spares",29,null,null,0,50000]
[null,"Supply and installation Cubicles (Kgapane Licensing Office)",null,"New",null,null,null,"Operational Buildings","Capital Spares","                   03,04",null,null,0,0,150000,0,0]
[null,"Orthorators (Eye test Machines) M/kloof , Mokwakwaila and Kgapane",null,"New",null,null,null,"Operational Buildings","Capital Spares",29,null,null,0,0,180000,0,0]
[null,"Colour printer",null,"New",null,null,null,"Machinery and Equipment","Capital Spares",29,null,null,0,0,50000,0,0]
[null,"Visitors Firearm Storage safes",null,"New",null,null,null,"Furniture and Office Equipment","Capital Spares",29,null,null,0,6000]
[null,"Fridges",null,null,null,null,null,null,null,null,null,null,null,null,50000,0,0]
[null,"Microwaves",null,"New",null,null,null,"Operational Buildings","Capital Spares",29,null,null,0,0,40000]
[]
["Electricity / Electricity Distribution","Prepaid Meters in Mokgoba Village",null,"New",null,null,null,"Electrical Infrastructure","LV Networks",29,null,null,408000,3000000,0]
[null,"Split metering in Modjadjiskloof ",null,"New",null,null,null,"Electrical Infrastructure","LV Networks",29,null,null,0,3876352,0]
[null,"Upgrade of Electricity to NERSA Standards-NERSA Compliance",null,"New",null,null,null,"Electrical Infrastructure","LV Networks",29,null,null,9829235,2524760]
[null,"Refurbishment of Dorrin 11 KV Line",null,"New",null,null,null,"Electrical Infrastructure","LV Networks",29,null,null,0,0,2000000,0,0]
[null,"Refurbishing of LV network",null,"New",null,null,null,"Electrical Infrastructure","LV Networks",29,null,null,0,3800000,2800000,0,0]
[null,"Re-routing of Chritinas Rest HV line",null,"New",null,null,null,"Electrical Infrastructure","HV Switching Station",29,null,null,0,1400000]
[null,"500kVA mini sub",null,"New",null,null,null,"Electrical Infrastructure","MV Substations",29,null,null,0,0,1200000,0,0]
[null,"315kVA pole transformer ",null,"New",null,null,null,"Electrical Infrastructure","MV Substations",29,null,null,0,200000,500000,0,0]
[null,"200kVA pole transformer",null,"New",null,null,null,"Electrical Infrastructure","MV Substations",29,null,null,0,0,300000,0,0]
[null,"Streetlights metering",null,"New",null,null,null,"Electrical Infrastructure","MV Substations",29,null,null,0,0,750000,0,0]
[null,"LED Highmast Modjadjiskloof",null,"New",null,null,null,"Electrical Infrastructure","LV Networks",29,null,null,0,0,600000,0,0]
[null,"Municipal Building Metering Points (Workshop, Library,Kgapane & Senwamokgope)",null,"New",null,null,null,"Electrical Infrastructure","LV Networks",29,null,null,0,0,300000,0,0]
[null,"Highmast control boxes & cables",null,"New",null,null,null,"Electrical Infrastructure","LV Networks",29,null,null,0,0]
[null,"4x4 Cherry picker Truck",null,"New",null,null,null,"Electrical Infrastructure","Capital Spares",29,null,null,0,0,2300000,0,0]
[null,"Crane Truck Bucket",null,"New",null,null,null,"Electrical Infrastructure","Capital Spares",29,null,null,null,null,50000,0,0]
[null,"Replacement of Aged Low Voltage Meter boxes in Modjadjiskloof",null,"New",null,null,null,"Electrical Infrastructure","Capital Spares",29,null,null,0,0,650000,0,0]
[null,"Silent Mobile Generator 50 KVA with trailer",null,"New",null,null,null,"Electrical Infrastructure","Capital Spares",29,null,null,0,0,350000,0,0]
[null,"Electric transformer",null,"New",null,null,null,"Electrical Infrastructure","Capital Spares",29,null,null,747227,0,0,0,0]
[]
["INEP","Household Connection in 7 Villages",null,"New",null,null,null,"Electrical Infrastructure","LV Networks",null,null,null,6000000,5983000,0,7000000,7000000]
[]
["MIG",null,null,"New",null,null,null,"Roads Infrastructure","Roads",29]
[null,"Manningburg Street Paving",null,"New",null,null,null,"Roads Infrastructure","Roads",29,null,null,null,null,8000000,0,0]
[null,"Rasewana and Lenokwe Street Paving",null,"New",null,null,null,"Roads Infrastructure","Roads",13,null,null,null,null,7000000,8000000,0]
[null,"Upgrading of streets - Kuranta",null,"New",null,null,null,"Roads Infrastructure","Roads",26,null,null,0,0,0,0,0]
[null,"Kgapane Stadium Phase 3",null,"New",null,null,null,"Sport and Recreation Facilities","Outdoor Facilities","                   03,04",null,null,10709022,11132580,8233189,0,0]
[null,"Kgapane Stadium bridge",null,"New",null,null,null,"Roads Infrastructure","Roads","                   03,04"]
[null,"Senwamokgope Library ",null,"New",null,null,null,"Community Facilities","Libraries",13]
[null,"Sekgopo Library",null,"New",null,null,null,"Community Facilities","Libraries",9]
[null,"Mokwakwaila Library",null,"New",null,null,null,"Community Facilities","Libraries",27]
[null,"Seatlaleng Street Paving     ",null,"New",null,null,null,"Roads Infrastructure","Roads",7]
[null,"Mohlakong Street paving     ",null,"New",null,null,null,"Roads Infrastructure","Roads",2]
[null,"Sephukhubje Street paving  ",null,"New",null,null,null,"Roads Infrastructure","Roads",16]
[null,"Shaamiriri Sports Complex",null,"New",null,null,null,"Roads Infrastructure","Roads",26,null,null,798463,0]
[null,"Matshelapata Street paving  ",null,"New",null,null,null,"Roads Infrastructure","Roads"]
[null,"Shawela Street paving       ",null,"New",null,null,null,"Roads Infrastructure","Roads",20]
[null,"Sekgopo-Maboying Street paving      ",null,"New",null,null,null,"Roads Infrastructure","Roads",9]
[null,"Tlotlokwe Street paving    ",null,"New",null,null,null,"Roads Infrastructure","Roads",27]
[null,"Shamfana Street Paving   ",null,"New",null,null,null,"Roads Infrastructure","Roads",25]
[null,"Kherobeng Street Paving  ",null,"New",null,null,null,"Roads Infrastructure","Roads"]
[null,"Goedplas Community Hall",null,"New",null,null,null,"Community Facilities","Halls",12,null,null,1516335,0]
[null,"Thakgalane Community Hall",null,"New",null,null,null,"Community Facilities","Halls",12,null,null,1101172,0]
[null,"Ntata Community Hall",null,"New",null,null,null,"Community Facilities","Halls",24,null,null,4609305,0]
[null,"Upgrading of streets- Sekgopo Moshate ",null,"New",null,null,null,"Roads Infrastructure","Roads",9,null,null,6793544,6052992]
[null,"Upgrading of streets- Mamphakhate ",null,"New",null,null,null,"Roads Infrastructure","Roads",8,null,null,4512214,9161451]
[null,"Upgrading of streets- Ramphanyana ",null,"New",null,null,null,"Roads Infrastructure","Roads",6,null,null,6744644,0]
[null,"Las Vegas Street  paving",null,"New",null,null,null,"Roads Infrastructure","Roads","                   03,04",null,null,7645663,6897262]
[null,"Upgrading of streets- Dichosing ",null,"New",null,null,null,"Roads Infrastructure","Roads",20,null,null,7675761,6242605]
[null,"Upgrading of streets -GaNtata",null,"New",null,null,null,"Roads Infrastructure","Roads",24,null,null,6800000,6120575]
[null,"Kgapane Indoor Hall",null,"New",null,null,null,"Community Facilities","Halls","                   03,04",null,null,0,0]
[null,"Mamaila Mphotwane Library",null,"New",null,null,null,"Community Facilities","Libraries",17,null,null,0,0]
[null,"Abel Library",null,"New",null,null,null,"Community Facilities","Libraries",26,null,null,0,0]
[null,"Itieleng GaPheeha Library",null,"New",null,null,null,"Community Facilities","Libraries",12,null,null,0,0]
[null,"Moshakga Youth Information Centre",null,"New",null,null,null,"Community Facilities","Indoor Facilities",2,null,null,0,0]
[null,"Taolome Youth Information Centre",null,"New",null,null,null,"Community Facilities","Indoor Facilities",27,null,null,0,0]
[null,"Highmast lights in 12 villages",null,"New",null,null,null,"Electrical Infrastructure","LV Networks",null,null,null,0,0]
[null,"Sidewalks from Kgapane to Mokwakwaila",null,"New",null,null,null,"Roads Infrastructure","Roads","                   03,27",null,null,0,0]
[null,"Thakgalane Sports Complex",null,"New",null,null,null,"Sport and Recreation Facilities","Outdoor Facilities",12,null,null,0,{"$f":"3418142+5000000","v":8418142},10000000,14681858,11325142]
[null,"Madumeleng/Shotong Sports Complex",null,"New",null,null,null,"Sport and Recreation Facilities","Outdoor Facilities","                   01,06",null,null,0,2448969,10000000,15151031,10355969]
[null,"Ramodumo Street Paving",null,"New",null,null,null,"Roads Infrastructure","Roads",26,null,null,0,0,0,600000,15458045]
[null,"Mamokgadi Street Paving",null,"New",null,null,null,"Roads Infrastructure","Roads",24,null,null,0,0,0,600000,15700000]
[null,"Jokong Street Paving",null,"New",null,null,null,"Roads Infrastructure","Roads",25,null,null,0,{"$f":"95155+15000000","v":15095155},9861764,14002125,6113111]
[null,"Lebaka Sports complex phase2",null,"New",null,null,null,"Sport and Recreation Facilities","Outdoor Facilities",19,null,null,431939,2067270]
[null,"GLM Show Ground",null,"New",null,null,null,"Sport and Recreation Facilities","Outdoor Facilities",29,null,null,0,0,0,0,0]
[null,"Rampepe Access Bridge",null,"New",null,null,null,"Roads Infrastructure","Roads",27,null,null,0,0,1000000,4000000,2400000]
[null,"Upgrading of Market Stalls in Modjadjiskloof",null,"New",null,null,null,"Roads Infrastructure","Roads",29,null,null,0,0,0,0,0]
[null,"PMU Management",null,null,null,null,null,null,null,null,null,null,1823938,2823000,3513047,3747986,3998733]
[]
[]
[]
[null,null,null,null,null,null,null,null,null,null,null,null,{"$f":"SUM(M7:M337)","v":153603048},{"$f":"SUM(N7:N337)","v":193661406.40000001},{"$f":"SUM(O7:O337)","v":151554220.34999999},{"$f":"SUM(P7:P337)","v":185822294},{"$f":"SUM(Q7:Q337)","v":200551218}]

{"sheet":"SA37","index":62,"n_rows":27,"n_cols":18,"rows_kept":27,"cut":false,"hidden":false,"merged":[[1,12,2,12],[1,13,1,14],[1,15,1,17]]}
[{"$f":"muni&\" - \"&TableA37","v":"LIM332 Greater Letaba - Supporting Table SA37 Projects delayed from previous financial year/s"}]
["R thousand",null,null,null,null,null,null,null,null,null,null,null,{"$f":"Head47","v":"Previous target year to complete"},{"$f":"Head2","v":"Current Year 2018/19"},null,{"$f":"Head3","v":"2019/20 Medium Term Revenue & Expenditure Framework"}]
["Function","Project name","Project number","Type","MTSF Service Outcome","IUDF","Own Strategic Objectives","Asset Class","Asset Sub-Class","Ward Location","GPS Longitude","GPS Lattitude",null,{"$f":"Head6","v":"Original Budget"},{"$f":"Head8","v":"Full Year Forecast"},{"$f":"Head9","v":"Budget Year 2019/20"},{"$f":"Head10","v":"Budget Year +1 2020/21"},{"$f":"Head11","v":"Budget Year +2 2021/22"}]
["Parent municipality:"]
["List all capital projects grouped by Function"]
[]
["NER Electricity Compliance-Modjadjiskloof",null,"Infrastructure - Electricity",null,"Electrical Infrastructure","Distribution",null,2014,null,null,null,null,null,400000,400000]
["Landfill Site",null,"Other assets",null,"Solid Waste Infrastructure","Landfill Sites",null,null,null,null,null,null,null,2000000,2000000]
["Enhancement and Beautication of Modjadjiskloof Town Entrance",null,null,null,"Community Facilities","Capital Spares",null,null,null,null,null,null,null,150000,150000]
[]
[]
[]
[]
["Entities:"]
["List all capital projects grouped by Entity"]
[]
["Entity Name"]
["Project name"]
[]
[]
[]
[]
[{"$f":"head27a","v":"References"}]
["List all projects with planned completion dates in current year that have been re-budgeted in the MTREF"]
["Asset class as per table A9 and asset sub-class as per table SA34"]
["GPS coordinates correct to seconds. Provide a logical starting point on networked infrastructure."]
["Project Number consists of MSCOA Project Longcode and seq No (sample PC001002006002_00002)"]

{"sheet":"SA38","index":63,"n_rows":871,"n_cols":17,"rows_kept":871,"cut":false,"hidden":false,"merged":[[1,12,1,13],[1,14,1,16]]}
[{"$f":"muni&\" - \"&TableA38","v":"LIM332 Greater Letaba - Supporting Table SA38 Consolidated detailed operational projects"}]
["R thousand",null,null,null,null,null,null,null,null,null,null,null,"Prior year outcomes",null,{"$f":"Head3","v":"2019/20 Medium Term Revenue & Expenditure Framework"}]
["Function","Project Description","Project Number","Type","MTSF Service Outcome","IUDF","Own Strategic Objectives","Asset Class","Asset Sub-Class","Ward Location","GPS Longitude","GPS Lattitude",{"$f":"Head5&\"    \"&Head1","v":"Audited Outcome    2017/18"},{"$f":"Head2 & \"        \"&Head8","v":"Current Year 2018/19        Full Year Forecast"},{"$f":"Head9","v":"Budget Year 2019/20"},{"$f":"Head10","v":"Budget Year +1 2020/21"},{"$f":"Head11","v":"Budget Year +2 2021/22"}]
["Parent municipality:"]
["List all operational projects grouped by Function"]
[]
["Mayor 's Office","SALARIES;                   ",null,null,null,"Yes",null,null,null,null,null,null,58053544,2806978.74,2746701.13,2936223.5079700002,3138822.9300199295]
[null,"HOUSING SUBSIDY;            ",null,null,null,"Yes",null,null,null,null,null,null,null,16047.130000000001,25000,26725,28569.024999999998]
[null,"GROUP INSURANCE;            ",null,null,null,"Yes",null,null,null,null,null,null,null,10507.87,11310.84,12091.28796,12925.586829239999]
[null,"CHARGE: INDUSTRIAL COUNCIL; ",null,null,null,"Yes",null,null,null,null,null,null,null,870.6,864,923.61599999999999,987.34550399999989]
[null,"MEDICAL AID FUND;           ",null,null,null,"Yes",null,null,null,null,null,null,null,257643.07,283676.88,303250.58471999998,324174.87506567995]
[null,"OVERTIME;                   ",null,null,null,"Yes",null,null,null,null,null,null,null,28634.070000000007,0,0,0]
[null,"PENSION FUND;               ",null,null,null,"Yes",null,null,null,null,null,null,null,522861.41000000003,542463.67000000004,579893.66323000006,619906.32599287003]
[null,"LEAVE REDEMPTION;           ",null,null,null,"Yes",null,null,null,null,null,null,null,30994.83,101868.05,108896.94545,116410.83468604999]
[null,"BONUS;                      ",null,null,null,"Yes",null,null,null,null,null,null,null,197660.77,212225.09,226868.62120999998,242522.55607348998]
[null,"VEHICLE ALLOWANCE;          ",null,null,null,"Yes",null,null,null,null,null,null,null,294601.19999999995,293324.95,313564.37154999998,335200.31318694999]
[null,"DSTV SUBSCRIPTION;          ",null,null,null,"Yes",null,null,null,null,null,null,null,9086.7199999999993,9559.2294399999992,10075.427829759999,10619.50093256704]
[null,"FIRE ARMS ALLOWANCES;       ",null,null,null,"Yes",null,null,null,null,null,null,null,0,0,0,0]
[null,"IMBIZOS;                    ",null,null,null,"Yes",null,null,null,null,null,null,null,400000,500000,527000,555458]
[null,"OLDER PERSONS ",null,null,null,"Yes",null,null,null,null,null,null,null,95000,100000,105400,111091.6]
[null,"HUMANITARIAN AID;           ",null,null,null,"Yes",null,null,null,null,null,null,null,80000,100000,105400,111091.6]
[null,"BACK TO SCHOOL CAMPAIGN;    ",null,null,null,"Yes",null,null,null,null,null,null,null,0,0,0,0]
[null,"DSTV;                       ",null,null,null,"Yes",null,null,null,null,null,null,null,0,0,0,0]
[null,"FUEL;                       ",null,null,null,"Yes",null,null,null,null,null,null,null,430286.69142857142,452661.59938285715,477105.32574953145,502869.01334000617]
[null,"FREE BASIC ELECTRICITY;     ",null,null,null,"Yes",null,null,null,null,null,null,null,0,0,0,0]
[null,"CATERING;                   ",null,null,null,"Yes",null,null,null,null,null,null,null,556200,550000,579700,611003.80000000005]
[null,"MAYOR'S EXCELLENCE AWARDS;  ",null,null,null,"Yes",null,null,null,null,null,null,null,300000,300000,316200,333274.8]
[null,"PRINTING AND STATIONARY;    ",null,null,null,"Yes",null,null,null,null,null,null,null,57915,60926.58,64216.615320000004,67684.312547280002]
[null,"BURSARY SCHEME : COUNCIL;   ",null,null,null,"Yes",null,null,null,null,null,null,null,1634676,1634676,1722948.5040000002,1815987.7232160002]
[null,"PUBLIC PARTICIPATION;       ",null,null,null,"Yes",null,null,null,null,null,null,null,1452350.7,1500000,1581000,1666374]
[null,"RENTAL: OFFICES;            ",null,null,null,"Yes",null,null,null,null,null,null,null,0,0,0,0]
[null,"RENTAL: EQUIPMENT;          ",null,null,null,"Yes",null,null,null,null,null,null,null,0,0,0,0]
[null,"CAPACITY BUILDING - COUNCILLORS          ",null,null,null,"Yes",null,null,null,null,null,null,null,259423.90000000002,272913.94280000002,287651.29571120004,303184.46567960485]
[null,"CONFERENCES & CONGRESSES;   ",null,null,null,"Yes",null,null,null,null,null,null,null,112378.27,180000,189720,199964.88]
[null,"SUBSCRIPTIONS;              ",null,null,null,"Yes",null,null,null,null,null,null,null,0,0,0,0]
[null,"STORES AND MATERIAL;        ",null,null,null,"Yes",null,null,null,null,null,null,null,0,0,0,0]
[null,"VISIT TO HOSPITALS;         ",null,null,null,"Yes",null,null,null,null,null,null,null,0,40000,42160,44436.639999999999]
[null,"ENTERTAINMENT ALLOWANCES;   ",null,null,null,"Yes",null,null,null,null,null,null,null,10000,10000,10000,10000]
[null,"INTERNS (FMG);              ",null,null,null,"Yes",null,null,null,null,null,null,null,0,0,0,0]
[null,"PENSIONERS: MEDICAL AID;    ",null,null,null,"Yes",null,null,null,null,null,null,null,119433.79,119433.79,125883.21466,132680.90825164001]
[null,"SUBSISTENCE & tRAVEL: COUNCI",null,null,null,"Yes",null,null,null,null,null,null,null,4744939.51,3000000,3162000,3332748]
[null,"SUBSISTENCE AND TRAVELING - OFFICIALS",null,null,null,"Yes",null,null,null,null,null,null,null,374161.15,380000,400520,422148.08]
[null,"SUBSISTENCE & TRAVEL: MAYOR;",null,null,null,"Yes",null,null,null,null,null,null,null,170000,178840,188497.36000000002,198676.21744000004]
[null,"LONG SERVICE AWARDS;        ",null,null,null,"Yes",null,null,null,null,null,null,null,21201.599999999999,22304.083200000001,23508.503692800001,24777.962892211202]
[null,"CELLPHONE TRADITIONAL LEADER",null,null,null,"Yes",null,null,null,null,null,null,null,60362.79,60362.79,63622.380660000003,67057.989215640002]
[null,"CELLPHONE;                  ",null,null,null,"Yes",null,null,null,null,null,null,null,43869.85,46151.082199999997,48643.240638800002,51269.975633295202]
[null,"ALLOWANCE EXECUTIVE COMMITTE",null,null,null,"Yes",null,null,null,null,null,null,null,2762267.34,2905905.24168,3062824.1247307202,3228216.6274661794]
[null,"ALL : FULL TIME COUNCILLORS;",null,null,null,"Yes",null,null,null,null,null,null,null,3389199.82,3565438.2106400002,3757971.8740145601,3960902.3552113464]
[null,"ALLOWANCE: MPAC CHAIRPERSON",null,null,null,null,null,null,null,null,null,null,null,715265.32,752459.11664000002,793091.90893856005,835918.87202124228]
[null,"ALLOWANCE : MAYOR;          ",null,null,null,"Yes",null,null,null,null,null,null,null,861866.07,906683.10563999997,955643.99334456003,1007248.7689851663]
[null,"ALLOWANCE SPEAKER;          ",null,null,null,"Yes",null,null,null,null,null,null,null,905528.8,952616.29760000005,1004057.5776704001,1058276.6868646019]
[null,"REMUNER: PART TIME COUNCILLO",null,null,null,"Yes",null,null,null,null,null,null,null,11038729.890000001,11612743.844280001,12239832.011871122,12900782.940512164]
[null,"SEC79 COMM CHAIRPERSON",null,null,null,null,null,null,null,null,null,null,null,3209178,3376055.2560000001,3558362.2398240003,3750513.8007744965]
[null,"SKILLS DEV LEVY;            ",null,null,null,"Yes",null,null,null,null,null,null,null,0,0,0,0]
[null,"YOUTH EMPOWERMENT PROJECT  ;",null,null,null,"Yes",null,null,null,null,null,null,null,0,0,0,0]
[null,"CORPORATE VIDEO",null,null,null,null,null,null,null,null,null,null,null,0,0,0,0]
[null,"FREE BASIC ELECTRICITY;     ",null,null,null,null,null,null,null,null,null,null,null,0,0,0,0]
[null,"PROVISION BAD BEBTS",null,null,null,null,null,null,null,null,null,null,null,0,0,0,0]
[null,"YOUTH DESK ACT;             ",null,null,null,"Yes",null,null,null,null,null,null,null,110000,115720,121968.88,128555.19952000001]
[null,"GENDER DESK ACT",null,null,null,null,null,null,null,null,null,null,null,115450,121453.40000000001,128011.88360000002,134924.52531440003]
[null,"GENDER AND WOMEN CAUCUS ;            ",null,null,null,"Yes"]
[null,"MPAC ACTIVITIES",null,null,null,"Yes",null,null,null,null,null,null,null,102350,107672.20000000001,113486.49880000002,119614.76973520003]
[null,"DISABILITY DESK ACT;        ",null,null,null,"Yes",null,null,null,null,null,null,null,203999.5,214607.47400000002,226196.27759600003,238410.87658618405]
[null,"HIV/AIDS DESK ACT;          ",null,null,null,"Yes",null,null,null,null,null,null,null,108000,113616,119751.26400000001,126217.83225600002]
[null,"WORKSHOP&MEETINGS: WARD COMMITTEE",null,null,null,"Yes",null,null,null,null,null,null,null,3610052.25,4000000,4216000,4443664]
[null,"DEPRECIATION;               ",null,null,null,"Yes",null,null,null,null,null,null,null,721793.32,759326.57264000003,800330.2075625601,843548.03877093841]
[null,"REBRANDING OF MUNICIPAL ASSE",null,null,null,"Yes",null,null,null,null,null,null,null,0,0,0,0]
[null,"BATHO PELE STRATEGIES;      ",null,null,null,"Yes",null,null,null,null,null,null,null,0,0,0,0]
[null,"WOMEN CAUCUS",null,null,null,null,null,null,null,null,null,null,null,0,200000,210800,222183.2]
[null,"UIF;                        ",null,null,null,"Yes",null,null,null,null,null,null,null,1053,1107.7560000000001,1167.574824,1230.6238644960001]
[null,"VEHICLES;                   ",null,null,null,"Yes",null,null,null,null,null,null,null,308686.95,324738.67140000005,342274.55965560005,360757.3858770025]
[]
["Municiapl Manager ","SALARIES;                   ",null,null,null,"Yes",null,null,null,null,null,null,7441307,1227313.92,1309543.9526399998,1399902.4853721596,1496495.7568628385]
[null,"SALARIES SENIOR MANAGER",null,null,null,null,null,null,null,null,null,null,null,1327761.96,1348302.3,1441335.1587,1540787.2846502999]
[null,"HOUSING SUBSIDY;            ",null,null,null,"Yes",null,null,null,null,null,null,null,116085.59,116085.59,124095.49570999999,132658.08491398999]
[null,"GROUP INSURANCE;            ",null,null,null,"Yes",null,null,null,null,null,null,null,14353.369999999999,15432.79,16497.65251,17635.990533190001]
[null,"CHARGE: INDUSTRIAL COUNCIL; ",null,null,null,"Yes",null,null,null,null,null,null,null,529.72,565.21123999999998,604.2108155599999,645.90136183363984]
[null,"MEDICAL AID FUND;           ",null,null,null,"Yes",null,null,null,null,null,null,null,84435.13,91476,97787.843999999997,104535.20523599999]
[null,"OVERTIME;                   ",null,null,null,"Yes",null,null,null,null,null,null,null,13796.36,0,0,0]
[null,"PENSION FUND;               ",null,null,null,"Yes",null,null,null,null,null,null,null,239646.27000000002,382337.6,408718.89439999993,436920.4981135999]
[null,"LEAVE REDEMPTION;           ",null,null,null,"Yes",null,null,null,null,null,null,null,194805,82809.98,88523.868619999994,94632.015554779995]
[null,"BONUS;                      ",null,null,null,"Yes",null,null,null,null,null,null,null,96809.62,172520.8,184424.73519999997,197150.04192879997]
[null,"VEHICLE ALLOWANCE;          ",null,null,null,"Yes",null,null,null,null,null,null,null,230418.34,423646.61,452878.22608999995,484126.82369020995]
[null,"ADVERTISING (PUBLICITY);    ",null,null,null,"Yes",null,null,null,null,null,null,null,21060.42,22155.561839999998,23351.962179359998,24612.968137045438]
[null,"FUEL;                       ",null,null,null,"Yes",null,null,null,null,null,null,null,0,0,0,0]
[null,"CATERING;                   ",null,null,null,"Yes",null,null,null,null,null,null,null,22523.7,23694.932400000002,24974.458749600002,26323.079522078402]
[null,"BURNERS;                    ",null,null,null,"Yes",null,null,null,null,null,null,null,22639.77,23817.038040000003,25103.158094160004,26458.728631244645]
[null,"PRINTING AND STATIONARY;    ",null,null,null,"Yes",null,null,null,null,null,null,null,30464.73,32048.895960000002,33779.536341840001,35603.631304299364]
[null,"RENTAL: OFFICES;            ",null,null,null,"Yes",null,null,null,null,null,null,null,0,0,0,0]
[null,"CONFERENCES & CONGRESSES;   ",null,null,null,"Yes",null,null,null,null,null,null,null,32254.78,33932.028559999999,35764.358102240003,37695.633439760968]
[null,"SUBSCRIPTIONS;              ",null,null,null,"Yes",null,null,null,null,null,null,null,12786,13450.872000000001,14177.219088000002,14942.788918752003]
[null,"STORES AND MATERIAL;        ",null,null,null,"Yes",null,null,null,null,null,null,null,5405.09,5686.1546800000006,5993.2070327200008,6316.8402124868808]
[null,"ENTERTAINMENT ALLOWANCES;   ",null,null,null,"Yes",null,null,null,null,null,null,null,2000,2000,2000,2000]
[null,"INTERNS (FMG);              ",null,null,null,"Yes",null,null,null,null,null,null,null,0,0,0,0]
[null,"AUDIT FEES;                 ",null,null,null,"Yes",null,null,null,null,null,null,null,4742067.26,4988654.7575199995,5258042.1144260801,5541976.3886050889]
[null,"PERFORMANCE BONUS",null,null,null,"Yes",null,null,null,null,null,null,null,200000,210400,221761.6,233736.72640000001]
[null,"MAINTANANCE & SUPPORT",null,null,null,null,null,null,null,null,null,null,null,0,1500000,1600500,1686927]
[null,"POSTAGE FEES;               ",null,null,null,"Yes",null,null,null,null,null,null,null,1194.3399999999999,1256.44568,1324.2937467200002,1395.8056090428802]
[null,"SUBSISTENCE AND TRAVELING;  ",null,null,null,"Yes",null,null,null,null,null,null,null,409518.4,400000,454077.2780672001,478597.45108282892]
[null,"LONG SERVICE AWARDS;        ",null,null,null,"Yes",null,null,null,null,null,null,null,0,0,0,0]
[null,"CELLPHONE;                  ",null,null,null,"Yes",null,null,null,null,null,null,null,13120.38,13802.63976,14547.98230704,15333.57335162016]
[null,"SKILLS DEV LEVY;",null,null,null,"Yes",null,null,null,null,null,null,null,0,0,0,0]
[null,"UIF;                        ",null,null,null,"Yes",null,null,null,null,null,null,null,3159,3323.268,3502.7244720000003,3691.8715934880006]
[null,"ANNUAL FINANCIAL STATEMENTS;",null,null,null,"Yes"]
[null,"AUDIT COMMITTEE FEES;       ",null,null,null,"Yes",null,null,null,null,null,null,null,0,0,0,0]
[null,"RISK MANAGEMENT - EMPLOYEE V",null,null,null,"Yes",null,null,null,null,null,null,null,0,0,0,0]
[null,"TEAM MATE - MAINTENANCE COST",null,null,null,"Yes",null,null,null,null,null,null,null,0,0,0,0]
[null,"RISK ASSESSMENT WORKSHOPS;  ",null,null,null,"Yes",null,null,null,null,null,null,null,0,0,0,0]
[null,"RISK COMMITTEE MEETINGS;    ",null,null,null,"Yes",null,null,null,null,null,null,null,0,0,0,0]
[null,"FUEL;                       ",null,null,null,"Yes",null,null,null,null,null,null,null,0,0,0,0]
[null,"BANK COST AND INTEREST;     ",null,null,null,"Yes",null,null,null,null,null,null,null,0,0,0,0]
[null,"BANKING SERVICES;           ",null,null,null,"Yes",null,null,null,null,null,null,null,0,0,0,0]
[null,"IT AUDIT;                   ",null,null,null,"Yes",null,null,null,null,null,null,null,0,0,0,0]
[null,"MIN : ALLOC. ELSEWHERE;     ",null,null,null,"Yes",null,null,null,null,null,null,null,0,0,0,0]
[null,"DEPRECIATION;               ",null,null,null,"Yes",null,null,null,null,null,null,null,57468.53,60456.893560000004,63721.565812240005,67162.530366100968]
[]
["ADMINISTRATIVE AND CORPORATE SUPPORT","SALARIES;                   ",null,null,null,"Yes",null,null,null,null,null,null,25731390,3514647.56,2740675.84,2929782.4729599999,3131937.4635942397]
[null,"SALARIES OF SENIOR MANAGER",null,null,null,null,null,null,null,null,null,null,null,963578.88,963578.88,1030065.8227199999,1101140.3644876799]
[null,"HOUSING SUBSIDY;            ",null,null,null,"Yes",null,null,null,null,null,null,null,221187.98714285716,236007.58228142859,252292.10545884716,269700.26073550759]
[null,"STANDBY;                    ",null,null,null,"Yes",null,null,null,null,null,null,null,0,0,0,0]
[null,"GROUP INSURANCE;            ",null,null,null,"Yes",null,null,null,null,null,null,null,221117.02714285714,235931.86796142856,252211.16685076713,269613.73736347002]
[null,"CHARGE: INDUSTRIAL COUNCIL; ",null,null,null,"Yes",null,null,null,null,null,null,null,2613.64,2788.7538799999998,2981.1778977199997,3186.8791726626796]
[null,"MEDICAL AID FUND;           ",null,null,null,"Yes",null,null,null,null,null,null,null,373903.94714285713,398955.51160142856,426483.44190192712,455910.79939316009]
[null,"OVERTIME;                   ",null,null,null,"Yes",null,null,null,null,null,null,null,117758.25,129941.19,138907.13211000001,148491.72422559001]
[null,"PENSION FUND;               ",null,null,null,"Yes",null,null,null,null,null,null,null,562799.07714285713,600506.61531142856,641941.57176791714,686235.54021990334]
[null,"LEAVE REDEMPTION;           ",null,null,null,"Yes",null,null,null,null,null,null,null,98317.94,140377.12,150063.14127999998,160417.49802831997]
[null,"BONUS;                      ",null,null,null,"Yes",null,null,null,null,null,null,null,335574.76,358058.26892,382764.28947547998,409175.02544928808]
[null,"VEHICLE ALLOWANCE;          ",null,null,null,"Yes",null,null,null,null,null,null,null,399782.61714285717,426568.05249142856,456001.24811333709,487465.33423315734]
[null,"CONTRACTED SERVICES;        ",null,null,null,"Yes",null,null,null,null,null,null,null,8470325.4700000007,8470325.4700000007,8927723.0453800019,9409820.0898305215]
[null,"FUEL;                       ",null,null,null,"Yes",null,null,null,null,null,null,null,56124.9,59043.394800000002,62231.738119200003,65592.251977636799]
[null,"CATERING;                   ",null,null,null,"Yes",null,null,null,null,null,null,null,0,0,0,0]
[null,"PRINTING AND STATIONARY;    ",null,null,null,"Yes",null,null,null,null,null,null,null,100008.32000000001,105208.75264000001,110890.02528256002,116878.08664781826]
[null,"ELECTRICITY;                ",null,null,null,"Yes",null,null,null,null,null,null,null,492327.25714285718,517928.27451428579,545896.40133805724,575374.80701031233]
[null,"BATHO-PELE STRATEGIES;      ",null,null,null,"Yes",null,null,null,null,null,null,null,0,0,0,0]
[null,"CONFERENCES & CONGRESSES;   ",null,null,null,"Yes",null,null,null,null,null,null,null,40264.94,42358.716880000007,44646.087591520009,47056.976321462091]
[null,"STORES AND MATERIAL;        ",null,null,null,"Yes",null,null,null,null,null,null,null,170199.8,179050.18959999998,188718.89983839999,198909.72042967359]
[null,"ENTERTAINMENT ALLOWANCES;   ",null,null,null,"Yes",null,null,null,null,null,null,null,2000,2000,2000,2000]
[null,"SECURITY GLASS RECEPT AND CO",null,null,null,"Yes",null,null,null,null,null,null,null,0,0,0,0]
[null,"INSTALLATION OF SECURITY FEA",null,null,null,"Yes",null,null,null,null,null,null,null,0,0,0,0]
[null,"SUBSISTENCE AND TRAVELING;  ",null,null,null,"Yes",null,null,null,null,null,null,null,190000,199880,210673.52000000002,222049.89008000004]
[null,"LONG SERVICE AWARDS;        ",null,null,null,"Yes",null,null,null,null,null,null,null,6590,6932.68,7307.0447200000008,7701.6251348800015]
[null,"OFFICE SIGNAGE AND LABELLING",null,null,null,"Yes",null,null,null,null,null,null,null,0,0,0,0]
[null,"CELLPHONE;                  ",null,null,null,"Yes",null,null,null,null,null,null,null,19283.900000000001,20286.662800000002,21382.142591200001,22536.778291124803]
[null,"BIG BOARD - DIRECTIONS AND S",null,null,null,"Yes",null,null,null,null,null,null,null,0,0,0,0]
[null,"SKILLS DEV LEVY;            ",null,null,null,"Yes",null,null,null,null,null,null,null,0,0,0,0]
[null,"UIF;                        ",null,null,null,"Yes",null,null,null,null,null,null,null,3159,3323.268,3502.7244720000003,3691.8715934880006]
[null,"SANITATION & WATER;         ",null,null,null,"Yes"]
[null,"WATER;                      ",null,null,null,"Yes"]
[null,"SALGA MEMBERSHIP;           ",null,null,null,"Yes",null,null,null,null,null,null,null,768511.52,808474.11904000002,852131.72146816005,898146.83442744077]
[null,"TELEPHONE (VOIP SYSTEM);                  ",null,null,null,"Yes",null,null,null,null,null,null,null,2137397.6228571432,2248542.2992457147,2369963.5834049834,2497941.6169088525]
[null,"DEPRECIATION;               ",null,null,null,"Yes",null,null,null,null,null,null,null,306713.39,322662.48628000001,340086.26053912,358450.91860823252]
[null,"NAME TAGS;                  ",null,null,null,"Yes",null,null,null,null,null,null,null,0,0,0,0]
[null,"BURSARIES FOR EMPLOYEES;    ",null,null,null,"Yes",null,null,null,null,null,null,null,0,0,0,0]
[null,"SPORTS PROGRAMME;           ",null,null,null,"Yes",null,null,null,null,null,null,null,1297708.6200000001,1297708.6200000001,1367784.8854800002,1441645.2692959202]
[null,"BUILDINGS & EQUIPMENT;      ",null,null,null,"Yes",null,null,null,null,null,null,null,250000,263000,277202,292170.908]
[null,"MACHINES & EQUIPMENT;       ",null,null,null,"Yes",null,null,null,null,null,null,null,0,0,0,0]
[null,"VEHICLES;                   ",null,null,null,"Yes",null,null,null,null,null,null,null,56963.06,59925.13912,63161.096632480003,66571.79585063392]
[]
["ASSET MANAGEMENT","SALARIES;                   ",null,null,null,"Yes",null,null,null,null,null,null,4088835,1514618.21,2226625.7200000002,2380262.8946799999,2544501.03441292]
[null,"HOUSING SUBSIDY;            ",null,null,null,"Yes",null,null,null,null,null,null,null,16350.17,12200,13041.8,13941.684199999998]
[null,"GROUP INSURANCE;            ",null,null,null,"Yes",null,null,null,null,null,null,null,5429.89,13751.63,14700.492469999999,15714.826450429999]
[null,"CHARGE: INDUSTRIAL COUNCIL; ",null,null,null,"Yes",null,null,null,null,null,null,null,750,756,808.16399999999999,863.92731599999991]
[null,"MEDICAL AID FUND;           ",null,null,null,"Yes",null,null,null,null,null,null,null,222985.77000000002,222985.77,238371.78812999997,254819.44151096995]
[null,"OVERTIME;                   ",null,null,null,"Yes",null,null,null,null,null,null,null,34423.589999999997,0,0,0]
[null,"PENSION FUND;               ",null,null,null,"Yes",null,null,null,null,null,null,null,324411.19,459161.46,490843.60074000002,524711.80919106002]
[null,"LEAVE REDEMPTION;           ",null,null,null,"Yes",null,null,null,null,null,null,null,37706.230000000003,89065.03,95210.517069999987,101780.04274782998]
[null,"BONUS;                      ",null,null,null,"Yes",null,null,null,null,null,null,null,151816.22999999998,185552.14,198355.23766000001,212041.74905854001]
[null,"VEHICLE ALLOWANCE;          ",null,null,null,"Yes",null,null,null,null,null,null,null,152481.65,243646.63999999998,260458.25815999997,278429.87797303993]
[null,"CONFERENCES & CONGRESSES;   ",null,null,null,"Yes",null,null,null,null,null,null,null,5265,30265,31899.31,33621.872740000006]
[null,"LICENCES: VEHICLE FLEET;    ",null,null,null,"Yes",null,null,null,null,null,null,null,185000,194620,205129.48,216206.47192000001]
[null,"INSURANCE GENERAL;          ",null,null,null,"Yes",null,null,null,null,null,null,null,1581609.15,1581609.15,1667016.0441000001,1757034.9104814001]
[null,"SUBSISTENCE AND TRAVELING;  ",null,null,null,"Yes",null,null,null,null,null,null,null,30000,31560,33264.239999999998,35060.508959999999]
[null,"CELLPHONE;                  ",null,null,null,"Yes",null,null,null,null,null,null,null,10740.6,11299.111200000001,11909.263204800001,12552.363417859202]
[null,"SKILLS DEV LEVY;            ",null,null,null,"Yes",null,null,null,null,null,null,null,0,0,0,0]
[null,"UIF;                        ",null,null,null,null,null,null,null,null,null,null,null,2818,2964.5360000000001,3124.6209440000002,3293.3504749760004]
[]
["BUDGET AND TREASURY OFFICE","SALARIES;                   ",null,null,null,"Yes",null,null,null,null,null,null,26820570,6812135.1771428566,6848159.2199999997,7320682.2061799997,7825809.2784064198]
[null,"SALARIES OF SENIOR MANAGER",null,null,null,null,null,null,null,null,null,null,null,1094100.96,1167405.7243199998,1247956.7192980798,1334065.7329296472]
[null,"HOUSING SUBSIDY;            ",null,null,null,"Yes",null,null,null,null,null,null,null,85250.76,85250.76,91133.062439999994,97421.243748359993]
[null,"GROUP INSURANCE;            ",null,null,null,"Yes",null,null,null,null,null,null,null,53117.52,56526.67,60427.010229999993,64596.473935869988]
[null,"CHARGE: INDUSTRIAL COUNCIL; ",null,null,null,"Yes",null,null,null,null,null,null,null,3263.58,2160,2309.04,2468.3637599999997]
[null,"MEDICAL AID FUND;           ",null,null,null,"Yes",null,null,null,null,null,null,null,429539.13,504950.4,539791.97759999998,577037.6240543999]
[null,"OVERTIME;                   ",null,null,null,"Yes",null,null,null,null,null,null,null,200957.26,0,0,0]
[null,"PENSION FUND;               ",null,null,null,"Yes",null,null,null,null,null,null,null,1318734.49,1387864.65,1483627.3108499998,1585997.5952986497]
[null,"LEAVE REDEMPTION;           ",null,null,null,"Yes",null,null,null,null,null,null,null,303619.23,273926.37,292827.28953000001,313032.37250757002]
[null,"BONUS;                      ",null,null,null,"Yes",null,null,null,null,null,null,null,484461.61000000004,570679.93999999994,610056.85585999989,652150.77891433984]
[null,"VEHICLE ALLOWANCE;          ",null,null,null,"Yes",null,null,null,null,null,null,null,613850,778609.97,832334.05792999989,889765.10792716988]
[null,"ADVERTISING (PUBLICITY);    ",null,null,null,"Yes",null,null,null,null,null,null,null,588582.16999999993,619188.44283999992,652624.61875335989,687866.34816604131]
[null,"CONTRACTED SERVICES;        ",null,null,null,"Yes",null,null,null,null,null,null,null,6841629.0199999996,6841629.0199999996,7211076.9870799994,7600475.1443823194]
[null,"BANK COST AND INTEREST;     ",null,null,null,"Yes",null,null,null,null,null,null,null,289840.21000000002,304911.90092000004,321377.14356968005,338731.50932244281]
[null,"FUEL;                       ",null,null,null,"Yes",null,null,null,null,null,null,null,73997.009999999995,77844.854519999993,82048.476664079993,86479.094403940311]
[null,"CATERING;                   ",null,null,null,"Yes",null,null,null,null,null,null,null,3367.49,3542.5994799999999,3733.8998519199999,3935.5304439236802]
[null,"PRINTING AND STATIONARY;    ",null,null,null,"Yes",null,null,null,null,null,null,null,351270.48,369536.54495999997,389491.51838784001,410524.0603807834]
[null,"UNBUNDLING OF ASSETS;       ",null,null,null,"Yes",null,null,null,null,null,null,null,1500000,1500000,1581000,1666374]
[null,"DATA CLEANSING",null,null,null,null,null,null,null,null,null,null,null,0,0,0,0]
[null,"ANNUAL FINANCIAL STATEMENTS",null,null,null,"Yes",null,null,null,null,null,null,null,853900,853900,900010.60000000009,948611.17240000016]
[null,"BANKING SERVICES",null,null,null,"Yes",null,null,null,null,null,null,null,105300,105300,110986.20000000001,116979.45480000002]
[null,"TEMPORARY WORKERS",null,null,null,"Yes",null,null,null,null,null,null,null,65300,65300,68826.2,72542.814800000007]
[null,"ACCOUNTS PRINTING SERVICES",null,null,null,"Yes",null,null,null,null,null,null,null,0,0,0,0]
[null,"DEBTS COLLECTION SERVICES",null,null,null,"Yes",null,null,null,null,null,null,null,0,0,0,0]
[null,"EASY PAY SERVICES",null,null,null,"Yes",null,null,null,null,null,null,null,0,0,0,0]
[null,"RENTAL: OFFICES;            ",null,null,null,"Yes",null,null,null,null,null,null,null,0,0,0,0]
[null,"CONFERENCES & CONGRESSES;   ",null,null,null,"Yes",null,null,null,null,null,null,null,53668.88,56459.661760000003,59508.483495040004,62721.941603772168]
[null,"SUBSCRIPTIONS;              ",null,null,null,"Yes",null,null,null,null,null,null,null,10798.43,11359.94836,11973.385571440002,12619.948392297762]
[null,"STORES AND MATERIAL;        ",null,null,null,"Yes",null,null,null,null,null,null,null,0,0,0,0]
[null,"AUTOMATED PROCUREMENT SOFTWA",null,null,null,"Yes",null,null,null,null,null,null,null,0,0,0,0]
[null,"MSIG FUNDING;               ",null,null,null,"Yes",null,null,null,null,null,null,null,0,0,0,0]
[null,"LINKING ASSETS TO GIS SOFTWA",null,null,null,"Yes",null,null,null,null,null,null,null,0,0,0,0]
[null,"ENTERTAINMENT ALLOWANCES;   ",null,null,null,"Yes",null,null,null,null,null,null,null,1995.44,2000,2000,2000]
[null,"INTERNS (FMG);              ",null,null,null,"Yes",null,null,null,null,null,null,null,2145000,2145000,2145000,2145000]
[null,"AUDIT FEES;                 ",null,null,null,"Yes",null,null,null,null,null,null,null,0,0,0,0]
[null,"POSTAGE FEES;               ",null,null,null,"Yes",null,null,null,null,null,null,null,0,0,0,0]
[null,"SUBSISTENCE AND TRAVELING;  ",null,null,null,"Yes",null,null,null,null,null,null,null,394558.67,415075.72084000002,437489.80976536003,461114.25949268951]
[null,"LONG SERVICE AWARDS;        ",null,null,null,"Yes",null,null,null,null,null,null,null,80573.34,84763.153680000003,89340.363978720008,94164.743633570892]
[null,"CELLPHONE;                  ",null,null,null,"Yes",null,null,null,null,null,null,null,67181.399999999994,70674.832800000004,74491.273771200009,78513.802554844806]
[null,"FREE BASIC RATES;           ",null,null,null,"Yes",null,null,null,null,null,null,null,56061.59,58976.792679999999,62161.53948472,65518.262616894885]
[null,"SKILLS DEV LEVY;            ",null,null,null,"Yes",null,null,null,null,null,null,null,0,0,0,0]
[null,"UIF;                        ",null,null,null,"Yes",null,null,null,null,null,null,null,10530,11077.560000000001,11675.748240000003,12306.238644960004]
[null,"DEPRECIATION;               ",null,null,null,"Yes",null,null,null,null,null,null,null,1254796.48,1320045.89696,1391328.37539584,1466460.1076672154]
[null,"DEBT IMPAIRMENT;            ",null,null,null,"Yes",null,null,null,null,null,null,null,987064.08,1038391.4121599999,1094464.5484166399,1153565.6340311386]
[null,"INDIGENTS AWARENESS CAMPAIGN",null,null,null,"Yes",null,null,null,null,null,null,null,0,0,0,0]
[null,"FINANCE COST: EMPLOYEE BENEF",null,null,null,"Yes",null,null,null,null,null,null,null,0,0,0,0]
[null,"BANK COSTS- INVESTMENTS;    ",null,null,null,"Yes",null,null,null,null,null,null,null,0,0,0,0]
[null,"IN SERVICE COST MED AID BENE",null,null,null,"Yes",null,null,null,null,null,null,null,0,0,0,0]
[null,"ACTURIAL LOSS;              ",null,null,null,"Yes",null,null,null,null,null,null,null,0,0,0,0]
[null,"Mscoa Implementation",null,null,null,"Yes",null,null,null,null,null,null,null,2238325.0699999998,2354717.97364,2481872.7442165599,2615893.8724042545]
[null,"MACHINES & EQUIPMENT;       ",null,null,null,"Yes"]
[null,"COMPUTER PROGRAMMING;       ",null,null,null,"Yes",null,null,null,null,null,null,null,2370291.92,2493547.0998399998,2628198.6432313598,2770121.3699658532]
[null,"COMPUTERS & EQUIPMENT;      ",null,null,null,"Yes",null,null,null,null,null,null,null,0,0,0,0]
[null,"VEHICLES;                   ",null,null,null,"Yes",null,null,null,null,null,null,null,23121.22,24323.523440000001,25636.993705760004,27021.391365871044]
[]
["HUMAN RESOURCES","SALARIES;                   ",null,null,null,"Yes",null,null,null,null,null,null,null,1439451.48,1535894.73,1641871.4663699998,1755160.5975495297]
[null,"HOUSING SUBSIDY;            ",null,null,null,"Yes",null,null,null,null,null,null,null,25651.54,25000,26725,28569.024999999998]
[null,"GROUP INSURANCE;            ",null,null,null,"Yes",null,null,null,null,null,null,null,19706.188571428575,25062.47,26791.780429999999,28640.413279669996]
[null,"CHARGE: INDUSTRIAL COUNCIL; ",null,null,null,"Yes",null,null,null,null,null,null,null,651.0985714285714,540,577.26,617.09093999999993]
[null,"MEDICAL AID FUND;           ",null,null,null,"Yes",null,null,null,null,null,null,null,150475.61285714287,146282.4,156375.88559999998,167165.82170639996]
[null,"OVERTIME;                   ",null,null,null,"Yes",null,null,null,null,null,null,null,20198.839999999997,0,0,0]
[null,"PENSION FUND;               ",null,null,null,"Yes",null,null,null,null,null,null,null,322581.33714285714,316893.32,338758.95908,362133.32725651999]
[null,"LEAVE REDEMPTION;           ",null,null,null,"Yes",null,null,null,null,null,null,null,100401.99,61435.79,65674.859509999995,70206.424816189989]
[null,"BONUS;                      ",null,null,null,"Yes",null,null,null,null,null,null,null,99185.99,127991.23,136822.62487,146263.38598602999]
[null,"VEHICLE ALLOWANCE;          ",null,null,null,"Yes",null,null,null,null,null,null,null,140505.71000000002,182008.86,194567.47133999999,207992.62686245999]
[null,"ADVERTISING (PUBLICITY);    ",null,null,null,"Yes",null,null,null,null,null,null,null,486749.52,512060.49504000007,539711.76177216007,568856.19690785673]
[null,"CONTRACTED SERVICES;        ",null,null,null,"Yes",null,null,null,null,null,null,null,0,0,0,0]
[null,"MEDICAL SURVEILANCE;        ",null,null,null,"Yes",null,null,null,null,null,null,null,70000,70000,73780,77764.12000000001]
[null,"FOOD PARCELS;               ",null,null,null,"Yes",null,null,null,null,null,null,null,0,0,0,0]
[null,"CATERING;                   ",null,null,null,"Yes",null,null,null,null,null,null,null,120914.2,120914.2,127443.5668,134325.51940720002]
[null," FIRST AID CONTENT;          ",null,null,null,"Yes",null,null,null,null,null,null,null,10000,10520,11088.08,11686.83632]
[null,"PRINTING AND STATIONARY;    ",null,null,null,"Yes",null,null,null,null,null,null,null,53274.75,56045.037000000004,59071.468998000004,62261.328323892005]
[null,"EMPLOYEE WELLNESS PROGRAM;  ",null,null,null,"Yes",null,null,null,null,null,null,null,150000,300000,316200,333274.8]
[null,"PROTECTIVE CLOTHING;        ",null,null,null,"Yes",null,null,null,null,null,null,null,1351300,1800000,1897200,1999648.8]
[null,"RENTAL: OFFICES;            ",null,null,null,"Yes"]
[null,"CONFERENCES & CONGRESSES;   ",null,null,null,"Yes",null,null,null,null,null,null,null,15226.09,16017.846680000001,16882.810400720002,17794.482162358883]
[null,"SUBSCRIPTIONS;              ",null,null,null,"Yes",null,null,null,null,null,null,null,625.83000000000004,658.3731600000001,693.92531064000013,731.39727741456022]
[null,"STORES AND MATERIAL;        ",null,null,null,"Yes",null,null,null,null,null,null,null,560.20000000000005,589.33040000000005,621.15424160000009,654.69657064640012]
[null,"OHS SAFETY EQUIPMENT;       ",null,null,null,"Yes",null,null,null,null,null,null,null,0,0,0,0]
[null,"SIGN AND POSTERS;           ",null,null,null,"Yes",null,null,null,null,null,null,5181286,0,0,0,0]
[null,"TRAINING:STAFF;             ",null,null,null,"Yes",null,null,null,null,null,null,null,500000,526000,554404,584341.81599999999]
[null,"HEALTH AWARENESS EVENTS;    ",null,null,null,"Yes",null,null,null,null,null,null,null,0,0,0,0]
[null,"SUBSISTENCE AND TRAVELING;  ",null,null,null,"Yes",null,null,null,null,null,null,null,337806.2,337806.2,356047.73480000003,375274.31247920007]
[null,"LONG SERVICE AWARDS;        ",null,null,null,"Yes",null,null,null,null,null,null,null,87749.31,92312.274120000002,97297.13692248,102551.18231629393]
[null,"INSURANCE:WCA;              ",null,null,null,"Yes",null,null,null,null,null,null,null,1000000,1000000,1054000,1110916]
[null,"TELEPHONE;                  ",null,null,null,"Yes",null,null,null,null,null,null,null,0,0,0,0]
[null,"OHS SIGNS AND POSTERS;      ",null,null,null,"Yes",null,null,null,null,null,null,null,0,0,0,0]
[null,"SKILLS DEV LEVY;            ",null,null,null,"Yes",null,null,null,null,null,null,null,875753.4,921292.57680000004,971042.37594720011,1023478.6642483489]
[null,"RISK ASSESSMENT;            ",null,null,null,"Yes",null,null,null,null,null,null,null,0,0,0,0]
[null,"UIF;                        ",null,null,null,"Yes",null,null,null,null,null,null,null,470210.82,494661.78264000005,521373.51890256006,549527.68892329838]
[null,"WELLNESS NEWSPAPER;         ",null,null,null,"Yes",null,null,null,null,null,null,null,0,0,0,0]
[null,"DEPRECIATION;               ",null,null,null,"Yes",null,null,null,null,null,null,null,143560.60999999999,151025.76171999998,159181.15285287998,167776.9351069355]
[null,"EMPLOYMENT EQUITY IMPLEMENTA",null,null,null,"Yes",null,null,null,null,null,null,null,20000,20000,21080,22218.32]
[null,"ORGANOGRAM STRUCTURE",null,null,null,null,null,null,null,null,null,null,null,0,0,0,0]
[null,"SAFETY KIT REFILLS;         ",null,null,null,"Yes",null,null,null,null,null,null,null,0,0,0,0]
[null,"OHS IMPLEMENTATION",null,null,null,"Yes",null,null,null,null,null,null,null,50000,52600,55440.4,58434.181600000004]
[]
["INFORMATION TECHNOLOGY","SALARIES;                   ",null,null,null,"Yes",null,null,null,null,null,null,6364955,1188847.3885714286,1257357.67,1344115.3492299998,1436859.3083268697]
[null,"HOUSING SUBSIDY;            ",null,null,null,"Yes",null,null,null,null,null,null,null,23581.11,23581.11,25208.206589999998,26947.572844709997]
[null,"GROUP INSURANCE;            ",null,null,null,"Yes",null,null,null,null,null,null,null,5266.45,5619.3021499999995,6007.0339983499989,6421.5193442361488]
[null,"CHARGE: INDUSTRIAL COUNCIL; ",null,null,null,"Yes",null,null,null,null,null,null,null,364.43,364.43,389.57567,416.45639123000001]
[null,"MEDICAL AID FUND;           ",null,null,null,"Yes",null,null,null,null,null,null,null,33810.71,39331.199999999997,42045.052799999998,44946.161443199999]
[null,"OVERTIME;                   ",null,null,null,"Yes",null,null,null,null,null,null,null,5985.5599999999995,4985.5600000000004,5329.5636400000003,5697.3035311599997]
[null,"PENSION FUND;               ",null,null,null,"Yes",null,null,null,null,null,null,null,233563.59,245134.16,262048.41704,280129.75781575998]
[null,"LEAVE REDEMPTION;           ",null,null,null,"Yes",null,null,null,null,null,null,null,41054.949999999997,50294.31,53764.617389999992,57474.37598990999]
[null,"BONUS;                      ",null,null,null,"Yes",null,null,null,null,null,null,null,98200.38,104779.80546,112009.61203674,119738.27526727505]
[null,"VEHICLE ALLOWANCE;          ",null,null,null,"Yes",null,null,null,null,null,null,null,132985.13,243646.64,260458.25816,278429.87797303998]
[null,"RENTAL:NETWORK PRINTER;     ",null,null,null,"Yes",null,null,null,null,null,null,null,500000,500000,527000,555458]
[null,"REVIEW OF MSP;              ",null,null,null,"Yes",null,null,null,null,null,null,null,0,0,0,0]
[null,"CONFERENCES & CONGRESSES;   ",null,null,null,"Yes",null,null,null,null,null,null,null,20000,21040,22176.16,23373.672640000001]
[null,"SUBSCRIPTIONS;              ",null,null,null,"Yes",null,null,null,null,null,null,null,1000000,1000000,1054000,1110916]
[null,"INTERNS            ",null,null,null,"Yes",null,null,null,null,null,null,null,0,0,0,0]
[null,"TEAMATE SOFTWARE;           ",null,null,null,"Yes",null,null,null,null,null,null,null,17000,17000,17918,18885.572]
[null,"NETWORKING OF SUB OFFICE;   ",null,null,null,"Yes",null,null,null,null,null,null,null,130000,200000,210800,222183.2]
[null,"NETWORK UPGRADE;            ",null,null,null,"Yes",null,null,null,null,null,null,null,50000,200000,210800,222183.2]
[null,"MAINTENANCE PLAN IT SYSTEMS",null,null,null,"Yes",null,null,null,null,null,null,null,300000,384000,404736,426591.74400000001]
[null,"SUBSISTENCE AND TRAVELING;  ",null,null,null,"Yes",null,null,null,null,null,null,null,111263.89,117049.61228,123370.29134312001,130032.28707564851]
[null,"LONG SERVICE AWARDS;        ",null,null,null,"Yes",null,null,null,null,null,null,null,0,0,0,0]
[null,"CELLPHONE;                  ",null,null,null,"Yes",null,null,null,null,null,null,null,21040,22134.080000000002,23329.320320000003,24589.103617280005]
[null,"BIOMETRICS CLOCKING SYSTEM",null,null,null,"Yes",null,null,null,null,null,null,null,220000,400000,421600,444366.4]
[null,"GIS & BLUEPRINTS SOFTWARE",null,null,null,"Yes",null,null,null,null,null,null,null,96000,96000,101184,106647.936]
[null,"EMAIL DRP MIMECST",null,null,null,"Yes",null,null,null,null,null,null,null,100000,47000,49538,52213.052000000003]
[null,"DEPRECIATION;               ",null,null,null,"Yes",null,null,null,null,null,null,null,259781.48,273290.11696000001,288047.78327584005,303602.3635727354]
[null,"RENTAL WI FI",null,null,null,null,null,null,null,null,null,null,null,0,65000,68510,72209.540000000008]
[null,"BROAD BANK DATACONNECTION",null,null,null,null,null,null,null,null,null,null,null,0,70000,73780,77764.12000000001]
[null,"RENTAL OF SERVER, DRP",null,null,null,"Yes",null,null,null,null,null,null,null,700000,900000,948600,999824.4]
[null,"MACHINES & EQUIPMENT;       ",null,null,null,"Yes",null,null,null,null,null,null,null,150000,300000,316200,333274.8]
[]
["LEGAL SERVICES","SALARIES;                   ",null,null,null,"Yes",null,null,null,null,null,null,6398290,987826.43,1094864.28,1170409.9153199999,1251168.1994770798]
[null,"HOUSING SUBSIDY;            ",null,null,null,"Yes",null,null,null,null,null,null,null,13664.580000000002,11000,11759,12570.370999999999]
[null,"GROUP INSURANCE;            ",null,null,null,"Yes",null,null,null,null,null,null,null,9537.52,10586.44,11316.90436,12097.77076084]
[null,"CHARGE: INDUSTRIAL COUNCIL; ",null,null,null,"Yes",null,null,null,null,null,null,null,380.14,324,346.35599999999999,370.25456399999996]
[null,"MEDICAL AID FUND;           ",null,null,null,"Yes",null,null,null,null,null,null,null,92640,82117,87783.072999999989,93840.105036999987]
[null,"OVERTIME;                   ",null,null,null,"Yes",null,null,null,null,null,null,null,5541.62,0,0,0]
[null,"PENSION FUND;               ",null,null,null,"Yes",null,null,null,null,null,null,null,184232.63,218248.46,233307.60373999999,249405.82839805997]
[null,"LEAVE REDEMPTION;           ",null,null,null,"Yes",null,null,null,null,null,null,null,15004.41,43794.57,46816.395329999999,50046.726607769997]
[null,"BONUS;                      ",null,null,null,"Yes",null,null,null,null,null,null,null,80640,91238.69,97534.159610000002,104264.01662308999]
[null,"VEHICLE ALLOWANCE;          ",null,null,null,"Yes",null,null,null,null,null,null,null,158064,168654.288,180291.43387199999,192731.54280916799]
[null,"LAW BOOKS;                  ",null,null,null,"Yes",null,null,null,null,null,null,null,5000,5260,5544.04,5843.4181600000002]
[null,"SUBSCRIPTIONS;              ",null,null,null,"Yes",null,null,null,null,null,null,null,10520,11067.04,11664.660160000001,12294.551808640002]
[null,"LEGAL EXPENSES AND PROCESSES",null,null,null,"Yes",null,null,null,null,null,null,null,5127223.22,4500000,4743000,4999122]
[null,"LEGAL BOOKS",null,null,null,null,null,null,null,null,null,null,null,0,20000,0,0]
[null,"CONFERENCE & CONGRESSES",null,null,null,null,null,null,null,null,null,null,null,0,12500,0,0]
[null,"BYLAWS;                     ",null,null,null,"Yes",null,null,null,null,null,null,null,300000,300000,316200,333274.8]
[null,"SUBSISTENCE AND TRAVELING;  ",null,null,null,"Yes",null,null,null,null,null,null,null,92600,97415.2,102675.6208,108220.10432320001]
[null,"CELLPHONE;                  ",null,null,null,"Yes",null,null,null,null,null,null,null,6185.76,6507.4195200000004,6858.8201740800005,7229.1964634803207]
[null,"SKILLS DEV LEVY;            ",null,null,null,"Yes",null,null,null,null,null,null,null,0,0,0,0]
[null,"UIF;                        ",null,null,null,"Yes",null,null,null,null,null,null,null,1208,1270.816,1339.4400640000001,1411.7698274560003]
[]
["CUSTOMER RELATIONS AND MEDIA CO-ORDINATION","SALARIES;                   ",null,null,null,"Yes",null,null,null,null,null,null,1427977,871616.48571428575,1010806.53,1080552.1805700001,1155110.2810293301]
[null,"HOUSING SUBSIDY;            ",null,null,null,"Yes",null,null,null,null,null,null,null,1156,1156,1235.7639999999999,1321.0317159999997]
[null,"GROUP INSURANCE;            ",null,null,null,"Yes",null,null,null,null,null,null,null,13496.86,14560.71,15565.398989999998,16639.411520309997]
[null,"CHARGE: INDUSTRIAL COUNCIL; ",null,null,null,"Yes",null,null,null,null,null,null,null,285,324,346.35599999999999,370.25456399999996]
[null,"MEDICAL AID FUND;           ",null,null,null,"Yes",null,null,null,null,null,null,null,40074.171428571426,76500,81778.5,87421.216499999995]
[null,"OVERTIME;                   ",null,null,null,"Yes",null,null,null,null,null,null,null,2425.6200000000008,0,0,0]
[null,"PENSION FUND;               ",null,null,null,"Yes",null,null,null,null,null,null,null,182780.89714285714,211066.6,225630.1954,241198.67888259998]
[null,"LEAVE REDEMPTION;           ",null,null,null,"Yes",null,null,null,null,null,null,null,3156,3367.4519999999998,3599.8061879999996,3848.1928149719993]
[null,"BONUS;                      ",null,null,null,"Yes",null,null,null,null,null,null,null,78944.579999999987,84233.86685999998,90046.003673339976,96259.177926800432]
[null,"VEHICLE ALLOWANCE;          ",null,null,null,"Yes",null,null,null,null,null,null,null,104326.21714285715,111316.07369142857,118996.88277613714,127207.6676876906]
[null,"NEWS LETTER;                ",null,null,null,"Yes",null,null,null,null,null,null,null,322200,350000,368900,388820.60000000003]
[null,"CALENDARS AND DIARIES;      ",null,null,null,"Yes",null,null,null,null,null,null,null,115000,200000,210800,222183.2]
[null,"COMMUNICATION & EVENT MANAGE",null,null,null,"Yes",null,null,null,null,null,null,null,40000,120000,126480,133309.92000000001]
[null,"ADVERTISING (PUBLICITY);    ",null,null,null,"Yes",null,null,null,null,null,null,null,86495,252000,265608,279950.83199999999]
[null,"REBRANDING OF MUNICIPAL ASSETS",null,null,null,"Yes",null,null,null,null,null,null,null,85691.9,90147.878799999991,95015.864255199995,100146.72092498079]
[null,"COMMUNITY SATISFATION SURVE",null,null,null,null,null,null,null,null,null,null,null,0,800000,843200,888732.8]
[null,"CONFERENCES & CONGRESSES;   ",null,null,null,"Yes",null,null,null,null,null,null,null,2520,2651.04,2794.19616,2945.0827526400003]
[null,"SUBSISTENCE AND TRAVELING;  ",null,null,null,"Yes",null,null,null,null,null,null,null,145753.72999999998,150000,158100,166637.4]
[null,"CELLPHONE;                  ",null,null,null,"Yes",null,null,null,null,null,null,null,9468,9960.3360000000011,10498.194144000001,11065.096627776002]
[null,"NAME TAGS",null,null,null,null,null,null,null,null,null,null,null,0,120000,0,0]
[null,"OFFICE NUMBER AND SIGNAGE",null,null,null,null,null,null,null,null,null,null,null,0,50000,0,0]
[null,"SIGNBOARD FOR DIRECTION AT LICENSI",null,null,null,null,null,null,null,null,null,null,null,0,50000,0,0]
[null,"GAZEBO",null,null,null,null,null,null,null,null,null,null,null,0,50000,0,0]
[null,"BATHO PELE STRATEGIES",null,null,null,"Yes",null,null,null,null,null,null,null,45000,150000,158100,166637.4]
[null,"BANNERS ",null,null,null,"Yes",null,null,null,null,null,null,null,0,150000,0,0]
[null,"UIF;                        ",null,null,null,"Yes",null,null,null,null,null,null,null,1504,1582.2080000000001,1667.6472320000003,1757.7001825280004]
[]
["PROPERTY SERVICES (WORKSHOP)","SALARIES;                   ",null,null,null,"Yes",null,null,null,null,null,null,1456662,4333867.7700000005,5045355.12,5393484.6232799999,5765635.0622863192]
[null,"HOUSING SUBSIDY;            ",null,null,null,"Yes",null,null,null,null,null,null,null,1789.2399999999998,3000,3207,3428.2829999999999]
[null,"GROUP INSURANCE;            ",null,null,null,"Yes",null,null,null,null,null,null,null,28204.58,27331.200000000001,29217.052799999998,31233.029443199997]
[null,"CHARGE: INDUSTRIAL COUNCIL; ",null,null,null,"Yes",null,null,null,null,null,null,null,3060,3240,3463.56,3702.5456399999998]
[null,"MEDICAL AID FUND;           ",null,null,null,"Yes",null,null,null,null,null,null,null,271987.23,577471.07999999996,617316.58451999992,659911.4288518799]
[null,"OVERTIME;                   ",null,null,null,"Yes",null,null,null,null,null,null,null,305188.44,969890.13,1036812.54897,1108352.6148489299]
[null,"PENSION FUND;               ",null,null,null,"Yes",null,null,null,null,null,null,null,861833.5,999977.84,1068976.3109599999,1142735.6764162399]
[null,"LEAVE REDEMPTION;           ",null,null,null,"Yes",null,null,null,null,null,null,null,30059.68,201814.2,215739.3798,230625.39700619999]
[null,"BONUS;                      ",null,null,null,"Yes",null,null,null,null,null,null,null,109407.66,420446.26,449457.05193999998,480469.58852385997]
[null,"VEHICLE ALLOWANCE;          ",null,null,null,"Yes",null,null,null,null,null,null,null,60856.950000000004,111316.09,118996.90020999999,127207.68632448999]
[null,"ADMIN COST DEPT;            ",null,null,null,"Yes"]
[null,"FUEL;                       ",null,null,null,"Yes",null,null,null,null,null,null,null,15611.230000000003,16423.013960000004,17309.856713840003,18244.588976387364]
[null,"PRINTING AND STATIONARY;    ",null,null,null,"Yes",null,null,null,null,null,null,null,0,0,0,0]
[null,"RENTAL: OFFICES;            ",null,null,null,"Yes"]
[null,"STORES AND MATERIAL;        ",null,null,null,"Yes",null,null,null,null,null,null,null,77701.299999999988,81741.767599999992,86155.823050399995,90808.237495121604]
[null,"SUBSISTENCE AND TRAVELING;  ",null,null,null,"Yes",null,null,null,null,null,null,null,24491.43,25764.984360000002,27156.293515440004,28622.733365273765]
[null,"LONG SERVICE AWARDS;        ",null,null,null,"Yes"]
[null,"SKILLS DEV LEVY;            ",null,null,null,"Yes",null,null,null,null,null,null,null,0,0,0,0]
[null,"DEPRECIATION;               ",null,null,null,"Yes",null,null,null,null,null,null,null,344482.61,362395.70572000003,381965.07382888003,402591.1878156396]
[null,"BUILDINGS & EQUIPMENT;      ",null,null,null,"Yes",null,null,null,null,null,null,null,1015730.9299999999,1068548.93836,1126250.5810314401,1187068.1124071379]
[null,"MACHINES & EQUIPMENT;       ",null,null,null,"Yes",null,null,null,null,null,null,null,115339.83,121337.50116000001,127889.72622264002,134795.77143866257]
[null,"VEHICLES;                   ",null,null,null,"Yes",null,null,null,null,null,null,null,0,0,0,0]
[]
["RISK MANAGEMENT","SALARIES;                   ",null,null,null,"Yes",null,null,null,null,null,null,826803,417305.02285714285,445264.45938857138,475987.70708638278,508830.85887534317]
[null,"HOUSING SUBSIDY;            ",null,null,null,"Yes",null,null,null,null,null,null,null,0,0,0,0]
[null,"GROUP INSURANCE;            ",null,null,null,"Yes",null,null,null,null,null,null,null,0,0,0,0]
[null,"CHARGE: INDUSTRIAL COUNCIL; ",null,null,null,"Yes",null,null,null,null,null,null,null,126.95,110,117.58999999999999,125.70370999999999]
[null,"MEDICAL AID FUND;           ",null,null,null,"Yes",null,null,null,null,null,null,null,53694.642857142855,27374.400000000001,29263.2336,31282.396718399999]
[null,"OVERTIME;                   ",null,null,null,"Yes",null,null,null,null,null,null,null,0,0,0,0]
[null,"PENSION FUND;               ",null,null,null,"Yes",null,null,null,null,null,null,null,90949.062857142853,97958.16,104717.27304,111942.76487976]
[null,"LEAVE REDEMPTION;           ",null,null,null,"Yes",null,null,null,null,null,null,null,10520,17810.57,19039.499329999999,20353.224783769998]
[null,"BONUS;                      ",null,null,null,"Yes",null,null,null,null,null,null,null,34775.410000000003,37105.36247,39665.632480429995,42402.56112157966]
[null,"VEHICLE ALLOWANCE;          ",null,null,null,"Yes",null,null,null,null,null,null,null,104326.21714285715,111316.07369142857,118996.88277613714,127207.6676876906]
[null,"RISK ASSESSMENT WORKSHOPS;  ",null,null,null,"Yes",null,null,null,null,null,null,null,0,0,0,0]
[null,"RISK COMMITTEE MEETINGS;    ",null,null,null,"Yes",null,null,null,null,null,null,null,85361.4,213000,224502,236625.10800000001]
[null,"RISK MANAGEMENT - EMPLOYEE V",null,null,null,"Yes",null,null,null,null,null,null,null,11193.28,10000,10540,11109.16]
[null,"CONFERENCES & CONGRESSES;   ",null,null,null,"Yes",null,null,null,null,null,null,null,21560,22681.120000000003,23905.900480000004,25196.819105920003]
[null,"SUBSISTENCE AND TRAVELING;  ",null,null,null,"Yes",null,null,null,null,null,null,null,34000,35768,37699.472000000002,39735.243488]
[null,"CELLPHONE;                  ",null,null,null,"Yes",null,null,null,null,null,null,null,0,10152,10700.208000000001,11278.019232000001]
[null,"SKILLS DEV LEVY;            ",null,null,null,"Yes",null,null,null,null,null,null,null,0,0,0,0]
[null,"UIF;                        ",null,null,null,"Yes",null,null,null,null,null,null,null,1052,1106.704,1166.4660160000001,1229.4551808640001]
[]
["SUPPLY CHAIN MANAGEMENT","SALARIES;                   ",null,null,null,"Yes",null,null,null,null,null,null,2300472,1409973.93,1483292.57436,1585639.7619908398,1695048.9055682076]
[null,"HOUSING SUBSIDY;            ",null,null,null,"Yes",null,null,null,null,null,null,null,11300.58,5200,5558.8,5942.3571999999995]
[null,"GROUP INSURANCE;            ",null,null,null,"Yes",null,null,null,null,null,null,null,5271.15,4846.34,5180.7374600000003,5538.20834474]
[null,"CHARGE: INDUSTRIAL COUNCIL; ",null,null,null,"Yes",null,null,null,null,null,null,null,486.28,432,461.80799999999999,493.67275199999995]
[null,"MEDICAL AID FUND;           ",null,null,null,"Yes",null,null,null,null,null,null,null,74714.83,122726,131194.09399999998,140246.48648599998]
[null,"OVERTIME;                   ",null,null,null,"Yes",null,null,null,null,null,null,null,22080,0,0,0]
[null,"PENSION FUND;               ",null,null,null,"Yes",null,null,null,null,null,null,null,305247.32,261865.56,279934.28363999998,299249.74921115994]
[null,"LEAVE REDEMPTION;           ",null,null,null,"Yes",null,null,null,null,null,null,null,170364.91999999998,53487.26,57177.880940000003,61123.154724860004]
[null,"BONUS;                      ",null,null,null,"Yes",null,null,null,null,null,null,null,115245.43,111431.79,119120.58350999998,127339.90377218998]
[null,"VEHICLE ALLOWANCE;          ",null,null,null,"Yes",null,null,null,null,null,null,null,244611.55,243646.61,260458.22608999998,278429.84369020996]
[null,"CONFERENCES & CONGRESSES;   ",null,null,null,"Yes",null,null,null,null,null,null,null,21040,22134.080000000002,23329.320320000003,24589.103617280005]
[null,"SUBSISTENCE AND TRAVELING;  ",null,null,null,"Yes",null,null,null,null,null,null,null,64538.36,67894.354720000003,71560.649874880008,75424.924968123538]
[null,"CELLPHONE;                  ",null,null,null,"Yes",null,null,null,null,null,null,null,27352,28774.304,30328.116416000001,31965.834702464002]
[null,"SKILLS DEV LEVY;            ",null,null,null,"Yes",null,null,null,null,null,null,null,0,0,0,0]
[null,"UIF;                        ",null,null,null,null,null,null,null,null,null,null,null,0,0,0,0]
[]
["INTRNAL AUDIT","SALARIES;                   ",null,null,null,"Yes",null,null,null,null,null,null,1627305,913389.4800000001,974586.57516000001,1041833.0488460399,1113719.5292164166]
[null,"HOUSING SUBSIDY;            ",null,null,null,"Yes",null,null,null,null,null,null,null,10301,11000,11759,12570.370999999999]
[null,"GROUP INSURANCE;            ",null,null,null,"Yes",null,null,null,null,null,null,null,0,0,0,0]
[null,"CHARGE: INDUSTRIAL COUNCIL; ",null,null,null,"Yes",null,null,null,null,null,null,null,210,224.07,239.53082999999998,256.05845726999996]
[null,"MEDICAL AID FUND;           ",null,null,null,"Yes",null,null,null,null,null,null,null,47514.3,47514.3,50792.786700000004,54297.488982300005]
[null,"OVERTIME;                   ",null,null,null,"Yes",null,null,null,null,null,null,null,0,0,0,0]
[null,"PENSION FUND;               ",null,null,null,"Yes",null,null,null,null,null,null,null,185040,197437.68,211060.87991999998,225624.08063447996]
[null,"LEAVE REDEMPTION;           ",null,null,null,"Yes",null,null,null,null,null,null,null,35867.26,38983.46,41673.318739999995,44548.777733059993]
[null,"BONUS;                      ",null,null,null,"Yes",null,null,null,null,null,null,null,76115.790000000008,81215.547930000001,86819.420737170003,92809.960768034725]
[null,"VEHICLE ALLOWANCE;          ",null,null,null,"Yes",null,null,null,null,null,null,null,228347.46,243646.73981999999,260458.36486757998,278429.99204344297]
[null,"AUDIT COMMITTEE FEES;       ",null,null,null,"Yes",null,null,null,null,null,null,null,878714.01,935830.42,986365.26268000004,1039628.9868647201]
[null,"TEAM MATE - MAINTENANCE COST",null,null,null,"Yes",null,null,null,null,null,null,null,0,0,0,0]
[null,"CONFERENCES & CONGRESSES;   ",null,null,null,"Yes",null,null,null,null,null,null,null,13030,13707.560000000001,14447.768240000001,15227.947724960002]
[null,"IT AUDIT",null,null,null,"Yes",null,null,null,null,null,null,null,0,0,0,0]
[null,"SUBSISTENCE AND TRAVELING;  ",null,null,null,"Yes",null,null,null,null,null,null,null,70000,73640,77616.56,81807.854240000001]
[null,"CELLPHONE;                  ",null,null,null,"Yes",null,null,null,null,null,null,null,6318,6728.67,7092.01818,7474.9871617200006]
[null,"SKILLS DEV LEVY;            ",null,null,null,"Yes",null,null,null,null,null,null,null,0,0,0,0]
[null,"UIF;                        ",null,null,null,"Yes",null,null,null,null,null,null,null,2106,2215.5120000000002,2335.1496480000001,2461.2477289920002]
[]
["CEMETRIES AND CREMATORIUMS","SALARIES;                   ",null,null,null,"Yes",null,null,null,null,null,null,245534,125659.95000000001,134026.13,143273.93296999999,153159.83434492999]
[null,"HOUSING SUBSIDY;            ",null,null,null,"Yes",null,null,null,null,null,null,null,1053,1053,1125.6569999999999,1203.327333]
[null,"PROTECTIVE CLOTHING/UNIFORM;",null,null,null,"Yes",null,null,null,null,null,null,null,0,0,0,0]
[null,"STANDBY;                    ",null,null,null,"Yes",null,null,null,null,null,null,null,0,0,0,0]
[null,"GROUP INSURANCE;            ",null,null,null,"Yes",null,null,null,null,null,null,null,737.1,737.1,787.95989999999995,842.32913309999992]
[null,"CHARGE: INDUSTRIAL COUNCIL; ",null,null,null,"Yes",null,null,null,null,null,null,null,116.82,108,115.452,123.41818799999999]
[null,"MEDICAL AID FUND;           ",null,null,null,"Yes",null,null,null,null,null,null,null,6411,15386.4,16448.061599999997,17582.977850399995]
[null,"OVERTIME;                   ",null,null,null,"Yes",null,null,null,null,null,null,null,12403.3,40207.839999999997,42982.180959999998,45947.951446239997]
[null,"PENSION FUND;               ",null,null,null,"Yes",null,null,null,null,null,null,null,28401.71,24124.7,25789.3043,27568.7662967]
[null,"LEAVE REDEMPTION;           ",null,null,null,"Yes",null,null,null,null,null,null,null,11434.6,5361.05,5730.96245,6126.3988590499994]
[null,"BONUS;                      ",null,null,null,"Yes",null,null,null,null,null,null,null,14500,11168.84,11939.489959999999,12763.314767239999]
[null,"FUEL",null,null,null,null,null,null,null,null,null,null,null,0,0,0,0]
[null,"LONG SERVICE AWARDS",null,null,null,null,null,null,null,null,null,null,null,6510.72,6849.2774400000008,7219.1384217600007,7608.9718965350412]
[null,"SKILLS DEV LEVY;            ",null,null,null,"Yes",null,null,null,null,null,null,null,0,0,0,0]
[null,"DEPRECIATION;               ",null,null,null,"Yes",null,null,null,null,null,null,null,27833.8,29281.157600000002,30862.340110400004,32528.906476361604]
[null,"MACHINES & EQUIPMENT",null,null,null,null,null,null,null,null,null,null,null,0,0,0,0]
[null,"VEHICLES",null,null,null,null,null,null,null,null,null,null,null,0,0,0,0]
[null,"GROUNDS & FENCES",null,null,null,null,null,null,null,null,null,null,null,0,0,0,0]
[null,"PAUPERS & INDEGENT BURIALS",null,null,null,null,null,null,null,null,null,null,null,21500,22618,23839.371999999999,25126.698088000001]
[]
["COMMUNITY HALLS AND FACILITIES","SALARIES;                   ",null,null,null,"Yes",null,null,null,null,null,null,717075,417305.02285714285,445264.45938857138,475987.70708638278,508830.85887534317]
[null,"HOUSING SUBSIDY;            ",null,null,null,"Yes",null,null,null,null,null,null,null,0,0,0,0]
[null,"PROTECTIVE CLOTHING/UNIFORM;",null,null,null,"Yes",null,null,null,null,null,null,null,0,0,0,0]
[null,"GROUP INSURANCE;            ",null,null,null,"Yes",null,null,null,null,null,null,null,8669.4500000000007,8905.2900000000009,9519.7550100000008,10176.61810569]
[null,"CHARGE: INDUSTRIAL COUNCIL; ",null,null,null,"Yes",null,null,null,null,null,null,null,856.97,108,115.452,123.41818799999999]
[null,"MEDICAL AID FUND;           ",null,null,null,"Yes",null,null,null,null,null,null,null,36467.86,32356,34588.563999999998,36975.174915999996]
[null,"OVERTIME;                   ",null,null,null,"Yes",null,null,null,null,null,null,null,0,0,0,0]
[null,"PENSION FUND;               ",null,null,null,"Yes",null,null,null,null,null,null,null,96875.51,97958.16,104717.27304,111942.76487976]
[null,"LEAVE REDEMPTION;           ",null,null,null,"Yes",null,null,null,null,null,null,null,42673.73,17810.57,19039.499329999999,20353.224783769998]
[null,"BONUS;                      ",null,null,null,"Yes",null,null,null,null,null,null,null,34775.409999999996,37105.362469999993,39665.632480429987,42402.561121579653]
[null,"VEHICLE ALLOWANCE",null,null,null,"Yes",null,null,null,null,null,null,null,104739.2,111756.72639999999,119467.94052159997,127711.22841759036]
[null,"SUBSISTENCE AND TRAVELING;  ",null,null,null,"Yes",null,null,null,null,null,null,null,54855,57707.46,60823.662840000005,64108.14063336001]
[null,"PERFORMANCE BONUS;          ",null,null,null,"Yes",null,null,null,null,null,null,null,0,0,0,0]
[null,"ELECTRICITY;                ",null,null,null,"Yes",null,null,null,null,null,null,null,0,0,0,0]
[null,"STORES AND MATERIAL;        ",null,null,null,"Yes",null,null,null,null,null,null,null,0,0,0,0]
[null,"LONG SERVICE AWARDS;        ",null,null,null,"Yes",null,null,null,null,null,null,null,0,0,0,0]
[null,"CELLPHONE;                  ",null,null,null,"Yes",null,null,null,null,null,null,null,4212,4431.0240000000003,4670.2992960000001,4922.4954579840005]
[null,"CULTURAL ACTIVITIES;        ",null,null,null,"Yes",null,null,null,null,null,null,null,0,0,0,0]
[null,"SKILLS DEV LEVY;            ",null,null,null,"Yes",null,null,null,null,null,null,null,0,0,0,0]
[null,"COMMUNITY WATER",null,null,null,null,null,null,null,null,null,null,null,0,0,0,0]
[null,"TOURISM INTERPRETORS & TOUR ",null,null,null,"Yes",null,null,null,null,null,null,null,0,0,0,0]
[null,"DEPRECIATION;               ",null,null,null,"Yes",null,null,null,null,null,null,null,180347.88,189725.96976000001,199971.17212704002,210769.61542190018]
[null,"BUILDINGS & EQUIPMENT;      ",null,null,null,"Yes",null,null,null,null,null,null,null,0,0,0,0]
[null,"COMMUNITY FACILITIES",null,null,null,"Yes",null,null,null,null,null,null,null,521024.4,4548117,793715.31799999997,1052575.945172]
[null,"GROUNDS & FENCES;           ",null,null,null,"Yes",null,null,null,null,null,null,null,0,0,0,0]
[null,"MACHINES & EQUIPMENT;       ",null,null,null,"Yes",null,null,null,null,null,null,null,0,0,0,0]
[]
["DISASTER MANAGEMENT","SALARIES;                   ",null,null,null,"Yes",null,null,null,null,null,null,1235173,597745.02,728035.44,778269.88535999996,831970.50744983996]
[null,"HOUSING SUBSIDY;            ",null,null,null,"Yes",null,null,null,null,null,null,null,10228.439999999999,22000,23518,25140.741999999998]
[null,"PROTECTIVE CLOTHING/UNIFORM;",null,null,null,"Yes",null,null,null,null,null,null,null,0,0,0,0]
[null,"GROUP INSURANCE;            ",null,null,null,"Yes",null,null,null,null,null,null,null,1169.4499999999998,8905.2900000000009,9519.7550100000008,10176.61810569]
[null,"CHARGE: INDUSTRIAL COUNCIL; ",null,null,null,"Yes",null,null,null,null,null,null,null,144.09,216,230.904,246.83637599999997]
[null,"MEDICAL AID FUND;           ",null,null,null,"Yes",null,null,null,null,null,null,null,54022.92,68618.039999999994,73352.684759999989,78414.020008439984]
[null,"OVERTIME;                   ",null,null,null,"Yes",null,null,null,null,null,null,null,5795,0,0,0]
[null,"PENSION FUND;               ",null,null,null,"Yes",null,null,null,null,null,null,null,90949.07,160167.79999999999,171219.37819999998,183033.51529579997]
[null,"LEAVE REDEMPTION;           ",null,null,null,"Yes",null,null,null,null,null,null,null,26619.01,29121.42,31130.797979999996,33278.823040619995]
[null,"BONUS;                      ",null,null,null,"Yes",null,null,null,null,null,null,null,34775.410000000003,60669.62,64855.823779999999,69330.875620819992]
[null,"VEHICLE ALLOWANCE;          ",null,null,null,"Yes",null,null,null,null,null,null,null,104326.26,111316.11941999999,118996.93165997998,127207.7199445186]
[null,"ADMIN COST DEPT;            ",null,null,null,"Yes"]
[null,"FIRE BREAKS;                ",null,null,null,"Yes",null,null,null,null,null,null,null,0,150000,158100,166637.4]
[null,"FOOD PARCELS;               ",null,null,null,"Yes",null,null,null,null,null,null,null,5265,5538.7800000000007,5837.8741200000013,6153.1193224800018]
[null,"CATERING;                   ",null,null,null,"Yes",null,null,null,null,null,null,null,0,10000,10540,11109.16]
[null,"PRINTING AND STATIONARY;    ",null,null,null,"Yes",null,null,null,null,null,null,null,1216.4899999999998,1279.7474799999998,1348.8538439199999,1421.6919514916799]
[null,"COMMUNITY SAFETY FORUM  ",null,null,null,"Yes",null,null,null,null,null,null,null,0,100000,105400,111091.6]
[null,"DISASTER MAGNETIC STICKERS; ",null,null,null,"Yes",null,null,null,null,null,null,null,139,146.22800000000001,154.124312,162.44702484800001]
[null,"FIRE EXTINGUISHERS    ",null,null,null,"Yes",null,null,null,null,null,null,null,0,0,0,0]
[null,"TENTS;                      ",null,null,null,"Yes",null,null,null,null,null,null,null,0,0,0,0]
[null,"BLANKETS;                   ",null,null,null,"Yes",null,null,null,null,null,null,null,11060,20000,21080,22218.32]
[null,"SUBSISTENCE AND TRAVELING;  ",null,null,null,"Yes",null,null,null,null,null,null,null,198315.37,208627.76923999999,219893.66877896001,231767.92689302386]
[null,"LONG SERVICE AWARDS;        ",null,null,null,"Yes",null,null,null,null,null,null,null,0,0,0,0]
[null,"CELLPHONE;                  ",null,null,null,"Yes",null,null,null,null,null,null,null,5746.8,6045.6336000000001,6372.0978144000001,6716.1910963775999]
[null,"PUBLIC SAFETY;              ",null,null,null,"Yes",null,null,null,null,null,null,null,0,0,0,0]
[null,"REFLECTIVE JACKETS;         ",null,null,null,"Yes",null,null,null,null,null,null,null,0,15000,15810,16663.740000000002]
[null,"SKILLS DEV LEVY;            ",null,null,null,"Yes",null,null,null,null,null,null,null,0,0,0,0]
[null,"AWARENESS CAMPAIGN;         ",null,null,null,"Yes",null,null,null,null,null,null,null,0,50000,52700,55545.8]
[null,"DEPRECIATION;               ",null,null,null,"Yes",null,null,null,null,null,null,null,0,0,0,0]
[]
["LIBRARIES AND ARCHIVES","SALARIES;                   ",null,null,null,"Yes",null,null,null,null,null,null,1493795,1248208.3199999998,1331976.94,1423883.3488599998,1522131.2999313397]
[null,"HOUSING SUBSIDY;            ",null,null,null,"Yes",null,null,null,null,null,null,null,12628.65,13200,14110.8,15084.445199999998]
[null,"GROUP INSURANCE;            ",null,null,null,"Yes",null,null,null,null,null,null,null,12768.45,13751.63,14700.492469999999,15714.826450429999]
[null,"CHARGE: INDUSTRIAL COUNCIL; ",null,null,null,"Yes",null,null,null,null,null,null,null,602.20000000000005,648,692.71199999999999,740.50912799999992]
[null,"MEDICAL AID FUND;           ",null,null,null,"Yes",null,null,null,null,null,null,null,97743.650000000009,119690.84,127949.50795999999,136778.02400923998]
[null,"OVERTIME;                   ",null,null,null,"Yes",null,null,null,null,null,null,null,33856.050000000003,53856.05,57572.117449999998,61544.593554049992]
[null,"PENSION FUND;               ",null,null,null,"Yes",null,null,null,null,null,null,null,259123.05,276999,296111.93099999998,316543.65423899994]
[null,"LEAVE REDEMPTION;           ",null,null,null,"Yes",null,null,null,null,null,null,null,30192.15,53279.08,56955.336519999997,60885.254739879994]
[null,"BONUS;                      ",null,null,null,"Yes",null,null,null,null,null,null,null,72625.63,110998.08,118656.94752,126844.27689887999]
[null,"VEHICLE ALLOWANCE;          ",null,null,null,"Yes",null,null,null,null,null,null,null,104327.04000000001,111316.95168,118997.82134591999,127208.67101878846]
[null,"ADMIN COST DEPT;            ",null,null,null,"Yes"]
[null,"OUTREACH PROGRAMME;         ",null,null,null,"Yes",null,null,null,null,null,null,null,10000,20000,21080,22218.32]
[null,"ADVERTISING (PUBLICITY);    ",null,null,null,"Yes",null,null,null,null,null,null,null,0,0,0,0]
[null,"CATERING;                   ",null,null,null,"Yes",null,null,null,null,null,null,null,0,0,0,0]
[null,"PRINTING AND STATIONARY;    ",null,null,null,"Yes",null,null,null,null,null,null,null,2494.1000000000004,2623.7932000000005,2765.4780328000006,2914.8138465712009]
[null,"REVIEW OF MUNICIPAL LOGO;   ",null,null,null,"Yes",null,null,null,null,null,null,null,0,0,0,0]
[null,"READATHON/NATIONAL BOOK WE",null,null,null,null,null,null,null,null,null,null,null,0,100000,105400,111091.6]
[null,"CONFERENCES & CONGRESSES;   ",null,null,null,"Yes",null,null,null,null,null,null,null,0,0,0,0]
[null,"SUBSCRIPTIONS;              ",null,null,null,"Yes",null,null,null,null,null,null,null,0,0,0,0]
[null,"WORLD BOOK DAY       ",null,null,null,"Yes",null,null,null,null,null,null,null,0,50000,52700,55545.8]
[null,"LIBRARY DAY;                ",null,null,null,"Yes",null,null,null,null,null,null,null,56790,70000,73780,77764.12000000001]
[null,"STORES AND MATERIAL;        ",null,null,null,"Yes",null,null,null,null,null,null,null,39283.302857142859,41326.034605714289,43557.640474422864,45909.753060041701]
[null,"SUBSISTENCE AND TRAVELING;  ",null,null,null,"Yes",null,null,null,null,null,null,null,42649.34,44867.105680000001,47289.929386720003,49843.585573602883]
[null,"LONG SERVICE AWARDS;        ",null,null,null,"Yes",null,null,null,null,null,null,null,0,0,0,0]
[null,"SKILLS DEV LEVY;            ",null,null,null,"Yes",null,null,null,null,null,null,null,0,0,0,0]
[null,"DEPRECIATION;               ",null,null,null,"Yes",null,null,null,null,null,null,null,86045.4,90519.760800000004,95407.827883200007,100559.8505888928]
[null,"BUILDING & EQUIPMENT",null,null,null,null,null,null,null,null,null,null,null,0,0,0,0]
[null,"MACHINES & EQUIPMENT",null,null,null,null,null,null,null,null,null,null,null,0,0,0,0]
[]
[]
["HOUSING","SALARIES;                   ",null,null,null,"Yes",null,null,null,null,null,null,691260,417304.92,445264.34963999997,475987.58976515994,508830.73345895595]
[null,"HOUSING SUBSIDY;            ",null,null,null,"Yes",null,null,null,null,null,null,null,10228.44,11000,11759,12570.370999999999]
[null,"GROUP INSURANCE;            ",null,null,null,"Yes",null,null,null,null,null,null,null,8268.119999999999,8905.2900000000009,9519.7550100000008,10176.61810569]
[null,"CHARGE: INDUSTRIAL COUNCIL; ",null,null,null,"Yes",null,null,null,null,null,null,null,106.1,108,115.452,123.41818799999999]
[null,"MEDICAL AID FUND;           ",null,null,null,"Yes",null,null,null,null,null,null,null,29290.32,27374.400000000001,29263.2336,31282.396718399999]
[null,"PENSION FUND;               ",null,null,null,"Yes",null,null,null,null,null,null,null,90949.07,97958.29,104717.41200999999,111942.91343868998]
[null,"LEAVE REDEMPTION;           ",null,null,null,"Yes",null,null,null,null,null,null,null,13290.69,17810.57,19039.499329999999,20353.224783769998]
[null,"BONUS;                      ",null,null,null,"Yes",null,null,null,null,null,null,null,34775.410000000003,37105.36247,39665.632480429995,42402.56112157966]
[null,"VEHICLE ALLOWANCE;          ",null,null,null,"Yes",null,null,null,null,null,null,null,104326.26,111316.11941999999,118996.93165997998,127207.7199445186]
[null,"CATERING;                   ",null,null,null,"Yes",null,null,null,null,null,null,null,1744.6599999999999,1835.3823199999999,1934.4929652799999,2038.95558540512]
[null,"PRINTING AND STATIONARY;    ",null,null,null,"Yes",null,null,null,null,null,null,null,0,0,0,0]
[null,"SUBSISTENCE AND TRAVELING;  ",null,null,null,"Yes",null,null,null,null,null,null,null,17215.13,18110.316760000002,19088.273865040002,20119.040653752163]
[null,"LONG SERVICE AWARDS;        ",null,null,null,"Yes",null,null,null,null,null,null,null,0,0,0,0]
[null,"SKILLS DEV LEVY;            ",null,null,null,"Yes",null,null,null,null,null,null,null,0,0,0,0]
[null,"DEPRECIATION;               ",null,null,null,"Yes",null,null,null,null,null,null,null,0,0,0,0]
[]
["CORPORATE WIDE STRATEGIC PLANNING (IDP & LED)","SALARIES;                   ",null,null,null,"Yes",null,null,null,null,null,null,4588968,1638645.45,1296727.53,1386201.72957,1481849.6489103299]
[null,"SALARIES OF SENIOR MANAGER",null,null,null,null,null,null,null,null,null,null,null,0,0,0,0]
[null,"HOUSING SUBSIDY;            ",null,null,null,"Yes",null,null,null,null,null,null,null,0,0,0,0]
[null,"GROUP INSURANCE;            ",null,null,null,"Yes",null,null,null,null,null,null,null,4523.84,4846.34,5180.7374600000003,5538.20834474]
[null,"CHARGE: INDUSTRIAL COUNCIL; ",null,null,null,"Yes",null,null,null,null,null,null,null,712.63,432,461.80799999999999,493.67275199999995]
[null,"MEDICAL AID FUND;           ",null,null,null,"Yes",null,null,null,null,null,null,null,58165.59,78602.399999999994,84025.965599999996,89823.75722639999]
[null,"OVERTIME;                   ",null,null,null,"Yes",null,null,null,null,null,null,null,0,0,0,0]
[null,"PENSION FUND;               ",null,null,null,"Yes",null,null,null,null,null,null,null,262326.77,279902.66359000001,299215.94737771002,319861.84774677199]
[null,"LEAVE REDEMPTION;           ",null,null,null,"Yes",null,null,null,null,null,null,null,46866.92,51869.1,55448.067899999995,59273.984585099992]
[null,"BONUS;                      ",null,null,null,"Yes",null,null,null,null,null,null,null,98799.02,108060.63,115516.81346999999,123487.47359942998]
[null,"VEHICLE ALLOWANCE;          ",null,null,null,"Yes",null,null,null,null,null,null,null,376768.87142857141,203023.33,217031.93976999997,232007.14361412995]
[null,"HERITAGE CELEBRATION",null,null,null,"Yes",null,null,null,null,null,null,null,0,0,0,0]
[null,"TOURISM EXHIBITION SHOWS;        ",null,null,null,"Yes",null,null,null,null,null,null,null,500000,525000,553350,583230.9]
[null,"LETABA SHOW DRAG STRIP",null,null,null,null,null,null,null,null,null,null,null,0,1800000,0,0]
[null,"FUEL;                       ",null,null,null,"Yes",null,null,null,null,null,null,null,65520.85,68927.934200000003,72650.042646800008,76573.144949727211]
[null,"CATERING;                   ",null,null,null,"Yes",null,null,null,null,null,null,null,22034.16,23179.936320000001,24431.652881280002,25750.962136869122]
[null,"PRINTING AND STATIONARY;    ",null,null,null,"Yes",null,null,null,null,null,null,null,34577.22,36375.235440000004,38339.498153760003,40409.831054063048]
[null,"SUPPORT OF SMME;            ",null,null,null,"Yes",null,null,null,null,null,null,null,80000,200000,210800,222183.2]
[null,"AGRICULTURAL AWARDS;        ",null,null,null,"Yes",null,null,null,null,null,null,null,100000,100000,105400,111091.6]
[null,"STORES AND MATERIAL;        ",null,null,null,"Yes",null,null,null,null,null,null,null,1296.2399999999998,1363.6444799999999,1437.2812819200001,1514.8944711436802]
[null,"FEASIBILITY STUDY FOR PICNIC",null,null,null,"Yes",null,null,null,null,null,null,null,0,0,0,0]
[null,"ENTERTAINMENT ALLOWANCES;   ",null,null,null,"Yes",null,null,null,null,null,null,null,2000,2000,2000,2000]
[null,"INTERNS             ",null,null,null,"Yes",null,null,null,null,null,null,null,0,0,0,0]
[null,"SUBSISTENCE AND TRAVELING;  ",null,null,null,"Yes",null,null,null,null,null,null,null,140725.95000000001,148043.69940000001,156038.05916760003,164464.11436265043]
[null,"LONG SERVICE AWARDS;        ",null,null,null,"Yes",null,null,null,null,null,null,null,0,0,0,0]
[null,"Agri-Business show",null,null,null,"Yes"]
[null,"PEGGING EXT 11 SITES MODJADJ",null,null,null,"Yes",null,null,null,null,null,null,null,0,0,0,0]
[null,"REZONING AND DEMARCATION KGA",null,null,null,"Yes",null,null,null,null,null,null,null,0,0,0,0]
[null,"FEASIBILITY STUDY LED PROJEC",null,null,null,"Yes",null,null,null,null,null,null,null,0,0,0,0]
[null,"CELLPHONE;                  ",null,null,null,"Yes",null,null,null,null,null,null,null,35751.870000000003,37610.967240000005,39641.959470960006,41782.625282391848]
[null,"AGRO PROCESSING PROJECT;    ",null,null,null,"Yes",null,null,null,null,null,null,null,0,0,0,0]
[null,"INTEGRATED ROAD& TRANSPORT I",null,null,null,"Yes",null,null,null,null,null,null,null,0,0,0,0]
[null,"BUSINESS INITIATIVE J V DTI ",null,null,null,"Yes",null,null,null,null,null,null,null,0,0,0,0]
[null,"SKILLS DEV LEVY;            ",null,null,null,"Yes",null,null,null,null,null,null,null,0,0,0,0]
[null,"ART & CRAFT DEVELOPMENT;    ",null,null,null,"Yes",null,null,null,null,null,null,null,0,null,0,0]
[null,"DEVELOPMENT & TOURISM ROUTES",null,null,null,"Yes",null,null,null,null,null,null,null,0,0,0,0]
[null,"PIGGERY & CHICKENS ABATTOIR;",null,null,null,"Yes",null,null,null,null,null,null,null,0,0,0,0]
[null,"DEV OF WALKING TRAILS:WATERF",null,null,null,"Yes",null,null,null,null,null,null,null,0,0,0,0]
[null,"TOURISM INDABA;             ",null,null,null,"Yes",null,null,null,null,null,null,null,0,0,0,0]
[null,"CHARCOAL: PLANNING & DESIGN;",null,null,null,"Yes",null,null,null,null,null,null,null,0,0,0,0]
[null,"PLAN&DESIGN:COFFIN,FURNITURE",null,null,null,"Yes",null,null,null,null,null,null,null,0,0,0,0]
[null,"IDP REVIEW PROCESS;         ",null,null,null,"Yes",null,null,null,null,null,null,null,0,150000,0,0]
[null,"REVIEW OF LED STRATEGY;     ",null,null,null,"Yes",null,null,null,null,null,null,null,0,900000,0,0]
[null,"SOLAR ENERGY TRAINING PRODUC",null,null,null,"Yes",null,null,null,null,null,null,null,0,0,0,0]
[null,"DEPRECIATION;               ",null,null,null,"Yes",null,null,null,null,null,null,null,87451.57,91999.051640000005,96967.000428560015,102203.21845170225]
[null,"DEMARCATION OF SITES;       ",null,null,null,"Yes",null,null,null,null,null,null,null,0,0,0,0]
[null,"SITE PEGGING (VRYSTAAT);    ",null,null,null,"Yes",null,null,null,null,null,null,null,0,0,0,0]
[null,"PROCLAMATION OF SITES MEDIGE",null,null,null,"Yes",null,null,null,null,null,null,null,0,0,0,0]
[null,"LETSEPE MPOLAYE PROGRAMME;  ",null,null,null,"Yes",null,null,null,null,null,null,null,795000,838950,884253.3,932002.97820000013]
[null,"DEVELOPMENT OF IDP",null,null,null,"Yes",null,null,null,null,null,null,null,52650,55387.8,58378.741200000004,61531.193224800008]
[null,"IDP STRATEGIC  PLANNING SESSION",null,null,null,"Yes",null,null,null,null,null,null,null,200000,250000,263500,277729]
[null,"LED FORUMS",null,null,null,"Yes"]
[null,"REPAIRING OF GRADERS;       ",null,null,null,"Yes",null,null,null,null,null,null,null,0,0,0,0]
[null,"UIF;                        ",null,null,null,"Yes",null,null,null,null,null,null,null,2106,2215.5120000000002,2335.1496480000001,2461.2477289920002]
[null,"VEHICLES;                   ",null,null,null,"Yes",null,null,null,null,null,null,null,35516.380000000005,37363.23176000001,39380.846275040014,41507.41197389218]
[null,"COMMERCIALISATION OF SICKLE-BUSH (MORETSE)",null,null,null,null,null,null,null,null,null,null,null,0,800000,0,0]
[null,"DEVELOPMENT OF PRECINCT PLANS FOR GA-KGAPANE, SENWAMOKGOPE& MOKWAKWAILA",null,null,null,null,null,null,null,null,null,null,null,null,600000,600000,600000]
[null,"LUNCH FOR LED FORUMS",null,null,null,null,null,null,null,null,null,null,null,50000,52600,55440.4,58434.181600000004]
[null,"SERVICING OF VACANT STANDS",null,null,null,null,null,null,null,null,null,null,null,0,0,0,0]
[]
["TOWN PLANNING AND BUILDING REGULATIONS","SALARIES;                   ",null,null,null,"Yes",null,null,null,null,null,null,1729270,1686285.09,1899266,2030315.3539999998,2170407.1134259999]
[null,"SALARIES OF SENIOR MANAGER",null,null,null,null,null,null,null,null,null,null,null,975869.08,1041252.3083599999,1113098.71763684,1189902.5291537819]
[null,"HOUSING SUBSIDY;            ",null,null,null,"Yes",null,null,null,null,null,null,null,10249.89,11000,11759,12570.370999999999]
[null,"GROUP INSURANCE;            ",null,null,null,"Yes",null,null,null,null,null,null,null,999.09999999999991,8905.2900000000009,9519.7550100000008,10176.61810569]
[null,"CHARGE: INDUSTRIAL COUNCIL; ",null,null,null,"Yes",null,null,null,null,null,null,null,517.02,648,692.71199999999999,740.50912799999992]
[null,"MEDICAL AID FUND;           ",null,null,null,"Yes",null,null,null,null,null,null,null,34664.230000000003,93765.6,100235.4264,107151.6708216]
[null,"OVERTIME;                   ",null,null,null,"Yes",null,null,null,null,null,null,null,0,0,0,0]
[null,"PENSION FUND;               ",null,null,null,"Yes",null,null,null,null,null,null,null,245113.06,443030.82,473599.94657999999,506278.34289401997]
[null,"LEAVE REDEMPTION;           ",null,null,null,"Yes",null,null,null,null,null,null,null,5386.24,116749.53,124805.24756999999,133416.80965232998]
[null,"BONUS;                      ",null,null,null,null,null,null,null,null,null,null,null,78332.89,243228.2,260010.94579999999,277951.70106019999]
[null,"VEHICLE ALLOWANCE;          ",null,null,null,"Yes",null,null,null,null,null,null,null,266023.76,482671.09,515975.39520999999,551577.69747948996]
[null,"REVIEW OF THE SPATIAL DEV FRAMEWORK",null,null,null,null,null,null,null,null,null,null,null,0,1100000,0,0]
[null,"IMPLEMENTATION OF LAND USE SCHEME",null,null,null,"Yes",null,null,null,null,null,null,null,500000,526000,554404,584341.81599999999]
[null,"DERMACATION OF SITE - NOOITE",null,null,null,"Yes",null,null,null,null,null,null,null,0,0,0,0]
[null,"ENTERTAINMENT ALLOWANCES",null,null,null,null,null,null,null,null,null,null,null,0,0,0,0]
[null,"SUBSISTENCE AND TRAVELING;  ",null,null,null,"Yes",null,null,null,null,null,null,null,201301.27000000002,211768.93604000003,223204.45858616004,235257.49934981269]
[null,"CELLPHONE",null,null,null,null,null,null,null,null,null,null,null,0,0,0,0]
[null,"LONG SERVICE AWARDS;        ",null,null,null,"Yes",null,null,null,null,null,null,null,0,0,0,0]
[null,"SKILLS DEV LEVY;            ",null,null,null,"Yes",null,null,null,null,null,null,null,0,0,0,0]
[null," TOWNSHIP ESTABLISHMENT ON FARM UITSPAN 172-LT ",null,null,null,null,null,null,null,null,null,null,null,0,1750000,0,0]
[null," TOWNSHIP ESTABLISHMENT ON FARM PLANTLAND 401-LT& PTN 8 FARM MEIDINGEN 398-LT",null,null,null,null,null,null,null,null,null,null,null,0,1750000,0,0]
[null,"UIF;                        ",null,null,null,"Yes",null,null,null,null,null,null,null,1472.8,1549.3856000000001,1633.0524224000001,1721.2372532096001]
[null,"LAND USE MANAGEMENT; (SPLUMA)        ",null,null,null,null,null,null,null,null,null,null,null,100000,1605200,1691880.8,1783242.3632]
[]
["PROJECT MANAGEMENT UNIT","SALARIES;                   ",null,null,null,"Yes",null,null,null,null,null,null,1711849,1438565.6400000001,1904484.76,2035894.20844,2176370.90882236]
[null,"HOUSING SUBSIDY;            ",null,null,null,"Yes",null,null,null,null,null,null,null,14329.349999999999,22000,23518,25140.741999999998]
[null,"GROUP INSURANCE;            ",null,null,null,"Yes",null,null,null,null,null,null,null,5886.4,4846.34,5180.7374600000003,5538.20834474]
[null,"CHARGE: INDUSTRIAL COUNCIL; ",null,null,null,"Yes",null,null,null,null,null,null,null,485.82,540,577.26,617.09093999999993]
[null,"MEDICAL AID FUND;           ",null,null,null,"Yes",null,null,null,null,null,null,null,119706.69,120232.8,128528.86319999999,137397.35476079999]
[null,"OVERTIME;                   ",null,null,null,"Yes",null,null,null,null,null,null,null,22046.3,0,0,0]
[null,"PENSION FUND",null,null,null,null,null,null,null,null,null,null,null,312609.21999999997,373672.82999999996,399456.25526999997,427018.73688362993]
[null,"LEAVE REDEMPTION;           ",null,null,null,"Yes",null,null,null,null,null,null,null,19356.8,76179.39,81435.767909999995,87054.835895789991]
[null,"BONUS",null,null,null,null,null,null,null,null,null,null,null,72925.11,158707.06,169657.84714,181364.23859266]
[null,"VEHICLE ALLOWANCE;          ",null,null,null,"Yes",null,null,null,null,null,null,null,310151.93,354962.67,379455.09422999999,405637.49573186995]
[null,"SUBSISTENCE AND TRAVELING;  ",null,null,null,"Yes",null,null,null,null,null,null,null,270514.34000000003,284581.08568000002,299948.46430672001,316145.68137928291]
[null,"CELLPHONE;                  ",null,null,null,"Yes",null,null,null,null,null,null,null,129484,136217.16800000001,143572.89507200001,151325.83140588802]
[null,"CATERING",null,null,null,"Yes",null,null,null,null,null,null,null,22265,23422.780000000002,24687.610120000005,26020.741066480005]
[null,"CONFERENCES AND CONGRESS",null,null,null,"Yes",null,null,null,null,null,null,null,40530,42637.560000000005,44939.988240000006,47366.747604960008]
[null,"SKILLS DEV LEVY;            ",null,null,null,"Yes",null,null,null,null,null,null,null,0,0,0,0]
[null,"UIF;                        ",null,null,null,"Yes",null,null,null,null,null,null,null,10040.6,10562.711200000002,11133.097604800003,11734.284875459203]
[]
["ROAD AND TRAFFIC REGULATIONS","SALARIES;                   ",null,null,null,"Yes",null,null,null,null,null,null,21084958,7772842.5428571431,8643622,9240031.9179999996,9877594.1203419995]
[null,"SALARIES SENIOR MANAGER",null,null,null,null,null,null,null,null,null,null,null,994613.62,1061252.73254,1134479.1710852599,1212758.2338901428]
[null,"HOUSING SUBSIDY;            ",null,null,null,"Yes",null,null,null,null,null,null,null,64370.64,50000,53450,57138.049999999996]
[null,"PROTECTIVE CLOTHING/UNIFORM;",null,null,null,"Yes",null,null,null,null,null,null,null,195000,960000,1026240,1097050.56]
[null,"STANDBY ALLOWANCES",null,null,null,null,null,null,null,null,null,null,null,134416.44,256776,274493.54399999999,293433.598536]
[null,"GROUP INSURANCE;            ",null,null,null,"Yes",null,null,null,null,null,null,null,55051.6,65323.26,69830.564939999997,74648.873920859987]
[null,"CHARGE: INDUSTRIAL COUNCIL; ",null,null,null,"Yes",null,null,null,null,null,null,null,4055.52,3672,3925.3679999999999,4196.2183919999998]
[null,"MEDICAL AID FUND;           ",null,null,null,"Yes",null,null,null,null,null,null,null,763681.54285714286,1038099,1109727.831,1186299.051339]
[null,"OVERTIME;                   ",null,null,null,"Yes",null,null,null,null,null,null,null,760185.60000000009,594877.84,635924.41095999989,679803.19531623984]
[null,"PENSION FUND;               ",null,null,null,"Yes",null,null,null,null,null,null,null,1488846.49,2102604.11,2247683.7935899999,2402773.9753477098]
[null,"LEAVE REDEMPTION;           ",null,null,null,"Yes",null,null,null,null,null,null,null,564683.28,387332.62,414058.57077999995,442628.61216381995]
[null,"BONUS;                      ",null,null,null,"Yes",null,null,null,null,null,null,null,631213.98,806942.96,862622.02423999994,922142.94391255989]
[null,"VEHICLE ALLOWANCE;          ",null,null,null,"Yes",null,null,null,null,null,null,null,346830.37714285718,438962.73,469251.15836999996,501629.48829752993]
[null,"FIRE ARMS ALLOWANCES;       ",null,null,null,"Yes",null,null,null,null,null,null,null,0,0,0,0]
[null,"ADMIN COST DEPT;            ",null,null,null,"Yes"]
[null,"FUEL;                       ",null,null,null,"Yes",null,null,null,null,null,null,null,174152.17,183208.08284000002,193101.31931336003,203528.79055628148]
[null,"CATERING;                   ",null,null,null,"Yes",null,null,null,null,null,null,null,0,20000,21080,22218.32]
[null,"PRINTING AND STATIONARY;    ",null,null,null,"Yes",null,null,null,null,null,null,null,74334.740000000005,78200.14648000001,82422.954389920022,86873.793926975704]
[null,"RELOCATION OF DLTC TO SUB OF",null,null,null,"Yes",null,null,null,null,null,null,null,0,0,0,0]
[null,"AARTO EQUIPMENTS;           ",null,null,null,"Yes",null,null,null,null,null,null,null,0,0,0,0]
[null,"REALISING OF MODJADJISKLOOF",null,null,null,null,null,null,null,null,null,null,null,980302.26,0,0,0]
[null,"DEBT IMPAIRMENT;            ",null,null,null,"Yes"]
[null,"CONFERENCES & CONGRESSES;   ",null,null,null,"Yes",null,null,null,null,null,null,null,65238.119999999995,68630.502240000002,72336.549360960009,76242.723026451858]
[null,"SUBSCRIPTIONS;              ",null,null,null,"Yes",null,null,null,null,null,null,null,2245,2361.7400000000002,2489.2739600000004,2623.6947538400004]
[null,"STORES AND MATERIAL;        ",null,null,null,"Yes",null,null,null,null,null,null,null,31395.360000000001,33027.918720000001,34811.42633088,36691.243352747522]
[null,"ENTERTAINMENT ALLOWANCES;   ",null,null,null,"Yes",null,null,null,null,null,null,null,1995.19,2000,2000,2000]
[null,"INTERNS (FMG);              ",null,null,null,"Yes",null,null,null,null,null,null,null,0,0,0,0]
[null,"POSTAGE FEES;               ",null,null,null,"Yes",null,null,null,null,null,null,null,0,0,0,0]
[null,"SUBSISTENCE AND TRAVELING;  ",null,null,null,"Yes",null,null,null,null,null,null,null,393200,413646.4,435983.30560000002,459526.40410240006]
[null,"LONG SERVICE AWARDS;        ",null,null,null,"Yes",null,null,null,null,null,null,null,49847.86,52439.94872,55271.705950880001,58256.378072227526]
[null,"INFRINGEMENT NOTICE & AARTO;",null,null,null,"Yes",null,null,null,null,null,null,null,0,0,0,0]
[null,"CELLPHONE;                  ",null,null,null,"Yes",null,null,null,null,null,null,null,51786.54,54479.44008,57421.329844320004,60522.081655913287]
[null,"UNIFORM FOR TRAFFIC ",null,null,null,"Yes",null,null,null,null,null,null,null,0,0,0,0]
[null,"TRAFFIC SIGNS ;             ",null,null,null,"Yes",null,null,null,null,null,null,null,0,0,0,0]
[null,"FIREARM LICENCE FEES ",null,null,null,"Yes",null,null,null,null,null,null,null,0,0,0,0]
[null,"DEVELOPMENT OF INTEGRATED TRANSPORT PLAN( TRAFFIC SECTION)",null,null,null,"Yes",null,null,null,null,null,null,null,0,0,0,0]
[null,"LICENCE FEES AND REPEATER",null,null,null,"Yes",null,null,null,null,null,null,null,63576,66881.952000000005,70493.577408000012,74300.23058803202]
[null,"SKILLS DEV LEVY;            ",null,null,null,"Yes",null,null,null,null,null,null,null,0,0,0,0]
[null,"DEPRECIATION;               ",null,null,null,"Yes",null,null,null,null,null,null,null,247212.01,260067.03452000002,274110.65438408003,288912.62972082035]
[null,"REGISTRATION OF KGAPANE AS R",null,null,null,"Yes",null,null,null,null,null,null,null,22449.96,0,0,0]
[null,"TRAFFIC LICENCE EXPENSES;   ",null,null,null,"Yes",null,null,null,null,null,null,null,9646465.1900000013,10148081.379880002,10696077.774393523,11273665.974210775]
[null,"MACHINES & EQUIPMENT;       ",null,null,null,"Yes",null,null,null,null,null,null,null,59549.98,62646.578960000006,66029.494223840011,69595.08691192737]
[null,"VEHICLES;                   ",null,null,null,"Yes",null,null,null,null,null,null,null,97171.260000000009,102224.16552000001,107744.27045808002,113562.46106281635]
[]
["ROADS","SALARIES;                   ",null,null,null,"Yes",null,null,null,null,null,null,27474666,2909057.66,3196758,3417334.3019999997,3653130.3688379996]
[null,"SALARIES OF SENIOR MANAGER",null,null,null,null,null,null,null,null,null,null,null,977895.96,1043414.9893199999,1115410.6235830798,1192373.9566103122]
[null,"HOUSING SUBSIDY;            ",null,null,null,"Yes",null,null,null,null,null,null,null,13121.24,13500,14431.5,15427.273499999999]
[null,"GROUP INSURANCE;            ",null,null,null,"Yes",null,null,null,null,null,null,null,16632.16,22818.2,24392.6558,26075.7490502]
[null,"CHARGE: INDUSTRIAL COUNCIL; ",null,null,null,"Yes",null,null,null,null,null,null,null,1888.0900000000001,1728,1847.232,1974.6910079999998]
[null,"MEDICAL AID FUND;           ",null,null,null,"Yes",null,null,null,null,null,null,null,251971.6,339818.4,363265.86960000003,388331.21460240002]
[null,"OVERTIME;                   ",null,null,null,"Yes",null,null,null,null,null,null,null,420996.02999999997,647618.5,692304.17649999994,740073.16467849992]
[null,"PENSION FUND;               ",null,null,null,"Yes",null,null,null,null,null,null,null,589070.05000000005,679644.86,726540.35534000001,776671.63985845994]
[null,"LEAVE REDEMPTION;           ",null,null,null,"Yes",null,null,null,null,null,null,null,86176.7,169606.85,181309.72265000001,193820.09351285]
[null,"BONUS;                      ",null,null,null,"Yes",null,null,null,null,null,null,null,209457.14,353347.6,377728.58439999993,403791.85672359989]
[null,"VEHICLE ALLOWANCE;          ",null,null,null,"Yes",null,null,null,null,null,null,null,273536.65999999997,323669.31,346002.49238999997,369876.66436490993]
[null,"FUEL;                       ",null,null,null,"Yes",null,null,null,null,null,null,null,1595013.11,1677953.7917200001,1768563.2964728803,1864065.7144824159]
[null,"STORES AND MATERIAL;        ",null,null,null,"Yes",null,null,null,null,null,null,null,29450.53,30981.957559999999,32654.983268240001,34418.35236472496]
[null,"ENTERTAINMENT ALLOWENCE",null,null,null,null,null,null,null,null,null,null,null,2000,2000,2000,2000]
[null,"SUBSISTENCE AND TRAVELING;  ",null,null,null,"Yes",null,null,null,null,null,null,null,238719.2,251132.59840000002,264693.75871360005,278987.22168413445]
[null,"LONG SERVICE AWARDS;        ",null,null,null,"Yes",null,null,null,null,null,null,null,6166,6486.6320000000005,6836.9101280000004,7206.1032749120004]
[null,"CELLPHONE;                  ",null,null,null,"Yes",null,null,null,null,null,null,null,76450,80425.400000000009,84768.371600000013,89345.863666400022]
[null,"SKILLS DEV LEVY;            ",null,null,null,"Yes",null,null,null,null,null,null,null,0,0,0,0]
[null,"EPWP EXPENDITURE;           ",null,null,null,"Yes",null,null,null,null,null,null,null,1925868.77,2026013.9460400001,2135418.6991261602,2250731.3088789731]
[null,"DEPRECIATION;               ",null,null,null,"Yes",null,null,null,null,null,null,null,1559688.77,1640792.5860400002,1729395.3856861603,1822782.736513213]
[null,"MACHINES & EQUIPMENT;       ",null,null,null,"Yes",null,null,null,null,null,null,null,2106,2215.5120000000002,2335.1496480000001,2461.2477289920002]
[null,"ROADS,STREETS & KERBING;    ",null,null,null,"Yes",null,null,null,null,null,null,null,16115704,12953720,13653220.880000001,14390494.807520002]
[null,"VEHICLES;                   ",null,null,null,"Yes",null,null,null,null,null,null,null,321201.39000000013,337903.86228000018,356150.6708431202,375382.80706864869]
[]
["TAXI RANKS","SALARIES;                   ",null,null,null,"Yes",null,null,null,null,null,null,227297,353901,134026.13,143273.93296999999,153159.83434492999]
[null,"HOUSING SUBSIDY;            ",null,null,null,"Yes",null,null,null,null,null,null,null,3276.29,3000,3207,3428.2829999999999]
[null,"PROTECTIVE CLOTHING/UNIFORM;",null,null,null,"Yes",null,null,null,null,null,null,null,0,0,0,0]
[null,"GROUP INSURANCE;            ",null,null,null,"Yes",null,null,null,null,null,null,null,2488.15,2680.52,2865.47588,3063.19371572]
[null,"CHARGE: INDUSTRIAL COUNCIL; ",null,null,null,"Yes",null,null,null,null,null,null,null,106.1,108,115.452,123.41818799999999]
[null,"MEDICAL AID FUND;           ",null,null,null,"Yes",null,null,null,null,null,null,null,26024.67,26042.400000000001,27839.3256,29760.239066399998]
[null,"OVERTIME;                   ",null,null,null,"Yes",null,null,null,null,null,null,null,26018.26,40207.839999999997,42982.180959999998,45947.951446239997]
[null,"PENSION FUND;               ",null,null,null,"Yes",null,null,null,null,null,null,null,31027.9,29485.75,31520.266749999999,33695.165155750001]
[null,"LEAVE REDEMPTION;           ",null,null,null,"Yes",null,null,null,null,null,null,null,10947.03,5361.05,5730.96245,6126.3988590499994]
[null,"BONUS;                      ",null,null,null,"Yes",null,null,null,null,null,null,null,9774.84,11168.84,11939.489959999999,12763.314767239999]
[null,"LONG SERVICE AWARDS;        ",null,null,null,"Yes",null,null,null,null,null,null,null,0,0,0,0]
[null,"SKILLS DEV LEVY;            ",null,null,null,"Yes",null,null,null,null,null,null,null,0,0,0,0]
[null,"DEPRECIATION;               ",null,null,null,"Yes",null,null,null,null,null,null,null,0,0,0,0]
[null,"GROUNDS & FENCES;           ",null,null,null,"Yes",null,null,null,null,null,null,null,8931.85,9396.3062000000009,9903.7067348000019,10438.506898479203]
[]
["COMMUNITY PARKS","SALARIES;                   ",null,null,null,"Yes",null,null,null,null,null,null,7707414,7040121.7800000003,7169333.21,7664017.2014899999,8192834.3883928098]
[null,"HOUSING SUBSIDY;            ",null,null,null,"Yes",null,null,null,null,null,null,null,11494.9,12265.058299999999,13111.347322699998,14016.030287966298]
[null,"PROTECTIVE CLOTHING/UNIFORM;",null,null,null,"Yes",null,null,null,null,null,null,null,0,0,0,0]
[null,"STANDBY;                    ",null,null,null,"Yes",null,null,null,null,null,null,null,10384.82,11080.602939999999,11845.164542859999,12662.480896317338]
[null,"GROUP INSURANCE;            ",null,null,null,"Yes",null,null,null,null,null,null,null,21890.04,22158.17,23687.083729999998,25321.492507369996]
[null,"CHARGE: INDUSTRIAL COUNCIL; ",null,null,null,"Yes",null,null,null,null,null,null,null,5413.42,5184,5541.6959999999999,5924.0730239999994]
[null,"MEDICAL AID FUND;           ",null,null,null,"Yes",null,null,null,null,null,null,null,427143.79,755324.8,807442.21120000002,863155.72377279995]
[null,"OVERTIME;                   ",null,null,null,"Yes",null,null,null,null,null,null,null,895533.16999999993,1931703.33,2064990.85977,2207475.22909413]
[null,"PENSION FUND;               ",null,null,null,"Yes",null,null,null,null,null,null,null,1380905.24,1382924.05,1478345.8094500001,1580351.67030205]
[null,"LEAVE REDEMPTION;           ",null,null,null,"Yes",null,null,null,null,null,null,null,187944.52,278733.33,297965.92976999999,318525.57892412995]
[null,"BONUS;                      ",null,null,null,"Yes",null,null,null,null,null,null,null,287560.48,580694.43000000005,620762.34567000007,663594.94752123009]
[null,"VEHICLE ALLOWANCE;          ",null,null,null,"Yes",null,null,null,null,null,null,null,109982.74,132330.51999999999,141461.32587999999,151222.15736571999]
[null,"ADMIN COST DEPT;            ",null,null,null,"Yes"]
[null,"FUEL;                       ",null,null,null,"Yes",null,null,null,null,null,null,null,335816.1942857143,353278.63638857147,372355.68275355437,392462.88962224632]
[null,"PRINTING AND STATIONARY;    ",null,null,null,"Yes",null,null,null,null,null,null,null,319.28999999999996,335.89308,354.03130632,373.14899686128001]
[null,"ELECTRICITY;                ",null,null,null,"Yes",null,null,null,null,null,null,null,0,0,0,0]
[null,"STORES AND MATERIAL;        ",null,null,null,"Yes",null,null,null,null,null,null,null,131787.93,138640.90236000001,146127.51108744001,154018.39668616178]
[null,"SUBSISTENCE AND TRAVELING;  ",null,null,null,"Yes",null,null,null,null,null,null,null,317019.91000000003,333504.94532000006,351514.2123672801,370495.97983511322]
[null,"LONG SERVICE AWARDS;        ",null,null,null,"Yes",null,null,null,null,null,null,null,26444.080000000002,27819.172160000002,29321.407456640005,30904.763459298567]
[null,"CULTURAL ACTIVITIES;        ",null,null,null,"Yes",null,null,null,null,null,null,null,150000,150000,150000,158100]
[null,"SKILLS DEV LEVY;            ",null,null,null,"Yes",null,null,null,null,null,null,null,0,0,0,0]
[null,"SAIMSA GAMES;               ",null,null,null,"Yes",null,null,null,null,null,null,null,0,0,0,0]
[null,"SPORTS ACTIVITIES;          ",null,null,null,"Yes",null,null,null,null,null,null,null,64930,300000,300000,316200]
[null,"MAYORS MARATHON                  ",null,null,null,"Yes",null,null,null,null,null,null,null,0,300000,200000,210800]
[null,"RENOVATION TENNIS COURTS MOD",null,null,null,"Yes",null,null,null,null,null,null,null,0,0,0,0]
[null,"DEPRECIATION;               ",null,null,null,"Yes",null,null,null,null,null,null,null,23921.47,25165.386440000002,26524.317307760004,27956.630442379046]
[null,"RAIN MAKING CEREMONY;       ",null,null,null,"Yes",null,null,null,null,null,null,null,10000,100000,105400,111091.6]
[null,"MAYORS CUP",null,null,null,"Yes",null,null,null,null,null,null,null,120220,300000,600000,632400]
[null,"ENVIRONMENTAL PROGRAMS;     ",null,null,null,"Yes",null,null,null,null,null,null,null,177722.62,177722.62,187319.64147999999,197434.90211992001]
[null,"CORAL MUSIC COMPETITION;    ",null,null,null,"Yes",null,null,null,null,null,null,null,76360,150000,150000,158100]
[null,"PROTECTIVE CLOTHING;        ",null,null,null,"Yes",null,null,null,null,null,null,null,0,0,0,0]
[null,"BUILDING IMPROVEMENTS;      ",null,null,null,"Yes",null,null,null,null,null,null,null,0,0,0,0]
[null,"MACHINES & EQUIPMENT;       ",null,null,null,"Yes",null,null,null,null,null,null,null,194879.40000000002,205013.12880000003,216083.83775520005,227752.36499398085]
[null,"MAINTANANCE OF STADUIMS",null,null,null,"Yes",null,null,null,null,null,null,null,72132.75,75883.653000000006,79981.370262000011,84300.364256148023]
[null,"VEHICLES;                   ",null,null,null,"Yes",null,null,null,null,null,null,null,250000,263000,277202,292170.908]
[]
["ELECTRICITY","SALARIES;                   ",null,null,null,"Yes",null,null,null,null,null,null,22365067,2087589.3771428571,2344289.9900000002,2506045.9993100003,2678963.1732623903]
[null,"HOUSING SUBSIDY;            ",null,null,null,"Yes",null,null,null,null,null,null,null,22957.61,27500,29397.5,31425.927499999998]
[null,"PROTECTIVE CLOTHING/UNIFORM;",null,null,null,"Yes",null,null,null,null,null,null,null,0,0,0,0]
[null,"STANDBY;                    ",null,null,null,"Yes",null,null,null,null,null,null,null,208326.52,320898,343039.962,366709.71937800001]
[null,"GROUP INSURANCE;            ",null,null,null,"Yes",null,null,null,null,null,null,null,26797.519999999997,25282.799999999999,27027.313199999997,28892.197810799997]
[null,"CHARGE: INDUSTRIAL COUNCIL; ",null,null,null,"Yes",null,null,null,null,null,null,null,1041.56,1080,1154.52,1234.1818799999999]
[null,"MEDICAL AID FUND;           ",null,null,null,"Yes",null,null,null,null,null,null,null,193582.86,243203.64,259984.69116000002,277923.63485004002]
[null,"OVERTIME;                   ",null,null,null,"Yes",null,null,null,null,null,null,null,526966.43000000005,487767.03,521422.95507000003,557401.13896983]
[null,"PENSION FUND;               ",null,null,null,"Yes",null,null,null,null,null,null,null,421056.8,477898.85,510873.87064999994,546124.16772484989]
[null,"LEAVE REDEMPTION;           ",null,null,null,"Yes",null,null,null,null,null,null,null,40232.089999999997,93771.6,100241.8404,107158.5273876]
[null,"BONUS;                      ",null,null,null,"Yes",null,null,null,null,null,null,null,132257.10999999999,195357.5,208837.16749999998,223246.93205749997]
[null,"VEHICLE ALLOWANCE;          ",null,null,null,"Yes",null,null,null,null,null,null,null,207184.25,243647.76,260459.45543999999,278431.15786535997]
[null,"PURCHASE ELECTRICITY DVK;   ",null,null,null,"Yes",null,null,null,null,null,null,null,17096558.829999998,17985579.88916,18956801.203174639,19980468.468146071]
[null,"ADMIN COST DEPT;            ",null,null,null,"Yes"]
[null,"FUEL;                       ",null,null,null,"Yes",null,null,null,null,null,null,null,213064.78,224144.14856,236247.93258224,249005.32094168098]
[null,"FREE BASIC ELECTRICITY;     ",null,null,null,"Yes",null,null,null,null,null,null,null,1046140.88,1100540.20576,1159969.3768710401,1222607.7232220764]
[null,"CATERING",null,null,null,null,null,null,null,null,null,null,null,0,20000,21080,22218.32]
[null,"SUBSCRIPTION",null,null,null,null,null,null,null,null,null,null,null,2500,2630,2772.02,2921.7090800000001]
[null,"PRINTING AND STATIONARY;    ",null,null,null,"Yes",null,null,null,null,null,null,null,1920.4899999999998,2020.3554799999999,2129.4546759200002,2244.4452284196805]
[null,"STORES AND MATERIAL;        ",null,null,null,"Yes",null,null,null,null,null,null,null,5531331.1299999999,5818960.3487600004,6133184.2075930405,6464376.1548030647]
[null,"SUBSISTENCE AND TRAVELING;  ",null,null,null,"Yes",null,null,null,null,null,null,null,120000,126240,133056.95999999999,140242.03584]
[null,"LONG SERVICE AWARDS;        ",null,null,null,"Yes",null,null,null,null,null,null,null,10600.6,11151.831200000001,11754.030084800001,12388.7477093792]
[null,"CELLPHONE;                  ",null,null,null,"Yes",null,null,null,null,null,null,null,42595.96,44810.949919999999,47230.741215679998,49781.201241326722]
[null,"VEGETATION MANAGEMENT ON ELECTIC LINES",null,null,null,null,null,null,null,null,null,null,null,0,150000,0,0]
[null,"TOOLS AND TESTING INSTRUMENTS",null,null,null,null,null,null,null,null,null,null,null,0,100000,0,0]
[null,"LOW VOLTAGE CABLE FAULT LOCATOR",null,null,null,null,null,null,null,null,null,null,null,0,260000,0,0]
[null,"VENDING SYSTEM",null,null,null,"Yes",null,null,null,null,null,null,null,5217200,1200000,1264800,1333099.2]
[null,"DEPRECIATION;               ",null,null,null,"Yes",null,null,null,null,null,null,null,551828.9,580524.00280000002,611872.29895120009,644913.40309456491]
[null,"DEBT IMPAIRMENT;            ",null,null,null,"Yes",null,null,null,null,null,null,null,351076.96,369332.96192000003,389276.94186368003,410297.89672431879]
[null,"ELECTRICITY DISTRIBUTION",null,null,null,null,null,null,null,null,null,null,null,116611.49,122675.28748000001,129299.75300392002,136281.93966613172]
[null,"MACHINES & EQUIPMENT;       ",null,null,null,"Yes",null,null,null,null,null,null,null,202066.16999999993,212573.61083999992,224052.58582535991,236151.42545992936]
[null,"VEHICLES;                   ",null,null,null,"Yes",null,null,null,null,null,null,null,66984.86,70468.072719999996,74273.348646879997,78284.109473811521]
[]
["STREET LIGHTING","FUEL;                       ",null,null,null,"Yes",null,null,null,null,null,null,3239175,40645.160000000003,42758.708320000005,45067.678569280004,47501.333212021127]
[null,"ELECTRICITY;                ",null,null,null,"Yes",null,null,null,null,null,null,null,5838226.6600000001,6141814.4463200001,6473472.42642128,6823039.9374480294]
[null,"STORES AND MATERIAL;        ",null,null,null,"Yes",null,null,null,null,null,null,null,0,3500000,0,0]
[null,"DEPRECIATION;               ",null,null,null,"Yes",null,null,null,null,null,null,null,0,0,0,0]
[null,"PLANT HIRE AND ENERGY SAVING",null,null,null,null,null,null,null,null,null,null,null,100000,105200,110880.8,116868.36320000001]
[null,"MACHINES & EQUIPMENT;       ",null,null,null,"Yes",null,null,null,null,null,null,null,6408.32,6741.5526399999999,7105.5964825600004,7489.2986926182411]
[null,"NETWORK                        ",null,null,null,"Yes",null,null,null,null,null,null,null,0,0,0,0]
[null,"MAINTENANCE OF MV NETWORK",null,null,null,"Yes",null,null,null,null,null,null,null,0,0,0,0]
[null,"VEHICLE                        ",null,null,null,"Yes",null,null,null,null,null,null,null,26407.89,27781.100280000002,29281.279695120003,30862.468798656486]
[]
["PUBLIC TOILETS","SALARIES;                   ",null,null,null,"Yes",null,null,null,null,null,null,636076,377079.39,402343.70912999997,430105.42505996994,459782.69938910787]
[null,"HOUSING SUBSIDY;            ",null,null,null,"Yes",null,null,null,null,null,null,null,1262.98,5000,5345,5713.8049999999994]
[null,"PROTECTIVE CLOTHING/UNIFORM;",null,null,null,"Yes",null,null,null,null,null,null,null,0,0,0,0]
[null,"STANDBY;                    ",null,null,null,"Yes",null,null,null,null,null,null,null,0,0,0,0]
[null,"GROUP INSURANCE;            ",null,null,null,"Yes",null,null,null,null,null,null,null,0,0,0,0]
[null,"CHARGE: INDUSTRIAL COUNCIL; ",null,null,null,"Yes",null,null,null,null,null,null,null,338.56,324,346.35599999999999,370.25456399999996]
[null,"MEDICAL AID FUND;           ",null,null,null,"Yes",null,null,null,null,null,null,null,36508.050000000003,43300,46287.7,49481.551299999992]
[null,"OVERTIME;                   ",null,null,null,"Yes",null,null,null,null,null,null,null,120016.41,120623.51,128946.53218999998,137843.84291110997]
[null,"PENSION FUND;               ",null,null,null,"Yes",null,null,null,null,null,null,null,82127.14,88457.24,94560.789560000005,101085.48403964]
[null,"LEAVE REDEMPTION;           ",null,null,null,"Yes",null,null,null,null,null,null,null,11450.09,16083.14,17192.876659999998,18379.185149539997]
[null,"BONUS;                      ",null,null,null,"Yes",null,null,null,null,null,null,null,31781.53,33506.53,35818.48057,38289.955729329995]
[null,"VEHICLE ALLOWANCE;          ",null,null,null,"Yes",null,null,null,null,null,null,null,0,0,0,0]
[null,"ADMIN COST DEPT;            ",null,null,null,"Yes"]
[null,"RENTAL: OFFICES;            ",null,null,null,"Yes",null,null,null,null,null,null,null,0,0,0,0]
[null,"STORES AND MATERIAL;        ",null,null,null,"Yes",null,null,null,null,null,null,null,1344.2299999999996,1414.1299599999995,1490.4929778399996,1570.9795986433596]
[null,"LONG SERVICE AWARDS;        ",null,null,null,"Yes",null,null,null,null,null,null,null,0,0,0,0]
[null,"SKILLS DEV LEVY;            ",null,null,null,"Yes",null,null,null,null,null,null,null,0,0,0,0]
[null,"DEPRECIATION;               ",null,null,null,"Yes",null,null,null,null,null,null,null,38548.46,40552.979919999998,42742.840835679999,45050.954240806721]
[null,"BUILDING & EQUIPMENT",null,null,null,null,null,null,null,null,null,null,null,0,0,0,0]
[null,"VEHICLES                 ",null,null,null,null,null,null,null,null,null,null,null,0,0,0,0]
[]
["SOLID WASTE REMOVAL","SALARIES;                   ",null,null,null,"Yes",null,null,null,null,null,null,4569162,1197045.69,1277525.8899999999,1365675.1764099998,1459906.7635822897]
[null,"HOUSING SUBSIDY;            ",null,null,null,"Yes",null,null,null,null,null,null,null,0,0,0,0]
[null,"PROTECTIVE CLOTHING/UNIFORM;",null,null,null,"Yes",null,null,null,null,null,null,null,0,0,0,0]
[null,"STANDBY;                    ",null,null,null,"Yes",null,null,null,null,null,null,null,18663.349999999999,32097,34311.692999999999,36679.199817000001]
[null,"GROUP INSURANCE;            ",null,null,null,"Yes",null,null,null,null,null,null,null,5363.57,5363.57,5733.6563299999998,6129.2786167699996]
[null,"CHARGE: INDUSTRIAL COUNCIL; ",null,null,null,"Yes",null,null,null,null,null,null,null,970.23,972,1039.068,1110.763692]
[null,"MEDICAL AID FUND;           ",null,null,null,"Yes",null,null,null,null,null,null,null,46986.619999999995,82692.800000000003,88398.603199999998,94498.106820799992]
[null,"OVERTIME;                   ",null,null,null,"Yes",null,null,null,null,null,null,null,321948.13,383257.77,409702.55612999998,437972.03250296996]
[null,"PENSION FUND;               ",null,null,null,"Yes",null,null,null,null,null,null,null,249859.38,264972.56,283255.66664000001,302800.30763816001]
[null,"LEAVE REDEMPTION;           ",null,null,null,"Yes",null,null,null,null,null,null,null,18905.47,51101.04,54627.011760000001,58396.275571439997]
[null,"BONUS;                      ",null,null,null,"Yes",null,null,null,null,null,null,null,68347.600000000006,106460.49,113806.26381,121658.89601288999]
[null,"ADMIN COST DEPT;            ",null,null,null,"Yes"]
[null,"CONTRACTED SERVICES;        ",null,null,null,"Yes",null,null,null,null,null,null,null,1605011.03,1688471.6035600002,1779649.0701522403,1875750.1199404614]
[null,"FUEL;                       ",null,null,null,"Yes",null,null,null,null,null,null,null,575548.5085714286,605477.03101714293,638172.79069206864,672634.12138944038]
[null,"RENTAL: OFFICES;            ",null,null,null,"Yes",null,null,null,null,null,null,null,0,0,0,0]
[null,"STORES AND MATERIAL;        ",null,null,null,"Yes",null,null,null,null,null,null,null,707.17000000000007,743.94284000000016,784.11575336000021,826.45800404144029]
[null,"LONG SERVICE AWARDS;        ",null,null,null,"Yes",null,null,null,null,null,null,null,10560,11109.12,11709.012480000001,12341.299153920001]
[null,"SKILLS DEV LEVY;            ",null,null,null,"Yes",null,null,null,null,null,null,null,0,0,0,0]
[null,"FREE BASIC REFUSE;          ",null,null,null,"Yes",null,null,null,null,null,null,null,0,0,0,0]
[null,"DEPRECIATION;               ",null,null,null,"Yes",null,null,null,null,null,null,null,50736.91,53375.229320000006,56257.491703280008,59295.396255257132]
[null,"DEBT IMPAIRMENT;            ",null,null,null,"Yes",null,null,null,null,null,null,null,618479.15,650640.0658000001,685774.62935320009,722806.45933827292]
[null,"MACHINES & EQUIPMENT;       ",null,null,null,"Yes",null,null,null,null,null,null,null,0,0,0,0]
[null,"VEHICLES;                   ",null,null,null,"Yes",null,null,null,null,null,null,null,280471.03000000003,295055.52356000006,310988.52183224011,327781.90201118111]
[]
[]
[]
[]
[]
[]
[null,null,null,null,null,null,null,null,null,null,null,null,{"$f":"SUM(M858:M865)","v":0},0,0,0,0]
[null,null,null,null,null,null,null,null,null,null,null,null,{"$f":"SUM(M7:M864)","v":247436135},{"$f":"SUM(N7:N864)","v":275463475.98714292},{"$f":"SUM(O7:O864)","v":308588223.22561157},{"$f":"SUM(P7:P864)","v":309505313.59826243},{"$f":"SUM(Q7:Q864)","v":328011127.97375637}]
[]
[]
[]
[null,null,null,null,null,null,null,null,null,null,"check",null,{"$f":"'A4-FinPerf RE'!E35-'SA38'!M867","v":229258},{"$f":"'A4-FinPerf RE'!I35-'SA38'!N867","v":-9.9247429370880127},{"$f":"'A4-FinPerf RE'!J35-'SA38'!O867","v":-1.2256115674972534},{"$f":"'A4-FinPerf RE'!K35-'SA38'!P867","v":2.4017375707626343},{"$f":"'A4-FinPerf RE'!L35-'SA38'!Q867","v":2.0262436270713806}]

{"sheet":"LGDB_EXPORT","index":64,"n_rows":2876,"n_cols":23,"rows_kept":2876,"cut":false,"hidden":false,"merged":[]}
["FORM","YEAR END","MUNCDE","ITEMCODE","SEQ","DESCRIPTION",null,null,null,null,null,null,null,null,null,null,null,null,null,null,null,null,"~"]
["BSD",{"$f":"+MTREF","v":2019},{"$f":"LEFT(muni,(FIND(\" \",muni,1)-1))","v":"LIM332"},"1000",1,"Household service targets (000)",null,null,null,null,null,null,null,null,null,null,null,null,null,null,null,null,"~"]
["BSD",2019,"LIM332","1100",2,"Water:",null,null,null,null,null,null,null,null,null,null,null,null,null,null,null,null,"~"]
["BSD",2019,"LIM332","1101",3,"Piped water inside dwelling",null,null,null,null,null,null,null,null,null,null,null,null,null,null,null,null,"~"]
["BSD",2019,"LIM332","1102",4,"Piped water inside yard (but not in dwelling)",null,null,null,null,null,null,null,null,null,null,null,null,null,null,null,null,"~"]
["BSD",2019,"LIM332","1103",5,"Using public tap (at least min.service level)",null,null,null,null,null,null,null,null,null,null,null,null,null,null,null,null,"~"]
["BSD",2019,"LIM332","1104",6,"Other water supply (at least min.service level)",null,null,null,null,null,null,null,null,null,null,null,null,null,null,null,null,"~"]
["BSD",2019,"LIM332","1105",7,"Minimum Service Level and Above sub-total",null,null,null,null,null,null,null,null,null,null,null,null,null,null,null,null,"~"]
["BSD",2019,"LIM332","1106",8,"Using public tap (< min.service level)",null,null,null,null,null,null,null,null,null,null,null,null,null,null,null,null,"~"]
["BSD",2019,"LIM332","1107",9,"Other water supply (< min.service level)",null,null,null,null,null,null,null,null,null,null,null,null,null,null,null,null,"~"]
["BSD",2019,"LIM332","1108",10,"No water supply",null,null,null,null,null,null,null,null,null,null,null,null,null,null,null,null,"~"]
["BSD",2019,"LIM332","1109",11,"Below Minimum Service Level sub-total",null,null,null,null,null,null,null,null,null,null,null,null,null,null,null,null,"~"]
["BSD",2019,"LIM332","1110",12,"Total number of households",null,null,null,null,null,null,null,null,null,null,null,null,null,null,null,null,"~"]
["BSD",2019,"LIM332","1200",13,"Sanitation/sewerage:",null,null,null,null,null,null,null,null,null,null,null,null,null,null,null,null,"~"]
["BSD",2019,"LIM332","1201",14,"Flush toilet (connected to sewerage)",null,null,null,null,null,null,null,null,null,null,null,null,null,null,null,null,"~"]
["BSD",2019,"LIM332","1202",15,"Flush toilet (with septic tank)",null,null,null,null,null,null,null,null,null,null,null,null,null,null,null,null,"~"]
["BSD",2019,"LIM332","1203",16,"Chemical toilet",null,null,null,null,null,null,null,null,null,null,null,null,null,null,null,null,"~"]
["BSD",2019,"LIM332","1204",17,"Pit toilet (ventilated)",null,null,null,null,null,null,null,null,null,null,null,null,null,null,null,null,"~"]
["BSD",2019,"LIM332","1205",18,"Other toilet provisions (> min.service level)",null,null,null,null,null,null,null,null,null,null,null,null,null,null,null,null,"~"]
["BSD",2019,"LIM332","1206",19,"Minimum Service Level and Above sub-total",null,null,null,null,null,null,null,null,null,null,null,null,null,null,null,null,"~"]
["BSD",2019,"LIM332","1207",20,"Bucket toilet",null,null,null,null,null,null,null,null,null,null,null,null,null,null,null,null,"~"]
["BSD",2019,"LIM332","1208",21,"Other toilet provisions (< min.service level)",null,null,null,null,null,null,null,null,null,null,null,null,null,null,null,null,"~"]
["BSD",2019,"LIM332","1209",22,"No toilet provisions",null,null,null,null,null,null,null,null,null,null,null,null,null,null,null,null,"~"]
["BSD",2019,"LIM332","1210",23,"Below Minimum Service Level sub-total",null,null,null,null,null,null,null,null,null,null,null,null,null,null,null,null,"~"]
["BSD",2019,"LIM332","1211",24,"Total number of households",null,null,null,null,null,null,null,null,null,null,null,null,null,null,null,null,"~"]
["BSD",2019,"LIM332","1300",25,"Energy:",null,null,null,null,null,null,null,null,null,null,null,null,null,null,null,null,"~"]
["BSD",2019,"LIM332","1301",26,"Electricity (at least min.service level)",null,null,null,null,null,null,null,null,null,null,null,null,null,null,null,null,"~"]
["BSD",2019,"LIM332","1302",27,"Electricity - prepaid (min.service level)",null,null,null,null,null,null,null,null,null,null,null,null,null,null,null,null,"~"]
["BSD",2019,"LIM332","1303",28,"Minimum Service Level and Above sub-total",null,null,null,null,null,null,null,null,null,null,null,null,null,null,null,null,"~"]
["BSD",2019,"LIM332","1304",29,"Electricity (< min.service level)",null,null,null,null,null,null,null,null,null,null,null,null,null,null,null,null,"~"]
["BSD",2019,"LIM332","1305",30,"Electricity - prepaid (< min. service level)",null,null,null,null,null,null,null,null,null,null,null,null,null,null,null,null,"~"]
["BSD",2019,"LIM332","1306",31,"Other energy sources",null,null,null,null,null,null,null,null,null,null,null,null,null,null,null,null,"~"]
["BSD",2019,"LIM332","1307",32,"Below Minimum Service Level sub-total",null,null,null,null,null,null,null,null,null,null,null,null,null,null,null,null,"~"]
["BSD",2019,"LIM332","1308",33,"Total number of households",null,null,null,null,null,null,null,null,null,null,null,null,null,null,null,null,"~"]
["BSD",2019,"LIM332","1400",34,"Refuse:",null,null,null,null,null,null,null,null,null,null,null,null,null,null,null,null,"~"]
["BSD",2019,"LIM332","1401",35,"Removed at least once a week",null,null,null,null,null,null,null,null,null,null,null,null,null,null,null,null,"~"]
["BSD",2019,"LIM332","1402",36,"Minimum Service Level and Above sub-total",null,null,null,null,null,null,null,null,null,null,null,null,null,null,null,null,"~"]
["BSD",2019,"LIM332","1403",37,"Removed less frequently than once a week",null,null,null,null,null,null,null,null,null,null,null,null,null,null,null,null,"~"]
["BSD",2019,"LIM332","1404",38,"Using communal refuse dump",null,null,null,null,null,null,null,null,null,null,null,null,null,null,null,null,"~"]
["BSD",2019,"LIM332","1405",39,"Using own refuse dump",null,null,null,null,null,null,null,null,null,null,null,null,null,null,null,null,"~"]
["BSD",2019,"LIM332","1406",40,"Other rubbish disposal",null,null,null,null,null,null,null,null,null,null,null,null,null,null,null,null,"~"]
["BSD",2019,"LIM332","1407",41,"No rubbish disposal",null,null,null,null,null,null,null,null,null,null,null,null,null,null,null,null,"~"]
["BSD",2019,"LIM332","1408",42,"Below Minimum Service Level sub-total",null,null,null,null,null,null,null,null,null,null,null,null,null,null,null,null,"~"]
["BSD",2019,"LIM332","1409",43,"Total number of households",null,null,null,null,null,null,null,null,null,null,null,null,null,null,null,null,"~"]
["BSD",2019,"LIM332",null,null,null,null,null,null,null,null,null,null,null,null,null,null,null,null,null,null,null,"~"]
["BSD",2019,"LIM332","1500",45,"Households receiving Free Basic Service",null,null,null,null,null,null,null,null,null,null,null,null,null,null,null,null,"~"]
["BSD",2019,"LIM332","1501",46,"Water (6 kilolitres per household per month)",null,null,null,null,null,null,null,null,null,null,null,null,null,null,null,null,"~"]
["BSD",2019,"LIM332","1502",47,"Sanitation (free minimum level service)",null,null,null,null,null,null,null,null,null,null,null,null,null,null,null,null,"~"]
["BSD",2019,"LIM332","1503",48,"Electricity/other energy (50kwh per household per month)",null,null,null,null,null,null,null,null,null,null,null,null,null,null,null,null,"~"]
["BSD",2019,"LIM332","1504",49,"Refuse (removed at least once a week)",null,null,null,null,null,null,null,null,null,null,null,null,null,null,null,null,"~"]
["BSD",2019,"LIM332",null,null,null,null,null,null,null,null,null,null,null,null,null,null,null,null,null,null,null,"~"]
["BSD",2019,"LIM332","1600",51,"Cost of Free Basic Services provided - Formal Settlements (R'000)",null,null,null,null,null,null,null,null,null,null,null,null,null,null,null,null,"~"]
["BSD",2019,"LIM332","1601",52,"Water (6 kilolitres per indigent household per month)",null,null,null,null,null,null,null,null,null,null,null,null,null,null,null,null,"~"]
["BSD",2019,"LIM332","1602",53,"Sanitation (free sanitation service to indigent households)",null,null,null,null,null,null,null,null,null,null,null,null,null,null,null,null,"~"]
["BSD",2019,"LIM332","1603",54,"Electricity/other energy (50kwh per indigent household per month)",null,null,null,null,null,null,null,null,null,null,null,null,null,null,null,null,"~"]
["BSD",2019,"LIM332","1604",55,"Refuse (removed once a week for indigent households)",null,null,null,null,null,null,null,null,null,null,null,null,null,null,null,null,"~"]
["BSD",2019,"LIM332",1606,56,"Cost of Free Basic Services provided - Informal Formal Settlements (R'000)",null,null,null,null,null,null,null,null,null,null,null,null,null,null,null,null,"~"]
["BSD",2019,"LIM332",1607,57,"Total cost of FBS provided  ",null,null,null,null,null,null,null,null,null,null,null,null,null,null,null,null,"~"]
["BSD",2019,"LIM332",null,null,null,null,null,null,null,null,null,null,null,null,null,null,null,null,null,null,null,"~"]
["BSD",2019,"LIM332","1700",58,"Highest level of free service provided per household",null,null,null,null,null,null,null,null,null,null,null,null,null,null,null,null,"~"]
["BSD",2019,"LIM332","1701",59,"Property rates (R value threshold)",null,null,null,null,null,null,null,null,null,null,null,null,null,null,null,null,"~"]
["BSD",2019,"LIM332","1702",60,"Water (kilolitres per household per month)",null,null,null,null,null,null,null,null,null,null,null,null,null,null,null,null,"~"]
["BSD",2019,"LIM332","1703",61,"Sanitation (kilolitres per household per month)",null,null,null,null,null,null,null,null,null,null,null,null,null,null,null,null,"~"]
["BSD",2019,"LIM332","1704",62,"Sanitation (Rand per household per month)",null,null,null,null,null,null,null,null,null,null,null,null,null,null,null,null,"~"]
["BSD",2019,"LIM332","1705",63,"Electricity (kwh per household per month)",null,null,null,null,null,null,null,null,null,null,null,null,null,null,null,null,"~"]
["BSD",{"$f":"+MTREF","v":2019},{"$f":"LEFT(muni,(FIND(\" \",muni,1)-1))","v":"LIM332"},"1706",64,"Refuse (average litres per week)",null,null,null,null,null,null,null,null,null,null,null,null,null,null,null,null,"~"]
["BSD",2019,"LIM332","1707",65,"Revenue  cost of subsidised services provided (R'000)",null,null,null,null,null,null,null,null,null,null,null,null,null,null,null,null,"~"]
["BSD",2019,"LIM332","1708",66,"Property rates (tariff adjustment) ( impermissable values per section 17 of MPRA)",null,null,null,null,null,null,null,null,null,null,null,null,null,null,null,null,"~"]
["BSD",2019,"LIM332","1709",67,"Property rates  exemptions, reductions and rebates and impermissable values in excess of section 17 of MPRA)",null,null,null,null,null,null,null,null,null,null,null,null,null,null,null,null,"~"]
["BSD",2019,"LIM332","1710",68,"Water (in excess of 6 kilolitres per indigent household per month)",null,null,null,null,null,null,null,null,null,null,null,null,null,null,null,null,"~"]
["BSD",2019,"LIM332","1711",69,"Sanitation (in excess of free sanitation service to indigent households)",null,null,null,null,null,null,null,null,null,null,null,null,null,null,null,null,"~"]
["BSD",2019,"LIM332","1712",70,"Electricity/other energy (in excess of 50 kwh per indigent household per month)",null,null,null,null,null,null,null,null,null,null,null,null,null,null,null,null,"~"]
["BSD",2019,"LIM332","1713",71,"Refuse (in excess of one removal a week for indigent households)",null,null,null,null,null,null,null,null,null,null,null,null,null,null,null,null,"~"]
["BSD",2019,"LIM332","1714",72,"Municipal Housing - rental rebates",null,null,null,null,null,null,null,null,null,null,null,null,null,null,null,null,"~"]
["BSD",2019,"LIM332","1715",73,"Housing - top structure subsidies",null,null,null,null,null,null,null,null,null,null,null,null,null,null,null,null,"~"]
["BSD",2019,"LIM332","1716",74,"Other",null,null,null,null,null,null,null,null,null,null,null,null,null,null,null,null,"~"]
["BSD",2019,"LIM332","1717",75,"Total revenue cost of subsidised services provided ",null,null,null,null,null,null,null,null,null,null,null,null,null,null,null,null,"~"]
["SA11",2019,"LIM332",1000,"T","Valuation:",null,null,null,null,null,null,null,null,null,null,null,null,null,null,null,null,"~"]
["SA11",2019,"LIM332",1001,"T","Date of valuation:",null,null,null,null,null,null,null,null,null,null,null,null,null,null,null,null,"~"]
["SA11",2019,"LIM332",1002,"T","Financial year valuation used",null,null,null,null,null,null,null,null,null,null,null,null,null,null,null,null,"~"]
["SA11",2019,"LIM332",1003,"T","Municipal by-laws s6 in place? (Y/N)",null,null,null,null,null,null,null,null,null,null,null,null,null,null,null,null,"~"]
["SA11",2019,"LIM332",1004,"T","Municipal/assistant valuer appointed? (Y/N)",null,null,null,null,null,null,null,null,null,null,null,null,null,null,null,null,"~"]
["SA11",2019,"LIM332",1005,"T","Municipal partnership s38 used? (Y/N)",null,null,null,null,null,null,null,null,null,null,null,null,null,null,null,null,"~"]
["SA11",2019,"LIM332",1006,"V","No. of assistant valuers (FTE)",null,null,null,null,null,null,null,null,null,null,null,null,null,null,null,null,"~"]
["SA11",2019,"LIM332",1007,"V","No. of data collectors (FTE)",null,null,null,null,null,null,null,null,null,null,null,null,null,null,null,null,"~"]
["SA11",2019,"LIM332",1008,"V","No. of internal valuers (FTE)",null,null,null,null,null,null,null,null,null,null,null,null,null,null,null,null,"~"]
["SA11",2019,"LIM332",1009,"V","No. of external valuers (FTE)",null,null,null,null,null,null,null,null,null,null,null,null,null,null,null,null,"~"]
["SA11",2019,"LIM332",1010,"V","No. of additional valuers (FTE)",null,null,null,null,null,null,null,null,null,null,null,null,null,null,null,null,"~"]
["SA11",2019,"LIM332",1011,"T","Valuation appeal board established? (Y/N)",null,null,null,null,null,null,null,null,null,null,null,null,null,null,null,null,"~"]
["SA11",2019,"LIM332",1012,"V","Implementation time of new valuation roll (mths)",null,null,null,null,null,null,null,null,null,null,null,null,null,null,null,null,"~"]
["SA11",2019,"LIM332",1020,"V","No. of properties",null,null,null,null,null,null,null,null,null,null,null,null,null,null,null,null,"~"]
["SA11",2019,"LIM332",1021,"V","No. of sectional title values",null,null,null,null,null,null,null,null,null,null,null,null,null,null,null,null,"~"]
["SA11",2019,"LIM332",1022,"V","No. of unreasonably difficult properties s7(2)",null,null,null,null,null,null,null,null,null,null,null,null,null,null,null,null,"~"]
["SA11",2019,"LIM332",1023,"V","No. of supplementary valuations",null,null,null,null,null,null,null,null,null,null,null,null,null,null,null,null,"~"]
["SA11",2019,"LIM332",1024,"V","No. of valuation roll amendments",null,null,null,null,null,null,null,null,null,null,null,null,null,null,null,null,"~"]
["SA11",2019,"LIM332",1025,"V","No. of objections by rate payers",null,null,null,null,null,null,null,null,null,null,null,null,null,null,null,null,"~"]
["SA11",2019,"LIM332",1026,"V","No. of appeals by rate payers",null,null,null,null,null,null,null,null,null,null,null,null,null,null,null,null,"~"]
["SA11",2019,"LIM332",1028,"V","No. of successful objections",null,null,null,null,null,null,null,null,null,null,null,null,null,null,null,null,"~"]
["SA11",2019,"LIM332",1029,"V","No. of successful objections > 10%",null,null,null,null,null,null,null,null,null,null,null,null,null,null,null,null,"~"]
["SA11",2019,"LIM332",1030,"V","Supplementary valuation",null,null,null,null,null,null,null,null,null,null,null,null,null,null,null,null,"~"]
["SA11",2019,"LIM332",1031,"V","Public service infrastructure value ",null,null,null,null,null,null,null,null,null,null,null,null,null,null,null,null,"~"]
["SA11",2019,"LIM332",1032,"V","Municipality owned property value ",null,null,null,null,null,null,null,null,null,null,null,null,null,null,null,null,"~"]
["SA11",2019,"LIM332",1100,"T","Valuation reductions:",null,null,null,null,null,null,null,null,null,null,null,null,null,null,null,null,"~"]
["SA11",2019,"LIM332",1101,"V","Valuation reductions-public infrastructure",null,null,null,null,null,null,null,null,null,null,null,null,null,null,null,null,"~"]
["SA11",2019,"LIM332",1102,"V","Valuation reductions-nature reserves/park",null,null,null,null,null,null,null,null,null,null,null,null,null,null,null,null,"~"]
["SA11",2019,"LIM332",1103,"V","Valuation reductions-mineral rights",null,null,null,null,null,null,null,null,null,null,null,null,null,null,null,null,"~"]
["SA11",2019,"LIM332",1104,"V","Valuation reductions-R15,000 threshold",null,null,null,null,null,null,null,null,null,null,null,null,null,null,null,null,"~"]
["SA11",2019,"LIM332",1105,"V","Valuation reductions-public worship ",null,null,null,null,null,null,null,null,null,null,null,null,null,null,null,null,"~"]
["SA11",2019,"LIM332",1106,"V","Valuation reductions-other",null,null,null,null,null,null,null,null,null,null,null,null,null,null,null,null,"~"]
["SA11",2019,"LIM332",1107,"V","Total valuation reductions:",null,null,null,null,null,null,null,null,null,null,null,null,null,null,null,null,"~"]
["SA11",2019,"LIM332",1108,"V","Total value used for rating",null,null,null,null,null,null,null,null,null,null,null,null,null,null,null,null,"~"]
["SA11",2019,"LIM332",1109,"V","Total land value ",null,null,null,null,null,null,null,null,null,null,null,null,null,null,null,null,"~"]
["SA11",2019,"LIM332",1110,"V","Total value of improvements",null,null,null,null,null,null,null,null,null,null,null,null,null,null,null,null,"~"]
["SA11",2019,"LIM332",1111,"V","Total market value",null,null,null,null,null,null,null,null,null,null,null,null,null,null,null,null,"~"]
["SA11",2019,"LIM332",null,null,null,null,null,null,null,null,null,null,null,null,null,null,null,null,null,null,null,"~"]
["SA11",2019,"LIM332",1200,"T","Rating:",null,null,null,null,null,null,null,null,null,null,null,null,null,null,null,null,"~"]
["SA11",2019,"LIM332",1202,"T","Residential rate used to determine rate for other categories? (Y/N)",null,null,null,null,null,null,null,null,null,null,null,null,null,null,null,null,"~"]
["SA11",2019,"LIM332",1203,"T","Differential rates used? (Y/N)",null,null,null,null,null,null,null,null,null,null,null,null,null,null,null,null,"~"]
["SA11",2019,"LIM332",1204,"T","Limit on annual rate increase (s20)? (Y/N)",null,null,null,null,null,null,null,null,null,null,null,null,null,null,null,null,"~"]
["SA11",2019,"LIM332",1205,"T","Special rating area used? (Y/N)",null,null,null,null,null,null,null,null,null,null,null,null,null,null,null,null,"~"]
["SA11",2019,"LIM332",1206,"V","Phasing-in properties s21 (number)",null,null,null,null,null,null,null,null,null,null,null,null,null,null,null,null,"~"]
["SA11",2019,"LIM332",1207,"T","Rates policy accompanying budget? (Y/N)",null,null,null,null,null,null,null,null,null,null,null,null,null,null,null,null,"~"]
["SA11",2019,"LIM332",1208,"V","Fixed amount minimum value",null,null,null,null,null,null,null,null,null,null,null,null,null,null,null,null,"~"]
["SA11",2019,"LIM332",1209,"P","Non-residential prescribed ratio s19? (%)",null,null,null,null,null,null,null,null,null,null,null,null,null,null,null,null,"~"]
["SA11",2019,"LIM332",null,null,null,null,null,null,null,null,null,null,null,null,null,null,null,null,null,null,null,"~"]
["SA11",2019,"LIM332",1300,"T","Rate revenue:",null,null,null,null,null,null,null,null,null,null,null,null,null,null,null,null,"~"]
["SA11",2019,"LIM332",1301,"V","Rate revenue budget ",null,null,null,null,null,null,null,null,null,null,null,null,null,null,null,null,"~"]
["SA11",2019,"LIM332",1302,"V","Rate revenue expected to collect",null,null,null,null,null,null,null,null,null,null,null,null,null,null,null,null,"~"]
["SA11",2019,"LIM332",1303,"P","Expected cash collection rate (%)",null,null,null,null,null,null,null,null,null,null,null,null,null,null,null,null,"~"]
["SA11",{"$f":"+MTREF","v":2019},{"$f":"LEFT(muni,(FIND(\" \",muni,1)-1))","v":"LIM332"},1304,"V","Special rating areas",null,null,null,null,null,null,null,null,null,null,null,null,null,null,null,null,"~"]
["SA11",2019,"LIM332",1305,"V","Rebates, exemptions - indigent",null,null,null,null,null,null,null,null,null,null,null,null,null,null,null,null,"~"]
["SA11",2019,"LIM332",1306,"V","Rebates, exemptions - pensioners",null,null,null,null,null,null,null,null,null,null,null,null,null,null,null,null,"~"]
["SA11",2019,"LIM332",1307,"V","Rebates, exemptions - bona fide farm",null,null,null,null,null,null,null,null,null,null,null,null,null,null,null,null,"~"]
["SA11",2019,"LIM332",1308,"V","Rebates, exemptions - other",null,null,null,null,null,null,null,null,null,null,null,null,null,null,null,null,"~"]
["SA11",2019,"LIM332",1309,"V","Phase-in reductions/discounts",null,null,null,null,null,null,null,null,null,null,null,null,null,null,null,null,"~"]
["SA11",2019,"LIM332",1310,"V","Total rebates,exemptns,reductns,discs",null,null,null,null,null,null,null,null,null,null,null,null,null,null,null,null,"~"]
["SA12",2019,"LIM332",1000,"T","Valuation:",null,null,null,null,null,null,null,null,null,null,null,null,null,null,null,null,"~"]
["SA12",2019,"LIM332",1020,"V","No. of properties",null,null,null,null,null,null,null,null,null,null,null,null,null,null,null,null,"~"]
["SA12",2019,"LIM332",1021,"V","No. of sectional title property values",null,null,null,null,null,null,null,null,null,null,null,null,null,null,null,null,"~"]
["SA12",2019,"LIM332",1022,"V","No. of unreasonably difficult properties s7(2)",null,null,null,null,null,null,null,null,null,null,null,null,null,null,null,null,"~"]
["SA12",2019,"LIM332",1023,"V","No. of supplementary valuations",null,null,null,null,null,null,null,null,null,null,null,null,null,null,null,null,"~"]
["SA12",2019,"LIM332",1030,"V","Supplementary valuation ",null,null,null,null,null,null,null,null,null,null,null,null,null,null,null,null,"~"]
["SA12",2019,"LIM332",1024,"V","No. of valuation roll amendments",null,null,null,null,null,null,null,null,null,null,null,null,null,null,null,null,"~"]
["SA12",2019,"LIM332",1025,"V","No. of objections by rate-payers",null,null,null,null,null,null,null,null,null,null,null,null,null,null,null,null,"~"]
["SA12",2019,"LIM332",1026,"V","No. of appeals by rate-payers",null,null,null,null,null,null,null,null,null,null,null,null,null,null,null,null,"~"]
["SA12",2019,"LIM332",1027,"V","No. of appeals by rate-payers finalised",null,null,null,null,null,null,null,null,null,null,null,null,null,null,null,null,"~"]
["SA12",2019,"LIM332",1028,"V","No. of successful objections",null,null,null,null,null,null,null,null,null,null,null,null,null,null,null,null,"~"]
["SA12",2019,"LIM332",1029,"V","No. of successful objections > 10%",null,null,null,null,null,null,null,null,null,null,null,null,null,null,null,null,"~"]
["SA12",2019,"LIM332",1040,"V","Estimated no. of properties not valued",null,null,null,null,null,null,null,null,null,null,null,null,null,null,null,null,"~"]
["SA12",2019,"LIM332",1041,"T","Years since last valuation",null,null,null,null,null,null,null,null,null,null,null,null,null,null,null,null,"~"]
["SA12",2019,"LIM332",1042,"T","Frequency of valuation ",null,null,null,null,null,null,null,null,null,null,null,null,null,null,null,null,"~"]
["SA12",2019,"LIM332",1043,"T","Method of valuation used",null,null,null,null,null,null,null,null,null,null,null,null,null,null,null,null,"~"]
["SA12",2019,"LIM332",1044,"T","Base of valuation",null,null,null,null,null,null,null,null,null,null,null,null,null,null,null,null,"~"]
["SA12",2019,"LIM332",1206,"V","Phasing-in properties s21 (number)",null,null,null,null,null,null,null,null,null,null,null,null,null,null,null,null,"~"]
["SA12",2019,"LIM332",1046,"T","Combination of rating types used? (Y/N)",null,null,null,null,null,null,null,null,null,null,null,null,null,null,null,null,"~"]
["SA12",2019,"LIM332",1047,"T","Flat rate used? (Y/N)",null,null,null,null,null,null,null,null,null,null,null,null,null,null,null,null,"~"]
["SA12",2019,"LIM332",1048,"T","Is balance rated by uniform rate/variable rate?",null,null,null,null,null,null,null,null,null,null,null,null,null,null,null,null,"~"]
["SA12",2019,"LIM332",1100,"T","Valuation reductions:",null,null,null,null,null,null,null,null,null,null,null,null,null,null,null,null,"~"]
["SA12",2019,"LIM332",1101,"V","Valuation reductions-public infrastructure",null,null,null,null,null,null,null,null,null,null,null,null,null,null,null,null,"~"]
["SA12",2019,"LIM332",1102,"V","Valuation reductions-nature reserves/park",null,null,null,null,null,null,null,null,null,null,null,null,null,null,null,null,"~"]
["SA12",2019,"LIM332",1103,"V","Valuation reductions-mineral rights",null,null,null,null,null,null,null,null,null,null,null,null,null,null,null,null,"~"]
["SA12",2019,"LIM332",1104,"V","Valuation reductions-R15,000 threshold ",null,null,null,null,null,null,null,null,null,null,null,null,null,null,null,null,"~"]
["SA12",2019,"LIM332",1105,"V","Valuation reductions-public worship",null,null,null,null,null,null,null,null,null,null,null,null,null,null,null,null,"~"]
["SA12",2019,"LIM332",1106,"V","Valuation reductions-other",null,null,null,null,null,null,null,null,null,null,null,null,null,null,null,null,"~"]
["SA12",2019,"LIM332",1107,"V","Total valuation reductions:",null,null,null,null,null,null,null,null,null,null,null,null,null,null,null,null,"~"]
["SA12",2019,"LIM332",1108,"V","Total value used for rating",null,null,null,null,null,null,null,null,null,null,null,null,null,null,null,null,"~"]
["SA12",2019,"LIM332",1109,"V","Total land value ",null,null,null,null,null,null,null,null,null,null,null,null,null,null,null,null,"~"]
["SA12",2019,"LIM332",1110,"V","Total value of improvements",null,null,null,null,null,null,null,null,null,null,null,null,null,null,null,null,"~"]
["SA12",2019,"LIM332",1111,"V","Total market value ",null,null,null,null,null,null,null,null,null,null,null,null,null,null,null,null,"~"]
["SA12",2019,"LIM332",1200,"T","Rating:",null,null,null,null,null,null,null,null,null,null,null,null,null,null,null,null,"~"]
["SA12",2019,"LIM332",1201,"V","Average rate",null,null,null,null,null,null,null,null,null,null,null,null,null,null,null,null,"~"]
["SA12",2019,"LIM332",1301,"V","Rate revenue budget ",null,null,null,null,null,null,null,null,null,null,null,null,null,null,null,null,"~"]
["SA12",2019,"LIM332",1302,"V","Rate revenue expected to collect",null,null,null,null,null,null,null,null,null,null,null,null,null,null,null,null,"~"]
["SA12",2019,"LIM332",1303,"P","Expected cash collection rate (%)",null,null,null,null,null,null,null,null,null,null,null,null,null,null,null,null,"~"]
["SA12",2019,"LIM332",1304,"V","Special rating areas",null,null,null,null,null,null,null,null,null,null,null,null,null,null,null,null,"~"]
["SA12",2019,"LIM332",1305,"V","Rebates, exemptions - indigent",null,null,null,null,null,null,null,null,null,null,null,null,null,null,null,null,"~"]
["SA12",2019,"LIM332",1306,"V","Rebates, exemptions - pensioners",null,null,null,null,null,null,null,null,null,null,null,null,null,null,null,null,"~"]
["SA12",2019,"LIM332",1307,"V","Rebates, exemptions - bona fide farm. ",null,null,null,null,null,null,null,null,null,null,null,null,null,null,null,null,"~"]
["SA12",2019,"LIM332",1308,"V","Rebates, exemptions - other ",null,null,null,null,null,null,null,null,null,null,null,null,null,null,null,null,"~"]
["SA12",2019,"LIM332",1309,"V","Phase-in reductions/discounts ",null,null,null,null,null,null,null,null,null,null,null,null,null,null,null,null,"~"]
["SA12",2019,"LIM332",1310,"V","Total rebates,exemptns,reductns,discs",null,null,null,null,null,null,null,null,null,null,null,null,null,null,null,null,"~"]
["SA12",2019,"LIM332",null,null,null,null,null,null,null,null,null,null,null,null,null,null,null,null,null,null,null,"~"]
["SA12",2019,"LIM332",null,null,null,null,null,null,null,null,null,null,null,null,null,null,null,null,null,null,null,"~"]
["SA12",2019,"LIM332",null,null,null,null,null,null,null,null,null,null,null,null,null,null,null,null,null,null,null,"~"]
["SA12",2019,"LIM332",null,null,null,null,null,null,null,null,null,null,null,null,null,null,null,null,null,null,null,"~"]
["SA12",2019,"LIM332",1000,"T","Valuation:",null,null,null,null,null,null,null,null,null,null,null,null,null,null,null,null,"~"]
["SA12",2019,"LIM332",1020,"V","No. of properties",null,null,null,null,null,null,null,null,null,null,null,null,null,null,null,null,"~"]
["SA12",2019,"LIM332",1021,"V","No. of sectional title property values",null,null,null,null,null,null,null,null,null,null,null,null,null,null,null,null,"~"]
["SA12",2019,"LIM332",1022,"V","No. of unreasonably difficult properties s7(2)",null,null,null,null,null,null,null,null,null,null,null,null,null,null,null,null,"~"]
["SA12",2019,"LIM332",1023,"V","No. of supplementary valuations",null,null,null,null,null,null,null,null,null,null,null,null,null,null,null,null,"~"]
["SA12",2019,"LIM332",1030,"V","Supplementary valuation ",null,null,null,null,null,null,null,null,null,null,null,null,null,null,null,null,"~"]
["SA12",2019,"LIM332",1024,"V","No. of valuation roll amendments",null,null,null,null,null,null,null,null,null,null,null,null,null,null,null,null,"~"]
["SA12",2019,"LIM332",1025,"V","No. of objections by rate-payers",null,null,null,null,null,null,null,null,null,null,null,null,null,null,null,null,"~"]
["SA12",{"$f":"+MTREF","v":2019},{"$f":"LEFT(muni,(FIND(\" \",muni,1)-1))","v":"LIM332"},1026,"V","No. of appeals by rate-payers",null,null,null,null,null,null,null,null,null,null,null,null,null,null,null,null,"~"]
["SA12",2019,"LIM332",1027,"V","No. of appeals by rate-payers finalised",null,null,null,null,null,null,null,null,null,null,null,null,null,null,null,null,"~"]
["SA12",2019,"LIM332",1028,"V","No. of successful objections",null,null,null,null,null,null,null,null,null,null,null,null,null,null,null,null,"~"]
["SA12",2019,"LIM332",1029,"V","No. of successful objections > 10%",null,null,null,null,null,null,null,null,null,null,null,null,null,null,null,null,"~"]
["SA12",2019,"LIM332",1040,"V","Estimated no. of properties not valued",null,null,null,null,null,null,null,null,null,null,null,null,null,null,null,null,"~"]
["SA12",2019,"LIM332",1041,"T","Years since last valuation",null,null,null,null,null,null,null,null,null,null,null,null,null,null,null,null,"~"]
["SA12",2019,"LIM332",1042,"T","Frequency of valuation ",null,null,null,null,null,null,null,null,null,null,null,null,null,null,null,null,"~"]
["SA12",2019,"LIM332",1043,"T","Method of valuation used",null,null,null,null,null,null,null,null,null,null,null,null,null,null,null,null,"~"]
["SA12",2019,"LIM332",1044,"T","Base of valuation",null,null,null,null,null,null,null,null,null,null,null,null,null,null,null,null,"~"]
["SA12",2019,"LIM332",1206,"V","Phasing-in properties s21 (number)",null,null,null,null,null,null,null,null,null,null,null,null,null,null,null,null,"~"]
["SA12",2019,"LIM332",1046,"T","Combination of rating types used? (Y/N)",null,null,null,null,null,null,null,null,null,null,null,null,null,null,null,null,"~"]
["SA12",2019,"LIM332",1047,"T","Flat rate used? (Y/N)",null,null,null,null,null,null,null,null,null,null,null,null,null,null,null,null,"~"]
["SA12",2019,"LIM332",1048,"T","Is balance rated by uniform rate/variable rate?",null,null,null,null,null,null,null,null,null,null,null,null,null,null,null,null,"~"]
["SA12",2019,"LIM332",1100,"T","Valuation reductions:",null,null,null,null,null,null,null,null,null,null,null,null,null,null,null,null,"~"]
["SA12",2019,"LIM332",1101,"V","Valuation reductions-public infrastructure",null,null,null,null,null,null,null,null,null,null,null,null,null,null,null,null,"~"]
["SA12",2019,"LIM332",1102,"V","Valuation reductions-nature reserves/park",null,null,null,null,null,null,null,null,null,null,null,null,null,null,null,null,"~"]
["SA12",2019,"LIM332",1103,"V","Valuation reductions-mineral rights",null,null,null,null,null,null,null,null,null,null,null,null,null,null,null,null,"~"]
["SA12",2019,"LIM332",1104,"V","Valuation reductions-R15,000 threshold ",null,null,null,null,null,null,null,null,null,null,null,null,null,null,null,null,"~"]
["SA12",2019,"LIM332",1105,"V","Valuation reductions-public worship",null,null,null,null,null,null,null,null,null,null,null,null,null,null,null,null,"~"]
["SA12",2019,"LIM332",1106,"V","Valuation reductions-other",null,null,null,null,null,null,null,null,null,null,null,null,null,null,null,null,"~"]
["SA12",2019,"LIM332",1107,"V","Total valuation reductions:",null,null,null,null,null,null,null,null,null,null,null,null,null,null,null,null,"~"]
["SA12",2019,"LIM332",1108,"V","Total value used for rating",null,null,null,null,null,null,null,null,null,null,null,null,null,null,null,null,"~"]
["SA12",2019,"LIM332",1109,"V","Total land value ",null,null,null,null,null,null,null,null,null,null,null,null,null,null,null,null,"~"]
["SA12",2019,"LIM332",1110,"V","Total value of improvements",null,null,null,null,null,null,null,null,null,null,null,null,null,null,null,null,"~"]
["SA12",2019,"LIM332",1111,"V","Total market value ",null,null,null,null,null,null,null,null,null,null,null,null,null,null,null,null,"~"]
["SA12",2019,"LIM332",1200,"T","Rating:",null,null,null,null,null,null,null,null,null,null,null,null,null,null,null,null,"~"]
["SA12",2019,"LIM332",1201,"V","Average rate",null,null,null,null,null,null,null,null,null,null,null,null,null,null,null,null,"~"]
["SA12",2019,"LIM332",1301,"V","Rate revenue budget ",null,null,null,null,null,null,null,null,null,null,null,null,null,null,null,null,"~"]
["SA12",2019,"LIM332",1302,"V","Rate revenue expected to collect",null,null,null,null,null,null,null,null,null,null,null,null,null,null,null,null,"~"]
["SA12",2019,"LIM332",1303,"P","Expected cash collection rate (%)",null,null,null,null,null,null,null,null,null,null,null,null,null,null,null,null,"~"]
["SA12",2019,"LIM332",1304,"V","Special rating areas",null,null,null,null,null,null,null,null,null,null,null,null,null,null,null,null,"~"]
["SA12",2019,"LIM332",1305,"V","Rebates, exemptions - indigent",null,null,null,null,null,null,null,null,null,null,null,null,null,null,null,null,"~"]
["SA12",2019,"LIM332",1306,"V","Rebates, exemptions - pensioners",null,null,null,null,null,null,null,null,null,null,null,null,null,null,null,null,"~"]
["SA12",2019,"LIM332",1307,"V","Rebates, exemptions - bona fide farm. ",null,null,null,null,null,null,null,null,null,null,null,null,null,null,null,null,"~"]
["SA12",2019,"LIM332",1308,"V","Rebates, exemptions - other ",null,null,null,null,null,null,null,null,null,null,null,null,null,null,null,null,"~"]
["SA12",2019,"LIM332",1309,"V","Phase-in reductions/discounts ",null,null,null,null,null,null,null,null,null,null,null,null,null,null,null,null,"~"]
["SA12",2019,"LIM332",1310,"V","Total rebates,exemptns,reductns,discs",null,null,null,null,null,null,null,null,null,null,null,null,null,null,null,null,"~"]
["SA13",2019,"LIM332",1000,1,"Property rates (rate in the Rand)",null,null,null,null,null,null,null,null,null,null,null,null,null,null,null,null,"~"]
["SA13",2019,"LIM332",1001,2,"Residential properties",null,null,null,null,null,null,null,null,null,null,null,null,null,null,null,null,"~"]
["SA13",2019,"LIM332",1002,3,"Residential properties - vacant land",null,null,null,null,null,null,null,null,null,null,null,null,null,null,null,null,"~"]
["SA13",2019,"LIM332",1003,4,"Formal/informal settlements",null,null,null,null,null,null,null,null,null,null,null,null,null,null,null,null,"~"]
["SA13",2019,"LIM332",1004,5,"Small holdings",null,null,null,null,null,null,null,null,null,null,null,null,null,null,null,null,"~"]
["SA13",2019,"LIM332",1005,6,"Farm properties - used",null,null,null,null,null,null,null,null,null,null,null,null,null,null,null,null,"~"]
["SA13",2019,"LIM332",1006,7,"Farm properties - not used",null,null,null,null,null,null,null,null,null,null,null,null,null,null,null,null,"~"]
["SA13",2019,"LIM332",1007,8,"Industrial properties",null,null,null,null,null,null,null,null,null,null,null,null,null,null,null,null,"~"]
["SA13",2019,"LIM332",1008,9,"Business and commercial properties",null,null,null,null,null,null,null,null,null,null,null,null,null,null,null,null,"~"]
["SA13",2019,"LIM332",1009,10,"Communal land - residential",null,null,null,null,null,null,null,null,null,null,null,null,null,null,null,null,"~"]
["SA13",2019,"LIM332",1010,11,"Communal land - small holdings",null,null,null,null,null,null,null,null,null,null,null,null,null,null,null,null,"~"]
["SA13",2019,"LIM332",1011,12,"Communal land - farm property",null,null,null,null,null,null,null,null,null,null,null,null,null,null,null,null,"~"]
["SA13",2019,"LIM332",1012,13,"Communal land - business and commercial",null,null,null,null,null,null,null,null,null,null,null,null,null,null,null,null,"~"]
["SA13",2019,"LIM332",1013,14,"Communal land - other",null,null,null,null,null,null,null,null,null,null,null,null,null,null,null,null,"~"]
["SA13",2019,"LIM332",1014,15,"State-owned properties",null,null,null,null,null,null,null,null,null,null,null,null,null,null,null,null,"~"]
["SA13",2019,"LIM332",1015,16,"Municipal properties",null,null,null,null,null,null,null,null,null,null,null,null,null,null,null,null,"~"]
["SA13",2019,"LIM332",1016,17,"Public service infrastructure",null,null,null,null,null,null,null,null,null,null,null,null,null,null,null,null,"~"]
["SA13",2019,"LIM332",1017,18,"Privately owned towns serviced by the owner",null,null,null,null,null,null,null,null,null,null,null,null,null,null,null,null,"~"]
["SA13",2019,"LIM332",1018,19,"State trust land",null,null,null,null,null,null,null,null,null,null,null,null,null,null,null,null,"~"]
["SA13",2019,"LIM332",1019,20,"Restitution and redistribution properties",null,null,null,null,null,null,null,null,null,null,null,null,null,null,null,null,"~"]
["SA13",2019,"LIM332",1020,21,"Protected areas",null,null,null,null,null,null,null,null,null,null,null,null,null,null,null,null,"~"]
["SA13",2019,"LIM332",1021,22,"National monuments properties",null,null,null,null,null,null,null,null,null,null,null,null,null,null,null,null,"~"]
["SA13",2019,"LIM332",null,null,null,null,null,null,null,null,null,null,null,null,null,null,null,null,null,null,null,"~"]
["SA13",2019,"LIM332",1030,23,"Exemptions, reductions and rebates (Rands)",null,null,null,null,null,null,null,null,null,null,null,null,null,null,null,null,"~"]
["SA13",2019,"LIM332",1031,24,"Residential properties",null,null,null,null,null,null,null,null,null,null,null,null,null,null,null,null,"~"]
["SA13",2019,"LIM332",1032,25,"R15 000 threshhold rebate",null,null,null,null,null,null,null,null,null,null,null,null,null,null,null,null,"~"]
["SA13",2019,"LIM332",1033,26,"General residential rebate",null,null,null,null,null,null,null,null,null,null,null,null,null,null,null,null,"~"]
["SA13",{"$f":"+MTREF","v":2019},{"$f":"LEFT(muni,(FIND(\" \",muni,1)-1))","v":"LIM332"},1034,27,"Indigent rebate or exemption",null,null,null,null,null,null,null,null,null,null,null,null,null,null,null,null,"~"]
["SA13",2019,"LIM332",1035,28,"Pensioners/social grants rebate or exemption ",null,null,null,null,null,null,null,null,null,null,null,null,null,null,null,null,"~"]
["SA13",2019,"LIM332",1036,29,"Temporary relief rebate or exemption",null,null,null,null,null,null,null,null,null,null,null,null,null,null,null,null,"~"]
["SA13",2019,"LIM332",1037,30," Bona fide farmers rebate or exemption",null,null,null,null,null,null,null,null,null,null,null,null,null,null,null,null,"~"]
["SA13",2019,"LIM332",1038,31,"Other rebates or exemptions",null,null,null,null,null,null,null,null,null,null,null,null,null,null,null,null,"~"]
["SA13",2019,"LIM332",null,null,null,null,null,null,null,null,null,null,null,null,null,null,null,null,null,null,null,"~"]
["SA13",2019,"LIM332",1100,32,"Water tariffs",null,null,null,null,null,null,null,null,null,null,null,null,null,null,null,null,"~"]
["SA13",2019,"LIM332",1101,33,"Domestic",null,null,null,null,null,null,null,null,null,null,null,null,null,null,null,null,"~"]
["SA13",2019,"LIM332",1102,34,"Basic charge/fixed fee (Rands/month)",null,null,null,null,null,null,null,null,null,null,null,null,null,null,null,null,"~"]
["SA13",2019,"LIM332",1103,35,"Service point - vacant land (Rands/month)",null,null,null,null,null,null,null,null,null,null,null,null,null,null,null,null,"~"]
["SA13",2019,"LIM332",1104,36,"Water usage - flat rate tariff (c/kl)",null,null,null,null,null,null,null,null,null,null,null,null,null,null,null,null,"~"]
["SA13",2019,"LIM332",1105,37,"Water usage - life line tariff",null,null,null,null,null,null,null,null,null,null,null,null,null,null,null,null,"~"]
["SA13",2019,"LIM332",1106,38,"Water usage - Block 1 (c/kl)",null,null,null,null,null,null,null,null,null,null,null,null,null,null,null,null,"~"]
["SA13",2019,"LIM332",1107,39,"Water usage - Block 2 (c/kl)",null,null,null,null,null,null,null,null,null,null,null,null,null,null,null,null,"~"]
["SA13",2019,"LIM332",1108,40,"Water usage - Block 3 (c/kl)",null,null,null,null,null,null,null,null,null,null,null,null,null,null,null,null,"~"]
["SA13",2019,"LIM332",1109,41,"Water usage - Block 4 (c/kl)",null,null,null,null,null,null,null,null,null,null,null,null,null,null,null,null,"~"]
["SA13",2019,"LIM332",1110,42,"Other",null,null,null,null,null,null,null,null,null,null,null,null,null,null,null,null,"~"]
["SA13",2019,"LIM332",null,null,null,null,null,null,null,null,null,null,null,null,null,null,null,null,null,null,null,"~"]
["SA13",2019,"LIM332",1200,43,"Waste water tariffs",null,null,null,null,null,null,null,null,null,null,null,null,null,null,null,null,"~"]
["SA13",2019,"LIM332",1201,44,"Domestic",null,null,null,null,null,null,null,null,null,null,null,null,null,null,null,null,"~"]
["SA13",2019,"LIM332",1202,45,"Basic charge/fixed fee (Rands/month)",null,null,null,null,null,null,null,null,null,null,null,null,null,null,null,null,"~"]
["SA13",2019,"LIM332",1203,46,"Service point - vacant land (Rands/month)",null,null,null,null,null,null,null,null,null,null,null,null,null,null,null,null,"~"]
["SA13",2019,"LIM332",1204,47,"Waste water - flat rate tariff (c/kl)",null,null,null,null,null,null,null,null,null,null,null,null,null,null,null,null,"~"]
["SA13",2019,"LIM332",1205,48,"Volumetric charge - Block 1 (c/kl)",null,null,null,null,null,null,null,null,null,null,null,null,null,null,null,null,"~"]
["SA13",2019,"LIM332",1206,49,"Volumetric charge - Block 2 (c/kl)",null,null,null,null,null,null,null,null,null,null,null,null,null,null,null,null,"~"]
["SA13",2019,"LIM332",1207,50,"Volumetric charge - Block 3 (c/kl)",null,null,null,null,null,null,null,null,null,null,null,null,null,null,null,null,"~"]
["SA13",2019,"LIM332",1208,51,"Volumetric charge - Block 4 (c/kl)",null,null,null,null,null,null,null,null,null,null,null,null,null,null,null,null,"~"]
["SA13",2019,"LIM332",1209,52,"Other",null,null,null,null,null,null,null,null,null,null,null,null,null,null,null,null,"~"]
["SA13",2019,"LIM332",null,null,null,null,null,null,null,null,null,null,null,null,null,null,null,null,null,null,null,"~"]
["SA13",2019,"LIM332",1300,53,"Electricity tariffs",null,null,null,null,null,null,null,null,null,null,null,null,null,null,null,null,"~"]
["SA13",2019,"LIM332",1301,54,"Domestic",null,null,null,null,null,null,null,null,null,null,null,null,null,null,null,null,"~"]
["SA13",2019,"LIM332",1302,55,"Basic charge/fixed fee (Rands/month)",null,null,null,null,null,null,null,null,null,null,null,null,null,null,null,null,"~"]
["SA13",2019,"LIM332",1303,56,"Service point - vacant land (Rands/month)",null,null,null,null,null,null,null,null,null,null,null,null,null,null,null,null,"~"]
["SA13",2019,"LIM332",1304,57,"FBE",null,null,null,null,null,null,null,null,null,null,null,null,null,null,null,null,"~"]
["SA13",2019,"LIM332",1305,58,"Life-line tariff - meter",null,null,null,null,null,null,null,null,null,null,null,null,null,null,null,null,"~"]
["SA13",2019,"LIM332",1306,59,"Life-line tariff - prepaid",null,null,null,null,null,null,null,null,null,null,null,null,null,null,null,null,"~"]
["SA13",2019,"LIM332",1307,60,"Flat rate tariff - meter (c/kwh)",null,null,null,null,null,null,null,null,null,null,null,null,null,null,null,null,"~"]
["SA13",2019,"LIM332",1308,61,"Flat rate tariff - prepaid(c/kwh)",null,null,null,null,null,null,null,null,null,null,null,null,null,null,null,null,"~"]
["SA13",2019,"LIM332",1309,62,"Meter - IBT Block 1 (c/kwh)",null,null,null,null,null,null,null,null,null,null,null,null,null,null,null,null,"~"]
["SA13",2019,"LIM332",1310,63,"Meter - IBT Block 2 (c/kwh)",null,null,null,null,null,null,null,null,null,null,null,null,null,null,null,null,"~"]
["SA13",2019,"LIM332",1311,64,"Meter - IBT Block 3 (c/kwh)",null,null,null,null,null,null,null,null,null,null,null,null,null,null,null,null,"~"]
["SA13",2019,"LIM332",1312,65,"Meter - IBT Block 4 (c/kwh)",null,null,null,null,null,null,null,null,null,null,null,null,null,null,null,null,"~"]
["SA13",2019,"LIM332",1313,66,"Meter - IBT Block 5 (c/kwh)",null,null,null,null,null,null,null,null,null,null,null,null,null,null,null,null,"~"]
["SA13",2019,"LIM332",1314,67,"Prepaid - IBT Block 1 (c/kwh)",null,null,null,null,null,null,null,null,null,null,null,null,null,null,null,null,"~"]
["SA13",2019,"LIM332",1315,68,"Prepaid - IBT Block 2 (c/kwh)",null,null,null,null,null,null,null,null,null,null,null,null,null,null,null,null,"~"]
["SA13",2019,"LIM332",1316,69,"Prepaid - IBT Block 3 (c/kwh)",null,null,null,null,null,null,null,null,null,null,null,null,null,null,null,null,"~"]
["SA13",2019,"LIM332",1317,70,"Prepaid - IBT Block 4 (c/kwh)",null,null,null,null,null,null,null,null,null,null,null,null,null,null,null,null,"~"]
["SA13",2019,"LIM332",1318,71,"Prepaid - IBT Block 5 (c/kwh)",null,null,null,null,null,null,null,null,null,null,null,null,null,null,null,null,"~"]
["SA13",2019,"LIM332",1319,72,"Other",null,null,null,null,null,null,null,null,null,null,null,null,null,null,null,null,"~"]
["SA13",2019,"LIM332",null,null,null,null,null,null,null,null,null,null,null,null,null,null,null,null,null,null,null,"~"]
["SA13",2019,"LIM332",1400,73,"Waste management tariffs",null,null,null,null,null,null,null,null,null,null,null,null,null,null,null,null,"~"]
["SA13",2019,"LIM332",1401,74,"Domestic",null,null,null,null,null,null,null,null,null,null,null,null,null,null,null,null,"~"]
["SA13",2019,"LIM332",1402,75,"Street cleaning charge",null,null,null,null,null,null,null,null,null,null,null,null,null,null,null,null,"~"]
["SA13",2019,"LIM332",1403,76,"Basic charge/fixed fee",null,null,null,null,null,null,null,null,null,null,null,null,null,null,null,null,"~"]
["SA13",2019,"LIM332",1404,77,"80l bin - once a week",null,null,null,null,null,null,null,null,null,null,null,null,null,null,null,null,"~"]
["SA13",2019,"LIM332",1405,78,"250l bin - once a week",null,null,null,null,null,null,null,null,null,null,null,null,null,null,null,null,"~"]
["SA14",2019,"LIM332",1000,1,"Monthly Account for Household - 'Middle Income Range'",null,null,null,null,null,null,null,null,null,null,null,null,null,null,null,null,"~"]
["SA14",2019,"LIM332",1001,2,"Rates and services charges:",null,null,null,null,null,null,null,null,null,null,null,null,null,null,null,null,"~"]
["SA14",2019,"LIM332",1002,3,"Property rates",null,null,null,null,null,null,null,null,null,null,null,null,null,null,null,null,"~"]
["SA14",2019,"LIM332",1003,4,"Electricity: Basic levy",null,null,null,null,null,null,null,null,null,null,null,null,null,null,null,null,"~"]
["SA14",2019,"LIM332",1004,5,"Electricity: Consumption",null,null,null,null,null,null,null,null,null,null,null,null,null,null,null,null,"~"]
["SA14",2019,"LIM332",1005,6,"Water: Basic levy",null,null,null,null,null,null,null,null,null,null,null,null,null,null,null,null,"~"]
["SA14",2019,"LIM332",1006,7,"Water: Consumption",null,null,null,null,null,null,null,null,null,null,null,null,null,null,null,null,"~"]
["SA14",2019,"LIM332",1007,8,"Sanitation",null,null,null,null,null,null,null,null,null,null,null,null,null,null,null,null,"~"]
["SA14",{"$f":"+MTREF","v":2019},{"$f":"LEFT(muni,(FIND(\" \",muni,1)-1))","v":"LIM332"},1008,9,"Refuse removal",null,null,null,null,null,null,null,null,null,null,null,null,null,null,null,null,"~"]
["SA14",2019,"LIM332",1009,10,"Other",null,null,null,null,null,null,null,null,null,null,null,null,null,null,null,null,"~"]
["SA14",2019,"LIM332",1090,11,"sub-total",null,null,null,null,null,null,null,null,null,null,null,null,null,null,null,null,"~"]
["SA14",2019,"LIM332",1091,12,"VAT on Services",null,null,null,null,null,null,null,null,null,null,null,null,null,null,null,null,"~"]
["SA14",2019,"LIM332",1095,13,"Total large household bill:",null,null,null,null,null,null,null,null,null,null,null,null,null,null,null,null,"~"]
["SA14",2019,"LIM332",1096,14,"% increase/-decrease",null,null,null,null,null,null,null,null,null,null,null,null,null,null,null,null,"~"]
["SA14",2019,"LIM332",null,null,null,null,null,null,null,null,null,null,null,null,null,null,null,null,null,null,null,"~"]
["SA14",2019,"LIM332",1100,15,"Monthly Account for Household - 'Affordable Range' ",null,null,null,null,null,null,null,null,null,null,null,null,null,null,null,null,"~"]
["SA14",2019,"LIM332",1101,16,"Rates and services charges:",null,null,null,null,null,null,null,null,null,null,null,null,null,null,null,null,"~"]
["SA14",2019,"LIM332",1102,17,"Property rates",null,null,null,null,null,null,null,null,null,null,null,null,null,null,null,null,"~"]
["SA14",2019,"LIM332",1103,18,"Electricity: Basic levy",null,null,null,null,null,null,null,null,null,null,null,null,null,null,null,null,"~"]
["SA14",2019,"LIM332",1110,19,"Electricity: Consumption",null,null,null,null,null,null,null,null,null,null,null,null,null,null,null,null,"~"]
["SA14",2019,"LIM332",1107,20,"Water: Basic levy",null,null,null,null,null,null,null,null,null,null,null,null,null,null,null,null,"~"]
["SA14",2019,"LIM332",1104,21,"Water: Consumption",null,null,null,null,null,null,null,null,null,null,null,null,null,null,null,null,"~"]
["SA14",2019,"LIM332",1105,22,"Sanitation",null,null,null,null,null,null,null,null,null,null,null,null,null,null,null,null,"~"]
["SA14",2019,"LIM332",1106,23,"Refuse removal",null,null,null,null,null,null,null,null,null,null,null,null,null,null,null,null,"~"]
["SA14",2019,"LIM332",1108,24,"Other",null,null,null,null,null,null,null,null,null,null,null,null,null,null,null,null,"~"]
["SA14",2019,"LIM332",1190,25,"sub-total",null,null,null,null,null,null,null,null,null,null,null,null,null,null,null,null,"~"]
["SA14",2019,"LIM332",1191,26,"VAT on Services",null,null,null,null,null,null,null,null,null,null,null,null,null,null,null,null,"~"]
["SA14",2019,"LIM332",1195,27,"Total small household bill:",null,null,null,null,null,null,null,null,null,null,null,null,null,null,null,null,"~"]
["SA14",2019,"LIM332",1196,28,"% increase/-decrease",null,null,null,null,null,null,null,null,null,null,null,null,null,null,null,null,"~"]
["SA14",2019,"LIM332",null,null,null,null,null,null,null,null,null,null,null,null,null,null,null,null,null,null,null,"~"]
["SA14",2019,"LIM332",1200,29,"Monthly Account for Household - 'Indigent' HH receiving FBS",null,null,null,null,null,null,null,null,null,null,null,null,null,null,null,null,"~"]
["SA14",2019,"LIM332",1201,30,"Rates and services charges:",null,null,null,null,null,null,null,null,null,null,null,null,null,null,null,null,"~"]
["SA14",2019,"LIM332",1202,31,"Property rates",null,null,null,null,null,null,null,null,null,null,null,null,null,null,null,null,"~"]
["SA14",2019,"LIM332",1203,32,"Electricity: Basic levy",null,null,null,null,null,null,null,null,null,null,null,null,null,null,null,null,"~"]
["SA14",2019,"LIM332",1207,33,"Electricity: Consumption",null,null,null,null,null,null,null,null,null,null,null,null,null,null,null,null,"~"]
["SA14",2019,"LIM332",1208,34,"Water: Basic levy",null,null,null,null,null,null,null,null,null,null,null,null,null,null,null,null,"~"]
["SA14",2019,"LIM332",1204,35,"Water: Consumption",null,null,null,null,null,null,null,null,null,null,null,null,null,null,null,null,"~"]
["SA14",2019,"LIM332",1205,36,"Sanitation",null,null,null,null,null,null,null,null,null,null,null,null,null,null,null,null,"~"]
["SA14",2019,"LIM332",1206,37,"Refuse removal",null,null,null,null,null,null,null,null,null,null,null,null,null,null,null,null,"~"]
["SA14",2019,"LIM332",1209,38,"Other",null,null,null,null,null,null,null,null,null,null,null,null,null,null,null,null,"~"]
["SA14",2019,"LIM332",1290,39,"sub-total",null,null,null,null,null,null,null,null,null,null,null,null,null,null,null,null,"~"]
["SA14",2019,"LIM332",1291,40,"VAT on Services",null,null,null,null,null,null,null,null,null,null,null,null,null,null,null,null,"~"]
["SA14",2019,"LIM332",1295,41,"Total small household bill:",null,null,null,null,null,null,null,null,null,null,null,null,null,null,null,null,"~"]
["SA14",2019,"LIM332",1296,42,"% increase/-decrease",null,null,null,null,null,null,null,null,null,null,null,null,null,null,null,null,"~"]
["SA22",2019,"LIM332",1000,1,"Councillors (Political Office Bearers plus Other)",null,null,null,null,null,null,null,null,null,null,null,null,null,null,null,null,"~"]
["SA22",2019,"LIM332",1001,2,"Basic Salaries and Wages",null,null,null,null,null,null,null,null,null,null,null,null,null,null,null,null,"~"]
["SA22",2019,"LIM332",1002,3,"Pension and UIF Contributions",null,null,null,null,null,null,null,null,null,null,null,null,null,null,null,null,"~"]
["SA22",2019,"LIM332",1003,4,"Medical Aid Contributions",null,null,null,null,null,null,null,null,null,null,null,null,null,null,null,null,"~"]
["SA22",2019,"LIM332",1004,5,"Motor Vehicle Allowance",null,null,null,null,null,null,null,null,null,null,null,null,null,null,null,null,"~"]
["SA22",2019,"LIM332",1005,6,"Cellphone Allowance",null,null,null,null,null,null,null,null,null,null,null,null,null,null,null,null,"~"]
["SA22",2019,"LIM332",1006,7,"Housing Allowances",null,null,null,null,null,null,null,null,null,null,null,null,null,null,null,null,"~"]
["SA22",2019,"LIM332",1007,8,"Other benefits and allowances",null,null,null,null,null,null,null,null,null,null,null,null,null,null,null,null,"~"]
["SA22",2019,"LIM332",1090,9,"Sub Total - Councillors",null,null,null,null,null,null,null,null,null,null,null,null,null,null,null,null,"~"]
["SA22",2019,"LIM332",1091,10,"% increase",null,null,null,null,null,null,null,null,null,null,null,null,null,null,null,null,"~"]
["SA22",2019,"LIM332",null,null,null,null,null,null,null,null,null,null,null,null,null,null,null,null,null,null,null,"~"]
["SA22",2019,"LIM332",1100,11,"Senior Managers of the Municipality",null,null,null,null,null,null,null,null,null,null,null,null,null,null,null,null,"~"]
["SA22",2019,"LIM332",1101,12,"Basic Salaries and Wages",null,null,null,null,null,null,null,null,null,null,null,null,null,null,null,null,"~"]
["SA22",2019,"LIM332",1102,13,"Pension and UIF Contributions",null,null,null,null,null,null,null,null,null,null,null,null,null,null,null,null,"~"]
["SA22",2019,"LIM332",1103,14,"Medical Aid Contributions",null,null,null,null,null,null,null,null,null,null,null,null,null,null,null,null,"~"]
["SA22",2019,"LIM332",1110,15,"Overtime",null,null,null,null,null,null,null,null,null,null,null,null,null,null,null,null,"~"]
["SA22",2019,"LIM332",1107,16,"Performance Bonus",null,null,null,null,null,null,null,null,null,null,null,null,null,null,null,null,"~"]
["SA22",2019,"LIM332",1104,17,"Motor Vehicle Allowance",null,null,null,null,null,null,null,null,null,null,null,null,null,null,null,null,"~"]
["SA22",2019,"LIM332",1105,18,"Cellphone Allowance",null,null,null,null,null,null,null,null,null,null,null,null,null,null,null,null,"~"]
["SA22",2019,"LIM332",1106,19,"Housing Allowances",null,null,null,null,null,null,null,null,null,null,null,null,null,null,null,null,"~"]
["SA22",2019,"LIM332",1108,20,"Other benefits and allowances",null,null,null,null,null,null,null,null,null,null,null,null,null,null,null,null,"~"]
["SA22",2019,"LIM332",1111,21,"Payments in lieu of leave",null,null,null,null,null,null,null,null,null,null,null,null,null,null,null,null,"~"]
["SA22",2019,"LIM332",1112,22,"Long service awards",null,null,null,null,null,null,null,null,null,null,null,null,null,null,null,null,"~"]
["SA22",2019,"LIM332",1113,23,"Post-retirement benefit obligations",null,null,null,null,null,null,null,null,null,null,null,null,null,null,null,null,"~"]
["SA22",2019,"LIM332",1190,24,"Sub Total - Senior Managers of Municipality",null,null,null,null,null,null,null,null,null,null,null,null,null,null,null,null,"~"]
["SA22",2019,"LIM332",1191,25,"% increase",null,null,null,null,null,null,null,null,null,null,null,null,null,null,null,null,"~"]
["SA22",2019,"LIM332",null,null,null,null,null,null,null,null,null,null,null,null,null,null,null,null,null,null,null,"~"]
["SA22",2019,"LIM332",1200,26,"Other Municipal Staff",null,null,null,null,null,null,null,null,null,null,null,null,null,null,null,null,"~"]
["SA22",{"$f":"+MTREF","v":2019},{"$f":"LEFT(muni,(FIND(\" \",muni,1)-1))","v":"LIM332"},1201,27,"Basic Salaries and Wages",null,null,null,null,null,null,null,null,null,null,null,null,null,null,null,null,"~"]
["SA22",2019,"LIM332",1202,28,"Pension and UIF Contributions",null,null,null,null,null,null,null,null,null,null,null,null,null,null,null,null,"~"]
["SA22",2019,"LIM332",1203,29,"Medical Aid Contributions",null,null,null,null,null,null,null,null,null,null,null,null,null,null,null,null,"~"]
["SA22",2019,"LIM332",1207,30,"Overtime",null,null,null,null,null,null,null,null,null,null,null,null,null,null,null,null,"~"]
["SA22",2019,"LIM332",1208,31,"Performance Bonus",null,null,null,null,null,null,null,null,null,null,null,null,null,null,null,null,"~"]
["SA22",2019,"LIM332",1204,32,"Motor Vehicle Allowance",null,null,null,null,null,null,null,null,null,null,null,null,null,null,null,null,"~"]
["SA22",2019,"LIM332",1205,33,"Cellphone Allowance",null,null,null,null,null,null,null,null,null,null,null,null,null,null,null,null,"~"]
["SA22",2019,"LIM332",1206,34,"Housing Allowances",null,null,null,null,null,null,null,null,null,null,null,null,null,null,null,null,"~"]
["SA22",2019,"LIM332",1209,35,"Other benefits and allowances",null,null,null,null,null,null,null,null,null,null,null,null,null,null,null,null,"~"]
["SA22",2019,"LIM332",1211,36,"Payments in lieu of leave",null,null,null,null,null,null,null,null,null,null,null,null,null,null,null,null,"~"]
["SA22",2019,"LIM332",1212,37,"Long service awards",null,null,null,null,null,null,null,null,null,null,null,null,null,null,null,null,"~"]
["SA22",2019,"LIM332",1213,38,"Post-retirement benefit obligations",null,null,null,null,null,null,null,null,null,null,null,null,null,null,null,null,"~"]
["SA22",2019,"LIM332",1290,39,"Sub Total - Other Municipal Staff",null,null,null,null,null,null,null,null,null,null,null,null,null,null,null,null,"~"]
["SA22",2019,"LIM332",1291,40,"% increase",null,null,null,null,null,null,null,null,null,null,null,null,null,null,null,null,"~"]
["SA22",2019,"LIM332",null,null,null,null,null,null,null,null,null,null,null,null,null,null,null,null,null,null,null,"~"]
["SA22",2019,"LIM332",1295,41,"Total Parent Municipality",null,null,null,null,null,null,null,null,null,null,null,null,null,null,null,null,"~"]
["SA22",2019,"LIM332",1297,42,"% increase",null,null,null,null,null,null,null,null,null,null,null,null,null,null,null,null,"~"]
["SA22",2019,"LIM332",null,null,null,null,null,null,null,null,null,null,null,null,null,null,null,null,null,null,null,"~"]
["SA22",2019,"LIM332",2000,43,"Board Members of Entities",null,null,null,null,null,null,null,null,null,null,null,null,null,null,null,null,"~"]
["SA22",2019,"LIM332",2001,44,"Basic Salaries and Wages",null,null,null,null,null,null,null,null,null,null,null,null,null,null,null,null,"~"]
["SA22",2019,"LIM332",2002,45,"Pension and UIF Contributions",null,null,null,null,null,null,null,null,null,null,null,null,null,null,null,null,"~"]
["SA22",2019,"LIM332",2003,46,"Medical Aid Contributions",null,null,null,null,null,null,null,null,null,null,null,null,null,null,null,null,"~"]
["SA22",2019,"LIM332",2010,47,"Overtime",null,null,null,null,null,null,null,null,null,null,null,null,null,null,null,null,"~"]
["SA22",2019,"LIM332",2011,48,"Performance Bonus",null,null,null,null,null,null,null,null,null,null,null,null,null,null,null,null,"~"]
["SA22",2019,"LIM332",2004,49,"Motor Vehicle Allowance",null,null,null,null,null,null,null,null,null,null,null,null,null,null,null,null,"~"]
["SA22",2019,"LIM332",2005,50,"Cellphone Allowance",null,null,null,null,null,null,null,null,null,null,null,null,null,null,null,null,"~"]
["SA22",2019,"LIM332",2006,51,"Housing Allowances",null,null,null,null,null,null,null,null,null,null,null,null,null,null,null,null,"~"]
["SA22",2019,"LIM332",2008,52,"Other benefits and allowances",null,null,null,null,null,null,null,null,null,null,null,null,null,null,null,null,"~"]
["SA22",2019,"LIM332",2007,53,"Board Fees",null,null,null,null,null,null,null,null,null,null,null,null,null,null,null,null,"~"]
["SA22",2019,"LIM332",2012,54,"Payments in lieu of leave",null,null,null,null,null,null,null,null,null,null,null,null,null,null,null,null,"~"]
["SA22",2019,"LIM332",2013,55,"Long service awards",null,null,null,null,null,null,null,null,null,null,null,null,null,null,null,null,"~"]
["SA22",2019,"LIM332",2014,56,"Post-retirement benefit obligations",null,null,null,null,null,null,null,null,null,null,null,null,null,null,null,null,"~"]
["SA22",2019,"LIM332",2090,57,"Sub Total - Board Members of Entities",null,null,null,null,null,null,null,null,null,null,null,null,null,null,null,null,"~"]
["SA22",2019,"LIM332",2091,58,"% increase",null,null,null,null,null,null,null,null,null,null,null,null,null,null,null,null,"~"]
["SA22",2019,"LIM332",null,null,null,null,null,null,null,null,null,null,null,null,null,null,null,null,null,null,null,"~"]
["SA22",2019,"LIM332",2100,59,"Senior Managers of Entities",null,null,null,null,null,null,null,null,null,null,null,null,null,null,null,null,"~"]
["SA22",2019,"LIM332",2101,60,"Basic Salaries and Wages",null,null,null,null,null,null,null,null,null,null,null,null,null,null,null,null,"~"]
["SA22",2019,"LIM332",2102,61,"Pension and UIF Contributions",null,null,null,null,null,null,null,null,null,null,null,null,null,null,null,null,"~"]
["SA22",2019,"LIM332",2103,62,"Medical Aid Contributions",null,null,null,null,null,null,null,null,null,null,null,null,null,null,null,null,"~"]
["SA22",2019,"LIM332",2110,63,"Overtime",null,null,null,null,null,null,null,null,null,null,null,null,null,null,null,null,"~"]
["SA22",2019,"LIM332",2107,64,"Performance Bonus",null,null,null,null,null,null,null,null,null,null,null,null,null,null,null,null,"~"]
["SA22",2019,"LIM332",2104,65,"Motor Vehicle Allowance",null,null,null,null,null,null,null,null,null,null,null,null,null,null,null,null,"~"]
["SA22",2019,"LIM332",2105,66,"Cellphone Allowance",null,null,null,null,null,null,null,null,null,null,null,null,null,null,null,null,"~"]
["SA22",2019,"LIM332",2106,67,"Housing Allowances",null,null,null,null,null,null,null,null,null,null,null,null,null,null,null,null,"~"]
["SA22",2019,"LIM332",2108,68,"Other benefits and allowances",null,null,null,null,null,null,null,null,null,null,null,null,null,null,null,null,"~"]
["SA22",2019,"LIM332",2111,69,"Payments in lieu of leave",null,null,null,null,null,null,null,null,null,null,null,null,null,null,null,null,"~"]
["SA22",2019,"LIM332",2112,70,"Long service awards",null,null,null,null,null,null,null,null,null,null,null,null,null,null,null,null,"~"]
["SA22",2019,"LIM332",2113,71,"Post-retirement benefit obligations",null,null,null,null,null,null,null,null,null,null,null,null,null,null,null,null,"~"]
["SA22",2019,"LIM332",2190,72,"Sub Total - Senior Managers of Entities",null,null,null,null,null,null,null,null,null,null,null,null,null,null,null,null,"~"]
["SA22",2019,"LIM332",2191,73,"% increase",null,null,null,null,null,null,null,null,null,null,null,null,null,null,null,null,"~"]
["SA22",2019,"LIM332",null,null,null,null,null,null,null,null,null,null,null,null,null,null,null,null,null,null,null,"~"]
["SA22",2019,"LIM332",2200,74,"Other Staff of Entities",null,null,null,null,null,null,null,null,null,null,null,null,null,null,null,null,"~"]
["SA22",2019,"LIM332",2201,75,"Basic Salaries and Wages",null,null,null,null,null,null,null,null,null,null,null,null,null,null,null,null,"~"]
["SA22",2019,"LIM332",2202,76,"Pension and UIF Contributions",null,null,null,null,null,null,null,null,null,null,null,null,null,null,null,null,"~"]
["SA22",2019,"LIM332",2203,77,"Medical Aid Contributions",null,null,null,null,null,null,null,null,null,null,null,null,null,null,null,null,"~"]
["SA22",2019,"LIM332",2207,78,"Overtime",null,null,null,null,null,null,null,null,null,null,null,null,null,null,null,null,"~"]
["SA22",2019,"LIM332",2208,79,"Performance Bonus",null,null,null,null,null,null,null,null,null,null,null,null,null,null,null,null,"~"]
["SA22",2019,"LIM332",2204,80,"Motor Vehicle Allowance",null,null,null,null,null,null,null,null,null,null,null,null,null,null,null,null,"~"]
["SA22",2019,"LIM332",2205,81,"Cellphone Allowance",null,null,null,null,null,null,null,null,null,null,null,null,null,null,null,null,"~"]
["SA22",2019,"LIM332",2206,82,"Housing Allowances",null,null,null,null,null,null,null,null,null,null,null,null,null,null,null,null,"~"]
["SA22",2019,"LIM332",2209,83,"Other benefits and allowances",null,null,null,null,null,null,null,null,null,null,null,null,null,null,null,null,"~"]
["SA22",2019,"LIM332",2211,84,"Payments in lieu of leave",null,null,null,null,null,null,null,null,null,null,null,null,null,null,null,null,"~"]
["SA22",2019,"LIM332",2212,85,"Long service awards",null,null,null,null,null,null,null,null,null,null,null,null,null,null,null,null,"~"]
["SA22",2019,"LIM332",2213,86,"Post-retirement benefit obligations",null,null,null,null,null,null,null,null,null,null,null,null,null,null,null,null,"~"]
["SA22",{"$f":"+MTREF","v":2019},{"$f":"LEFT(muni,(FIND(\" \",muni,1)-1))","v":"LIM332"},2290,87,"Sub Total - Other Staff of Entities",null,null,null,null,null,null,null,null,null,null,null,null,null,null,null,null,"~"]
["SA22",2019,"LIM332",2291,89,"% increase",null,null,null,null,null,null,null,null,null,null,null,null,null,null,null,null,"~"]
["SA22",2019,"LIM332",null,null,null,null,null,null,null,null,null,null,null,null,null,null,null,null,null,null,null,"~"]
["SA22",2019,"LIM332",2295,90,"Total Municipal Entities",null,null,null,null,null,null,null,null,null,null,null,null,null,null,null,null,"~"]
["SA22",2019,"LIM332",null,null,null,null,null,null,null,null,null,null,null,null,null,null,null,null,null,null,null,"~"]
["SA22",2019,"LIM332",2296,91,"TOTAL SALARY, ALLOWANCES & BENEFITS",null,null,null,null,null,null,null,null,null,null,null,null,null,null,null,null,"~"]
["SA22",2019,"LIM332",2297,92,"% increase",null,null,null,null,null,null,null,null,null,null,null,null,null,null,null,null,"~"]
["SA22",2019,"LIM332",2298,93,"TOTAL MANAGERS AND STAFF",null,null,null,null,null,null,null,null,null,null,null,null,null,null,null,null,"~"]
["SA23",2019,"LIM332",1000,1,null,null,null,null,null,null,null,null,null,null,null,null,null,null,null,null,null,"~"]
["SA23",2019,"LIM332",1001,2,null,null,null,null,null,null,null,null,null,null,null,null,null,null,null,null,null,"~"]
["SA23",2019,"LIM332",1002,3,null,null,null,null,null,null,null,null,null,null,null,null,null,null,null,null,null,"~"]
["SA23",2019,"LIM332",1003,4,null,null,null,null,null,null,null,null,null,null,null,null,null,null,null,null,null,"~"]
["SA23",2019,"LIM332",1004,5,null,null,null,null,null,null,null,null,null,null,null,null,null,null,null,null,null,"~"]
["SA23",2019,"LIM332",1005,6,null,null,null,null,null,null,null,null,null,null,null,null,null,null,null,null,null,"~"]
["SA23",2019,"LIM332",1006,7,null,null,null,null,null,null,null,null,null,null,null,null,null,null,null,null,null,"~"]
["SA23",2019,"LIM332",1090,8,null,null,null,null,null,null,null,null,null,null,null,null,null,null,null,null,null,"~"]
["SA23",2019,"LIM332",null,null,null,null,null,null,null,null,null,null,null,null,null,null,null,null,null,null,null,"~"]
["SA23",2019,"LIM332",null,null,null,null,null,null,null,null,null,null,null,null,null,null,null,null,null,null,null,"~"]
["SA23",2019,"LIM332",null,null,null,null,null,null,null,null,null,null,null,null,null,null,null,null,null,null,null,"~"]
["SA23",2019,"LIM332",null,null,null,null,null,null,null,null,null,null,null,null,null,null,null,null,null,null,null,"~"]
["SA23",2019,"LIM332",null,null,null,null,null,null,null,null,null,null,null,null,null,null,null,null,null,null,null,"~"]
["SA23",2019,"LIM332",null,null,null,null,null,null,null,null,null,null,null,null,null,null,null,null,null,null,null,"~"]
["SA23",2019,"LIM332",null,null,null,null,null,null,null,null,null,null,null,null,null,null,null,null,null,null,null,"~"]
["SA23",2019,"LIM332",null,null,null,null,null,null,null,null,null,null,null,null,null,null,null,null,null,null,null,"~"]
["SA23",2019,"LIM332",null,null,null,null,null,null,null,null,null,null,null,null,null,null,null,null,null,null,null,"~"]
["SA23",2019,"LIM332",null,null,null,null,null,null,null,null,null,null,null,null,null,null,null,null,null,null,null,"~"]
["SA23",2019,"LIM332",null,null,null,null,null,null,null,null,null,null,null,null,null,null,null,null,null,null,null,"~"]
["SA23",2019,"LIM332",null,null,null,null,null,null,null,null,null,null,null,null,null,null,null,null,null,null,null,"~"]
["SA23",2019,"LIM332",null,null,null,null,null,null,null,null,null,null,null,null,null,null,null,null,null,null,null,"~"]
["SA23",2019,"LIM332",null,null,null,null,null,null,null,null,null,null,null,null,null,null,null,null,null,null,null,"~"]
["SA23",2019,"LIM332",null,null,null,null,null,null,null,null,null,null,null,null,null,null,null,null,null,null,null,"~"]
["SA23",2019,"LIM332",null,null,null,null,null,null,null,null,null,null,null,null,null,null,null,null,null,null,null,"~"]
["SA23",2019,"LIM332",null,null,null,null,null,null,null,null,null,null,null,null,null,null,null,null,null,null,null,"~"]
["SA23",2019,"LIM332",null,null,null,null,null,null,null,null,null,null,null,null,null,null,null,null,null,null,null,"~"]
["SA23",2019,"LIM332",null,null,null,null,null,null,null,null,null,null,null,null,null,null,null,null,null,null,null,"~"]
["SA23",2019,"LIM332",null,null,null,null,null,null,null,null,null,null,null,null,null,null,null,null,null,null,null,"~"]
["SA23",2019,"LIM332",null,null,null,null,null,null,null,null,null,null,null,null,null,null,null,null,null,null,null,"~"]
["SA23",2019,"LIM332",null,null,null,null,null,null,null,null,null,null,null,null,null,null,null,null,null,null,null,"~"]
["SA23",2019,"LIM332",null,null,null,null,null,null,null,null,null,null,null,null,null,null,null,null,null,null,null,"~"]
["SA23",2019,"LIM332",null,null,null,null,null,null,null,null,null,null,null,null,null,null,null,null,null,null,null,"~"]
["SA23",2019,"LIM332",null,null,null,null,null,null,null,null,null,null,null,null,null,null,null,null,null,null,null,"~"]
["SA23",2019,"LIM332",null,null,null,null,null,null,null,null,null,null,null,null,null,null,null,null,null,null,null,"~"]
["SA23",2019,"LIM332",null,null,null,null,null,null,null,null,null,null,null,null,null,null,null,null,null,null,null,"~"]
["SA23",2019,"LIM332",null,null,null,null,null,null,null,null,null,null,null,null,null,null,null,null,null,null,null,"~"]
["SA23",2019,"LIM332",null,null,null,null,null,null,null,null,null,null,null,null,null,null,null,null,null,null,null,"~"]
["SA23",2019,"LIM332",null,null,null,null,null,null,null,null,null,null,null,null,null,null,null,null,null,null,null,"~"]
["SA23",2019,"LIM332",null,null,null,null,null,null,null,null,null,null,null,null,null,null,null,null,null,null,null,"~"]
["SA23",2019,"LIM332",null,null,null,null,null,null,null,null,null,null,null,null,null,null,null,null,null,null,null,"~"]
["SA23",2019,"LIM332",null,null,null,null,null,null,null,null,null,null,null,null,null,null,null,null,null,null,null,"~"]
["SA23",2019,"LIM332",null,null,null,null,null,null,null,null,null,null,null,null,null,null,null,null,null,null,null,"~"]
["SA23",2019,"LIM332",null,null,null,null,null,null,null,null,null,null,null,null,null,null,null,null,null,null,null,"~"]
["SA23",2019,"LIM332",null,null,null,null,null,null,null,null,null,null,null,null,null,null,null,null,null,null,null,"~"]
["SA23",2019,"LIM332",null,null,null,null,null,null,null,null,null,null,null,null,null,null,null,null,null,null,null,"~"]
["SA23",2019,"LIM332",null,null,null,null,null,null,null,null,null,null,null,null,null,null,null,null,null,null,null,"~"]
["SA23",2019,"LIM332",null,null,null,null,null,null,null,null,null,null,null,null,null,null,null,null,null,null,null,"~"]
["SA23",2019,"LIM332",null,null,null,null,null,null,null,null,null,null,null,null,null,null,null,null,null,null,null,"~"]
["SA23",2019,"LIM332",null,null,null,null,null,null,null,null,null,null,null,null,null,null,null,null,null,null,null,"~"]
["SA23",2019,"LIM332",null,null,null,null,null,null,null,null,null,null,null,null,null,null,null,null,null,null,null,"~"]
["SA23",2019,"LIM332",null,null,null,null,null,null,null,null,null,null,null,null,null,null,null,null,null,null,null,"~"]
["SA23",2019,"LIM332",null,null,null,null,null,null,null,null,null,null,null,null,null,null,null,null,null,null,null,"~"]
["SA23",2019,"LIM332",null,null,null,null,null,null,null,null,null,null,null,null,null,null,null,null,null,null,null,"~"]
["SA23",2019,"LIM332",null,null,null,null,null,null,null,null,null,null,null,null,null,null,null,null,null,null,null,"~"]
["SA23",2019,"LIM332",null,null,null,null,null,null,null,null,null,null,null,null,null,null,null,null,null,null,null,"~"]
["SA23",2019,"LIM332",null,null,null,null,null,null,null,null,null,null,null,null,null,null,null,null,null,null,null,"~"]
["SA23",{"$f":"+MTREF","v":2019},{"$f":"LEFT(muni,(FIND(\" \",muni,1)-1))","v":"LIM332"},null,null,null,null,null,null,null,null,null,null,null,null,null,null,null,null,null,null,null,"~"]
["SA23",2019,"LIM332",null,null,null,null,null,null,null,null,null,null,null,null,null,null,null,null,null,null,null,"~"]
["SA23",2019,"LIM332",null,null,null,null,null,null,null,null,null,null,null,null,null,null,null,null,null,null,null,"~"]
["SA23",2019,"LIM332",null,null,null,null,null,null,null,null,null,null,null,null,null,null,null,null,null,null,null,"~"]
["SA23",2019,"LIM332",null,null,null,null,null,null,null,null,null,null,null,null,null,null,null,null,null,null,null,"~"]
["SA23",2019,"LIM332",null,null,null,null,null,null,null,null,null,null,null,null,null,null,null,null,null,null,null,"~"]
["SA23",2019,"LIM332",null,null,null,null,null,null,null,null,null,null,null,null,null,null,null,null,null,null,null,"~"]
["SA23",2019,"LIM332",null,null,null,null,null,null,null,null,null,null,null,null,null,null,null,null,null,null,null,"~"]
["SA23",2019,"LIM332",null,null,null,null,null,null,null,null,null,null,null,null,null,null,null,null,null,null,null,"~"]
["SA23",2019,"LIM332",null,null,null,null,null,null,null,null,null,null,null,null,null,null,null,null,null,null,null,"~"]
["SA23",2019,"LIM332",null,null,null,null,null,null,null,null,null,null,null,null,null,null,null,null,null,null,null,"~"]
["SA23",2019,"LIM332",null,null,null,null,null,null,null,null,null,null,null,null,null,null,null,null,null,null,null,"~"]
["SA23",2019,"LIM332",null,null,null,null,null,null,null,null,null,null,null,null,null,null,null,null,null,null,null,"~"]
["SA23",2019,"LIM332",null,null,null,null,null,null,null,null,null,null,null,null,null,null,null,null,null,null,null,"~"]
["SA23",2019,"LIM332",null,null,null,null,null,null,null,null,null,null,null,null,null,null,null,null,null,null,null,"~"]
["SA23",2019,"LIM332",null,null,null,null,null,null,null,null,null,null,null,null,null,null,null,null,null,null,null,"~"]
["SA23",2019,"LIM332",null,null,null,null,null,null,null,null,null,null,null,null,null,null,null,null,null,null,null,"~"]
["SA23",2019,"LIM332",null,null,null,null,null,null,null,null,null,null,null,null,null,null,null,null,null,null,null,"~"]
["SA23",2019,"LIM332",null,null,null,null,null,null,null,null,null,null,null,null,null,null,null,null,null,null,null,"~"]
["SA23",2019,"LIM332",null,null,null,null,null,null,null,null,null,null,null,null,null,null,null,null,null,null,null,"~"]
["SA23",2019,"LIM332",null,null,null,null,null,null,null,null,null,null,null,null,null,null,null,null,null,null,null,"~"]
["SA23",2019,"LIM332",null,null,null,null,null,null,null,null,null,null,null,null,null,null,null,null,null,null,null,"~"]
["SA23",2019,"LIM332",null,null,null,null,null,null,null,null,null,null,null,null,null,null,null,null,null,null,null,"~"]
["SA23",2019,"LIM332",null,null,null,null,null,null,null,null,null,null,null,null,null,null,null,null,null,null,null,"~"]
["SA23",2019,"LIM332",null,null,null,null,null,null,null,null,null,null,null,null,null,null,null,null,null,null,null,"~"]
["SA23",2019,"LIM332",null,null,null,null,null,null,null,null,null,null,null,null,null,null,null,null,null,null,null,"~"]
["SA23",2019,"LIM332",null,null,null,null,null,null,null,null,null,null,null,null,null,null,null,null,null,null,null,"~"]
["SA23",2019,"LIM332",null,null,null,null,null,null,null,null,null,null,null,null,null,null,null,null,null,null,null,"~"]
["SA23",2019,"LIM332",null,null,null,null,null,null,null,null,null,null,null,null,null,null,null,null,null,null,null,"~"]
["SA23",2019,"LIM332",null,null,null,null,null,null,null,null,null,null,null,null,null,null,null,null,null,null,null,"~"]
["SA23",2019,"LIM332",null,null,null,null,null,null,null,null,null,null,null,null,null,null,null,null,null,null,null,"~"]
["SA23",2019,"LIM332",null,null,null,null,null,null,null,null,null,null,null,null,null,null,null,null,null,null,null,"~"]
["SA23",2019,"LIM332",null,null,null,null,null,null,null,null,null,null,null,null,null,null,null,null,null,null,null,"~"]
["SA23",2019,"LIM332",null,null,null,null,null,null,null,null,null,null,null,null,null,null,null,null,null,null,null,"~"]
["SA23",2019,"LIM332",null,null,null,null,null,null,null,null,null,null,null,null,null,null,null,null,null,null,null,"~"]
["SA23",2019,"LIM332",null,null,null,null,null,null,null,null,null,null,null,null,null,null,null,null,null,null,null,"~"]
["SA23",2019,"LIM332",null,null,null,null,null,null,null,null,null,null,null,null,null,null,null,null,null,null,null,"~"]
["SA23",2019,"LIM332",null,null,null,null,null,null,null,null,null,null,null,null,null,null,null,null,null,null,null,"~"]
["SA23",2019,"LIM332",null,null,null,null,null,null,null,null,null,null,null,null,null,null,null,null,null,null,null,"~"]
["SA23",2019,"LIM332",null,null,null,null,null,null,null,null,null,null,null,null,null,null,null,null,null,null,null,"~"]
["SA23",2019,"LIM332",null,null,null,null,null,null,null,null,null,null,null,null,null,null,null,null,null,null,null,"~"]
["SA23",2019,"LIM332",null,null,null,null,null,null,null,null,null,null,null,null,null,null,null,null,null,null,null,"~"]
["SA23",2019,"LIM332",null,null,null,null,null,null,null,null,null,null,null,null,null,null,null,null,null,null,null,"~"]
["SA24",2019,"LIM332",1000,1,"Municipal Council and Boards of Municipal Entities",null,null,null,null,null,null,null,null,null,null,null,null,null,null,null,null,"~"]
["SA24",2019,"LIM332",1001,2,"Councillors (Political Office Bearers and Other Councillors)",null,null,null,null,null,null,null,null,null,null,null,null,null,null,null,null,"~"]
["SA24",2019,"LIM332",1002,3,"Board Members of municipal entities",null,null,null,null,null,null,null,null,null,null,null,null,null,null,null,null,"~"]
["SA24",2019,"LIM332",1100,4,"Municipal employees",null,null,null,null,null,null,null,null,null,null,null,null,null,null,null,null,"~"]
["SA24",2019,"LIM332",1101,5,"Municipal Manager and Senior Managers",null,null,null,null,null,null,null,null,null,null,null,null,null,null,null,null,"~"]
["SA24",2019,"LIM332",1102,6,"Other Managers",null,null,null,null,null,null,null,null,null,null,null,null,null,null,null,null,"~"]
["SA24",2019,"LIM332",1103,7,"Professionals",null,null,null,null,null,null,null,null,null,null,null,null,null,null,null,null,"~"]
["SA24",2019,"LIM332",1104,8,"Finance",null,null,null,null,null,null,null,null,null,null,null,null,null,null,null,null,"~"]
["SA24",2019,"LIM332",1105,9,"Spatial/town planning",null,null,null,null,null,null,null,null,null,null,null,null,null,null,null,null,"~"]
["SA24",2019,"LIM332",1106,10,"Information Technology",null,null,null,null,null,null,null,null,null,null,null,null,null,null,null,null,"~"]
["SA24",2019,"LIM332",1107,11,"Roads",null,null,null,null,null,null,null,null,null,null,null,null,null,null,null,null,"~"]
["SA24",2019,"LIM332",1108,12,"Electricity",null,null,null,null,null,null,null,null,null,null,null,null,null,null,null,null,"~"]
["SA24",2019,"LIM332",1109,13,"Water",null,null,null,null,null,null,null,null,null,null,null,null,null,null,null,null,"~"]
["SA24",2019,"LIM332",1110,14,"Sanitation",null,null,null,null,null,null,null,null,null,null,null,null,null,null,null,null,"~"]
["SA24",2019,"LIM332",1111,15,"Refuse",null,null,null,null,null,null,null,null,null,null,null,null,null,null,null,null,"~"]
["SA24",2019,"LIM332",1112,16,"Other",null,null,null,null,null,null,null,null,null,null,null,null,null,null,null,null,"~"]
["SA24",2019,"LIM332",1113,17,"Technicians",null,null,null,null,null,null,null,null,null,null,null,null,null,null,null,null,"~"]
["SA24",2019,"LIM332",1114,18,"Finance",null,null,null,null,null,null,null,null,null,null,null,null,null,null,null,null,"~"]
["SA24",2019,"LIM332",1115,19,"Spatial/town planning",null,null,null,null,null,null,null,null,null,null,null,null,null,null,null,null,"~"]
["SA24",2019,"LIM332",1116,20,"Information Technology",null,null,null,null,null,null,null,null,null,null,null,null,null,null,null,null,"~"]
["SA24",2019,"LIM332",1117,21,"Roads",null,null,null,null,null,null,null,null,null,null,null,null,null,null,null,null,"~"]
["SA24",{"$f":"+MTREF","v":2019},{"$f":"LEFT(muni,(FIND(\" \",muni,1)-1))","v":"LIM332"},1118,22,"Electricity",null,null,null,null,null,null,null,null,null,null,null,null,null,null,null,null,"~"]
["SA24",2019,"LIM332",1119,23,"Water",null,null,null,null,null,null,null,null,null,null,null,null,null,null,null,null,"~"]
["SA24",2019,"LIM332",1120,24,"Sanitation",null,null,null,null,null,null,null,null,null,null,null,null,null,null,null,null,"~"]
["SA24",2019,"LIM332",1121,25,"Refuse",null,null,null,null,null,null,null,null,null,null,null,null,null,null,null,null,"~"]
["SA24",2019,"LIM332",1122,26,"Other",null,null,null,null,null,null,null,null,null,null,null,null,null,null,null,null,"~"]
["SA24",2019,"LIM332",1123,27,"Clerks (Clerical and administrative)",null,null,null,null,null,null,null,null,null,null,null,null,null,null,null,null,"~"]
["SA24",2019,"LIM332",1124,28,"Service and sales workers",null,null,null,null,null,null,null,null,null,null,null,null,null,null,null,null,"~"]
["SA24",2019,"LIM332",1125,29,"Skilled agricultural and fishery workers",null,null,null,null,null,null,null,null,null,null,null,null,null,null,null,null,"~"]
["SA24",2019,"LIM332",1126,30,"Craft and related trades",null,null,null,null,null,null,null,null,null,null,null,null,null,null,null,null,"~"]
["SA24",2019,"LIM332",1127,31,"Plant and Machine Operators",null,null,null,null,null,null,null,null,null,null,null,null,null,null,null,null,"~"]
["SA24",2019,"LIM332",1128,32,"Elementary Occupations",null,null,null,null,null,null,null,null,null,null,null,null,null,null,null,null,"~"]
["SA24",2019,"LIM332",1190,33,"TOTAL PERSONNEL NUMBERS",null,null,null,null,null,null,null,null,null,null,null,null,null,null,null,null,"~"]
["SA24",2019,"LIM332",1191,34,"% increase",null,null,null,null,null,null,null,null,null,null,null,null,null,null,null,null,"~"]
["SA24",2019,"LIM332",null,null,null,null,null,null,null,null,null,null,null,null,null,null,null,null,null,null,null,"~"]
["SA24",2019,"LIM332",1200,35,"Total municipal employees headcount",null,null,null,null,null,null,null,null,null,null,null,null,null,null,null,null,"~"]
["SA24",2019,"LIM332",1201,36,"Finance personnel headcount",null,null,null,null,null,null,null,null,null,null,null,null,null,null,null,null,"~"]
["SA24",2019,"LIM332",1202,37,"Human Resources personnel headcount",null,null,null,null,null,null,null,null,null,null,null,null,null,null,null,null,"~"]
["OTHER",2019,"LIM332","1001",1,"Unspent conditional transfers",null,null,null,null,null,null,null,null,null,null,null,null,null,null,null,null,"~"]
["OTHER",2019,"LIM332","1002",2,"Unspent borrowing",null,null,null,null,null,null,null,null,null,null,null,null,null,null,null,null,"~"]
["OTHER",2019,"LIM332","1003",3,"Statutory requirements",null,null,null,null,null,null,null,null,null,null,null,null,null,null,null,null,"~"]
["OTHER",2019,"LIM332","1005",5,"Other provisions",null,null,null,null,null,null,null,null,null,null,null,null,null,null,null,null,"~"]
["OTHER",2019,"LIM332","1006",6,"Long term investments committed",null,null,null,null,null,null,null,null,null,null,null,null,null,null,null,null,"~"]
["OTHER",2019,"LIM332","1007",7,"Reserves to be backed by cash/investments",null,null,null,null,null,null,null,null,null,null,null,null,null,null,null,null,"~"]
["OTHER",2019,"LIM332","1008",8,"Estimate of other debtors > 90 days",null,null,null,null,null,null,null,null,null,null,null,null,null,null,null,null,"~"]
["OTHER",2019,"LIM332",2001,9,"Contributions recognised - capital",null,null,null,null,null,null,null,null,null,null,null,null,null,null,null,null,"~"]
["OTHER",2019,"LIM332","3001",10,"Depreciation offsets",null,null,null,null,null,null,null,null,null,null,null,null,null,null,null,null,"~"]
["OTHER",2019,"LIM332","4001",11,"Fixed operational expenditure % assumption",null,null,null,null,null,null,null,null,null,null,null,null,null,null,null,null,"~"]
["OTHER",2019,"LIM332",5000,50,"Repairs and Maintenance by Expenditure Item",null,null,null,null,null,null,null,null,null,null,null,null,null,null,null,null,"~"]
["OTHER",2019,"LIM332",5001,51,"Employee related costs",null,null,null,null,null,null,null,null,null,null,null,null,null,null,null,null,"~"]
["OTHER",2019,"LIM332",5002,52,"Other materials",null,null,null,null,null,null,null,null,null,null,null,null,null,null,null,null,"~"]
["OTHER",2019,"LIM332",5003,53,"Contracted Services",null,null,null,null,null,null,null,null,null,null,null,null,null,null,null,null,"~"]
["OTHER",2019,"LIM332",5004,54,"Other Expenditure",null,null,null,null,null,null,null,null,null,null,null,null,null,null,null,null,"~"]
["OTHER",2019,"LIM332",5005,55,"Total Repairs and Maintenance Expenditure",null,null,null,null,null,null,null,null,null,null,null,null,null,null,null,null,"~"]
["OTHER",2019,"LIM332",6001,61,"Volume Electricity Distribution Losses",null,null,null,null,null,null,null,null,null,null,null,null,null,null,null,null,"~"]
["OTHER",2019,"LIM332",6002,62,"Cost Electiricty Distribution Losses",null,null,null,null,null,null,null,null,null,null,null,null,null,null,null,null,"~"]
["OTHER",2019,"LIM332",null,null,null,null,null,null,null,null,null,null,null,null,null,null,null,null,null,null,null,"~"]
["OTHER",2019,"LIM332",6003,63,"Volume Water Distribution Losses",null,null,null,null,null,null,null,null,null,null,null,null,null,null,null,null,"~"]
["OTHER",2019,"LIM332",6004,64,"Cost Water Distribution Losses",null,null,null,null,null,null,null,null,null,null,null,null,null,null,null,null,"~"]
["OTHER",2019,"LIM332",null,null,null,null,null,null,null,null,null,null,null,null,null,null,null,null,null,null,null,"~"]
["OTHER",2019,"LIM332",7001,71,"Consultant Fees",null,null,null,null,null,null,null,null,null,null,null,null,null,null,null,null,"~"]
["OTHER",2019,"LIM332",7002,72,"Audit Fees",null,null,null,null,null,null,null,null,null,null,null,null,null,null,null,null,"~"]
["SA36",2019,"LIM332",1,null,null,null,null,null,null,null,null,null,null,null,null,null,null,null,null,null,null,"~"]
["SA36",2019,"LIM332",2,null,null,null,null,null,null,null,null,null,null,null,null,null,null,null,null,null,null,"~"]
["SA36",2019,"LIM332",3,null,null,null,null,null,null,null,null,null,null,null,null,null,null,null,null,null,null,"~"]
["SA36",2019,"LIM332",4,null,null,null,null,null,null,null,null,null,null,null,null,null,null,null,null,null,null,"~"]
["SA36",2019,"LIM332",5,null,null,null,null,null,null,null,null,null,null,null,null,null,null,null,null,null,null,"~"]
["SA36",2019,"LIM332",6,null,null,null,null,null,null,null,null,null,null,null,null,null,null,null,null,null,null,"~"]
["SA36",2019,"LIM332",7,null,null,null,null,null,null,null,null,null,null,null,null,null,null,null,null,null,null,"~"]
["SA36",2019,"LIM332",8,null,null,null,null,null,null,null,null,null,null,null,null,null,null,null,null,null,null,"~"]
["SA36",2019,"LIM332",9,null,null,null,null,null,null,null,null,null,null,null,null,null,null,null,null,null,null,"~"]
["SA36",2019,"LIM332",10,null,null,null,null,null,null,null,null,null,null,null,null,null,null,null,null,null,null,"~"]
["SA36",2019,"LIM332",11,null,null,null,null,null,null,null,null,null,null,null,null,null,null,null,null,null,null,"~"]
["SA36",2019,"LIM332",12,null,null,null,null,null,null,null,null,null,null,null,null,null,null,null,null,null,null,"~"]
["SA36",2019,"LIM332",13,null,null,null,null,null,null,null,null,null,null,null,null,null,null,null,null,null,null,"~"]
["SA36",2019,"LIM332",14,null,null,null,null,null,null,null,null,null,null,null,null,null,null,null,null,null,null,"~"]
["SA36",2019,"LIM332",15,null,null,null,null,null,null,null,null,null,null,null,null,null,null,null,null,null,null,"~"]
["SA36",2019,"LIM332",16,null,null,null,null,null,null,null,null,null,null,null,null,null,null,null,null,null,null,"~"]
["SA36",2019,"LIM332",17,null,null,null,null,null,null,null,null,null,null,null,0,0,null,null,0,null,null,"~"]
["SA36",2019,"LIM332",18,null,null,null,null,null,null,null,null,null,null,null,null,null,null,null,null,null,null,"~"]
["SA36",2019,"LIM332",19,null,null,null,null,null,null,null,null,null,null,null,null,null,null,null,null,null,null,"~"]
["SA36",2019,"LIM332",20,null,null,null,null,null,null,null,null,null,null,null,null,null,null,null,null,null,null,"~"]
["SA36",2019,"LIM332",21,null,null,null,null,null,null,null,null,null,null,null,null,null,null,null,null,null,null,"~"]
["SA36",2019,"LIM332",22,null,null,null,null,null,null,null,null,null,null,null,null,null,null,null,null,null,null,"~"]
["SA36",2019,"LIM332",23,null,null,null,null,null,null,null,null,null,null,null,null,null,null,null,null,null,null,"~"]
["SA36",{"$f":"+MTREF","v":2019},{"$f":"LEFT(muni,(FIND(\" \",muni,1)-1))","v":"LIM332"},24,null,null,null,null,null,null,null,null,null,null,null,null,null,null,null,null,null,null,"~"]
["SA36",2019,"LIM332",25,null,null,null,null,null,null,null,null,null,null,null,null,null,null,null,null,null,null,"~"]
["SA36",2019,"LIM332",26,null,null,null,null,null,null,null,null,null,null,null,null,null,null,null,null,null,null,"~"]
["SA36",2019,"LIM332",27,null,null,null,null,null,null,null,null,null,null,null,null,null,null,null,null,null,null,"~"]
["SA36",2019,"LIM332",28,null,null,null,null,null,null,null,null,null,null,null,null,null,null,null,null,null,null,"~"]
["SA36",2019,"LIM332",29,null,null,null,null,null,null,null,null,null,null,null,null,null,null,null,null,null,null,"~"]
["SA36",2019,"LIM332",30,null,null,null,null,null,null,null,null,null,0,0,0,0,null,null,null,null,null,"~"]
["SA36",2019,"LIM332",31,null,null,null,null,null,null,null,null,null,0,0,0,0,null,null,null,null,null,"~"]
["SA36",2019,"LIM332",32,null,null,null,null,null,null,null,null,null,null,null,null,null,null,null,null,null,null,"~"]
["SA36",2019,"LIM332",33,null,null,null,null,null,null,null,null,null,null,null,null,null,null,null,null,null,null,"~"]
["SA36",2019,"LIM332",34,null,null,null,null,null,null,null,null,null,null,null,null,null,null,null,null,null,null,"~"]
["SA36",2019,"LIM332",35,null,null,null,null,null,null,null,null,null,null,null,null,null,null,null,null,null,null,"~"]
["SA36",2019,"LIM332",36,null,null,null,null,null,null,null,null,null,null,null,null,null,null,null,null,null,null,"~"]
["SA36",2019,"LIM332",37,null,null,null,null,null,null,null,null,null,null,null,null,null,null,null,null,null,null,"~"]
["SA36",2019,"LIM332",38,null,null,null,null,null,null,null,null,"Check",0,null,null,null,null,null,null,null,null,"~"]
["SA36",2019,"LIM332",39,null,null,null,null,null,null,null,null,null,null,null,null,null,null,null,null,null,null,"~"]
["SA36",2019,"LIM332",40,null,null,null,null,null,null,null,null,null,null,null,null,null,null,null,null,null,null,"~"]
["SA36",2019,"LIM332",41,null,null,null,null,null,null,null,null,null,null,null,null,null,null,null,null,null,null,"~"]
["SA36",2019,"LIM332",42,null,null,null,null,null,null,null,null,null,null,null,null,null,null,null,null,null,null,"~"]
["SA36",2019,"LIM332",43,null,null,null,null,null,null,null,null,null,null,null,null,null,null,null,null,null,null,"~"]
["SA36",2019,"LIM332",44,null,null,null,null,null,null,null,null,null,null,null,null,null,null,null,null,null,null,"~"]
["SA36",2019,"LIM332",45,null,null,null,null,null,null,null,null,null,null,null,null,null,null,null,null,null,null,"~"]
["SA36",2019,"LIM332",46,null,null,null,null,null,null,null,null,null,null,null,null,null,null,null,null,null,null,"~"]
["SA36",2019,"LIM332",47,null,null,null,null,null,null,null,null,null,null,null,null,null,null,null,null,null,null,"~"]
["SA36",2019,"LIM332",48,null,null,null,null,null,null,null,null,null,null,null,null,null,null,null,null,null,null,"~"]
["SA36",2019,"LIM332",49,null,null,null,null,null,null,null,null,null,null,null,null,null,null,null,null,null,null,"~"]
["SA36",2019,"LIM332",50,null,null,null,null,null,null,null,null,null,null,null,null,null,null,null,null,null,null,"~"]
["SA36",2019,"LIM332",51,null,null,null,null,null,null,null,null,null,null,null,null,null,null,null,null,null,null,"~"]
["SA36",2019,"LIM332",52,null,null,null,null,null,null,null,null,null,null,null,null,null,null,null,null,null,null,"~"]
["SA36",2019,"LIM332",53,null,null,null,null,null,null,null,null,null,null,null,null,null,null,null,null,null,null,"~"]
["SA36",2019,"LIM332",54,null,null,null,null,null,null,null,null,null,null,null,null,null,null,null,null,null,null,"~"]
["SA36",2019,"LIM332",55,null,null,null,null,null,null,null,null,null,null,null,null,null,null,null,null,null,null,"~"]
["SA36",2019,"LIM332",56,null,null,null,null,null,null,null,null,null,null,null,null,null,null,null,null,null,null,"~"]
["SA36",2019,"LIM332",57,null,null,null,null,null,null,null,null,null,null,null,null,null,null,null,null,null,null,"~"]
["SA36",2019,"LIM332",58,null,null,null,null,null,null,null,null,null,null,null,null,null,null,null,null,null,null,"~"]
["SA36",2019,"LIM332",59,null,null,null,null,null,null,null,null,null,null,null,null,null,null,null,null,null,null,"~"]
["SA36",2019,"LIM332",60,null,null,null,null,null,null,null,null,null,null,null,null,null,null,null,null,null,null,"~"]
["SA36",2019,"LIM332",61,null,null,null,null,null,null,null,null,null,null,null,null,null,null,null,null,null,null,"~"]
["SA36",2019,"LIM332",62,null,null,null,null,null,null,null,null,null,null,null,null,null,null,null,null,null,null,"~"]
["SA36",2019,"LIM332",63,null,null,null,null,null,null,null,null,null,null,null,null,null,null,null,null,null,null,"~"]
["SA36",2019,"LIM332",64,null,null,null,null,null,null,null,null,null,null,null,null,null,null,null,null,null,null,"~"]
["SA36",2019,"LIM332",65,null,null,null,null,null,null,null,null,null,null,null,null,null,null,null,null,null,null,"~"]
["SA36",2019,"LIM332",66,null,null,null,null,null,null,null,null,null,null,null,null,null,null,null,null,null,null,"~"]
["SA36",2019,"LIM332",67,null,null,null,null,null,null,null,null,null,null,null,null,null,null,null,null,null,null,"~"]
["SA36",2019,"LIM332",68,null,null,null,null,null,null,null,null,null,null,null,null,null,null,null,null,null,null,"~"]
["SA36",2019,"LIM332",69,null,null,null,null,null,null,null,null,null,null,null,null,null,null,null,null,null,null,"~"]
["SA36",2019,"LIM332",70,null,null,null,null,null,null,null,null,null,null,null,null,null,null,null,null,null,null,"~"]
["SA36",2019,"LIM332",71,null,null,null,null,null,null,null,null,null,null,null,null,null,null,null,null,null,null,"~"]
["SA36",2019,"LIM332",72,null,null,null,null,null,null,null,null,null,null,null,null,null,null,null,null,null,null,"~"]
["SA36",2019,"LIM332",73,null,null,null,null,null,null,null,null,null,null,null,null,null,null,null,null,null,null,"~"]
["SA36",2019,"LIM332",74,null,null,null,null,null,null,null,null,null,null,null,null,null,null,null,null,null,null,"~"]
["SA36",2019,"LIM332",75,null,null,null,null,null,null,null,null,null,null,null,null,null,null,null,null,null,null,"~"]
["SA36",2019,"LIM332",76,null,null,null,null,null,null,null,null,null,null,null,null,null,null,null,null,null,null,"~"]
["SA36",2019,"LIM332",77,null,null,null,null,null,null,null,null,null,null,null,null,null,null,null,null,null,null,"~"]
["SA36",2019,"LIM332",78,null,null,null,null,null,null,null,null,null,null,null,null,null,null,null,null,null,null,"~"]
["SA36",2019,"LIM332",79,null,null,null,null,null,null,null,null,null,null,null,null,null,null,null,null,null,null,"~"]
["SA36",2019,"LIM332",80,null,null,null,null,null,null,null,null,null,null,null,null,null,null,null,null,null,null,"~"]
["SA36",2019,"LIM332",81,null,null,null,null,null,null,null,null,null,null,null,null,null,null,null,null,null,null,"~"]
["SA36",2019,"LIM332",82,null,null,null,null,null,null,null,null,null,null,null,null,null,null,null,null,null,null,"~"]
["SA36",2019,"LIM332",83,null,null,null,null,null,null,null,null,null,null,null,null,null,null,null,null,null,null,"~"]
["SA36",2019,"LIM332",84,null,null,null,null,null,null,null,null,null,null,null,null,null,null,null,null,null,null,"~"]
["SA36",2019,"LIM332",85,null,null,null,null,null,null,null,null,null,null,null,null,null,null,null,null,null,null,"~"]
["SA36",2019,"LIM332",86,null,null,null,null,null,null,null,null,null,null,null,null,null,null,null,null,null,null,"~"]
["SA36",2019,"LIM332",87,null,null,null,null,null,null,null,null,null,null,null,null,null,null,null,null,null,null,"~"]
["SA36",{"$f":"+MTREF","v":2019},{"$f":"LEFT(muni,(FIND(\" \",muni,1)-1))","v":"LIM332"},88,null,null,null,null,null,null,null,null,null,null,null,null,null,null,null,null,null,null,"~"]
["SA36",2019,"LIM332",89,null,null,null,null,null,null,null,null,null,null,null,null,null,null,null,null,null,null,"~"]
["SA36",2019,"LIM332",90,null,null,null,null,null,null,null,null,null,null,null,null,null,null,null,null,null,null,"~"]
["SA36",2019,"LIM332",91,null,null,null,null,null,null,null,null,null,null,null,null,null,null,null,null,null,null,"~"]
["SA36",2019,"LIM332",92,null,null,null,null,null,null,null,null,null,null,null,null,null,null,null,null,null,null,"~"]
["SA36",2019,"LIM332",93,null,null,null,null,null,null,null,null,null,null,null,null,null,null,null,null,null,null,"~"]
["SA36",2019,"LIM332",94,null,null,null,null,null,null,null,null,null,null,null,null,null,null,null,null,null,null,"~"]
["SA36",2019,"LIM332",95,null,null,null,null,null,null,null,null,null,null,null,null,null,null,null,null,null,null,"~"]
["SA36",2019,"LIM332",96,null,null,null,null,null,null,null,null,null,null,null,null,null,null,null,null,null,null,"~"]
["SA36",2019,"LIM332",97,null,null,null,null,null,null,null,null,null,null,null,null,null,null,null,null,null,null,"~"]
["SA36",2019,"LIM332",98,null,null,null,null,null,null,null,null,null,null,null,null,null,null,null,null,null,null,"~"]
["SA36",2019,"LIM332",99,null,null,null,null,null,null,null,null,null,null,null,null,null,null,null,null,null,null,"~"]
["SA36",2019,"LIM332",100,null,null,null,null,null,null,null,null,null,null,null,null,null,null,null,null,null,null,"~"]
["SA36",2019,"LIM332",101,null,null,null,null,null,null,null,null,null,null,null,null,null,null,null,null,null,null,"~"]
["SA36",2019,"LIM332",102,null,null,null,null,null,null,null,null,null,null,null,null,null,null,null,null,null,null,"~"]
["SA36",2019,"LIM332",103,null,null,null,null,null,null,null,null,null,null,null,null,null,null,null,null,null,null,"~"]
["SA36",2019,"LIM332",104,null,null,null,null,null,null,null,null,null,null,null,null,null,null,null,null,null,null,"~"]
["SA36",2019,"LIM332",105,null,null,null,null,null,null,null,null,null,null,null,null,null,null,null,null,null,null,"~"]
["SA36",2019,"LIM332",106,null,null,null,null,null,null,null,null,null,null,null,null,null,null,null,null,null,null,"~"]
["SA36",2019,"LIM332",107,null,null,null,null,null,null,null,null,null,null,null,null,null,null,null,null,null,null,"~"]
["SA36",2019,"LIM332",108,null,null,null,null,null,null,null,null,null,null,null,null,null,null,null,null,null,null,"~"]
["SA36",2019,"LIM332",109,null,null,null,null,null,null,null,null,null,null,null,null,null,null,null,null,null,null,"~"]
["SA36",2019,"LIM332",110,null,null,null,null,null,null,null,null,null,null,null,null,null,null,null,null,null,null,"~"]
["SA36",2019,"LIM332",111,null,null,null,null,null,null,null,null,null,null,null,null,null,null,null,null,null,null,"~"]
["SA36",2019,"LIM332",112,null,null,null,null,null,null,null,null,null,null,null,null,null,null,null,null,null,null,"~"]
["SA36",2019,"LIM332",113,null,null,null,null,null,null,null,null,null,null,null,null,null,null,null,null,null,null,"~"]
["SA36",2019,"LIM332",114,null,null,null,null,null,null,null,null,null,null,null,null,null,null,null,null,null,null,"~"]
["SA36",2019,"LIM332",115,null,null,null,null,null,null,null,null,null,null,null,null,null,null,null,null,null,null,"~"]
["SA36",2019,"LIM332",116,null,null,null,null,null,null,null,null,null,null,null,null,null,null,null,null,null,null,"~"]
["SA36",2019,"LIM332",117,null,null,null,null,null,null,null,null,null,null,null,null,null,null,null,null,null,null,"~"]
["SA36",2019,"LIM332",118,null,null,null,null,null,null,null,null,null,null,null,null,null,null,null,null,null,null,"~"]
["SA36",2019,"LIM332",119,null,null,null,null,null,null,null,null,null,null,null,null,null,null,null,null,null,null,"~"]
["SA36",2019,"LIM332",120,null,null,null,null,null,null,null,null,null,null,null,null,null,null,null,null,null,null,"~"]
["SA36",2019,"LIM332",121,null,null,null,null,null,null,null,null,null,null,null,null,null,null,null,null,null,null,"~"]
["SA36",2019,"LIM332",122,null,null,null,null,null,null,null,null,null,null,null,null,null,null,null,null,null,null,"~"]
["SA36",2019,"LIM332",123,null,null,null,null,null,null,null,null,null,null,null,null,null,null,null,null,null,null,"~"]
["SA36",2019,"LIM332",124,null,null,null,null,null,null,null,null,null,null,null,null,null,null,null,null,null,null,"~"]
["SA36",2019,"LIM332",125,null,null,null,null,null,null,null,null,null,null,null,null,null,null,null,null,null,null,"~"]
["SA36",2019,"LIM332",126,null,null,null,null,null,null,null,null,null,null,null,null,null,null,null,null,null,null,"~"]
["SA36",2019,"LIM332",127,null,null,null,null,null,null,null,null,null,null,null,null,null,null,null,null,null,null,"~"]
["SA36",2019,"LIM332",128,null,null,null,null,null,null,null,null,null,null,null,null,null,null,null,null,null,null,"~"]
["SA36",2019,"LIM332",129,null,null,null,null,null,null,null,null,null,null,null,null,null,null,null,null,null,null,"~"]
["SA36",2019,"LIM332",130,null,null,null,null,null,null,null,null,null,null,null,null,null,null,null,null,null,null,"~"]
["SA36",2019,"LIM332",131,null,null,null,null,null,null,null,null,null,null,null,null,null,null,null,null,null,null,"~"]
["SA36",2019,"LIM332",132,null,null,null,null,null,null,null,null,null,null,null,null,null,null,null,null,null,null,"~"]
["SA36",2019,"LIM332",133,null,null,null,null,null,null,null,null,null,null,null,null,null,null,null,null,null,null,"~"]
["SA36",2019,"LIM332",134,null,null,null,null,null,null,null,null,null,null,null,null,null,null,null,null,null,null,"~"]
["SA36",2019,"LIM332",135,null,null,null,null,null,null,null,null,null,null,null,null,null,null,null,null,null,null,"~"]
["SA36",2019,"LIM332",136,null,null,null,null,null,null,null,null,null,null,null,null,null,null,null,null,null,null,"~"]
["SA36",2019,"LIM332",137,null,null,null,null,null,null,null,null,null,null,null,null,null,null,null,null,null,null,"~"]
["SA36",2019,"LIM332",138,null,null,null,null,null,null,null,null,null,null,null,null,null,null,null,null,null,null,"~"]
["SA36",2019,"LIM332",139,null,null,null,null,null,null,null,null,null,null,null,null,null,null,null,null,null,null,"~"]
["SA36",2019,"LIM332",140,null,null,null,null,null,null,null,null,null,null,null,null,null,null,null,null,null,null,"~"]
["SA36",2019,"LIM332",141,null,null,null,null,null,null,null,null,null,null,null,null,null,null,null,null,null,null,"~"]
["SA36",2019,"LIM332",142,null,null,null,null,null,null,null,null,null,null,null,null,null,null,null,null,null,null,"~"]
["SA36",2019,"LIM332",143,null,null,null,null,null,null,null,null,null,null,null,null,null,null,null,null,null,null,"~"]
["SA36",2019,"LIM332",144,null,null,null,null,null,null,null,null,null,null,null,null,null,null,null,null,null,null,"~"]
["SA36",2019,"LIM332",145,null,null,null,null,null,null,null,null,null,null,null,null,null,null,null,null,null,null,"~"]
["SA36",2019,"LIM332",146,null,null,null,null,null,null,null,null,null,null,null,null,null,null,null,null,null,null,"~"]
["SA36",2019,"LIM332",147,null,null,null,null,null,null,null,null,null,null,null,null,null,null,null,null,null,null,"~"]
["SA36",2019,"LIM332",148,null,null,null,null,null,null,null,null,null,null,null,null,null,null,null,null,null,null,"~"]
["SA36",2019,"LIM332",149,null,null,null,null,null,null,null,null,null,null,null,null,null,null,null,null,null,null,"~"]
["SA36",2019,"LIM332",150,null,null,null,null,null,null,null,null,null,null,null,null,null,null,null,null,null,null,"~"]
["SA36",2019,"LIM332",151,null,null,null,null,null,null,null,null,null,null,null,null,null,null,null,null,null,null,"~"]
["SA36",{"$f":"+MTREF","v":2019},{"$f":"LEFT(muni,(FIND(\" \",muni,1)-1))","v":"LIM332"},152,null,null,null,null,null,null,null,null,null,null,null,null,null,null,null,null,null,null,"~"]
["SA36",2019,"LIM332",153,null,null,null,null,null,null,null,null,null,null,null,null,null,null,null,null,null,null,"~"]
["SA36",2019,"LIM332",154,null,null,null,null,null,null,null,null,null,null,null,null,null,null,null,null,null,null,"~"]
["SA36",2019,"LIM332",155,null,null,null,null,null,null,null,null,null,null,null,null,null,null,null,null,null,null,"~"]
["SA36",2019,"LIM332",156,null,null,null,null,null,null,null,null,null,null,null,null,null,null,null,null,null,null,"~"]
["SA36",2019,"LIM332",157,null,null,null,null,null,null,null,null,null,null,null,null,null,null,null,null,null,null,"~"]
["SA36",2019,"LIM332",158,null,null,null,null,null,null,null,null,null,null,null,null,null,null,null,null,null,null,"~"]
["SA36",2019,"LIM332",159,null,null,null,null,null,null,null,null,null,null,null,null,null,null,null,null,null,null,"~"]
["SA36",2019,"LIM332",160,null,null,null,null,null,null,null,null,null,null,null,null,null,null,null,null,null,null,"~"]
["SA36",2019,"LIM332",161,null,null,null,null,null,null,null,null,null,null,null,null,null,null,null,null,null,null,"~"]
["SA36",2019,"LIM332",162,null,null,null,null,null,null,null,null,null,null,null,null,null,null,null,null,null,null,"~"]
["SA36",2019,"LIM332",163,null,null,null,null,null,null,null,null,null,null,null,null,null,null,null,null,null,null,"~"]
["SA36",2019,"LIM332",164,null,null,null,null,null,null,null,null,null,null,null,null,null,null,null,null,null,null,"~"]
["SA36",2019,"LIM332",165,null,null,null,null,null,null,null,null,null,null,null,null,null,null,null,null,null,null,"~"]
["SA36",2019,"LIM332",166,null,null,null,null,null,null,null,null,null,null,null,null,null,null,null,null,null,null,"~"]
["SA36",2019,"LIM332",167,null,null,null,null,null,null,null,null,null,null,null,null,null,null,null,null,null,null,"~"]
["SA36",2019,"LIM332",168,null,null,null,null,null,null,null,null,null,null,null,null,null,null,null,null,null,null,"~"]
["SA36",2019,"LIM332",169,null,null,null,null,null,null,null,null,null,null,null,null,null,null,null,null,null,null,"~"]
["SA36",2019,"LIM332",170,null,null,null,null,null,null,null,null,null,null,null,null,null,null,null,null,null,null,"~"]
["SA36",2019,"LIM332",171,null,null,null,null,null,null,null,null,null,null,null,null,null,null,null,null,null,null,"~"]
["SA36",2019,"LIM332",172,null,null,null,null,null,null,null,null,null,null,null,null,null,null,null,null,null,null,"~"]
["SA36",2019,"LIM332",173,null,null,null,null,null,null,null,null,null,null,null,null,null,null,null,null,null,null,"~"]
["SA36",2019,"LIM332",174,null,null,null,null,null,null,null,null,null,null,null,null,null,null,null,null,null,null,"~"]
["SA36",2019,"LIM332",175,null,null,null,null,null,null,null,null,null,null,null,null,null,null,null,null,null,null,"~"]
["SA36",2019,"LIM332",176,null,null,null,null,null,null,null,null,null,null,null,null,null,null,null,null,null,null,"~"]
["SA36",2019,"LIM332",177,null,null,null,null,null,null,null,null,null,null,null,null,null,null,null,null,null,null,"~"]
["SA36",2019,"LIM332",178,null,null,null,null,null,null,null,null,null,null,null,null,null,null,null,null,null,null,"~"]
["SA36",2019,"LIM332",179,null,null,null,null,null,null,null,null,null,null,null,null,null,null,null,null,null,null,"~"]
["SA36",2019,"LIM332",180,null,null,null,null,null,null,null,null,null,null,null,null,null,null,null,null,null,null,"~"]
["SA36",2019,"LIM332",181,null,null,null,null,null,null,null,null,null,null,null,null,null,null,null,null,null,null,"~"]
["SA36",2019,"LIM332",182,null,null,null,null,null,null,null,null,null,null,null,null,null,null,null,null,null,null,"~"]
["SA36",2019,"LIM332",183,null,null,null,null,null,null,null,null,null,null,null,null,null,null,null,null,null,null,"~"]
["SA36",2019,"LIM332",184,null,null,null,null,null,null,null,null,null,null,null,null,null,null,null,null,null,null,"~"]
["SA36",2019,"LIM332",185,null,null,null,null,null,null,null,null,null,null,null,null,null,null,null,null,null,null,"~"]
["SA36",2019,"LIM332",186,null,null,null,null,null,null,null,null,null,null,null,null,null,null,null,null,null,null,"~"]
["SA36",2019,"LIM332",187,null,null,null,null,null,null,null,null,null,null,null,null,null,null,null,null,null,null,"~"]
["SA36",2019,"LIM332",188,null,null,null,null,null,null,null,null,null,null,null,null,null,null,null,null,null,null,"~"]
["SA36",2019,"LIM332",189,null,null,null,null,null,null,null,null,null,null,null,null,null,null,null,null,null,null,"~"]
["SA36",2019,"LIM332",190,null,null,null,null,null,null,null,null,null,null,null,null,null,null,null,null,null,null,"~"]
["SA36",2019,"LIM332",191,null,null,null,null,null,null,null,null,null,null,null,null,null,null,null,null,null,null,"~"]
["SA36",2019,"LIM332",192,null,null,null,null,null,null,null,null,null,null,null,null,null,null,null,null,null,null,"~"]
["SA36",2019,"LIM332",193,null,null,null,null,null,null,null,null,null,null,null,null,null,null,null,null,null,null,"~"]
["SA36",2019,"LIM332",194,null,null,null,null,null,null,null,null,null,null,null,null,null,null,null,null,null,null,"~"]
["SA36",2019,"LIM332",195,null,null,null,null,null,null,null,null,null,null,null,null,null,null,null,null,null,null,"~"]
["SA36",2019,"LIM332",196,null,null,null,null,null,null,null,null,null,null,null,null,null,null,null,null,null,null,"~"]
["SA36",2019,"LIM332",197,null,null,null,null,null,null,null,null,null,null,null,null,null,null,null,null,null,null,"~"]
["SA36",2019,"LIM332",198,null,null,null,null,null,null,null,null,null,null,null,null,null,null,null,null,null,null,"~"]
["SA36",2019,"LIM332",199,null,null,null,null,null,null,null,null,null,null,null,null,null,null,null,null,null,null,"~"]
["SA36",2019,"LIM332",200,null,null,null,null,null,null,null,null,null,null,null,null,null,null,null,null,null,null,"~"]
["SA36",2019,"LIM332",201,null,null,null,null,null,null,null,null,null,null,null,null,null,null,null,null,null,null,"~"]
["SA36",2019,"LIM332",202,null,null,null,null,null,null,null,null,null,null,null,null,null,null,null,null,null,null,"~"]
["SA36",2019,"LIM332",203,null,null,null,null,null,null,null,null,null,null,null,null,null,null,null,null,null,null,"~"]
["SA36",2019,"LIM332",204,null,null,null,null,null,null,null,null,null,null,null,null,null,null,null,null,null,null,"~"]
["SA36",2019,"LIM332",205,null,null,null,null,null,null,null,null,null,null,null,null,null,null,null,null,null,null,"~"]
["SA36",2019,"LIM332",206,null,null,null,null,null,null,null,null,null,null,null,null,null,null,null,null,null,null,"~"]
["SA36",2019,"LIM332",207,null,null,null,null,null,null,null,null,null,null,null,null,null,null,null,null,null,null,"~"]
["SA36",2019,"LIM332",208,null,null,null,null,null,null,null,null,null,null,null,null,null,null,null,null,null,null,"~"]
["SA36",2019,"LIM332",209,null,null,null,null,null,null,null,null,null,null,null,null,null,null,null,null,null,null,"~"]
["SA36",2019,"LIM332",210,null,null,null,null,null,null,null,null,null,null,null,null,null,null,null,null,null,null,"~"]
["SA36",2019,"LIM332",211,null,null,null,null,null,null,null,null,null,null,null,null,null,null,null,null,null,null,"~"]
["SA36",2019,"LIM332",212,null,null,null,null,null,null,null,null,null,null,null,null,null,null,null,null,null,null,"~"]
["SA36",2019,"LIM332",213,null,null,null,null,null,null,null,null,null,null,null,null,null,null,null,null,null,null,"~"]
["SA36",2019,"LIM332",214,null,null,null,null,null,null,null,null,null,null,null,null,null,null,null,null,null,null,"~"]
["SA36",2019,"LIM332",215,null,null,null,null,null,null,null,null,null,null,null,null,null,null,null,null,null,null,"~"]
["SA36",{"$f":"+MTREF","v":2019},{"$f":"LEFT(muni,(FIND(\" \",muni,1)-1))","v":"LIM332"},216,null,null,null,null,null,null,null,null,null,null,null,null,null,null,null,null,null,null,"~"]
["SA36",2019,"LIM332",217,null,null,null,null,null,null,null,null,null,null,null,null,null,null,null,null,null,null,"~"]
["SA36",2019,"LIM332",218,null,null,null,null,null,null,null,null,null,null,null,null,null,null,null,null,null,null,"~"]
["SA36",2019,"LIM332",219,null,null,null,null,null,null,null,null,null,null,null,null,null,null,null,null,null,null,"~"]
["SA36",2019,"LIM332",220,null,null,null,null,null,null,null,null,null,null,null,null,null,null,null,null,null,null,"~"]
["SA36",2019,"LIM332",221,null,null,null,null,null,null,null,null,null,null,null,null,null,null,null,null,null,null,"~"]
["SA36",2019,"LIM332",222,null,null,null,null,null,null,null,null,null,null,null,null,null,null,null,null,null,null,"~"]
["SA36",2019,"LIM332",223,null,null,null,null,null,null,null,null,null,null,null,null,null,null,null,null,null,null,"~"]
["SA36",2019,"LIM332",224,null,null,null,null,null,null,null,null,null,null,null,null,null,null,null,null,null,null,"~"]
["SA36",2019,"LIM332",225,null,null,null,null,null,null,null,null,null,null,null,null,null,null,null,null,null,null,"~"]
["SA36",2019,"LIM332",226,null,null,null,null,null,null,null,null,null,null,null,null,null,null,null,null,null,null,"~"]
["SA36",2019,"LIM332",227,null,null,null,null,null,null,null,null,null,null,null,null,null,null,null,null,null,null,"~"]
["SA36",2019,"LIM332",228,null,null,null,null,null,null,null,null,null,null,null,null,null,null,null,null,null,null,"~"]
["SA36",2019,"LIM332",229,null,null,null,null,null,null,null,null,null,null,null,null,null,null,null,null,null,null,"~"]
["SA36",2019,"LIM332",230,null,null,null,null,null,null,null,null,null,null,null,null,null,null,null,null,null,null,"~"]
["SA36",2019,"LIM332",231,null,null,null,null,null,null,null,null,null,null,null,null,null,null,null,null,null,null,"~"]
["SA36",2019,"LIM332",232,null,null,null,null,null,null,null,null,null,null,null,null,null,null,null,null,null,null,"~"]
["SA36",2019,"LIM332",233,null,null,null,null,null,null,null,null,null,null,null,null,null,null,null,null,null,null,"~"]
["SA36",2019,"LIM332",234,null,null,null,null,null,null,null,null,null,null,null,null,null,null,null,null,null,null,"~"]
["SA36",2019,"LIM332",235,null,null,null,null,null,null,null,null,null,null,null,null,null,null,null,null,null,null,"~"]
["SA36",2019,"LIM332",236,null,null,null,null,null,null,null,null,null,null,null,null,null,null,null,null,null,null,"~"]
["SA36",2019,"LIM332",237,null,null,null,null,null,null,null,null,null,null,null,null,null,null,null,null,null,null,"~"]
["SA36",2019,"LIM332",238,null,null,null,null,null,null,null,null,null,null,null,null,null,null,null,null,null,null,"~"]
["SA36",2019,"LIM332",239,null,null,null,null,null,null,null,null,null,null,null,null,null,null,null,null,null,null,"~"]
["SA36",2019,"LIM332",240,null,null,null,null,null,null,null,null,null,null,null,null,null,null,null,null,null,null,"~"]
["SA36",2019,"LIM332",241,null,null,null,null,null,null,null,null,null,null,null,null,null,null,null,null,null,null,"~"]
["SA36",2019,"LIM332",242,null,null,null,null,null,null,null,null,null,null,null,null,null,null,null,null,null,null,"~"]
["SA36",2019,"LIM332",243,null,null,null,null,null,null,null,null,null,null,null,null,null,null,null,null,null,null,"~"]
["SA36",2019,"LIM332",244,null,null,null,null,null,null,null,null,null,null,null,null,null,null,null,null,null,null,"~"]
["SA36",2019,"LIM332",245,null,null,null,null,null,null,null,null,null,null,null,null,null,null,null,null,null,null,"~"]
["SA36",2019,"LIM332",246,null,null,null,null,null,null,null,null,null,null,null,null,null,null,null,null,null,null,"~"]
["SA36",2019,"LIM332",247,null,null,null,null,null,null,null,null,null,null,null,null,null,null,null,null,null,null,"~"]
["SA36",2019,"LIM332",248,null,null,null,null,null,null,null,null,null,null,null,null,null,null,null,null,null,null,"~"]
["SA36",2019,"LIM332",249,null,null,null,null,null,null,null,null,null,null,null,null,null,null,null,null,null,null,"~"]
["SA36",2019,"LIM332",250,null,null,null,null,null,null,null,null,null,null,null,null,null,null,null,null,null,null,"~"]
["SA36",2019,"LIM332",251,null,null,null,null,null,null,null,null,null,null,null,null,null,null,null,null,null,null,"~"]
["SA36",2019,"LIM332",252,null,null,null,null,null,null,null,null,null,null,null,null,null,null,null,null,null,null,"~"]
["SA36",2019,"LIM332",253,null,null,null,null,null,null,null,null,null,null,null,null,null,null,null,null,null,null,"~"]
["SA36",2019,"LIM332",254,null,null,null,null,null,null,null,null,null,null,null,null,null,null,null,null,null,null,"~"]
["SA36",2019,"LIM332",255,null,null,null,null,null,null,null,null,null,null,null,null,null,null,null,null,null,null,"~"]
["SA36",2019,"LIM332",256,null,null,null,null,null,null,null,null,null,null,null,null,null,null,null,null,null,null,"~"]
["SA36",2019,"LIM332",257,null,null,null,null,null,null,null,null,null,null,null,null,null,null,null,null,null,null,"~"]
["SA36",2019,"LIM332",258,null,null,null,null,null,null,null,null,null,null,null,null,null,null,null,null,null,null,"~"]
["SA36",2019,"LIM332",259,null,null,null,null,null,null,null,null,null,null,null,null,null,null,null,null,null,null,"~"]
["SA36",2019,"LIM332",260,null,null,null,null,null,null,null,null,null,null,null,null,null,null,null,null,null,null,"~"]
["SA36",2019,"LIM332",261,null,null,null,null,null,null,null,null,null,null,null,null,null,null,null,null,null,null,"~"]
["SA36",2019,"LIM332",262,null,null,null,null,null,null,null,null,null,null,null,null,null,null,null,null,null,null,"~"]
["SA36",2019,"LIM332",263,null,null,null,null,null,null,null,null,null,null,null,null,null,null,null,null,null,null,"~"]
["SA36",2019,"LIM332",264,null,null,null,null,null,null,null,null,null,null,null,null,null,null,null,null,null,null,"~"]
["SA36",2019,"LIM332",265,null,null,null,null,null,null,null,null,null,null,null,null,null,null,null,null,null,null,"~"]
["SA36",2019,"LIM332",266,null,null,null,null,null,null,null,null,null,null,null,null,null,null,null,null,null,null,"~"]
["SA36",2019,"LIM332",267,null,null,null,null,null,null,null,null,null,null,null,null,null,null,null,null,null,null,"~"]
["SA36",2019,"LIM332",268,null,null,null,null,null,null,null,null,null,null,null,null,null,null,null,null,null,null,"~"]
["SA36",2019,"LIM332",269,null,null,null,null,null,null,null,null,null,null,null,null,null,null,null,null,null,null,"~"]
["SA36",2019,"LIM332",270,null,null,null,null,null,null,null,null,null,null,null,null,null,null,null,null,null,null,"~"]
["SA36",2019,"LIM332",271,null,null,null,null,null,null,null,null,null,null,null,null,null,null,null,null,null,null,"~"]
["SA36",2019,"LIM332",272,null,null,null,null,null,null,null,null,null,null,null,null,null,null,null,null,null,null,"~"]
["SA36",2019,"LIM332",273,null,null,null,null,null,null,null,null,null,null,null,null,null,null,null,null,null,null,"~"]
["SA36",2019,"LIM332",274,null,null,null,null,null,null,null,null,null,null,null,null,null,null,null,null,null,null,"~"]
["SA36",2019,"LIM332",275,null,null,null,null,null,null,null,null,null,null,null,null,null,null,null,null,null,null,"~"]
["SA36",2019,"LIM332",276,null,null,null,null,null,null,null,null,null,null,null,null,null,null,null,null,null,null,"~"]
["SA36",2019,"LIM332",277,null,null,null,null,null,null,null,null,null,null,null,null,null,null,null,null,null,null,"~"]
["SA36",2019,"LIM332",278,null,null,null,null,null,null,null,null,null,null,null,null,null,null,null,null,null,null,"~"]
["SA36",2019,"LIM332",279,null,null,null,null,null,null,null,null,null,null,null,null,null,null,null,null,null,null,"~"]
["SA36",{"$f":"+MTREF","v":2019},{"$f":"LEFT(muni,(FIND(\" \",muni,1)-1))","v":"LIM332"},280,null,null,null,null,null,null,null,null,null,null,null,null,null,null,null,null,null,null,"~"]
["SA36",2019,"LIM332",281,null,null,null,null,null,null,null,null,null,null,null,null,null,null,null,null,null,null,"~"]
["SA36",2019,"LIM332",282,null,null,null,null,null,null,null,null,null,null,null,null,null,null,null,null,null,null,"~"]
["SA36",2019,"LIM332",283,null,null,null,null,null,null,null,null,null,null,null,null,null,null,null,null,null,null,"~"]
["SA36",2019,"LIM332",284,null,null,null,null,null,null,null,null,null,null,null,null,null,null,null,null,null,null,"~"]
["SA36",2019,"LIM332",285,null,null,null,null,null,null,null,null,null,null,null,null,null,null,null,null,null,null,"~"]
["SA36",2019,"LIM332",286,null,null,null,null,null,null,null,null,null,null,null,null,null,null,null,null,null,null,"~"]
["SA36",2019,"LIM332",287,null,null,null,null,null,null,null,null,null,null,null,null,null,null,null,null,null,null,"~"]
["SA36",2019,"LIM332",288,null,null,null,null,null,null,null,null,null,null,null,null,null,null,null,null,null,null,"~"]
["SA36",2019,"LIM332",289,null,null,null,null,null,null,null,null,null,null,null,null,null,null,null,null,null,null,"~"]
["SA36",2019,"LIM332",290,null,null,null,null,null,null,null,null,null,null,null,null,null,null,null,null,null,null,"~"]
["SA36",2019,"LIM332",291,null,null,null,null,null,null,null,null,null,null,null,null,null,null,null,null,null,null,"~"]
["SA36",2019,"LIM332",292,null,null,null,null,null,null,null,null,null,null,null,null,null,null,null,null,null,null,"~"]
["SA36",2019,"LIM332",293,null,null,null,null,null,null,null,null,null,null,null,null,null,null,null,null,null,null,"~"]
["SA36",2019,"LIM332",294,null,null,null,null,null,null,null,null,null,null,null,null,null,null,null,null,null,null,"~"]
["SA36",2019,"LIM332",295,null,null,null,null,null,null,null,null,null,null,null,null,null,null,null,null,null,null,"~"]
["SA36",2019,"LIM332",296,null,null,null,null,null,null,null,null,null,null,null,null,null,null,null,null,null,null,"~"]
["SA36",2019,"LIM332",297,null,null,null,null,null,null,null,null,null,null,null,null,null,null,null,null,null,null,"~"]
["SA36",2019,"LIM332",298,null,null,null,null,null,null,null,null,null,null,null,null,null,null,null,null,null,null,"~"]
["SA36",2019,"LIM332",299,null,null,null,null,null,null,null,null,null,null,null,null,null,null,null,null,null,null,"~"]
["SA36",2019,"LIM332",300,null,null,null,null,null,null,null,null,null,null,null,null,null,null,null,null,null,null,"~"]
["SA36",2019,"LIM332",301,null,null,null,null,null,null,null,null,null,null,null,null,null,null,null,null,null,null,"~"]
["SA36",2019,"LIM332",302,null,null,null,null,null,null,null,null,null,null,null,null,null,null,null,null,null,null,"~"]
["SA36",2019,"LIM332",303,null,null,null,null,null,null,null,null,null,null,null,null,null,null,null,null,null,null,"~"]
["SA36",2019,"LIM332",304,null,null,null,null,null,null,null,null,null,null,null,null,null,null,null,null,null,null,"~"]
["SA36",2019,"LIM332",305,null,null,null,null,null,null,null,null,null,null,null,null,null,null,null,null,null,null,"~"]
["SA36",2019,"LIM332",306,null,null,null,null,null,null,null,null,null,null,null,null,null,null,null,null,null,null,"~"]
["SA36",2019,"LIM332",307,null,null,null,null,null,null,null,null,null,null,null,null,null,null,null,null,null,null,"~"]
["SA36",2019,"LIM332",308,null,null,null,null,null,null,null,null,null,null,null,null,null,null,null,null,null,null,"~"]
["SA36",2019,"LIM332",309,null,null,null,null,null,null,null,null,null,null,null,null,null,null,null,null,null,null,"~"]
["SA36",2019,"LIM332",310,null,null,null,null,null,null,null,null,null,null,null,null,null,null,null,null,null,null,"~"]
["SA36",2019,"LIM332",311,null,null,null,null,null,null,null,null,null,null,null,null,null,null,null,null,null,null,"~"]
["SA36",2019,"LIM332",312,null,null,null,null,null,null,null,null,null,null,null,null,null,null,null,null,null,null,"~"]
["SA36",2019,"LIM332",313,null,null,null,null,null,null,null,null,null,null,null,null,null,null,null,null,null,null,"~"]
["SA36",2019,"LIM332",314,null,null,null,null,null,null,null,null,null,null,null,null,null,null,null,null,null,null,"~"]
["SA36",2019,"LIM332",315,null,null,null,null,null,null,null,null,null,null,null,null,null,null,null,null,null,null,"~"]
["SA36",2019,"LIM332",316,null,null,null,null,null,null,null,null,null,null,null,null,null,null,null,null,null,null,"~"]
["SA36",2019,"LIM332",317,null,null,null,null,null,null,null,null,null,null,null,null,null,null,null,null,null,null,"~"]
["SA36",2019,"LIM332",318,null,null,null,null,null,null,null,null,null,null,null,null,null,null,null,null,null,null,"~"]
["SA36",2019,"LIM332",319,null,null,null,null,null,null,null,null,null,null,null,null,null,null,null,null,null,null,"~"]
["SA36",2019,"LIM332",320,null,null,null,null,null,null,null,null,null,null,null,null,null,null,null,null,null,null,"~"]
["SA36",2019,"LIM332",321,null,null,null,null,null,null,null,null,null,null,null,null,null,null,null,null,null,null,"~"]
["SA36",2019,"LIM332",322,null,null,null,null,null,null,null,null,null,null,null,null,null,null,null,null,null,null,"~"]
["SA36",2019,"LIM332",323,null,null,null,null,null,null,null,null,null,null,null,null,null,null,null,null,null,null,"~"]
["SA36",2019,"LIM332",324,null,null,null,null,null,null,null,null,null,null,null,null,null,null,null,null,null,null,"~"]
["SA36",2019,"LIM332",325,null,null,null,null,null,null,null,null,null,null,null,null,null,null,null,null,null,null,"~"]
["SA36",2019,"LIM332",326,null,null,null,null,null,null,null,null,null,null,null,null,null,null,null,null,null,null,"~"]
["SA36",2019,"LIM332",327,null,null,null,null,null,null,null,null,null,null,null,null,null,null,null,null,null,null,"~"]
["SA36",2019,"LIM332",328,null,null,null,null,null,null,null,null,null,null,null,null,null,null,null,null,null,null,"~"]
["SA36",2019,"LIM332",329,null,null,null,null,null,null,null,null,null,null,null,null,null,null,null,null,null,null,"~"]
["SA36",2019,"LIM332",330,null,null,null,null,null,null,null,null,null,null,null,null,null,null,null,null,null,null,"~"]
["SA36",2019,"LIM332",331,null,null,null,null,null,null,null,null,null,null,null,null,null,null,null,null,null,null,"~"]
["SA36",2019,"LIM332",332,null,null,null,null,null,null,null,null,null,null,null,null,null,null,null,null,null,null,"~"]
["SA36",2019,"LIM332",333,null,null,null,null,null,null,null,null,null,null,null,null,null,null,null,null,null,null,"~"]
["SA36",2019,"LIM332",334,null,null,null,null,null,null,null,null,null,null,null,null,null,null,null,null,null,null,"~"]
["SA36",2019,"LIM332",335,null,null,null,null,null,null,null,null,null,null,null,null,null,null,null,null,null,null,"~"]
["SA36",2019,"LIM332",336,null,null,null,null,null,null,null,null,null,null,null,null,null,null,null,null,null,null,"~"]
["SA36",2019,"LIM332",337,null,null,null,null,null,null,null,null,null,null,null,null,null,null,null,null,null,null,"~"]
["SA36",2019,"LIM332",338,null,null,null,null,null,null,null,null,null,null,null,null,null,null,null,null,null,null,"~"]
["SA36",2019,"LIM332",339,null,null,null,null,null,null,null,null,null,null,null,null,null,null,null,null,null,null,"~"]
["SA36",2019,"LIM332",340,null,null,null,null,null,null,null,null,null,null,null,null,null,null,null,null,null,null,"~"]
["SA36",2019,"LIM332",341,null,null,null,null,null,null,null,null,null,null,null,null,null,null,null,null,null,null,"~"]
["SA36",2019,"LIM332",342,null,null,null,null,null,null,null,null,null,null,null,null,null,null,null,null,null,null,"~"]
["SA36",2019,"LIM332",343,null,null,null,null,null,null,null,null,null,null,null,null,null,null,null,null,null,null,"~"]
["SA36",{"$f":"+MTREF","v":2019},{"$f":"LEFT(muni,(FIND(\" \",muni,1)-1))","v":"LIM332"},344,null,null,null,null,null,null,null,null,null,null,null,null,null,null,null,null,null,null,"~"]
["SA36",2019,"LIM332",345,null,null,null,null,null,null,null,null,null,null,null,null,null,null,null,null,null,null,"~"]
["SA36",2019,"LIM332",346,null,null,null,null,null,null,null,null,null,null,null,null,null,null,null,null,null,null,"~"]
["SA36",2019,"LIM332",347,null,null,null,null,null,null,null,null,null,null,null,null,null,null,null,null,null,null,"~"]
["SA36",2019,"LIM332",348,null,null,null,null,null,null,null,null,null,null,null,null,null,null,null,null,null,null,"~"]
["SA36",2019,"LIM332",349,null,null,null,null,null,null,null,null,null,null,null,null,null,null,null,null,null,null,"~"]
["SA36",2019,"LIM332",350,null,null,null,null,null,null,null,null,null,null,null,null,null,null,null,null,null,null,"~"]
["SA36",2019,"LIM332",351,null,null,null,null,null,null,null,null,null,null,null,null,null,null,null,null,null,null,"~"]
["SA36",2019,"LIM332",352,null,null,null,null,null,null,null,null,null,null,null,null,null,null,null,null,null,null,"~"]
["SA36",2019,"LIM332",353,null,null,null,null,null,null,null,null,null,null,null,null,null,null,null,null,null,null,"~"]
["SA36",2019,"LIM332",354,null,null,null,null,null,null,null,null,null,null,null,null,null,null,null,null,null,null,"~"]
["SA36",2019,"LIM332",355,null,null,null,null,null,null,null,null,null,null,null,null,null,null,null,null,null,null,"~"]
["SA36",2019,"LIM332",356,null,null,null,null,null,null,null,null,null,null,null,null,null,null,null,null,null,null,"~"]
["SA36",2019,"LIM332",357,null,null,null,null,null,null,null,null,null,null,null,null,null,null,null,null,null,null,"~"]
["SA36",2019,"LIM332",358,null,null,null,null,null,null,null,null,null,null,null,null,null,null,null,null,null,null,"~"]
["SA36",2019,"LIM332",359,null,null,null,null,null,null,null,null,null,null,null,null,null,null,null,null,null,null,"~"]
["SA36",2019,"LIM332",360,null,null,null,null,null,null,null,null,null,null,null,null,null,null,null,null,null,null,"~"]
["SA36",2019,"LIM332",361,null,null,null,null,null,null,null,null,null,null,null,null,null,null,null,null,null,null,"~"]
["SA36",2019,"LIM332",362,null,null,null,null,null,null,null,null,null,null,null,null,null,null,null,null,null,null,"~"]
["SA36",2019,"LIM332",363,null,null,null,null,null,null,null,null,null,null,null,null,null,null,null,null,null,null,"~"]
["SA36",2019,"LIM332",364,null,null,null,null,null,null,null,null,null,null,null,null,null,null,null,null,null,null,"~"]
["SA36",2019,"LIM332",365,null,null,null,null,null,null,null,null,null,null,null,null,null,null,null,null,null,null,"~"]
["SA36",2019,"LIM332",366,null,null,null,null,null,null,null,null,null,null,null,null,null,null,null,null,null,null,"~"]
["SA36",2019,"LIM332",367,null,null,null,null,null,null,null,null,null,null,null,null,null,null,null,null,null,null,"~"]
["SA36",2019,"LIM332",368,null,null,null,null,null,null,null,null,null,null,null,null,null,null,null,null,null,null,"~"]
["SA36",2019,"LIM332",369,null,null,null,null,null,null,null,null,null,null,null,null,null,null,null,null,null,null,"~"]
["SA36",2019,"LIM332",370,null,null,null,null,null,null,null,null,null,null,null,null,null,null,null,null,null,null,"~"]
["SA36",2019,"LIM332",371,null,null,null,null,null,null,null,null,null,null,null,null,null,null,null,null,null,null,"~"]
["SA36",2019,"LIM332",372,null,null,null,null,null,null,null,null,null,null,null,null,null,null,null,null,null,null,"~"]
["SA36",2019,"LIM332",373,null,null,null,null,null,null,null,null,null,null,null,null,null,null,null,null,null,null,"~"]
["SA36",2019,"LIM332",374,null,null,null,null,null,null,null,null,null,null,null,null,null,null,null,null,null,null,"~"]
["SA36",2019,"LIM332",375,null,null,null,null,null,null,null,null,null,null,null,null,null,null,null,null,null,null,"~"]
["SA36",2019,"LIM332",376,null,null,null,null,null,null,null,null,null,null,null,null,null,null,null,null,null,null,"~"]
["SA36",2019,"LIM332",377,null,null,null,null,null,null,null,null,null,null,null,null,null,null,null,null,null,null,"~"]
["SA36",2019,"LIM332",378,null,null,null,null,null,null,null,null,null,null,null,null,null,null,null,null,null,null,"~"]
["SA36",2019,"LIM332",379,null,null,null,null,null,null,null,null,null,null,null,null,null,null,null,null,null,null,"~"]
["SA36",2019,"LIM332",380,null,null,null,null,null,null,null,null,null,null,null,null,null,null,null,null,null,null,"~"]
["SA36",2019,"LIM332",381,null,null,null,null,null,null,null,null,null,null,null,null,null,null,null,null,null,null,"~"]
["SA36",2019,"LIM332",382,null,null,null,null,null,null,null,null,null,null,null,null,null,null,null,null,null,null,"~"]
["SA36",2019,"LIM332",383,null,null,null,null,null,null,null,null,null,null,null,null,null,null,null,null,null,null,"~"]
["SA36",2019,"LIM332",384,null,null,null,null,null,null,null,null,null,null,null,null,null,null,null,null,null,null,"~"]
["SA36",2019,"LIM332",385,null,null,null,null,null,null,null,null,null,null,null,null,null,null,null,null,null,null,"~"]
["SA36",2019,"LIM332",386,null,null,null,null,null,null,null,null,null,null,null,null,null,null,null,null,null,null,"~"]
["SA36",2019,"LIM332",387,null,null,null,null,null,null,null,null,null,null,null,null,null,null,null,null,null,null,"~"]
["SA36",2019,"LIM332",388,null,null,null,null,null,null,null,null,null,null,null,null,null,null,null,null,null,null,"~"]
["SA36",2019,"LIM332",389,null,null,null,null,null,null,null,null,null,null,null,null,null,null,null,null,null,null,"~"]
["SA36",2019,"LIM332",390,null,null,null,null,null,null,null,null,null,null,null,null,null,null,null,null,null,null,"~"]
["SA36",2019,"LIM332",391,null,null,null,null,null,null,null,null,null,null,null,null,null,null,null,null,null,null,"~"]
["SA36",2019,"LIM332",392,null,null,null,null,null,null,null,null,null,null,null,null,null,null,null,null,null,null,"~"]
["SA36",2019,"LIM332",393,null,null,null,null,null,null,null,null,null,null,null,null,null,null,null,null,null,null,"~"]
["SA36",2019,"LIM332",394,null,null,null,null,null,null,null,null,null,null,null,null,null,null,null,null,null,null,"~"]
["SA36",2019,"LIM332",395,null,null,null,null,null,null,null,null,null,null,null,null,null,null,null,null,null,null,"~"]
["SA36",2019,"LIM332",396,null,null,null,null,null,null,null,null,null,null,null,null,null,null,null,null,null,null,"~"]
["SA36",2019,"LIM332",397,null,null,null,null,null,null,null,null,null,null,null,null,null,null,null,null,null,null,"~"]
["SA36",2019,"LIM332",398,null,null,null,null,null,null,null,null,null,null,null,null,null,null,null,null,null,null,"~"]
["SA36",2019,"LIM332",399,null,null,null,null,null,null,null,null,null,null,null,null,null,null,null,null,null,null,"~"]
["SA36",2019,"LIM332",400,null,null,null,null,null,null,null,null,null,null,null,null,null,null,null,null,null,null,"~"]
["SA36",2019,"LIM332",401,null,null,null,null,null,null,null,null,null,null,null,null,null,null,null,null,null,null,"~"]
["SA36",2019,"LIM332",402,null,null,null,null,null,null,null,null,null,null,null,null,null,null,null,null,null,null,"~"]
["SA36",2019,"LIM332",403,null,null,null,null,null,null,null,null,null,null,null,null,null,null,null,null,null,null,"~"]
["SA36",2019,"LIM332",404,null,null,null,null,null,null,null,null,null,null,null,null,null,null,null,null,null,null,"~"]
["SA36",2019,"LIM332",405,null,null,null,null,null,null,null,null,null,null,null,null,null,null,null,null,null,null,"~"]
["SA36",2019,"LIM332",406,null,null,null,null,null,null,null,null,null,null,null,null,null,null,null,null,null,null,"~"]
["SA36",2019,"LIM332",407,null,null,null,null,null,null,null,null,null,null,null,null,null,null,null,null,null,null,"~"]
["SA36",{"$f":"+MTREF","v":2019},{"$f":"LEFT(muni,(FIND(\" \",muni,1)-1))","v":"LIM332"},408,null,null,null,null,null,null,null,null,null,null,null,null,null,null,null,null,null,null,"~"]
["SA36",2019,"LIM332",409,null,null,null,null,null,null,null,null,null,null,null,null,null,null,null,null,null,null,"~"]
["SA36",2019,"LIM332",410,null,null,null,null,null,null,null,null,null,null,null,null,null,null,null,null,null,null,"~"]
["SA36",2019,"LIM332",411,null,null,null,null,null,null,null,null,null,null,null,null,null,null,null,null,null,null,"~"]
["SA36",2019,"LIM332",412,null,null,null,null,null,null,null,null,null,null,null,null,null,null,null,null,null,null,"~"]
["SA36",2019,"LIM332",413,null,null,null,null,null,null,null,null,null,null,null,null,null,null,null,null,null,null,"~"]
["SA36",2019,"LIM332",414,null,null,null,null,null,null,null,null,null,null,null,null,null,null,null,null,null,null,"~"]
["SA36",2019,"LIM332",415,null,null,null,null,null,null,null,null,null,null,null,null,null,null,null,null,null,null,"~"]
["SA36",2019,"LIM332",416,null,null,null,null,null,null,null,null,null,null,null,null,null,null,null,null,null,null,"~"]
["SA36",2019,"LIM332",417,null,null,null,null,null,null,null,null,null,null,null,null,null,null,null,null,null,null,"~"]
["SA36",2019,"LIM332",418,null,null,null,null,null,null,null,null,null,null,null,null,null,null,null,null,null,null,"~"]
["SA36",2019,"LIM332",419,null,null,null,null,null,null,null,null,null,null,null,null,null,null,null,null,null,null,"~"]
["SA36",2019,"LIM332",420,null,null,null,null,null,null,null,null,null,null,null,null,null,null,null,null,null,null,"~"]
["SA36",2019,"LIM332",421,null,null,null,null,null,null,null,null,null,null,null,null,null,null,null,null,null,null,"~"]
["SA36",2019,"LIM332",422,null,null,null,null,null,null,null,null,null,null,null,null,null,null,null,null,null,null,"~"]
["SA36",2019,"LIM332",423,null,null,null,null,null,null,null,null,null,null,null,null,null,null,null,null,null,null,"~"]
["SA36",2019,"LIM332",424,null,null,null,null,null,null,null,null,null,null,null,null,null,null,null,null,null,null,"~"]
["SA36",2019,"LIM332",425,null,null,null,null,null,null,null,null,null,null,null,null,null,null,null,null,null,null,"~"]
["SA36",2019,"LIM332",426,null,null,null,null,null,null,null,null,null,null,null,null,null,null,null,null,null,null,"~"]
["SA36",2019,"LIM332",427,null,null,null,null,null,null,null,null,null,null,null,null,null,null,null,null,null,null,"~"]
["SA36",2019,"LIM332",428,null,null,null,null,null,null,null,null,null,null,null,null,null,null,null,null,null,null,"~"]
["SA36",2019,"LIM332",429,null,null,null,null,null,null,null,null,null,null,null,null,null,null,null,null,null,null,"~"]
["SA36",2019,"LIM332",430,null,null,null,null,null,null,null,null,null,null,null,null,null,null,null,null,null,null,"~"]
["SA36",2019,"LIM332",431,null,null,null,null,null,null,null,null,null,null,null,null,null,null,null,null,null,null,"~"]
["SA36",2019,"LIM332",432,null,null,null,null,null,null,null,null,null,null,null,null,null,null,null,null,null,null,"~"]
["SA36",2019,"LIM332",433,null,null,null,null,null,null,null,null,null,null,null,null,null,null,null,null,null,null,"~"]
["SA36",2019,"LIM332",434,null,null,null,null,null,null,null,null,null,null,null,null,null,null,null,null,null,null,"~"]
["SA36",2019,"LIM332",435,null,null,null,null,null,null,null,null,null,null,null,null,null,null,null,null,null,null,"~"]
["SA36",2019,"LIM332",436,null,null,null,null,null,null,null,null,null,null,null,null,null,null,null,null,null,null,"~"]
["SA36",2019,"LIM332",437,null,null,null,null,null,null,null,null,null,null,null,null,null,null,null,null,null,null,"~"]
["SA36",2019,"LIM332",438,null,null,null,null,null,null,null,null,null,null,null,null,null,null,null,null,null,null,"~"]
["SA36",2019,"LIM332",439,null,null,null,null,null,null,null,null,null,null,null,null,null,null,null,null,null,null,"~"]
["SA36",2019,"LIM332",440,null,null,null,null,null,null,null,null,null,null,null,null,null,null,null,null,null,null,"~"]
["SA36",2019,"LIM332",441,null,null,null,null,null,null,null,null,null,null,null,null,null,null,null,null,null,null,"~"]
["SA36",2019,"LIM332",442,null,null,null,null,null,null,null,null,null,null,null,null,null,null,null,null,null,null,"~"]
["SA36",2019,"LIM332",443,null,null,null,null,null,null,null,null,null,null,null,null,null,null,null,null,null,null,"~"]
["SA36",2019,"LIM332",444,null,null,null,null,null,null,null,null,null,null,null,null,null,null,null,null,null,null,"~"]
["SA36",2019,"LIM332",445,null,null,null,null,null,null,null,null,null,null,null,null,null,null,null,null,null,null,"~"]
["SA36",2019,"LIM332",446,null,null,null,null,null,null,null,null,null,null,null,null,null,null,null,null,null,null,"~"]
["SA36",2019,"LIM332",447,null,null,null,null,null,null,null,null,null,null,null,null,null,null,null,null,null,null,"~"]
["SA36",2019,"LIM332",448,null,null,null,null,null,null,null,null,null,null,null,null,null,null,null,null,null,null,"~"]
["SA36",2019,"LIM332",449,null,null,null,null,null,null,null,null,null,null,null,null,null,null,null,null,null,null,"~"]
["SA36",2019,"LIM332",450,null,null,null,null,null,null,null,null,null,null,null,null,null,null,null,null,null,null,"~"]
["SA36",2019,"LIM332",451,null,null,null,null,null,null,null,null,null,null,null,null,null,null,null,null,null,null,"~"]
["SA36",2019,"LIM332",452,null,null,null,null,null,null,null,null,null,null,null,null,null,null,null,null,null,null,"~"]
["SA36",2019,"LIM332",453,null,null,null,null,null,null,null,null,null,null,null,null,null,null,null,null,null,null,"~"]
["SA36",2019,"LIM332",454,null,null,null,null,null,null,null,null,null,null,null,null,null,null,null,null,null,null,"~"]
["SA36",2019,"LIM332",455,null,null,null,null,null,null,null,null,null,null,null,null,null,null,null,null,null,null,"~"]
["SA36",2019,"LIM332",456,null,null,null,null,null,null,null,null,null,null,null,null,null,null,null,null,null,null,"~"]
["SA36",2019,"LIM332",457,null,null,null,null,null,null,null,null,null,null,null,null,null,null,null,null,null,null,"~"]
["SA36",2019,"LIM332",458,null,null,null,null,null,null,null,null,null,null,null,null,null,null,null,null,null,null,"~"]
["SA36",2019,"LIM332",459,null,null,null,null,null,null,null,null,null,null,null,null,null,null,null,null,null,null,"~"]
["SA36",2019,"LIM332",460,null,null,null,null,null,null,null,null,null,null,null,null,null,null,null,null,null,null,"~"]
["SA36",2019,"LIM332",461,null,null,null,null,null,null,null,null,null,null,null,null,null,null,null,null,null,null,"~"]
["SA36",2019,"LIM332",462,null,null,null,null,null,null,null,null,null,null,null,null,null,null,null,null,null,null,"~"]
["SA36",2019,"LIM332",463,null,null,null,null,null,null,null,null,null,null,null,null,null,null,null,null,null,null,"~"]
["SA36",2019,"LIM332",464,null,null,null,null,null,null,null,null,null,null,null,null,null,null,null,null,null,null,"~"]
["SA36",2019,"LIM332",465,null,null,null,null,null,null,null,null,null,null,null,null,null,null,null,null,null,null,"~"]
["SA36",2019,"LIM332",466,null,null,null,null,null,null,null,null,null,null,null,null,null,null,null,null,null,null,"~"]
["SA36",2019,"LIM332",467,null,null,null,null,null,null,null,null,null,null,null,null,null,null,null,null,null,null,"~"]
["SA36",2019,"LIM332",468,null,null,null,null,null,null,null,null,null,null,null,null,null,null,null,null,null,null,"~"]
["SA36",2019,"LIM332",469,null,null,null,null,null,null,null,null,null,null,null,null,null,null,null,null,null,null,"~"]
["SA36",2019,"LIM332",470,null,null,null,null,null,null,null,null,null,null,null,null,null,null,null,null,null,null,"~"]
["SA36",2019,"LIM332",471,null,null,null,null,null,null,null,null,null,null,null,null,null,null,null,null,null,null,"~"]
["SA36",{"$f":"+MTREF","v":2019},{"$f":"LEFT(muni,(FIND(\" \",muni,1)-1))","v":"LIM332"},472,null,null,null,null,null,null,null,null,null,null,null,null,null,null,null,null,null,null,"~"]
["SA36",2019,"LIM332",473,null,null,null,null,null,null,null,null,null,null,null,null,null,null,null,null,null,null,"~"]
["SA36",2019,"LIM332",474,null,null,null,null,null,null,null,null,null,null,null,null,null,null,null,null,null,null,"~"]
["SA36",2019,"LIM332",475,null,null,null,null,null,null,null,null,null,null,null,null,null,null,null,null,null,null,"~"]
["SA36",2019,"LIM332",476,null,null,null,null,null,null,null,null,null,null,null,null,null,null,null,null,null,null,"~"]
["SA36",2019,"LIM332",477,null,null,null,null,null,null,null,null,null,null,null,null,null,null,null,null,null,null,"~"]
["SA36",2019,"LIM332",478,null,null,null,null,null,null,null,null,null,null,null,null,null,null,null,null,null,null,"~"]
["SA36",2019,"LIM332",479,null,null,null,null,null,null,null,null,null,null,null,null,null,null,null,null,null,null,"~"]
["SA36",2019,"LIM332",480,null,null,null,null,null,null,null,null,null,null,null,null,null,null,null,null,null,null,"~"]
["SA36",2019,"LIM332",481,null,null,null,null,null,null,null,null,null,null,null,null,null,null,null,null,null,null,"~"]
["SA36",2019,"LIM332",482,null,null,null,null,null,null,null,null,null,null,null,null,null,null,null,null,null,null,"~"]
["SA36",2019,"LIM332",483,null,null,null,null,null,null,null,null,null,null,null,null,null,null,null,null,null,null,"~"]
["SA36",2019,"LIM332",484,null,null,null,null,null,null,null,null,null,null,null,null,null,null,null,null,null,null,"~"]
["SA36",2019,"LIM332",485,null,null,null,null,null,null,null,null,null,null,null,null,null,null,null,null,null,null,"~"]
["SA36",2019,"LIM332",486,null,null,null,null,null,null,null,null,null,null,null,null,null,null,null,null,null,null,"~"]
["SA36",2019,"LIM332",487,null,null,null,null,null,null,null,null,null,null,null,null,null,null,null,null,null,null,"~"]
["SA36",2019,"LIM332",488,null,null,null,null,null,null,null,null,null,null,null,null,null,null,null,null,null,null,"~"]
["SA36",2019,"LIM332",489,null,null,null,null,null,null,null,null,null,null,null,null,null,null,null,null,null,null,"~"]
["SA36",2019,"LIM332",490,null,null,null,null,null,null,null,null,null,null,null,null,null,null,null,null,null,null,"~"]
["SA36",2019,"LIM332",491,null,null,null,null,null,null,null,null,null,null,null,null,null,null,null,null,null,null,"~"]
["SA36",2019,"LIM332",492,null,null,null,null,null,null,null,null,null,null,null,null,null,null,null,null,null,null,"~"]
["SA36",2019,"LIM332",493,null,null,null,null,null,null,null,null,null,null,null,null,null,null,null,null,null,null,"~"]
["SA36",2019,"LIM332",494,null,null,null,null,null,null,null,null,null,null,null,null,null,null,null,null,null,null,"~"]
["SA36",2019,"LIM332",495,null,null,null,null,null,null,null,null,null,null,null,null,null,null,null,null,null,null,"~"]
["SA36",2019,"LIM332",496,null,null,null,null,null,null,null,null,null,null,null,null,null,null,null,null,null,null,"~"]
["SA36",2019,"LIM332",497,null,null,null,null,null,null,null,null,null,null,null,null,null,null,null,null,null,null,"~"]
["SA36",2019,"LIM332",498,null,null,null,null,null,null,null,null,null,null,null,null,null,null,null,null,null,null,"~"]
["SA36",2019,"LIM332",499,null,null,null,null,null,null,null,null,null,null,null,null,null,null,null,null,null,null,"~"]
["SA36",2019,"LIM332",500,null,null,null,null,null,null,null,null,null,null,null,null,null,null,null,null,null,null,"~"]
["SA36",2019,"LIM332",501,null,null,null,null,null,null,null,null,null,null,null,null,null,null,null,null,null,null,"~"]
["SA36",2019,"LIM332",502,null,null,null,null,null,null,null,null,null,null,null,null,null,null,null,null,null,null,"~"]
["SA36",2019,"LIM332",503,null,null,null,null,null,null,null,null,null,null,null,null,null,null,null,null,null,null,"~"]
["SA36",2019,"LIM332",504,null,null,null,null,null,null,null,null,null,null,null,null,null,null,null,null,null,null,"~"]
["SA36",2019,"LIM332",505,null,null,null,null,null,null,null,null,null,null,null,null,null,null,null,null,null,null,"~"]
["SA36",2019,"LIM332",506,null,null,null,null,null,null,null,null,null,null,null,null,null,null,null,null,null,null,"~"]
["SA36",2019,"LIM332",507,null,null,null,null,null,null,null,null,null,null,null,null,null,null,null,null,null,null,"~"]
["SA36",2019,"LIM332",508,null,null,null,null,null,null,null,null,null,null,null,null,null,null,null,null,null,null,"~"]
["SA36",2019,"LIM332",509,null,null,null,null,null,null,null,null,null,null,null,null,null,null,null,null,null,null,"~"]
["SA36",2019,"LIM332",510,null,null,null,null,null,null,null,null,null,null,null,null,null,null,null,null,null,null,"~"]
["SA36",2019,"LIM332",511,null,null,null,null,null,null,null,null,null,null,null,null,null,null,null,null,null,null,"~"]
["SA36",2019,"LIM332",512,null,null,null,null,null,null,null,null,null,null,null,null,null,null,null,null,null,null,"~"]
["SA36",2019,"LIM332",513,null,null,null,null,null,null,null,null,null,null,null,null,null,null,null,null,null,null,"~"]
["SA36",2019,"LIM332",514,null,null,null,null,null,null,null,null,null,null,null,null,null,null,null,null,null,null,"~"]
["SA36",2019,"LIM332",515,null,null,null,null,null,null,null,null,null,null,null,null,null,null,null,null,null,null,"~"]
["SA36",2019,"LIM332",516,null,null,null,null,null,null,null,null,null,null,null,null,null,null,null,null,null,null,"~"]
["SA36",2019,"LIM332",517,null,null,null,null,null,null,null,null,null,null,null,null,null,null,null,null,null,null,"~"]
["SA36",2019,"LIM332",518,null,null,null,null,null,null,null,null,null,null,null,null,null,null,null,null,null,null,"~"]
["SA36",2019,"LIM332",519,null,null,null,null,null,null,null,null,null,null,null,null,null,null,null,null,null,null,"~"]
["SA36",2019,"LIM332",520,null,null,null,null,null,null,null,null,null,null,null,null,null,null,null,null,null,null,"~"]
["SA36",2019,"LIM332",521,null,null,null,null,null,null,null,null,null,null,null,null,null,null,null,null,null,null,"~"]
["SA36",2019,"LIM332",522,null,null,null,null,null,null,null,null,null,null,null,null,null,null,null,null,null,null,"~"]
["SA36",2019,"LIM332",523,null,null,null,null,null,null,null,null,null,null,null,null,null,null,null,null,null,null,"~"]
["SA36",2019,"LIM332",524,null,null,null,null,null,null,null,null,null,null,null,null,null,null,null,null,null,null,"~"]
["SA36",2019,"LIM332",525,null,null,null,null,null,null,null,null,null,null,null,null,null,null,null,null,null,null,"~"]
["SA36",2019,"LIM332",526,null,null,null,null,null,null,null,null,null,null,null,null,null,null,null,null,null,null,"~"]
["SA36",2019,"LIM332",527,null,null,null,null,null,null,null,null,null,null,null,null,null,null,null,null,null,null,"~"]
["SA36",2019,"LIM332",528,null,null,null,null,null,null,null,null,null,null,null,null,null,null,null,null,null,null,"~"]
["SA36",2019,"LIM332",529,null,null,null,null,null,null,null,null,null,null,null,null,null,null,null,null,null,null,"~"]
["SA36",2019,"LIM332",530,null,null,null,null,null,null,null,null,null,null,null,null,null,null,null,null,null,null,"~"]
["SA36",2019,"LIM332",531,null,null,null,null,null,null,null,null,null,null,null,null,null,null,null,null,null,null,"~"]
["SA36",2019,"LIM332",532,null,null,null,null,null,null,null,null,null,null,null,null,null,null,null,null,null,null,"~"]
["SA36",2019,"LIM332",533,null,null,null,null,null,null,null,null,null,null,null,null,null,null,null,null,null,null,"~"]
["SA36",2019,"LIM332",534,null,null,null,null,null,null,null,null,null,null,null,null,null,null,null,null,null,null,"~"]
["SA36",2019,"LIM332",535,null,null,null,null,null,null,null,null,null,null,null,null,null,null,null,null,null,null,"~"]
["SA36",{"$f":"+MTREF","v":2019},{"$f":"LEFT(muni,(FIND(\" \",muni,1)-1))","v":"LIM332"},536,null,null,null,null,null,null,null,null,null,null,null,null,null,null,null,null,null,null,"~"]
["SA36",2019,"LIM332",537,null,null,null,null,null,null,null,null,null,null,null,null,null,null,null,null,null,null,"~"]
["SA36",2019,"LIM332",538,null,null,null,null,null,null,null,null,null,null,null,null,null,null,null,null,null,null,"~"]
["SA36",2019,"LIM332",539,null,null,null,null,null,null,null,null,null,null,null,null,null,null,null,null,null,null,"~"]
["SA36",2019,"LIM332",540,null,null,null,null,null,null,null,null,null,null,null,null,null,null,null,null,null,null,"~"]
["SA36",2019,"LIM332",541,null,null,null,null,null,null,null,null,null,null,null,null,null,null,null,null,null,null,"~"]
["SA36",2019,"LIM332",542,null,null,null,null,null,null,null,null,null,null,null,null,null,null,null,null,null,null,"~"]
["SA36",2019,"LIM332",543,null,null,null,null,null,null,null,null,null,null,null,null,null,null,null,null,null,null,"~"]
["SA36",2019,"LIM332",544,null,null,null,null,null,null,null,null,null,null,null,null,null,null,null,null,null,null,"~"]
["SA36",2019,"LIM332",545,null,null,null,null,null,null,null,null,null,null,null,null,null,null,null,null,null,null,"~"]
["SA36",2019,"LIM332",546,null,null,null,null,null,null,null,null,null,null,null,null,null,null,null,null,null,null,"~"]
["SA36",2019,"LIM332",547,null,null,null,null,null,null,null,null,null,null,null,null,null,null,null,null,null,null,"~"]
["SA36",2019,"LIM332",548,null,null,null,null,null,null,null,null,null,null,null,null,null,null,null,null,null,null,"~"]
["SA36",2019,"LIM332",549,null,null,null,null,null,null,null,null,null,null,null,null,null,null,null,null,null,null,"~"]
["SA36",2019,"LIM332",550,null,null,null,null,null,null,null,null,null,null,null,null,null,null,null,null,null,null,"~"]
["SA36",2019,"LIM332",551,null,null,null,null,null,null,null,null,null,null,null,null,null,null,null,null,null,null,"~"]
["SA36",2019,"LIM332",552,null,null,null,null,null,null,null,null,null,null,null,null,null,null,null,null,null,null,"~"]
["SA36",2019,"LIM332",553,null,null,null,null,null,null,null,null,null,null,null,null,null,null,null,null,null,null,"~"]
["SA36",2019,"LIM332",554,null,null,null,null,null,null,null,null,null,null,null,null,null,null,null,null,null,null,"~"]
["SA36",2019,"LIM332",555,null,null,null,null,null,null,null,null,null,null,null,null,null,null,null,null,null,null,"~"]
["SA36",2019,"LIM332",556,null,null,null,null,null,null,null,null,null,null,null,null,null,null,null,null,null,null,"~"]
["SA36",2019,"LIM332",557,null,null,null,null,null,null,null,null,null,null,null,null,null,null,null,null,null,null,"~"]
["SA36",2019,"LIM332",558,null,null,null,null,null,null,null,null,null,null,null,null,null,null,null,null,null,null,"~"]
["SA36",2019,"LIM332",559,null,null,null,null,null,null,null,null,null,null,null,null,null,null,null,null,null,null,"~"]
["SA36",2019,"LIM332",560,null,null,null,null,null,null,null,null,null,null,null,null,null,null,null,null,null,null,"~"]
["SA36",2019,"LIM332",561,null,null,null,null,null,null,null,null,null,null,null,null,null,null,null,null,null,null,"~"]
["SA36",2019,"LIM332",562,null,null,null,null,null,null,null,null,null,null,null,null,null,null,null,null,null,null,"~"]
["SA36",2019,"LIM332",563,null,null,null,null,null,null,null,null,null,null,null,null,null,null,null,null,null,null,"~"]
["SA36",2019,"LIM332",564,null,null,null,null,null,null,null,null,null,null,null,null,null,null,null,null,null,null,"~"]
["SA36",2019,"LIM332",565,null,null,null,null,null,null,null,null,null,null,null,null,null,null,null,null,null,null,"~"]
["SA36",2019,"LIM332",566,null,null,null,null,null,null,null,null,null,null,null,null,null,null,null,null,null,null,"~"]
["SA36",2019,"LIM332",567,null,null,null,null,null,null,null,null,null,null,null,null,null,null,null,null,null,null,"~"]
["SA36",2019,"LIM332",568,null,null,null,null,null,null,null,null,null,null,null,null,null,null,null,null,null,null,"~"]
["SA36",2019,"LIM332",569,null,null,null,null,null,null,null,null,null,null,null,null,null,null,null,null,null,null,"~"]
["SA36",2019,"LIM332",570,null,null,null,null,null,null,null,null,null,null,null,null,null,null,null,null,null,null,"~"]
["SA36",2019,"LIM332",571,null,null,null,null,null,null,null,null,null,null,null,null,null,null,null,null,null,null,"~"]
["SA36",2019,"LIM332",572,null,null,null,null,null,null,null,null,null,null,null,null,null,null,null,null,null,null,"~"]
["SA36",2019,"LIM332",573,null,null,null,null,null,null,null,null,null,null,null,null,null,null,null,null,null,null,"~"]
["SA36",2019,"LIM332",574,null,null,null,null,null,null,null,null,null,null,null,null,null,null,null,null,null,null,"~"]
["SA36",2019,"LIM332",575,null,null,null,null,null,null,null,null,null,null,null,null,null,null,null,null,null,null,"~"]
["SA36",2019,"LIM332",576,null,null,null,null,null,null,null,null,null,null,null,null,null,null,null,null,null,null,"~"]
["SA36",2019,"LIM332",577,null,null,null,null,null,null,null,null,null,null,null,null,null,null,null,null,null,null,"~"]
["SA36",2019,"LIM332",578,null,null,null,null,null,null,null,null,null,null,null,null,null,null,null,null,null,null,"~"]
["SA36",2019,"LIM332",579,null,null,null,null,null,null,null,null,null,null,null,null,null,null,null,null,null,null,"~"]
["SA36",2019,"LIM332",580,null,null,null,null,null,null,null,null,null,null,null,null,null,null,null,null,null,null,"~"]
["SA36",2019,"LIM332",581,null,null,null,null,null,null,null,null,null,null,null,null,null,null,null,null,null,null,"~"]
["SA36",2019,"LIM332",582,null,null,null,null,null,null,null,null,null,null,null,null,null,null,null,null,null,null,"~"]
["SA36",2019,"LIM332",583,null,null,null,null,null,null,null,null,null,null,null,null,null,null,null,null,null,null,"~"]
["SA36",2019,"LIM332",584,null,null,null,null,null,null,null,null,null,null,null,null,null,null,null,null,null,null,"~"]
["SA36",2019,"LIM332",585,null,null,null,null,null,null,null,null,null,null,null,null,null,null,null,null,null,null,"~"]
["SA36",2019,"LIM332",586,null,null,null,null,null,null,null,null,null,null,null,null,null,null,null,null,null,null,"~"]
["SA36",2019,"LIM332",587,null,null,null,null,null,null,null,null,null,null,null,null,null,null,null,null,null,null,"~"]
["SA36",2019,"LIM332",588,null,null,null,null,null,null,null,null,null,null,null,null,null,null,null,null,null,null,"~"]
["SA36",2019,"LIM332",589,null,null,null,null,null,null,null,null,null,null,null,null,null,null,null,null,null,null,"~"]
["SA36",2019,"LIM332",590,null,null,null,null,null,null,null,null,null,null,null,null,null,null,null,null,null,null,"~"]
["SA36",2019,"LIM332",591,null,null,null,null,null,null,null,null,null,null,null,null,null,null,null,null,null,null,"~"]
["SA36",2019,"LIM332",592,null,null,null,null,null,null,null,null,null,null,null,null,null,null,null,null,null,null,"~"]
["SA36",2019,"LIM332",593,null,null,null,null,null,null,null,null,null,null,null,null,null,null,null,null,null,null,"~"]
["SA36",2019,"LIM332",594,null,null,null,null,null,null,null,null,null,null,null,null,null,null,null,null,null,null,"~"]
["SA36",2019,"LIM332",595,null,null,null,null,null,null,null,null,null,null,null,null,null,null,null,null,null,null,"~"]
["SA36",2019,"LIM332",596,null,null,null,null,null,null,null,null,null,null,null,null,null,null,null,null,null,null,"~"]
["SA36",2019,"LIM332",597,null,null,null,null,null,null,null,null,null,null,null,null,null,null,null,null,null,null,"~"]
["SA36",2019,"LIM332",598,null,null,null,null,null,null,null,null,null,null,null,null,null,null,null,null,null,null,"~"]
["SA36",2019,"LIM332",599,null,null,null,null,null,null,null,null,null,null,null,null,null,null,null,null,null,null,"~"]
["SA36",{"$f":"+MTREF","v":2019},{"$f":"LEFT(muni,(FIND(\" \",muni,1)-1))","v":"LIM332"},600,null,null,null,null,null,null,null,null,null,null,null,null,null,null,null,null,null,null,"~"]
["SA36",2019,"LIM332",601,null,null,null,null,null,null,null,null,null,null,null,null,null,null,null,null,null,null,"~"]
["SA36",2019,"LIM332",602,null,null,null,null,null,null,null,null,null,null,null,null,null,null,null,null,null,null,"~"]
["SA36",2019,"LIM332",603,null,null,null,null,null,null,null,null,null,null,null,null,null,null,null,null,null,null,"~"]
["SA36",2019,"LIM332",604,null,null,null,null,null,null,null,null,null,null,null,null,null,null,null,null,null,null,"~"]
["SA36",2019,"LIM332",605,null,null,null,null,null,null,null,null,null,null,null,null,null,null,null,null,null,null,"~"]
["SA36",2019,"LIM332",606,null,null,null,null,null,null,null,null,null,null,null,null,null,null,null,null,null,null,"~"]
["SA36",2019,"LIM332",607,null,null,null,null,null,null,null,null,null,null,null,null,null,null,null,null,null,null,"~"]
["SA36",2019,"LIM332",608,null,null,null,null,null,null,null,null,null,null,null,null,null,null,null,null,null,null,"~"]
["SA36",2019,"LIM332",609,null,null,null,null,null,null,null,null,null,null,null,null,null,null,null,null,null,null,"~"]
["SA36",2019,"LIM332",610,null,null,null,null,null,null,null,null,null,null,null,null,null,null,null,null,null,null,"~"]
["SA36",2019,"LIM332",611,null,null,null,null,null,null,null,null,null,null,null,null,null,null,null,null,null,null,"~"]
["SA36",2019,"LIM332",612,null,null,null,null,null,null,null,null,null,null,null,null,null,null,null,null,null,null,"~"]
["SA36",2019,"LIM332",613,null,null,null,null,null,null,null,null,null,null,null,null,null,null,null,null,null,null,"~"]
["SA36",2019,"LIM332",614,null,null,null,null,null,null,null,null,null,null,null,null,null,null,null,null,null,null,"~"]
["SA36",2019,"LIM332",615,null,null,null,null,null,null,null,null,null,null,null,null,null,null,null,null,null,null,"~"]
["SA36",2019,"LIM332",616,null,null,null,null,null,null,null,null,null,null,null,null,null,null,null,null,null,null,"~"]
["SA36",2019,"LIM332",617,null,null,null,null,null,null,null,null,null,null,null,null,null,null,null,null,null,null,"~"]
["SA36",2019,"LIM332",618,null,null,null,null,null,null,null,null,null,null,null,null,null,null,null,null,null,null,"~"]
["SA36",2019,"LIM332",619,null,null,null,null,null,null,null,null,null,null,null,null,null,null,null,null,null,null,"~"]
["SA36",2019,"LIM332",620,null,null,null,null,null,null,null,null,null,null,null,null,null,null,null,null,null,null,"~"]
["SA36",2019,"LIM332",621,null,null,null,null,null,null,null,null,null,null,null,null,null,null,null,null,null,null,"~"]
["SA36",2019,"LIM332",622,null,null,null,null,null,null,null,null,null,null,null,null,null,null,null,null,null,null,"~"]
["SA36",2019,"LIM332",623,null,null,null,null,null,null,null,null,null,null,null,null,null,null,null,null,null,null,"~"]
["SA36",2019,"LIM332",624,null,null,null,null,null,null,null,null,null,null,null,null,null,null,null,null,null,null,"~"]
["SA36",2019,"LIM332",625,null,null,null,null,null,null,null,null,null,null,null,null,null,null,null,null,null,null,"~"]
["SA36",2019,"LIM332",626,null,null,null,null,null,null,null,null,null,null,null,null,null,null,null,null,null,null,"~"]
["SA36",2019,"LIM332",627,null,null,null,null,null,null,null,null,null,null,null,null,null,null,null,null,null,null,"~"]
["SA36",2019,"LIM332",628,null,null,null,null,null,null,null,null,null,null,null,null,null,null,null,null,null,null,"~"]
["SA36",2019,"LIM332",629,null,null,null,null,null,null,null,null,null,null,null,null,null,null,null,null,null,null,"~"]
["SA36",2019,"LIM332",630,null,null,null,null,null,null,null,null,null,null,null,null,null,null,null,null,null,null,"~"]
["SA36",2019,"LIM332",631,null,null,null,null,null,null,null,null,null,null,null,null,null,null,null,null,null,null,"~"]
["SA36",2019,"LIM332",632,null,null,null,null,null,null,null,null,null,null,null,null,null,null,null,null,null,null,"~"]
["SA36",2019,"LIM332",633,null,null,null,null,null,null,null,null,null,null,null,null,null,null,null,null,null,null,"~"]
["SA36",2019,"LIM332",634,null,null,null,null,null,null,null,null,null,null,null,null,null,null,null,null,null,null,"~"]
["SA36",2019,"LIM332",635,null,null,null,null,null,null,null,null,null,null,null,null,null,null,null,null,null,null,"~"]
["SA36",2019,"LIM332",636,null,null,null,null,null,null,null,null,null,null,null,null,null,null,null,null,null,null,"~"]
["SA36",2019,"LIM332",637,null,null,null,null,null,null,null,null,null,null,null,null,null,null,null,null,null,null,"~"]
["SA36",2019,"LIM332",638,null,null,null,null,null,null,null,null,null,null,null,null,null,null,null,null,null,null,"~"]
["SA36",2019,"LIM332",639,null,null,null,null,null,null,null,null,null,null,null,null,null,null,null,null,null,null,"~"]
["SA36",2019,"LIM332",640,null,null,null,null,null,null,null,null,null,null,null,null,null,null,null,null,null,null,"~"]
["SA36",2019,"LIM332",641,null,null,null,null,null,null,null,null,null,null,null,null,null,null,null,null,null,null,"~"]
["SA36",2019,"LIM332",642,null,null,null,null,null,null,null,null,null,null,null,null,null,null,null,null,null,null,"~"]
["SA36",2019,"LIM332",643,null,null,null,null,null,null,null,null,null,null,null,null,null,null,null,null,null,null,"~"]
["SA36",2019,"LIM332",644,null,null,null,null,null,null,null,null,null,null,null,null,null,null,null,null,null,null,"~"]
["SA36",2019,"LIM332",645,null,null,null,null,null,null,null,null,null,null,null,null,null,null,null,null,null,null,"~"]
["SA36",2019,"LIM332",646,null,null,null,null,null,null,null,null,null,null,null,null,null,null,null,null,null,null,"~"]
["SA36",2019,"LIM332",647,null,null,null,null,null,null,null,null,null,null,null,null,null,null,null,null,null,null,"~"]
["SA36",2019,"LIM332",648,null,null,null,null,null,null,null,null,null,null,null,null,null,null,null,null,null,null,"~"]
["SA36",2019,"LIM332",649,null,null,null,null,null,null,null,null,null,null,null,null,null,null,null,null,null,null,"~"]
["SA36",2019,"LIM332",650,null,null,null,null,null,null,null,null,null,null,null,null,null,null,null,null,null,null,"~"]
["SA36",2019,"LIM332",651,null,null,null,null,null,null,null,null,null,null,null,null,null,null,null,null,null,null,"~"]
["SA36",2019,"LIM332",652,null,null,null,null,null,null,null,null,null,null,null,null,null,null,null,null,null,null,"~"]
["SA36",2019,"LIM332",653,null,null,null,null,null,null,null,null,null,null,null,null,null,null,null,null,null,null,"~"]
["SA36",2019,"LIM332",654,null,null,null,null,null,null,null,null,null,null,null,null,null,null,null,null,null,null,"~"]
["SA36",2019,"LIM332",655,null,null,null,null,null,null,null,null,null,null,null,null,null,null,null,null,null,null,"~"]
["SA36",2019,"LIM332",656,null,null,null,null,null,null,null,null,null,null,null,null,null,null,null,null,null,null,"~"]
["SA36",2019,"LIM332",657,null,null,null,null,null,null,null,null,null,null,null,null,null,null,null,null,null,null,"~"]
["SA36",2019,"LIM332",658,null,null,null,null,null,null,null,null,null,null,null,null,null,null,null,null,null,null,"~"]
["SA36",2019,"LIM332",659,null,null,null,null,null,null,null,null,null,null,null,null,null,null,null,null,null,null,"~"]
["SA36",2019,"LIM332",660,null,null,null,null,null,null,null,null,null,null,null,null,null,null,null,null,null,null,"~"]
["SA36",2019,"LIM332",661,null,null,null,null,null,null,null,null,null,null,null,null,null,null,null,null,null,null,"~"]
["SA36",2019,"LIM332",662,null,null,null,null,null,null,null,null,null,null,null,null,null,null,null,null,null,null,"~"]
["SA36",2019,"LIM332",663,null,null,null,null,null,null,null,null,null,null,null,null,null,null,null,null,null,null,"~"]
["SA36",{"$f":"+MTREF","v":2019},{"$f":"LEFT(muni,(FIND(\" \",muni,1)-1))","v":"LIM332"},664,null,null,null,null,null,null,null,null,null,null,null,null,null,null,null,null,null,null,"~"]
["SA36",2019,"LIM332",665,null,null,null,null,null,null,null,null,null,null,null,null,null,null,null,null,null,null,"~"]
["SA36",2019,"LIM332",666,null,null,null,null,null,null,null,null,null,null,null,null,null,null,null,null,null,null,"~"]
["SA36",2019,"LIM332",667,null,null,null,null,null,null,null,null,null,null,null,null,null,null,null,null,null,null,"~"]
["SA36",2019,"LIM332",668,null,null,null,null,null,null,null,null,null,null,null,null,null,null,null,null,null,null,"~"]
["SA36",2019,"LIM332",669,null,null,null,null,null,null,null,null,null,null,null,null,null,null,null,null,null,null,"~"]
["SA36",2019,"LIM332",670,null,null,null,null,null,null,null,null,null,null,null,null,null,null,null,null,null,null,"~"]
["SA36",2019,"LIM332",671,null,null,null,null,null,null,null,null,null,null,null,null,null,null,null,null,null,null,"~"]
["SA36",2019,"LIM332",672,null,null,null,null,null,null,null,null,null,null,null,null,null,null,null,null,null,null,"~"]
["SA36",2019,"LIM332",673,null,null,null,null,null,null,null,null,null,null,null,null,null,null,null,null,null,null,"~"]
["SA36",2019,"LIM332",674,null,null,null,null,null,null,null,null,null,null,null,null,null,null,null,null,null,null,"~"]
["SA36",2019,"LIM332",675,null,null,null,null,null,null,null,null,null,null,null,null,null,null,null,null,null,null,"~"]
["SA36",2019,"LIM332",676,null,null,null,null,null,null,null,null,null,null,null,null,null,null,null,null,null,null,"~"]
["SA36",2019,"LIM332",677,null,null,null,null,null,null,null,null,null,null,null,null,null,null,null,null,null,null,"~"]
["SA36",2019,"LIM332",678,null,null,null,null,null,null,null,null,null,null,null,null,null,null,null,null,null,null,"~"]
["SA36",2019,"LIM332",679,null,null,null,null,null,null,null,null,null,null,null,null,null,null,null,null,null,null,"~"]
["SA36",2019,"LIM332",680,null,null,null,null,null,null,null,null,null,null,null,null,null,null,null,null,null,null,"~"]
["SA36",2019,"LIM332",681,null,null,null,null,null,null,null,null,null,null,null,null,null,null,null,null,null,null,"~"]
["SA36",2019,"LIM332",682,null,null,null,null,null,null,null,null,null,null,null,null,null,null,null,null,null,null,"~"]
["SA36",2019,"LIM332",683,null,null,null,null,null,null,null,null,null,null,null,null,null,null,null,null,null,null,"~"]
["SA36",2019,"LIM332",684,null,null,null,null,null,null,null,null,null,null,null,null,null,null,null,null,null,null,"~"]
["SA36",2019,"LIM332",685,null,null,null,null,null,null,null,null,null,null,null,null,null,null,null,null,null,null,"~"]
["SA36",2019,"LIM332",686,null,null,null,null,null,null,null,null,null,null,null,null,null,null,null,null,null,null,"~"]
["SA36",2019,"LIM332",687,null,null,null,null,null,null,null,null,null,null,null,null,null,null,null,null,null,null,"~"]
["SA36",2019,"LIM332",688,null,null,null,null,null,null,null,null,null,null,null,null,null,null,null,null,null,null,"~"]
["SA36",2019,"LIM332",689,null,null,null,null,null,null,null,null,null,null,null,null,null,null,null,null,null,null,"~"]
["SA36",2019,"LIM332",690,null,null,null,null,null,null,null,null,null,null,null,null,null,null,null,null,null,null,"~"]
["SA36",2019,"LIM332",691,null,null,null,null,null,null,null,null,null,null,null,null,null,null,null,null,null,null,"~"]
["SA36",2019,"LIM332",692,null,null,null,null,null,null,null,null,null,null,null,null,null,null,null,null,null,null,"~"]
["SA36",2019,"LIM332",693,null,null,null,null,null,null,null,null,null,null,null,null,null,null,null,null,null,null,"~"]
["SA36",2019,"LIM332",694,null,null,null,null,null,null,null,null,null,null,null,null,null,null,null,null,null,null,"~"]
["SA36",2019,"LIM332",695,null,null,null,null,null,null,null,null,null,null,null,null,null,null,null,null,null,null,"~"]
["SA36",2019,"LIM332",696,null,null,null,null,null,null,null,null,null,null,null,null,null,null,null,null,null,null,"~"]
["SA36",2019,"LIM332",697,null,null,null,null,null,null,null,null,null,null,null,null,null,null,null,null,null,null,"~"]
["SA36",2019,"LIM332",698,null,null,null,null,null,null,null,null,null,null,null,null,null,null,null,null,null,null,"~"]
["SA36",2019,"LIM332",699,null,null,null,null,null,null,null,null,null,null,null,null,null,null,null,null,null,null,"~"]
["SA36",2019,"LIM332",700,null,null,null,null,null,null,null,null,null,null,null,null,null,null,null,null,null,null,"~"]
["SA36",2019,"LIM332",701,null,null,null,null,null,null,null,null,null,null,null,null,null,null,null,null,null,null,"~"]
["SA36",2019,"LIM332",702,null,null,null,null,null,null,null,null,null,null,null,null,null,null,null,null,null,null,"~"]
["SA36",2019,"LIM332",703,null,null,null,null,null,null,null,null,null,null,null,null,null,null,null,null,null,null,"~"]
["SA36",2019,"LIM332",704,null,null,null,null,null,null,null,null,null,null,null,null,null,null,null,null,null,null,"~"]
["SA36",2019,"LIM332",705,null,null,null,null,null,null,null,null,null,null,null,null,null,null,null,null,null,null,"~"]
["SA36",2019,"LIM332",706,null,null,null,null,null,null,null,null,null,null,null,null,null,null,null,null,null,null,"~"]
["SA36",2019,"LIM332",707,null,null,null,null,null,null,null,null,null,null,null,null,null,null,null,null,null,null,"~"]
["SA36",2019,"LIM332",708,null,null,null,null,null,null,null,null,null,null,null,null,null,null,null,null,null,null,"~"]
["SA36",2019,"LIM332",709,null,null,null,null,null,null,null,null,null,null,null,null,null,null,null,null,null,null,"~"]
["SA36",2019,"LIM332",710,null,null,null,null,null,null,null,null,null,null,null,null,null,null,null,null,null,null,"~"]
["SA36",2019,"LIM332",711,null,null,null,null,null,null,null,null,null,null,null,null,null,null,null,null,null,null,"~"]
["SA36",2019,"LIM332",712,null,null,null,null,null,null,null,null,null,null,null,null,null,null,null,null,null,null,"~"]
["SA36",2019,"LIM332",713,null,null,null,null,null,null,null,null,null,null,null,null,null,null,null,null,null,null,"~"]
["SA36",2019,"LIM332",714,null,null,null,null,null,null,null,null,null,null,null,null,null,null,null,null,null,null,"~"]
["SA36",2019,"LIM332",715,null,null,null,null,null,null,null,null,null,null,null,null,null,null,null,null,null,null,"~"]
["SA36",2019,"LIM332",716,null,null,null,null,null,null,null,null,null,null,null,null,null,null,null,null,null,null,"~"]
["SA36",2019,"LIM332",717,null,null,null,null,null,null,null,null,null,null,null,null,null,null,null,null,null,null,"~"]
["SA36",2019,"LIM332",718,null,null,null,null,null,null,null,null,null,null,null,null,null,null,null,null,null,null,"~"]
["SA36",2019,"LIM332",719,null,null,null,null,null,null,null,null,null,null,null,null,null,null,null,null,null,null,"~"]
["SA36",2019,"LIM332",720,null,null,null,null,null,null,null,null,null,null,null,null,null,null,null,null,null,null,"~"]
["SA36",2019,"LIM332",721,null,null,null,null,null,null,null,null,null,null,null,null,null,null,null,null,null,null,"~"]
["SA36",2019,"LIM332",722,null,null,null,null,null,null,null,null,null,null,null,null,null,null,null,null,null,null,"~"]
["SA36",2019,"LIM332",723,null,null,null,null,null,null,null,null,null,null,null,null,null,null,null,null,null,null,"~"]
["SA36",2019,"LIM332",724,null,null,null,null,null,null,null,null,null,null,null,null,null,null,null,null,null,null,"~"]
["SA36",2019,"LIM332",725,null,null,null,null,null,null,null,null,null,null,null,null,null,null,null,null,null,null,"~"]
["SA36",2019,"LIM332",726,null,null,null,null,null,null,null,null,null,null,null,null,null,null,null,null,null,null,"~"]
["SA36",2019,"LIM332",727,null,null,null,null,null,null,null,null,null,null,null,null,null,null,null,null,null,null,"~"]
["SA36",{"$f":"+MTREF","v":2019},{"$f":"LEFT(muni,(FIND(\" \",muni,1)-1))","v":"LIM332"},728,null,null,null,null,null,null,null,null,null,null,null,null,null,null,null,null,null,null,"~"]
["SA36",2019,"LIM332",729,null,null,null,null,null,null,null,null,null,null,null,null,null,null,null,null,null,null,"~"]
["SA36",2019,"LIM332",730,null,null,null,null,null,null,null,null,null,null,null,null,null,null,null,null,null,null,"~"]
["SA36",2019,"LIM332",731,null,null,null,null,null,null,null,null,null,null,null,null,null,null,null,null,null,null,"~"]
["SA36",2019,"LIM332",732,null,null,null,null,null,null,null,null,null,null,null,null,null,null,null,null,null,null,"~"]
["SA36",2019,"LIM332",733,null,null,null,null,null,null,null,null,null,null,null,null,null,null,null,null,null,null,"~"]
["SA36",2019,"LIM332",734,null,null,null,null,null,null,null,null,null,null,null,null,null,null,null,null,null,null,"~"]
["SA36",2019,"LIM332",735,null,null,null,null,null,null,null,null,null,null,null,null,null,null,null,null,null,null,"~"]
["SA36",2019,"LIM332",736,null,null,null,null,null,null,null,null,null,null,null,null,null,null,null,null,null,null,"~"]
["SA36",2019,"LIM332",737,null,null,null,null,null,null,null,null,null,null,null,null,null,null,null,null,null,null,"~"]
["SA36",2019,"LIM332",738,null,null,null,null,null,null,null,null,null,null,null,null,null,null,null,null,null,null,"~"]
["SA36",2019,"LIM332",739,null,null,null,null,null,null,null,null,null,null,null,null,null,null,null,null,null,null,"~"]
["SA36",2019,"LIM332",740,null,null,null,null,null,null,null,null,null,null,null,null,null,null,null,null,null,null,"~"]
["SA36",2019,"LIM332",741,null,null,null,null,null,null,null,null,null,null,null,null,null,null,null,null,null,null,"~"]
["SA36",2019,"LIM332",742,null,null,null,null,null,null,null,null,null,null,null,null,null,null,null,null,null,null,"~"]
["SA36",2019,"LIM332",743,null,null,null,null,null,null,null,null,null,null,null,null,null,null,null,null,null,null,"~"]
["SA36",2019,"LIM332",744,null,null,null,null,null,null,null,null,null,null,null,null,null,null,null,null,null,null,"~"]
["SA36",2019,"LIM332",745,null,null,null,null,null,null,null,null,null,null,null,null,null,null,null,null,null,null,"~"]
["SA36",2019,"LIM332",746,null,null,null,null,null,null,null,null,null,null,null,null,null,null,null,null,null,null,"~"]
["SA36",2019,"LIM332",747,null,null,null,null,null,null,null,null,null,null,null,null,null,null,null,null,null,null,"~"]
["SA36",2019,"LIM332",748,null,null,null,null,null,null,null,null,null,null,null,null,null,null,null,null,null,null,"~"]
["SA36",2019,"LIM332",749,null,null,null,null,null,null,null,null,null,null,null,null,null,null,null,null,null,null,"~"]
["SA36",2019,"LIM332",750,null,null,null,null,null,null,null,null,null,null,null,null,null,null,null,null,null,null,"~"]
["SA36",2019,"LIM332",751,null,null,null,null,null,null,null,null,null,null,null,null,null,null,null,null,null,null,"~"]
["SA36",2019,"LIM332",752,null,null,null,null,null,null,null,null,null,null,null,null,null,null,null,null,null,null,"~"]
["SA36",2019,"LIM332",753,null,null,null,null,null,null,null,null,null,null,null,null,null,null,null,null,null,null,"~"]
["SA36",2019,"LIM332",754,null,null,null,null,null,null,null,null,null,null,null,null,null,null,null,null,null,null,"~"]
["SA36",2019,"LIM332",755,null,null,null,null,null,null,null,null,null,null,null,null,null,null,null,null,null,null,"~"]
["SA36",2019,"LIM332",756,null,null,null,null,null,null,null,null,null,null,null,null,null,null,null,null,null,null,"~"]
["SA36",2019,"LIM332",757,null,null,null,null,null,null,null,null,null,null,null,null,null,null,null,null,null,null,"~"]
["SA36",2019,"LIM332",758,null,null,null,null,null,null,null,null,null,null,null,null,null,null,null,null,null,null,"~"]
["SA36",2019,"LIM332",759,null,null,null,null,null,null,null,null,null,null,null,null,null,null,null,null,null,null,"~"]
["SA36",2019,"LIM332",760,null,null,null,null,null,null,null,null,null,null,null,null,null,null,null,null,null,null,"~"]
["SA36",2019,"LIM332",761,null,null,null,null,null,null,null,null,null,null,null,null,null,null,null,null,null,null,"~"]
["SA36",2019,"LIM332",762,null,null,null,null,null,null,null,null,null,null,null,null,null,null,null,null,null,null,"~"]
["SA36",2019,"LIM332",763,null,null,null,null,null,null,null,null,null,null,null,null,null,null,null,null,null,null,"~"]
["SA36",2019,"LIM332",764,null,null,null,null,null,null,null,null,null,null,null,null,null,null,null,null,null,null,"~"]
["SA36",2019,"LIM332",765,null,null,null,null,null,null,null,null,null,null,null,null,null,null,null,null,null,null,"~"]
["SA36",2019,"LIM332",766,null,null,null,null,null,null,null,null,null,null,null,null,null,null,null,null,null,null,"~"]
["SA36",2019,"LIM332",767,null,null,null,null,null,null,null,null,null,null,null,null,null,null,null,null,null,null,"~"]
["SA36",2019,"LIM332",768,null,null,null,null,null,null,null,null,null,null,null,null,null,null,null,null,null,null,"~"]
["SA36",2019,"LIM332",769,null,null,null,null,null,null,null,null,null,null,null,null,null,null,null,null,null,null,"~"]
["SA36",2019,"LIM332",770,null,null,null,null,null,null,null,null,null,null,null,null,null,null,null,null,null,null,"~"]
["SA36",2019,"LIM332",771,null,null,null,null,null,null,null,null,null,null,null,null,null,null,null,null,null,null,"~"]
["SA36",2019,"LIM332",772,null,null,null,null,null,null,null,null,null,null,null,null,null,null,null,null,null,null,"~"]
["SA36",2019,"LIM332",773,null,null,null,null,null,null,null,null,null,null,null,null,null,null,null,null,null,null,"~"]
["SA36",2019,"LIM332",774,null,null,null,null,null,null,null,null,null,null,null,null,null,null,null,null,null,null,"~"]
["SA36",2019,"LIM332",775,null,null,null,null,null,null,null,null,null,null,null,null,null,null,null,null,null,null,"~"]
["SA36",2019,"LIM332",776,null,null,null,null,null,null,null,null,null,null,null,null,null,null,null,null,null,null,"~"]
["SA36",2019,"LIM332",777,null,null,null,null,null,null,null,null,null,null,null,null,null,null,null,null,null,null,"~"]
["SA36",2019,"LIM332",778,null,null,null,null,null,null,null,null,null,null,null,null,null,null,null,null,null,null,"~"]
["SA36",2019,"LIM332",779,null,null,null,null,null,null,null,null,null,null,null,null,null,null,null,null,null,null,"~"]
["SA36",2019,"LIM332",780,null,null,null,null,null,null,null,null,null,null,null,null,null,null,null,null,null,null,"~"]
["SA36",2019,"LIM332",781,null,null,null,null,null,null,null,null,null,null,null,null,null,null,null,null,null,null,"~"]
["SA36",2019,"LIM332",782,null,null,null,null,null,null,null,null,null,null,null,null,null,null,null,null,null,null,"~"]
["SA36",2019,"LIM332",783,null,null,null,null,null,null,null,null,null,null,null,null,null,null,null,null,null,null,"~"]
["SA36",2019,"LIM332",784,null,null,null,null,null,null,null,null,null,null,null,null,null,null,null,null,null,null,"~"]
["SA36",2019,"LIM332",785,null,null,null,null,null,null,null,null,null,null,null,null,null,null,null,null,null,null,"~"]
["SA36",2019,"LIM332",786,null,null,null,null,null,null,null,null,null,null,null,null,null,null,null,null,null,null,"~"]
["SA36",2019,"LIM332",787,null,null,null,null,null,null,null,null,null,null,null,null,null,null,null,null,null,null,"~"]
["SA36",2019,"LIM332",788,null,null,null,null,null,null,null,null,null,null,null,null,null,null,null,null,null,null,"~"]
["SA36",2019,"LIM332",789,null,null,null,null,null,null,null,null,null,null,null,null,null,null,null,null,null,null,"~"]
["SA36",2019,"LIM332",790,null,null,null,null,null,null,null,null,null,null,null,null,null,null,null,null,null,null,"~"]
["SA36",2019,"LIM332",791,null,null,null,null,null,null,null,null,null,null,null,null,null,null,null,null,null,null,"~"]
["SA36",{"$f":"+MTREF","v":2019},{"$f":"LEFT(muni,(FIND(\" \",muni,1)-1))","v":"LIM332"},792,null,null,null,null,null,null,null,null,null,null,null,null,null,null,null,null,null,null,"~"]
["SA36",2019,"LIM332",793,null,null,null,null,null,null,null,null,null,null,null,null,null,null,null,null,null,null,"~"]
["SA36",2019,"LIM332",794,null,null,null,null,null,null,null,null,null,null,null,null,null,null,null,null,null,null,"~"]
["SA36",2019,"LIM332",795,null,null,null,null,null,null,null,null,null,null,null,null,null,null,null,null,null,null,"~"]
["SA36",2019,"LIM332",796,null,null,null,null,null,null,null,null,null,null,null,null,null,null,null,null,null,null,"~"]
["SA36",2019,"LIM332",797,null,null,null,null,null,null,null,null,null,null,null,null,null,null,null,null,null,null,"~"]
["SA36",2019,"LIM332",798,null,null,null,null,null,null,null,null,null,null,null,null,null,null,null,null,null,null,"~"]
["SA36",2019,"LIM332",799,null,null,null,null,null,null,null,null,null,null,null,null,null,null,null,null,null,null,"~"]
["SA36",2019,"LIM332",800,null,null,null,null,null,null,null,null,null,null,null,null,null,null,null,null,null,null,"~"]
["SA36",2019,"LIM332",801,null,null,null,null,null,null,null,null,null,null,null,null,null,null,null,null,null,null,"~"]
["SA36",2019,"LIM332",802,null,null,null,null,null,null,null,null,null,null,null,null,null,null,null,null,null,null,"~"]
["SA36",2019,"LIM332",803,null,null,null,null,null,null,null,null,null,null,null,null,null,null,null,null,null,null,"~"]
["SA36",2019,"LIM332",804,null,null,null,null,null,null,null,null,null,null,null,null,null,null,null,null,null,null,"~"]
["SA36",2019,"LIM332",805,null,null,null,null,null,null,null,null,null,null,null,null,null,null,null,null,null,null,"~"]
["SA36",2019,"LIM332",806,null,null,null,null,null,null,null,null,null,null,null,null,null,null,null,null,null,null,"~"]
["SA36",2019,"LIM332",807,null,null,null,null,null,null,null,null,null,null,null,null,null,null,null,null,null,null,"~"]
["SA36",2019,"LIM332",808,null,null,null,null,null,null,null,null,null,null,null,null,null,null,null,null,null,null,"~"]
["SA36",2019,"LIM332",809,null,null,null,null,null,null,null,null,null,null,null,null,null,null,null,null,null,null,"~"]
["SA36",2019,"LIM332",810,null,null,null,null,null,null,null,null,null,null,null,null,null,null,null,null,null,null,"~"]
["SA36",2019,"LIM332",811,null,null,null,null,null,null,null,null,null,null,null,null,null,null,null,null,null,null,"~"]
["SA36",2019,"LIM332",812,null,null,null,null,null,null,null,null,null,null,null,null,null,null,null,null,null,null,"~"]
["SA36",2019,"LIM332",813,null,null,null,null,null,null,null,null,null,null,null,null,null,null,null,null,null,null,"~"]
["SA36",2019,"LIM332",814,null,null,null,null,null,null,null,null,null,null,null,null,null,null,null,null,null,null,"~"]
["SA36",2019,"LIM332",815,null,null,null,null,null,null,null,null,null,null,null,null,null,null,null,null,null,null,"~"]
["SA36",2019,"LIM332",816,null,null,null,null,null,null,null,null,null,null,null,null,null,null,null,null,null,null,"~"]
["SA36",2019,"LIM332",817,null,null,null,null,null,null,null,null,null,null,null,null,null,null,null,null,null,null,"~"]
["SA36",2019,"LIM332",818,null,null,null,null,null,null,null,null,null,null,null,null,null,null,null,null,null,null,"~"]
["SA36",2019,"LIM332",819,null,null,null,null,null,null,null,null,null,null,null,null,null,null,null,null,null,null,"~"]
["SA36",2019,"LIM332",820,null,null,null,null,null,null,null,null,null,null,null,null,null,null,null,null,null,null,"~"]
["SA36",2019,"LIM332",821,null,null,null,null,null,null,null,null,null,null,null,null,null,null,null,null,null,null,"~"]
["SA36",2019,"LIM332",822,null,null,null,null,null,null,null,null,null,null,null,null,null,null,null,null,null,null,"~"]
["SA36",2019,"LIM332",823,null,null,null,null,null,null,null,null,null,null,null,null,null,null,null,null,null,null,"~"]
["SA36",2019,"LIM332",824,null,null,null,null,null,null,null,null,null,null,null,null,null,null,null,null,null,null,"~"]
["SA36",2019,"LIM332",825,null,null,null,null,null,null,null,null,null,null,null,null,null,null,null,null,null,null,"~"]
["SA36",2019,"LIM332",826,null,null,null,null,null,null,null,null,null,null,null,null,null,null,null,null,null,null,"~"]
["SA36",2019,"LIM332",827,null,null,null,null,null,null,null,null,null,null,null,null,null,null,null,null,null,null,"~"]
["SA36",2019,"LIM332",828,null,null,null,null,null,null,null,null,null,null,null,null,null,null,null,null,null,null,"~"]
["SA36",2019,"LIM332",829,null,null,null,null,null,null,null,null,null,null,null,null,null,null,null,null,null,null,"~"]
["SA36",2019,"LIM332",830,null,null,null,null,null,null,null,null,null,null,null,null,null,null,null,null,null,null,"~"]
["SA36",2019,"LIM332",831,null,null,null,null,null,null,null,null,null,null,null,null,null,null,null,null,null,null,"~"]
["SA36",2019,"LIM332",832,null,null,null,null,null,null,null,null,null,null,null,null,null,null,null,null,null,null,"~"]
["SA36",2019,"LIM332",833,null,null,null,null,null,null,null,null,null,null,null,null,null,null,null,null,null,null,"~"]
["SA36",2019,"LIM332",834,null,null,null,null,null,null,null,null,null,null,null,null,null,null,null,null,null,null,"~"]
["SA36",2019,"LIM332",835,null,null,null,null,null,null,null,null,null,null,null,null,null,null,null,null,null,null,"~"]
["SA36",2019,"LIM332",836,null,null,null,null,null,null,null,null,null,null,null,null,null,null,null,null,null,null,"~"]
["SA36",2019,"LIM332",837,null,null,null,null,null,null,null,null,null,null,null,null,null,null,null,null,null,null,"~"]
["SA36",2019,"LIM332",838,null,null,null,null,null,null,null,null,null,null,null,null,null,null,null,null,null,null,"~"]
["SA36",2019,"LIM332",839,null,null,null,null,null,null,null,null,null,null,null,null,null,null,null,null,null,null,"~"]
["SA36",2019,"LIM332",840,null,null,null,null,null,null,null,null,null,null,null,null,null,null,null,null,null,null,"~"]
["SA36",2019,"LIM332",841,null,null,null,null,null,null,null,null,null,null,null,null,null,null,null,null,null,null,"~"]
["SA36",2019,"LIM332",842,null,null,null,null,null,null,null,null,null,null,null,null,null,null,null,null,null,null,"~"]
["SA36",2019,"LIM332",843,null,null,null,null,null,null,null,null,null,null,null,null,null,null,null,null,null,null,"~"]
["SA36",2019,"LIM332",844,null,null,null,null,null,null,null,null,null,null,null,null,null,null,null,null,null,null,"~"]
["SA36",2019,"LIM332",845,null,null,null,null,null,null,null,null,null,null,null,null,null,null,null,null,null,null,"~"]
["SA36",2019,"LIM332",846,null,null,null,null,null,null,null,null,null,null,null,null,null,null,null,null,null,null,"~"]
["SA36",2019,"LIM332",847,null,null,null,null,null,null,null,null,null,null,null,null,null,null,null,null,null,null,"~"]
["SA36",2019,"LIM332",848,null,null,null,null,null,null,null,null,null,null,null,null,null,null,null,null,null,null,"~"]
["SA36",2019,"LIM332",849,null,null,null,null,null,null,null,null,null,null,null,null,null,null,null,null,null,null,"~"]
["SA36",2019,"LIM332",850,null,null,null,null,null,null,null,null,null,null,null,null,null,null,null,null,null,null,"~"]
["SA36",2019,"LIM332",851,null,null,null,null,null,null,null,null,null,null,null,null,null,null,null,null,null,null,"~"]
["SA36",2019,"LIM332",852,null,null,null,null,null,null,null,null,null,null,null,null,null,null,null,null,null,null,"~"]
["SA36",2019,"LIM332",853,null,null,null,null,null,null,null,null,null,null,null,null,null,null,null,null,null,null,"~"]
["SA36",2019,"LIM332",854,null,null,null,null,null,null,null,null,null,null,null,null,null,null,null,null,null,null,"~"]
["SA36",2019,"LIM332",855,null,null,null,null,null,null,null,null,null,null,null,null,null,null,null,null,null,null,"~"]
["SA36",{"$f":"+MTREF","v":2019},{"$f":"LEFT(muni,(FIND(\" \",muni,1)-1))","v":"LIM332"},856,null,null,null,null,null,null,null,null,null,null,null,null,null,null,null,null,null,null,"~"]
["SA36",2019,"LIM332",857,null,null,null,null,null,null,null,null,null,null,null,null,null,null,null,null,null,null,"~"]
["SA36",2019,"LIM332",858,null,null,null,null,null,null,null,null,null,null,null,null,null,null,null,null,null,null,"~"]
["SA36",2019,"LIM332",859,null,null,null,null,null,null,null,null,null,null,null,null,null,null,null,null,null,null,"~"]
["SA36",2019,"LIM332",860,null,null,null,null,null,null,null,null,null,null,null,null,null,null,null,null,null,null,"~"]
["SA36",2019,"LIM332",861,null,null,null,null,null,null,null,null,null,null,null,null,null,null,null,null,null,null,"~"]
["SA36",2019,"LIM332",862,null,null,null,null,null,null,null,null,null,null,null,null,null,null,null,null,null,null,"~"]
["SA36",2019,"LIM332",863,null,null,null,null,null,null,null,null,null,null,null,null,null,null,null,null,null,null,"~"]
["SA36",2019,"LIM332",864,null,null,null,null,null,null,null,null,null,null,null,null,null,null,null,null,null,null,"~"]
["SA36",2019,"LIM332",865,null,null,null,null,null,null,null,null,null,null,null,null,null,null,null,null,null,null,"~"]
["SA36",2019,"LIM332",866,null,null,null,null,null,null,null,null,null,null,null,null,null,null,null,null,null,null,"~"]
["SA36",2019,"LIM332",867,null,null,null,null,null,null,null,null,null,null,null,null,null,null,null,null,null,null,"~"]
["SA36",2019,"LIM332",868,null,null,null,null,null,null,null,null,null,null,null,null,null,null,null,null,null,null,"~"]
["SA36",2019,"LIM332",869,null,null,null,null,null,null,null,null,null,null,null,null,null,null,null,null,null,null,"~"]
["SA36",2019,"LIM332",870,null,null,null,null,null,null,null,null,null,null,null,null,null,null,null,null,null,null,"~"]
["SA36",2019,"LIM332",871,null,null,null,null,null,null,null,null,null,null,null,null,null,null,null,null,null,null,"~"]
["SA36",2019,"LIM332",872,null,null,null,null,null,null,null,null,null,null,null,null,null,null,null,null,null,null,"~"]
["SA36",2019,"LIM332",873,null,null,null,null,null,null,null,null,null,null,null,null,null,null,null,null,null,null,"~"]
["SA36",2019,"LIM332",874,null,null,null,null,null,null,null,null,null,null,null,null,null,null,null,null,null,null,"~"]
["SA36",2019,"LIM332",875,null,null,null,null,null,null,null,null,null,null,null,null,null,null,null,null,null,null,"~"]
["SA36",2019,"LIM332",876,null,null,null,null,null,null,null,null,null,null,null,null,null,null,null,null,null,null,"~"]
["SA36",2019,"LIM332",877,null,null,null,null,null,null,null,null,null,null,null,null,null,null,null,null,null,null,"~"]
["SA36",2019,"LIM332",878,null,null,null,null,null,null,null,null,null,null,null,null,null,null,null,null,null,null,"~"]
["SA36",2019,"LIM332",879,null,null,null,null,null,null,null,null,null,null,null,null,null,null,null,null,null,null,"~"]
["SA36",2019,"LIM332",880,null,null,null,null,null,null,null,null,null,null,null,null,null,null,null,null,null,null,"~"]
["SA36",2019,"LIM332",881,null,null,null,null,null,null,null,null,null,null,null,null,null,null,null,null,null,null,"~"]
["SA36",2019,"LIM332",882,null,null,null,null,null,null,null,null,null,null,null,null,null,null,null,null,null,null,"~"]
["SA36",2019,"LIM332",883,null,null,null,null,null,null,null,null,null,null,null,null,null,null,null,null,null,null,"~"]
["SA36",2019,"LIM332",884,null,null,null,null,null,null,null,null,null,null,null,null,null,null,null,null,null,null,"~"]
["SA36",2019,"LIM332",885,null,null,null,null,null,null,null,null,null,null,null,null,null,null,null,null,null,null,"~"]
["SA36",2019,"LIM332",886,null,null,null,null,null,null,null,null,null,null,null,null,null,null,null,null,null,null,"~"]
["SA36",2019,"LIM332",887,null,null,null,null,null,null,null,null,null,null,null,null,null,null,null,null,null,null,"~"]
["SA36",2019,"LIM332",888,null,null,null,null,null,null,null,null,null,null,null,null,null,null,null,null,null,null,"~"]
["SA36",2019,"LIM332",889,null,null,null,null,null,null,null,null,null,null,null,null,null,null,null,null,null,null,"~"]
["SA36",2019,"LIM332",890,null,null,null,null,null,null,null,null,null,null,null,null,null,null,null,null,null,null,"~"]
["SA36",2019,"LIM332",891,null,null,null,null,null,null,null,null,null,null,null,null,null,null,null,null,null,null,"~"]
["SA36",2019,"LIM332",892,null,null,null,null,null,null,null,null,null,null,null,null,null,null,null,null,null,null,"~"]
["SA36",2019,"LIM332",893,null,null,null,null,null,null,null,null,null,null,null,null,null,null,null,null,null,null,"~"]
["SA36",2019,"LIM332",894,null,null,null,null,null,null,null,null,null,null,null,null,null,null,null,null,null,null,"~"]
["SA36",2019,"LIM332",895,null,null,null,null,null,null,null,null,null,null,null,null,null,null,null,null,null,null,"~"]
["SA36",2019,"LIM332",896,null,null,null,null,null,null,null,null,null,null,null,null,null,null,null,null,null,null,"~"]
["SA36",2019,"LIM332",897,null,null,null,null,null,null,null,null,null,null,null,null,null,null,null,null,null,null,"~"]
["SA36",2019,"LIM332",898,null,null,null,null,null,null,null,null,null,null,null,null,null,null,null,null,null,null,"~"]
["SA36",2019,"LIM332",899,null,null,null,null,null,null,null,null,null,null,null,null,null,null,null,null,null,null,"~"]
["SA36",2019,"LIM332",900,null,null,null,null,null,null,null,null,null,null,null,null,null,null,null,null,null,null,"~"]
["SA36",2019,"LIM332",901,null,null,null,null,null,null,null,null,null,null,null,null,null,null,null,null,null,null,"~"]
["SA36",2019,"LIM332",902,null,null,null,null,null,null,null,null,null,null,null,null,null,null,null,null,null,null,"~"]
["SA36",2019,"LIM332",903,null,null,null,null,null,null,null,null,null,null,null,null,null,null,null,null,null,null,"~"]
["SA36",2019,"LIM332",904,null,null,null,null,null,null,null,null,null,null,null,null,null,null,null,null,null,null,"~"]
["SA36",2019,"LIM332",905,null,null,null,null,null,null,null,null,null,null,null,null,null,null,null,null,null,null,"~"]
["SA36",2019,"LIM332",906,null,null,null,null,null,null,null,null,null,null,null,null,null,null,null,null,null,null,"~"]
["SA36",2019,"LIM332",907,null,null,null,null,null,null,null,null,null,null,null,null,null,null,null,null,null,null,"~"]
["SA36",2019,"LIM332",908,null,null,null,null,null,null,null,null,null,null,null,null,null,null,null,null,null,null,"~"]
["SA36",2019,"LIM332",909,null,null,null,null,null,null,null,null,null,null,null,null,null,null,null,null,null,null,"~"]
["SA36",2019,"LIM332",910,null,null,null,null,null,null,null,null,null,null,null,null,null,null,null,null,null,null,"~"]
["SA36",2019,"LIM332",911,null,null,null,null,null,null,null,null,null,null,null,null,null,null,null,null,null,null,"~"]
["SA36",2019,"LIM332",912,null,null,null,null,null,null,null,null,null,null,null,null,null,null,null,null,null,null,"~"]
["SA36",2019,"LIM332",913,null,null,null,null,null,null,null,null,null,null,null,null,null,null,null,null,null,null,"~"]
["SA36",2019,"LIM332",914,null,null,null,null,null,null,null,null,null,null,null,null,null,null,null,null,null,null,"~"]
["SA36",2019,"LIM332",915,null,null,null,null,null,null,null,null,null,null,null,null,null,null,null,null,null,null,"~"]
["SA36",2019,"LIM332",916,null,null,null,null,null,null,null,null,null,null,null,null,null,null,null,null,null,null,"~"]
["SA36",2019,"LIM332",917,null,null,null,null,null,null,null,null,null,null,null,null,null,null,null,null,null,null,"~"]
["SA36",2019,"LIM332",918,null,null,null,null,null,null,null,null,null,null,null,null,null,null,null,null,null,null,"~"]
["SA36",2019,"LIM332",919,null,null,null,null,null,null,null,null,null,null,null,null,null,null,null,null,null,null,"~"]
["SA36",{"$f":"+MTREF","v":2019},{"$f":"LEFT(muni,(FIND(\" \",muni,1)-1))","v":"LIM332"},920,null,null,null,null,null,null,null,null,null,null,null,null,null,null,null,null,null,null,"~"]
["SA36",2019,"LIM332",921,null,null,null,null,null,null,null,null,null,null,null,null,null,null,null,null,null,null,"~"]
["SA36",2019,"LIM332",922,null,null,null,null,null,null,null,null,null,null,null,null,null,null,null,null,null,null,"~"]
["SA36",2019,"LIM332",923,null,null,null,null,null,null,null,null,null,null,null,null,null,null,null,null,null,null,"~"]
["SA36",2019,"LIM332",924,null,null,null,null,null,null,null,null,null,null,null,null,null,null,null,null,null,null,"~"]
["SA36",2019,"LIM332",925,null,null,null,null,null,null,null,null,null,null,null,null,null,null,null,null,null,null,"~"]
["SA36",2019,"LIM332",926,null,null,null,null,null,null,null,null,null,null,null,null,null,null,null,null,null,null,"~"]
["SA36",2019,"LIM332",927,null,null,null,null,null,null,null,null,null,null,null,null,null,null,null,null,null,null,"~"]
["SA36",2019,"LIM332",928,null,null,null,null,null,null,null,null,null,null,null,null,null,null,null,null,null,null,"~"]
["SA36",2019,"LIM332",929,null,null,null,null,null,null,null,null,null,null,null,null,null,null,null,null,null,null,"~"]
["SA36",2019,"LIM332",930,null,null,null,null,null,null,null,null,null,null,null,null,null,null,null,null,null,null,"~"]
["SA36",2019,"LIM332",931,null,null,null,null,null,null,null,null,null,null,null,null,null,null,null,null,null,null,"~"]
["SA36",2019,"LIM332",932,null,null,null,null,null,null,null,null,null,null,null,null,null,null,null,null,null,null,"~"]
["SA36",2019,"LIM332",933,null,null,null,null,null,null,null,null,null,null,null,null,null,null,null,null,null,null,"~"]
["SA36",2019,"LIM332",934,null,null,null,null,null,null,null,null,null,null,null,null,null,null,null,null,null,null,"~"]
["SA36",2019,"LIM332",935,null,null,null,null,null,null,null,null,null,null,null,null,null,null,null,null,null,null,"~"]
["SA36",2019,"LIM332",936,null,null,null,null,null,null,null,null,null,null,null,null,null,null,null,null,null,null,"~"]
["SA36",2019,"LIM332",937,null,null,null,null,null,null,null,null,null,null,null,null,null,null,null,null,null,null,"~"]
["SA36",2019,"LIM332",938,null,null,null,null,null,null,null,null,null,null,null,null,null,null,null,null,null,null,"~"]
["SA36",2019,"LIM332",939,null,null,null,null,null,null,null,null,null,null,null,null,null,null,null,null,null,null,"~"]
["SA36",2019,"LIM332",940,null,null,null,null,null,null,null,null,null,null,null,null,null,null,null,null,null,null,"~"]
["SA36",2019,"LIM332",941,null,null,null,null,null,null,null,null,null,null,null,null,null,null,null,null,null,null,"~"]
["SA36",2019,"LIM332",942,null,null,null,null,null,null,null,null,null,null,null,null,null,null,null,null,null,null,"~"]
["SA36",2019,"LIM332",943,null,null,null,null,null,null,null,null,null,null,null,null,null,null,null,null,null,null,"~"]
["SA36",2019,"LIM332",944,null,null,null,null,null,null,null,null,null,null,null,null,null,null,null,null,null,null,"~"]
["SA36",2019,"LIM332",945,null,null,null,null,null,null,null,null,null,null,null,null,null,null,null,null,null,null,"~"]
["SA36",2019,"LIM332",946,null,null,null,null,null,null,null,null,null,null,null,null,null,null,null,null,null,null,"~"]
["SA36",2019,"LIM332",947,null,null,null,null,null,null,null,null,null,null,null,null,null,null,null,null,null,null,"~"]
["SA36",2019,"LIM332",948,null,null,null,null,null,null,null,null,null,null,null,null,null,null,null,null,null,null,"~"]
["SA36",2019,"LIM332",949,null,null,null,null,null,null,null,null,null,null,null,null,null,null,null,null,null,null,"~"]
["SA36",2019,"LIM332",950,null,null,null,null,null,null,null,null,null,null,null,null,null,null,null,null,null,null,"~"]
["SA36",2019,"LIM332",951,null,null,null,null,null,null,null,null,null,null,null,null,null,null,null,null,null,null,"~"]
["SA36",2019,"LIM332",952,null,null,null,null,null,null,null,null,null,null,null,null,null,null,null,null,null,null,"~"]
["SA36",2019,"LIM332",953,null,null,null,null,null,null,null,null,null,null,null,null,null,null,null,null,null,null,"~"]
["SA36",2019,"LIM332",954,null,null,null,null,null,null,null,null,null,null,null,null,null,null,null,null,null,null,"~"]
["SA36",2019,"LIM332",955,null,null,null,null,null,null,null,null,null,null,null,null,null,null,null,null,null,null,"~"]
["SA36",2019,"LIM332",956,null,null,null,null,null,null,null,null,null,null,null,null,null,null,null,null,null,null,"~"]
["SA36",2019,"LIM332",957,null,null,null,null,null,null,null,null,null,null,null,null,null,null,null,null,null,null,"~"]
["SA36",2019,"LIM332",958,null,null,null,null,null,null,null,null,null,null,null,null,null,null,null,null,null,null,"~"]
["SA36",2019,"LIM332",959,null,null,null,null,null,null,null,null,null,null,null,null,null,null,null,null,null,null,"~"]
["SA36",2019,"LIM332",960,null,null,null,null,null,null,null,null,null,null,null,null,null,null,null,null,null,null,"~"]
["SA36",2019,"LIM332",961,null,null,null,null,null,null,null,null,null,null,null,null,null,null,null,null,null,null,"~"]
["SA36",2019,"LIM332",962,null,null,null,null,null,null,null,null,null,null,null,null,null,null,null,null,null,null,"~"]
["SA36",2019,"LIM332",963,null,null,null,null,null,null,null,null,null,null,null,null,null,null,null,null,null,null,"~"]
["SA36",2019,"LIM332",964,null,null,null,null,null,null,null,null,null,null,null,null,null,null,null,null,null,null,"~"]
["SA36",2019,"LIM332",965,null,null,null,null,null,null,null,null,null,null,null,null,null,null,null,null,null,null,"~"]
["SA36",2019,"LIM332",966,null,null,null,null,null,null,null,null,null,null,null,null,null,null,null,null,null,null,"~"]
["SA36",2019,"LIM332",967,null,null,null,null,null,null,null,null,null,null,null,null,null,null,null,null,null,null,"~"]
["SA36",2019,"LIM332",968,null,null,null,null,null,null,null,null,null,null,null,null,null,null,null,null,null,null,"~"]
["SA36",2019,"LIM332",969,null,null,null,null,null,null,null,null,null,null,null,null,null,null,null,null,null,null,"~"]
["SA36",2019,"LIM332",970,null,null,null,null,null,null,null,null,null,null,null,null,null,null,null,null,null,null,"~"]
["SA36",2019,"LIM332",971,null,null,null,null,null,null,null,null,null,null,null,null,null,null,null,null,null,null,"~"]
["SA36",2019,"LIM332",972,null,null,null,null,null,null,null,null,null,null,null,null,null,null,null,null,null,null,"~"]
["SA36",2019,"LIM332",973,null,null,null,null,null,null,null,null,null,null,null,null,null,null,null,null,null,null,"~"]
["SA36",2019,"LIM332",974,null,null,null,null,null,null,null,null,null,null,null,null,null,null,null,null,null,null,"~"]
["SA36",2019,"LIM332",975,null,null,null,null,null,null,null,null,null,null,null,null,null,null,null,null,null,null,"~"]
["SA36",2019,"LIM332",976,null,null,null,null,null,null,null,null,null,null,null,null,null,null,null,null,null,null,"~"]
["SA36",2019,"LIM332",977,null,null,null,null,null,null,null,null,null,null,null,null,null,null,null,null,null,null,"~"]
["SA36",2019,"LIM332",978,null,null,null,null,null,null,null,null,null,null,null,null,null,null,null,null,null,null,"~"]
["SA36",2019,"LIM332",979,null,null,null,null,null,null,null,null,null,null,null,null,null,null,null,null,null,null,"~"]
["SA36",2019,"LIM332",980,null,null,null,null,null,null,null,null,null,null,null,null,null,null,null,null,null,null,"~"]
["SA36",2019,"LIM332",981,null,null,null,null,null,null,null,null,null,null,null,null,null,null,null,null,null,null,"~"]
["SA36",2019,"LIM332",982,null,null,null,null,null,null,null,null,null,null,null,null,null,null,null,null,null,null,"~"]
["SA36",2019,"LIM332",983,null,null,null,null,null,null,null,null,null,null,null,null,null,null,null,null,null,null,"~"]
["SA36",{"$f":"+MTREF","v":2019},{"$f":"LEFT(muni,(FIND(\" \",muni,1)-1))","v":"LIM332"},984,null,null,null,null,null,null,null,null,null,null,null,null,null,null,null,null,null,null,"~"]
["SA36",2019,"LIM332",985,null,null,null,null,null,null,null,null,null,null,null,null,null,null,null,null,null,null,"~"]
["SA36",2019,"LIM332",986,null,null,null,null,null,null,null,null,null,null,null,null,null,null,null,null,null,null,"~"]
["SA36",2019,"LIM332",987,null,null,null,null,null,null,null,null,null,null,null,null,null,null,null,null,null,null,"~"]
["SA36",2019,"LIM332",988,null,null,null,null,null,null,null,null,null,null,null,null,null,null,null,null,null,null,"~"]
["SA36",2019,"LIM332",989,null,null,null,null,null,null,null,null,null,null,null,null,null,null,null,null,null,null,"~"]
["SA36",2019,"LIM332",990,null,null,null,null,null,null,null,null,null,null,null,null,null,null,null,null,null,null,"~"]
["SA36",2019,"LIM332",991,null,null,null,null,null,null,null,null,null,null,null,null,null,null,null,null,null,null,"~"]
["SA36",2019,"LIM332",992,null,null,null,null,null,null,null,null,null,null,null,null,null,null,null,null,null,null,"~"]
["SA36",2019,"LIM332",993,null,null,null,null,null,null,null,null,null,null,null,null,null,null,null,null,null,null,"~"]
["SA36",2019,"LIM332",994,null,null,null,null,null,null,null,null,null,null,null,null,null,null,null,null,null,null,"~"]
["SA36",2019,"LIM332",995,null,null,null,null,null,null,null,null,null,null,null,null,null,null,null,null,null,null,"~"]
["SA36",2019,"LIM332",996,null,null,null,null,null,null,null,null,null,null,null,null,null,null,null,null,null,null,"~"]
["SA36",2019,"LIM332",997,null,null,null,null,null,null,null,null,null,null,null,null,null,null,null,null,null,null,"~"]
["SA36",2019,"LIM332",998,null,null,null,null,null,null,null,null,null,null,null,null,null,null,null,null,null,null,"~"]
["SA36",2019,"LIM332",999,null,null,null,null,null,null,null,null,null,null,null,null,null,null,null,null,null,null,"~"]
["SA36",2019,"LIM332",1000,null,null,null,null,null,null,null,null,null,null,null,null,null,null,null,null,null,null,"~"]
["SA37",2019,"LIM332",1,null,null,null,null,null,null,null,null,null,null,null,null,null,null,null,null,null,null,"~"]
["SA37",2019,"LIM332",2,null,null,null,null,null,null,null,null,null,null,null,null,null,null,null,null,null,null,"~"]
["SA37",2019,"LIM332",3,null,null,null,null,null,null,null,null,null,null,null,null,null,null,null,null,null,null,"~"]
["SA37",2019,"LIM332",4,null,null,null,null,null,null,null,null,null,null,null,null,null,null,null,null,null,null,"~"]
["SA37",2019,"LIM332",5,null,null,null,null,null,null,null,null,null,null,null,null,null,null,null,null,null,null,"~"]
["SA37",2019,"LIM332",6,null,null,null,null,null,null,null,null,null,null,null,null,null,null,null,null,null,null,"~"]
["SA37",2019,"LIM332",7,null,null,null,null,null,null,null,null,null,null,null,null,null,null,null,null,null,null,"~"]
["SA37",2019,"LIM332",8,null,null,null,null,null,null,null,null,null,null,null,null,null,null,null,null,null,null,"~"]
["SA37",2019,"LIM332",9,null,null,null,null,null,null,null,null,null,null,null,null,null,null,null,null,null,null,"~"]
["SA37",2019,"LIM332",10,null,null,null,null,null,null,null,null,null,null,null,null,null,null,null,null,null,null,"~"]
["SA37",2019,"LIM332",11,null,null,null,null,null,null,null,null,null,null,null,null,null,null,null,null,null,null,"~"]
["SA37",2019,"LIM332",12,null,null,null,null,null,null,null,null,null,null,null,null,null,null,null,null,null,null,"~"]
["SA37",2019,"LIM332",13,null,null,null,null,null,null,null,null,null,null,null,null,null,null,null,null,null,null,"~"]
["SA37",2019,"LIM332",14,null,null,null,null,null,null,null,null,null,null,null,null,null,null,null,null,null,null,"~"]
["SA37",2019,"LIM332",15,null,null,null,null,null,null,null,null,null,null,null,null,null,null,null,null,null,null,"~"]
["SA37",2019,"LIM332",16,null,null,null,null,null,null,null,null,null,null,null,null,null,null,null,null,null,null,"~"]
["SA37",2019,"LIM332",17,null,null,null,null,null,null,null,null,null,null,null,null,null,null,null,null,null,null,"~"]
["SA37",2019,"LIM332",18,null,null,null,null,null,null,null,null,null,null,null,null,null,null,null,null,null,null,"~"]
["SA37",2019,"LIM332",19,null,null,null,null,null,null,null,null,null,null,null,null,null,null,null,null,null,null,"~"]
["SA37",2019,"LIM332",20,null,null,null,null,null,null,null,null,null,null,null,null,null,null,null,null,null,null,"~"]
["SA37",2019,"LIM332",21,null,null,null,null,null,null,null,null,null,null,null,null,null,null,null,null,null,null,"~"]
["SA37",2019,"LIM332",22,null,null,null,null,null,null,null,null,null,null,null,null,null,null,null,null,null,null,"~"]
["SA37",2019,"LIM332",23,null,null,null,null,null,null,null,null,null,null,null,null,null,null,null,null,null,null,"~"]
["SA37",2019,"LIM332",24,null,null,null,null,null,null,null,null,null,null,null,null,null,null,null,null,null,null,"~"]
["SA37",2019,"LIM332",25,null,null,null,null,null,null,null,null,null,null,null,null,null,null,null,null,null,null,"~"]
["SA37",2019,"LIM332",26,null,null,null,null,null,null,null,null,null,null,null,null,null,null,null,null,null,null,"~"]
["SA37",2019,"LIM332",27,null,null,null,null,null,null,null,null,null,null,null,null,null,null,null,null,null,null,"~"]
["SA37",2019,"LIM332",28,null,null,null,null,null,null,null,null,null,null,null,null,null,null,null,null,null,null,"~"]
["SA37",2019,"LIM332",29,null,null,null,null,null,null,null,null,null,null,null,null,null,null,null,null,null,null,"~"]
["SA37",2019,"LIM332",30,null,null,null,null,null,null,null,null,null,null,null,null,null,null,null,null,null,null,"~"]
["SA37",2019,"LIM332",31,null,null,null,null,null,null,null,null,null,null,null,null,null,null,null,null,null,null,"~"]
["SA37",2019,"LIM332",32,null,null,null,null,null,null,null,null,null,null,null,null,null,null,null,null,null,null,"~"]
["SA37",2019,"LIM332",33,null,null,null,null,null,null,null,null,null,null,null,null,null,null,null,null,null,null,"~"]
["SA37",2019,"LIM332",34,null,null,null,null,null,null,null,null,null,null,null,null,null,null,null,null,null,null,"~"]
["SA37",2019,"LIM332",35,null,null,null,null,null,null,null,null,null,null,null,null,null,null,null,null,null,null,"~"]
["SA37",2019,"LIM332",36,null,null,null,null,null,null,null,null,null,null,null,null,null,null,null,null,null,null,"~"]
["SA37",2019,"LIM332",37,null,null,null,null,null,null,null,null,null,null,null,null,null,null,null,null,null,null,"~"]
["SA37",2019,"LIM332",38,null,null,null,null,null,null,null,null,null,null,null,null,null,null,null,null,null,null,"~"]
["SA37",2019,"LIM332",39,null,null,null,null,null,null,null,null,null,null,null,null,null,null,null,null,null,null,"~"]
["SA37",2019,"LIM332",40,null,null,null,null,null,null,null,null,null,null,null,null,null,null,null,null,null,null,"~"]
["SA37",2019,"LIM332",41,null,null,null,null,null,null,null,null,null,null,null,null,null,null,null,null,null,null,"~"]
["SA37",2019,"LIM332",42,null,null,null,null,null,null,null,null,null,null,null,null,null,null,null,null,null,null,"~"]
["SA37",2019,"LIM332",43,null,null,null,null,null,null,null,null,null,null,null,null,null,null,null,null,null,null,"~"]
["SA37",2019,"LIM332",44,null,null,null,null,null,null,null,null,null,null,null,null,null,null,null,null,null,null,"~"]
["SA37",2019,"LIM332",45,null,null,null,null,null,null,null,null,null,null,null,null,null,null,null,null,null,null,"~"]
["SA37",2019,"LIM332",46,null,null,null,null,null,null,null,null,null,null,null,null,null,null,null,null,null,null,"~"]
["SA37",2019,"LIM332",47,null,null,null,null,null,null,null,null,null,null,null,null,null,null,null,null,null,null,"~"]
["SA37",{"$f":"+MTREF","v":2019},{"$f":"LEFT(muni,(FIND(\" \",muni,1)-1))","v":"LIM332"},48,null,null,null,null,null,null,null,null,null,null,null,null,null,null,null,null,null,null,"~"]
["SA37",2019,"LIM332",49,null,null,null,null,null,null,null,null,null,null,null,null,null,null,null,null,null,null,"~"]
["SA37",2019,"LIM332",50,null,null,null,null,null,null,null,null,null,null,null,null,null,null,null,null,null,null,"~"]
["SA37",2019,"LIM332",51,null,null,null,null,null,null,null,null,null,null,null,null,null,null,null,null,null,null,"~"]
["SA37",2019,"LIM332",52,null,null,null,null,null,null,null,null,null,null,null,null,null,null,null,null,null,null,"~"]
["SA37",2019,"LIM332",53,null,null,null,null,null,null,null,null,null,null,null,null,null,null,null,null,null,null,"~"]
["SA37",2019,"LIM332",54,null,null,null,null,null,null,null,null,null,null,null,null,null,null,null,null,null,null,"~"]
["SA37",2019,"LIM332",55,null,null,null,null,null,null,null,null,null,null,null,null,null,null,null,null,null,null,"~"]
["SA37",2019,"LIM332",56,null,null,null,null,null,null,null,null,null,null,null,null,null,null,null,null,null,null,"~"]
["SA37",2019,"LIM332",57,null,null,null,null,null,null,null,null,null,null,null,null,null,null,null,null,null,null,"~"]
["SA37",2019,"LIM332",58,null,null,null,null,null,null,null,null,null,null,null,null,null,null,null,null,null,null,"~"]
["SA37",2019,"LIM332",59,null,null,null,null,null,null,null,null,null,null,null,null,null,null,null,null,null,null,"~"]
["SA37",2019,"LIM332",60,null,null,null,null,null,null,null,null,null,null,null,null,null,null,null,null,null,null,"~"]
["SA37",2019,"LIM332",61,null,null,null,null,null,null,null,null,null,null,null,null,null,null,null,null,null,null,"~"]
["SA37",2019,"LIM332",62,null,null,null,null,null,null,null,null,null,null,null,null,null,null,null,null,null,null,"~"]
["SA37",2019,"LIM332",63,null,null,null,null,null,null,null,null,null,null,null,null,null,null,null,null,null,null,"~"]
["SA37",2019,"LIM332",64,null,null,null,null,null,null,null,null,null,null,null,null,null,null,null,null,null,null,"~"]
["SA37",2019,"LIM332",65,null,null,null,null,null,null,null,null,null,null,null,null,null,null,null,null,null,null,"~"]
["SA37",2019,"LIM332",66,null,null,null,null,null,null,null,null,null,null,null,null,null,null,null,null,null,null,"~"]
["SA37",2019,"LIM332",67,null,null,null,null,null,null,null,null,null,null,null,null,null,null,null,null,null,null,"~"]
["SA37",2019,"LIM332",68,null,null,null,null,null,null,null,null,null,null,null,null,null,null,null,null,null,null,"~"]
["SA37",2019,"LIM332",69,null,null,null,null,null,null,null,null,null,null,null,null,null,null,null,null,null,null,"~"]
["SA37",2019,"LIM332",70,null,null,null,null,null,null,null,null,null,null,null,null,null,null,null,null,null,null,"~"]
["SA37",2019,"LIM332",71,null,null,null,null,null,null,null,null,null,null,null,null,null,null,null,null,null,null,"~"]
["SA37",2019,"LIM332",72,null,null,null,null,null,null,null,null,null,null,null,null,null,null,null,null,null,null,"~"]
["SA37",2019,"LIM332",73,null,null,null,null,null,null,null,null,null,null,null,null,null,null,null,null,null,null,"~"]
["SA37",2019,"LIM332",74,null,null,null,null,null,null,null,null,null,null,null,null,null,null,null,null,null,null,"~"]
["SA37",2019,"LIM332",75,null,null,null,null,null,null,null,null,null,null,null,null,null,null,null,null,null,null,"~"]
["SA37",2019,"LIM332",76,null,null,null,null,null,null,null,null,null,null,null,null,null,null,null,null,null,null,"~"]
["SA37",2019,"LIM332",77,null,null,null,null,null,null,null,null,null,null,null,null,null,null,null,null,null,null,"~"]
["SA37",2019,"LIM332",78,null,null,null,null,null,null,null,null,null,null,null,null,null,null,null,null,null,null,"~"]
["SA37",2019,"LIM332",79,null,null,null,null,null,null,null,null,null,null,null,null,null,null,null,null,null,null,"~"]
["SA37",2019,"LIM332",80,null,null,null,null,null,null,null,null,null,null,null,null,null,null,null,null,null,null,"~"]
["SA37",2019,"LIM332",81,null,null,null,null,null,null,null,null,null,null,null,null,null,null,null,null,null,null,"~"]
["SA37",2019,"LIM332",82,null,null,null,null,null,null,null,null,null,null,null,null,null,null,null,null,null,null,"~"]
["SA37",2019,"LIM332",83,null,null,null,null,null,null,null,null,null,null,null,null,null,null,null,null,null,null,"~"]
["SA37",2019,"LIM332",84,null,null,null,null,null,null,null,null,null,null,null,null,null,null,null,null,null,null,"~"]
["SA37",2019,"LIM332",85,null,null,null,null,null,null,null,null,null,null,null,null,null,null,null,null,null,null,"~"]
["SA37",2019,"LIM332",86,null,null,null,null,null,null,null,null,null,null,null,null,null,null,null,null,null,null,"~"]
["SA37",2019,"LIM332",87,null,null,null,null,null,null,null,null,null,null,null,null,null,null,null,null,null,null,"~"]
["SA37",2019,"LIM332",88,null,null,null,null,null,null,null,null,null,null,null,null,null,null,null,null,null,null,"~"]
["SA37",2019,"LIM332",89,null,null,null,null,null,null,null,null,null,null,null,null,null,null,null,null,null,null,"~"]
["SA37",2019,"LIM332",90,null,null,null,null,null,null,null,null,null,null,null,null,null,null,null,null,null,null,"~"]
["SA37",2019,"LIM332",91,null,null,null,null,null,null,null,null,null,null,null,null,null,null,null,null,null,null,"~"]
["SA37",2019,"LIM332",92,null,null,null,null,null,null,null,null,null,null,null,null,null,null,null,null,null,null,"~"]
["SA37",2019,"LIM332",93,null,null,null,null,null,null,null,null,null,null,null,null,null,null,null,null,null,null,"~"]
["SA37",2019,"LIM332",94,null,null,null,null,null,null,null,null,null,null,null,null,null,null,null,null,null,null,"~"]
["SA37",2019,"LIM332",95,null,null,null,null,null,null,null,null,null,null,null,null,null,null,null,null,null,null,"~"]
["SA37",2019,"LIM332",96,null,null,null,null,null,null,null,null,null,null,null,null,null,null,null,null,null,null,"~"]
["SA37",2019,"LIM332",97,null,null,null,null,null,null,null,null,null,null,null,null,null,null,null,null,null,null,"~"]
["SA37",2019,"LIM332",98,null,null,null,null,null,null,null,null,null,null,null,null,null,null,null,null,null,null,"~"]
["SA37",2019,"LIM332",99,null,null,null,null,null,null,null,null,null,null,null,null,null,null,null,null,null,null,"~"]
["SA37",2019,"LIM332",100,null,null,null,null,null,null,null,null,null,null,null,null,null,null,null,null,null,null,"~"]
["SA37",2019,"LIM332",101,null,null,null,null,null,null,null,null,null,null,null,null,null,null,null,null,null,null,"~"]
["SA37",2019,"LIM332",102,null,null,null,null,null,null,null,null,null,null,null,null,null,null,null,null,null,null,"~"]
["SA37",2019,"LIM332",103,null,null,null,null,null,null,null,null,null,null,null,null,null,null,null,null,null,null,"~"]
["SA37",2019,"LIM332",104,null,null,null,null,null,null,null,null,null,null,null,null,null,null,null,null,null,null,"~"]
["SA37",2019,"LIM332",105,null,null,null,null,null,null,null,null,null,null,null,null,null,null,null,null,null,null,"~"]
["SA37",2019,"LIM332",106,null,null,null,null,null,null,null,null,null,null,null,null,null,null,null,null,null,null,"~"]
["SA37",2019,"LIM332",107,null,null,null,null,null,null,null,null,null,null,null,null,null,null,null,null,null,null,"~"]
["SA37",2019,"LIM332",108,null,null,null,null,null,null,null,null,null,null,null,null,null,null,null,null,null,null,"~"]
["SA37",2019,"LIM332",109,null,null,null,null,null,null,null,null,null,null,null,null,null,null,null,null,null,null,"~"]
["SA37",2019,"LIM332",110,null,null,null,null,null,null,null,null,null,null,null,null,null,null,null,null,null,null,"~"]
["SA37",2019,"LIM332",111,null,null,null,null,null,null,null,null,null,null,null,null,null,null,null,null,null,null,"~"]
["SA37",{"$f":"+MTREF","v":2019},{"$f":"LEFT(muni,(FIND(\" \",muni,1)-1))","v":"LIM332"},112,null,null,null,null,null,null,null,null,null,null,null,null,null,null,null,null,null,null,"~"]
["SA37",2019,"LIM332",113,null,null,null,null,null,null,null,null,null,null,null,null,null,null,null,null,null,null,"~"]
["SA37",2019,"LIM332",114,null,null,null,null,null,null,null,null,null,null,null,null,null,null,null,null,null,null,"~"]
["SA37",2019,"LIM332",115,null,null,null,null,null,null,null,null,null,null,null,null,null,null,null,null,null,null,"~"]
["SA37",2019,"LIM332",116,null,null,null,null,null,null,null,null,null,null,null,null,null,null,null,null,null,null,"~"]
["SA37",2019,"LIM332",117,null,null,null,null,null,null,null,null,null,null,null,null,null,null,null,null,null,null,"~"]
["SA37",2019,"LIM332",118,null,null,null,null,null,null,null,null,null,null,null,null,null,null,null,null,null,null,"~"]
["SA37",2019,"LIM332",119,null,null,null,null,null,null,null,null,null,null,null,null,null,null,null,null,null,null,"~"]
["SA37",2019,"LIM332",120,null,null,null,null,null,null,null,null,null,null,null,null,null,null,null,null,null,null,"~"]
["SA37",2019,"LIM332",121,null,null,null,null,null,null,null,null,null,null,null,null,null,null,null,null,null,null,"~"]
["SA37",2019,"LIM332",122,null,null,null,null,null,null,null,null,null,null,null,null,null,null,null,null,null,null,"~"]
["SA37",2019,"LIM332",123,null,null,null,null,null,null,null,null,null,null,null,null,null,null,null,null,null,null,"~"]
["SA37",2019,"LIM332",124,null,null,null,null,null,null,null,null,null,null,null,null,null,null,null,null,null,null,"~"]
["SA37",2019,"LIM332",125,null,null,null,null,null,null,null,null,null,null,null,null,null,null,null,null,null,null,"~"]
["SA37",2019,"LIM332",126,null,null,null,null,null,null,null,null,null,null,null,null,null,null,null,null,null,null,"~"]
["SA37",2019,"LIM332",127,null,null,null,null,null,null,null,null,null,null,null,null,null,null,null,null,null,null,"~"]
["SA37",2019,"LIM332",128,null,null,null,null,null,null,null,null,null,null,null,null,null,null,null,null,null,null,"~"]
["SA37",2019,"LIM332",129,null,null,null,null,null,null,null,null,null,null,null,null,null,null,null,null,null,null,"~"]
["SA37",2019,"LIM332",130,null,null,null,null,null,null,null,null,null,null,null,null,null,null,null,null,null,null,"~"]
["SA37",2019,"LIM332",131,null,null,null,null,null,null,null,null,null,null,null,null,null,null,null,null,null,null,"~"]
["SA37",2019,"LIM332",132,null,null,null,null,null,null,null,null,null,null,null,null,null,null,null,null,null,null,"~"]
["SA37",2019,"LIM332",133,null,null,null,null,null,null,null,null,null,null,null,null,null,null,null,null,null,null,"~"]
["SA37",2019,"LIM332",134,null,null,null,null,null,null,null,null,null,null,null,null,null,null,null,null,null,null,"~"]
["SA37",2019,"LIM332",135,null,null,null,null,null,null,null,null,null,null,null,null,null,null,null,null,null,null,"~"]
["SA37",2019,"LIM332",136,null,null,null,null,null,null,null,null,null,null,null,null,null,null,null,null,null,null,"~"]
["SA37",2019,"LIM332",137,null,null,null,null,null,null,null,null,null,null,null,null,null,null,null,null,null,null,"~"]
["SA37",2019,"LIM332",138,null,null,null,null,null,null,null,null,null,null,null,null,null,null,null,null,null,null,"~"]
["SA37",2019,"LIM332",139,null,null,null,null,null,null,null,null,null,null,null,null,null,null,null,null,null,null,"~"]
["SA37",2019,"LIM332",140,null,null,null,null,null,null,null,null,null,null,null,null,null,null,null,null,null,null,"~"]
["SA37",2019,"LIM332",141,null,null,null,null,null,null,null,null,null,null,null,null,null,null,null,null,null,null,"~"]
["SA37",2019,"LIM332",142,null,null,null,null,null,null,null,null,null,null,null,null,null,null,null,null,null,null,"~"]
["SA37",2019,"LIM332",143,null,null,null,null,null,null,null,null,null,null,null,null,null,null,null,null,null,null,"~"]
["SA37",2019,"LIM332",144,null,null,null,null,null,null,null,null,null,null,null,null,null,null,null,null,null,null,"~"]
["SA37",2019,"LIM332",145,null,null,null,null,null,null,null,null,null,null,null,null,null,null,null,null,null,null,"~"]
["SA37",2019,"LIM332",146,null,null,null,null,null,null,null,null,null,null,null,null,null,null,null,null,null,null,"~"]
["SA37",2019,"LIM332",147,null,null,null,null,null,null,null,null,null,null,null,null,null,null,null,null,null,null,"~"]
["SA37",2019,"LIM332",148,null,null,null,null,null,null,null,null,null,null,null,null,null,null,null,null,null,null,"~"]
["SA37",2019,"LIM332",149,null,null,null,null,null,null,null,null,null,null,null,null,null,null,null,null,null,null,"~"]
["SA37",2019,"LIM332",150,null,null,null,null,null,null,null,null,null,null,null,null,null,null,null,null,null,null,"~"]
["SA37",2019,"LIM332",151,null,null,null,null,null,null,null,null,null,null,null,null,null,null,null,null,null,null,"~"]
["SA37",2019,"LIM332",152,null,null,null,null,null,null,null,null,null,null,null,null,null,null,null,null,null,null,"~"]
["SA37",2019,"LIM332",153,null,null,null,null,null,null,null,null,null,null,null,null,null,null,null,null,null,null,"~"]
["SA37",2019,"LIM332",154,null,null,null,null,null,null,null,null,null,null,null,null,null,null,null,null,null,null,"~"]
["SA37",2019,"LIM332",155,null,null,null,null,null,null,null,null,null,null,null,null,null,null,null,null,null,null,"~"]
["SA37",2019,"LIM332",156,null,null,null,null,null,null,null,null,null,null,null,null,null,null,null,null,null,null,"~"]
["SA37",2019,"LIM332",157,null,null,null,null,null,null,null,null,null,null,null,null,null,null,null,null,null,null,"~"]
["SA37",2019,"LIM332",158,null,null,null,null,null,null,null,null,null,null,null,null,null,null,null,null,null,null,"~"]
["SA37",2019,"LIM332",159,null,null,null,null,null,null,null,null,null,null,null,null,null,null,null,null,null,null,"~"]
["SA37",2019,"LIM332",160,null,null,null,null,null,null,null,null,null,null,null,null,null,null,null,null,null,null,"~"]
["SA37",2019,"LIM332",161,null,null,null,null,null,null,null,null,null,null,null,null,null,null,null,null,null,null,"~"]
["SA37",2019,"LIM332",162,null,null,null,null,null,null,null,null,null,null,null,null,null,null,null,null,null,null,"~"]
["SA37",2019,"LIM332",163,null,null,null,null,null,null,null,null,null,null,null,null,null,null,null,null,null,null,"~"]
["SA37",2019,"LIM332",164,null,null,null,null,null,null,null,null,null,null,null,null,null,null,null,null,null,null,"~"]
["SA37",2019,"LIM332",165,null,null,null,null,null,null,null,null,null,null,null,null,null,null,null,null,null,null,"~"]
["SA37",2019,"LIM332",166,null,null,null,null,null,null,null,null,null,null,null,null,null,null,null,null,null,null,"~"]
["SA37",2019,"LIM332",167,null,null,null,null,null,null,null,null,null,null,null,null,null,null,null,null,null,null,"~"]
["SA37",2019,"LIM332",168,null,null,null,null,null,null,null,null,null,null,null,null,null,null,null,null,null,null,"~"]
["SA37",2019,"LIM332",169,null,null,null,null,null,null,null,null,null,null,null,null,null,null,null,null,null,null,"~"]
["SA37",2019,"LIM332",170,null,null,null,null,null,null,null,null,null,null,null,null,null,null,null,null,null,null,"~"]
["SA37",2019,"LIM332",171,null,null,null,null,null,null,null,null,null,null,null,null,null,null,null,null,null,null,"~"]
["SA37",2019,"LIM332",172,null,null,null,null,null,null,null,null,null,null,null,null,null,null,null,null,null,null,"~"]
["SA37",2019,"LIM332",173,null,null,null,null,null,null,null,null,null,null,null,null,null,null,null,null,null,null,"~"]
["SA37",2019,"LIM332",174,null,null,null,null,null,null,null,null,null,null,null,null,null,null,null,null,null,null,"~"]
["SA37",2019,"LIM332",175,null,null,null,null,null,null,null,null,null,null,null,null,null,null,null,null,null,null,"~"]
["SA37",{"$f":"+MTREF","v":2019},{"$f":"LEFT(muni,(FIND(\" \",muni,1)-1))","v":"LIM332"},176,null,null,null,null,null,null,null,null,null,null,null,null,null,null,null,null,null,null,"~"]
["SA37",2019,"LIM332",177,null,null,null,null,null,null,null,null,null,null,null,null,null,null,null,null,null,null,"~"]
["SA37",2019,"LIM332",178,null,null,null,null,null,null,null,null,null,null,null,null,null,null,null,null,null,null,"~"]
["SA37",2019,"LIM332",179,null,null,null,null,null,null,null,null,null,null,null,null,null,null,null,null,null,null,"~"]
["SA37",2019,"LIM332",180,null,null,null,null,null,null,null,null,null,null,null,null,null,null,null,null,null,null,"~"]
["SA37",2019,"LIM332",181,null,null,null,null,null,null,null,null,null,null,null,null,null,null,null,null,null,null,"~"]
["SA37",2019,"LIM332",182,null,null,null,null,null,null,null,null,null,null,null,null,null,null,null,null,null,null,"~"]
["SA37",2019,"LIM332",183,null,null,null,null,null,null,null,null,null,null,null,null,null,null,null,null,null,null,"~"]
["SA37",2019,"LIM332",184,null,null,null,null,null,null,null,null,null,null,null,null,null,null,null,null,null,null,"~"]
["SA37",2019,"LIM332",185,null,null,null,null,null,null,null,null,null,null,null,null,null,null,null,null,null,null,"~"]
["SA37",2019,"LIM332",186,null,null,null,null,null,null,null,null,null,null,null,null,null,null,null,null,null,null,"~"]
["SA37",2019,"LIM332",187,null,null,null,null,null,null,null,null,null,null,null,null,null,null,null,null,null,null,"~"]
["SA37",2019,"LIM332",188,null,null,null,null,null,null,null,null,null,null,null,null,null,null,null,null,null,null,"~"]
["SA37",2019,"LIM332",189,null,null,null,null,null,null,null,null,null,null,null,null,null,null,null,null,null,null,"~"]
["SA37",2019,"LIM332",190,null,null,null,null,null,null,null,null,null,null,null,null,null,null,null,null,null,null,"~"]
["SA37",2019,"LIM332",191,null,null,null,null,null,null,null,null,null,null,null,null,null,null,null,null,null,null,"~"]
["SA37",2019,"LIM332",192,null,null,null,null,null,null,null,null,null,null,null,null,null,null,null,null,null,null,"~"]
["SA37",2019,"LIM332",193,null,null,null,null,null,null,null,null,null,null,null,null,null,null,null,null,null,null,"~"]
["SA37",2019,"LIM332",194,null,null,null,null,null,null,null,null,null,null,null,null,null,null,null,null,null,null,"~"]
["SA37",2019,"LIM332",195,null,null,null,null,null,null,null,null,null,null,null,null,null,null,null,null,null,null,"~"]
["SA37",2019,"LIM332",196,null,null,null,null,null,null,null,null,null,null,null,null,null,null,null,null,null,null,"~"]
["SA37",2019,"LIM332",197,null,null,null,null,null,null,null,null,null,null,null,null,null,null,null,null,null,null,"~"]
["SA37",2019,"LIM332",198,null,null,null,null,null,null,null,null,null,null,null,null,null,null,null,null,null,null,"~"]
["SA37",2019,"LIM332",199,null,null,null,null,null,null,null,null,null,null,null,null,null,null,null,null,null,null,"~"]
["SA37",2019,"LIM332",200,null,null,null,null,null,null,null,null,null,null,null,null,null,null,null,null,null,null,"~"]
["SA37",2019,"LIM332",201,null,null,null,null,null,null,null,null,null,null,null,null,null,null,null,null,null,null,"~"]
["SA37",2019,"LIM332",202,null,null,null,null,null,null,null,null,null,null,null,null,null,null,null,null,null,null,"~"]
["SA37",2019,"LIM332",203,null,null,null,null,null,null,null,null,null,null,null,null,null,null,null,null,null,null,"~"]
["SA37",2019,"LIM332",204,null,null,null,null,null,null,null,null,null,null,null,null,null,null,null,null,null,null,"~"]
["SA37",2019,"LIM332",205,null,null,null,null,null,null,null,null,null,null,null,null,null,null,null,null,null,null,"~"]
["SA37",2019,"LIM332",206,null,null,null,null,null,null,null,null,null,null,null,null,null,null,null,null,null,null,"~"]
["SA37",2019,"LIM332",207,null,null,null,null,null,null,null,null,null,null,null,null,null,null,null,null,null,null,"~"]
["SA37",2019,"LIM332",208,null,null,null,null,null,null,null,null,null,null,null,null,null,null,null,null,null,null,"~"]
["SA37",2019,"LIM332",209,null,null,null,null,null,null,null,null,null,null,null,null,null,null,null,null,null,null,"~"]
["SA37",2019,"LIM332",210,null,null,null,null,null,null,null,null,null,null,null,null,null,null,null,null,null,null,"~"]
["SA37",2019,"LIM332",211,null,null,null,null,null,null,null,null,null,null,null,null,null,null,null,null,null,null,"~"]
["SA37",2019,"LIM332",212,null,null,null,null,null,null,null,null,null,null,null,null,null,null,null,null,null,null,"~"]
["SA37",2019,"LIM332",213,null,null,null,null,null,null,null,null,null,null,null,null,null,null,null,null,null,null,"~"]
["SA37",2019,"LIM332",214,null,null,null,null,null,null,null,null,null,null,null,null,null,null,null,null,null,null,"~"]
["SA37",2019,"LIM332",215,null,null,null,null,null,null,null,null,null,null,null,null,null,null,null,null,null,null,"~"]
["SA37",2019,"LIM332",216,null,null,null,null,null,null,null,null,null,null,null,null,null,null,null,null,null,null,"~"]
["SA37",2019,"LIM332",217,null,null,null,null,null,null,null,null,null,null,null,null,null,null,null,null,null,null,"~"]
["SA37",2019,"LIM332",218,null,null,null,null,null,null,null,null,null,null,null,null,null,null,null,null,null,null,"~"]
["SA37",2019,"LIM332",219,null,null,null,null,null,null,null,null,null,null,null,null,null,null,null,null,null,null,"~"]
["SA37",2019,"LIM332",220,null,null,null,null,null,null,null,null,null,null,null,null,null,null,null,null,null,null,"~"]
["SA37",2019,"LIM332",221,null,null,null,null,null,null,null,null,null,null,null,null,null,null,null,null,null,null,"~"]
["SA37",2019,"LIM332",222,null,null,null,null,null,null,null,null,null,null,null,null,null,null,null,null,null,null,"~"]
["SA37",2019,"LIM332",223,null,null,null,null,null,null,null,null,null,null,null,null,null,null,null,null,null,null,"~"]
["SA37",2019,"LIM332",224,null,null,null,null,null,null,null,null,null,null,null,null,null,null,null,null,null,null,"~"]
["SA37",2019,"LIM332",225,null,null,null,null,null,null,null,null,null,null,null,null,null,null,null,null,null,null,"~"]
["SA37",2019,"LIM332",226,null,null,null,null,null,null,null,null,null,null,null,null,null,null,null,null,null,null,"~"]
["SA37",2019,"LIM332",227,null,null,null,null,null,null,null,null,null,null,null,null,null,null,null,null,null,null,"~"]
["SA37",2019,"LIM332",228,null,null,null,null,null,null,null,null,null,null,null,null,null,null,null,null,null,null,"~"]
["SA37",2019,"LIM332",229,null,null,null,null,null,null,null,null,null,null,null,null,null,null,null,null,null,null,"~"]
["SA37",2019,"LIM332",230,null,null,null,null,null,null,null,null,null,null,null,null,null,null,null,null,null,null,"~"]
["SA37",2019,"LIM332",231,null,null,null,null,null,null,null,null,null,null,null,null,null,null,null,null,null,null,"~"]
["SA37",2019,"LIM332",232,null,null,null,null,null,null,null,null,null,null,null,null,null,null,null,null,null,null,"~"]
["SA37",2019,"LIM332",233,null,null,null,null,null,null,null,null,null,null,null,null,null,null,null,null,null,null,"~"]
["SA37",2019,"LIM332",234,null,null,null,null,null,null,null,null,null,null,null,null,null,null,null,null,null,null,"~"]
["SA37",2019,"LIM332",235,null,null,null,null,null,null,null,null,null,null,null,null,null,null,null,null,null,null,"~"]
["SA37",2019,"LIM332",236,null,null,null,null,null,null,null,null,null,null,null,null,null,null,null,null,null,null,"~"]
["SA37",2019,"LIM332",237,null,null,null,null,null,null,null,null,null,null,null,null,null,null,null,null,null,null,"~"]
["SA37",2019,"LIM332",238,null,null,null,null,null,null,null,null,null,null,null,null,null,null,null,null,null,null,"~"]
["SA37",2019,"LIM332",239,null,null,null,null,null,null,null,null,null,null,null,null,null,null,null,null,null,null,"~"]
["SA37",{"$f":"+MTREF","v":2019},{"$f":"LEFT(muni,(FIND(\" \",muni,1)-1))","v":"LIM332"},240,null,null,null,null,null,null,null,null,null,null,null,null,null,null,null,null,null,null,"~"]
["SA37",2019,"LIM332",241,null,null,null,null,null,null,null,null,null,null,null,null,null,null,null,null,null,null,"~"]
["SA37",2019,"LIM332",242,null,null,null,null,null,null,null,null,null,null,null,null,null,null,null,null,null,null,"~"]
["SA37",2019,"LIM332",243,null,null,null,null,null,null,null,null,null,null,null,null,null,null,null,null,null,null,"~"]
["SA37",2019,"LIM332",244,null,null,null,null,null,null,null,null,null,null,null,null,null,null,null,null,null,null,"~"]
["SA37",2019,"LIM332",245,null,null,null,null,null,null,null,null,null,null,null,null,null,null,null,null,null,null,"~"]
["SA37",2019,"LIM332",246,null,null,null,null,null,null,null,null,null,null,null,null,null,null,null,null,null,null,"~"]
["SA37",2019,"LIM332",247,null,null,null,null,null,null,null,null,null,null,null,null,null,null,null,null,null,null,"~"]
["SA37",2019,"LIM332",248,null,null,null,null,null,null,null,null,null,null,null,null,null,null,null,null,null,null,"~"]
["SA37",2019,"LIM332",249,null,null,null,null,null,null,null,null,null,null,null,null,null,null,null,null,null,null,"~"]
["SA37",2019,"LIM332",250,null,null,null,null,null,null,null,null,null,null,null,null,null,null,null,null,null,null,"~"]
["SA37",2019,"LIM332",251,null,null,null,null,null,null,null,null,null,null,null,null,null,null,null,null,null,null,"~"]
["SA37",2019,"LIM332",252,null,null,null,null,null,null,null,null,null,null,null,null,null,null,null,null,null,null,"~"]
["SA37",2019,"LIM332",253,null,null,null,null,null,null,null,null,null,null,null,null,null,null,null,null,null,null,"~"]
["SA37",2019,"LIM332",254,null,null,null,null,null,null,null,null,null,null,null,null,null,null,null,null,null,null,"~"]
["SA37",2019,"LIM332",255,null,null,null,null,null,null,null,null,null,null,null,null,null,null,null,null,null,null,"~"]
["SA37",2019,"LIM332",256,null,null,null,null,null,null,null,null,null,null,null,null,null,null,null,null,null,null,"~"]
["SA37",2019,"LIM332",257,null,null,null,null,null,null,null,null,null,null,null,null,null,null,null,null,null,null,"~"]
["SA37",2019,"LIM332",258,null,null,null,null,null,null,null,null,null,null,null,null,null,null,null,null,null,null,"~"]
["SA37",2019,"LIM332",259,null,null,null,null,null,null,null,null,null,null,null,null,null,null,null,null,null,null,"~"]
["SA37",2019,"LIM332",260,null,null,null,null,null,null,null,null,null,null,null,null,null,null,null,null,null,null,"~"]
["SA37",2019,"LIM332",261,null,null,null,null,null,null,null,null,null,null,null,null,null,null,null,null,null,null,"~"]
["SA37",2019,"LIM332",262,null,null,null,null,null,null,null,null,null,null,null,null,null,null,null,null,null,null,"~"]
["SA37",2019,"LIM332",263,null,null,null,null,null,null,null,null,null,null,null,null,null,null,null,null,null,null,"~"]
["SA37",2019,"LIM332",264,null,null,null,null,null,null,null,null,null,null,null,null,null,null,null,null,null,null,"~"]
["SA37",2019,"LIM332",265,null,null,null,null,null,null,null,null,null,null,null,null,null,null,null,null,null,null,"~"]
["SA37",2019,"LIM332",266,null,null,null,null,null,null,null,null,null,null,null,null,null,null,null,null,null,null,"~"]
["SA37",2019,"LIM332",267,null,null,null,null,null,null,null,null,null,null,null,null,null,null,null,null,null,null,"~"]
["SA37",2019,"LIM332",268,null,null,null,null,null,null,null,null,null,null,null,null,null,null,null,null,null,null,"~"]
["SA37",2019,"LIM332",269,null,null,null,null,null,null,null,null,null,null,null,null,null,null,null,null,null,null,"~"]
["SA37",2019,"LIM332",270,null,null,null,null,null,null,null,null,null,null,null,null,null,null,null,null,null,null,"~"]
["SA37",2019,"LIM332",271,null,null,null,null,null,null,null,null,null,null,null,null,null,null,null,null,null,null,"~"]
["SA37",2019,"LIM332",272,null,null,null,null,null,null,null,null,null,null,null,null,null,null,null,null,null,null,"~"]
["SA37",2019,"LIM332",273,null,null,null,null,null,null,null,null,null,null,null,null,null,null,null,null,null,null,"~"]
["SA37",2019,"LIM332",274,null,null,null,null,null,null,null,null,null,null,null,null,null,null,null,null,null,null,"~"]
["SA37",2019,"LIM332",275,null,null,null,null,null,null,null,null,null,null,null,null,null,null,null,null,null,null,"~"]
["SA37",2019,"LIM332",276,null,null,null,null,null,null,null,null,null,null,null,null,null,null,null,null,null,null,"~"]
["SA37",2019,"LIM332",277,null,null,null,null,null,null,null,null,null,null,null,null,null,null,null,null,null,null,"~"]
["SA37",2019,"LIM332",278,null,null,null,null,null,null,null,null,null,null,null,null,null,null,null,null,null,null,"~"]
["SA37",2019,"LIM332",279,null,null,null,null,null,null,null,null,null,null,null,null,null,null,null,null,null,null,"~"]
["SA37",2019,"LIM332",280,null,null,null,null,null,null,null,null,null,null,null,null,null,null,null,null,null,null,"~"]
["SA37",2019,"LIM332",281,null,null,null,null,null,null,null,null,null,null,null,null,null,null,null,null,null,null,"~"]
["SA37",2019,"LIM332",282,null,null,null,null,null,null,null,null,null,null,null,null,null,null,null,null,null,null,"~"]
["SA37",2019,"LIM332",283,null,null,null,null,null,null,null,null,null,null,null,null,null,null,null,null,null,null,"~"]
["SA37",2019,"LIM332",284,null,null,null,null,null,null,null,null,null,null,null,null,null,null,null,null,null,null,"~"]
["SA37",2019,"LIM332",285,null,null,null,null,null,null,null,null,null,null,null,null,null,null,null,null,null,null,"~"]
["SA37",2019,"LIM332",286,null,null,null,null,null,null,null,null,null,null,null,null,null,null,null,null,null,null,"~"]
["SA37",2019,"LIM332",287,null,null,null,null,null,null,null,null,null,null,null,null,null,null,null,null,null,null,"~"]
["SA37",2019,"LIM332",288,null,null,null,null,null,null,null,null,null,null,null,null,null,null,null,null,null,null,"~"]
["SA37",2019,"LIM332",289,null,null,null,null,null,null,null,null,null,null,null,null,null,null,null,null,null,null,"~"]
["SA37",2019,"LIM332",290,null,null,null,null,null,null,null,null,null,null,null,null,null,null,null,null,null,null,"~"]
["SA37",2019,"LIM332",291,null,null,null,null,null,null,null,null,null,null,null,null,null,null,null,null,null,null,"~"]
["SA37",2019,"LIM332",292,null,null,null,null,null,null,null,null,null,null,null,null,null,null,null,null,null,null,"~"]
["SA37",2019,"LIM332",293,null,null,null,null,null,null,null,null,null,null,null,null,null,null,null,null,null,null,"~"]
["SA37",2019,"LIM332",294,null,null,null,null,null,null,null,null,null,null,null,null,null,null,null,null,null,null,"~"]
["SA37",2019,"LIM332",295,null,null,null,null,null,null,null,null,null,null,null,null,null,null,null,null,null,null,"~"]
["SA37",2019,"LIM332",296,null,null,null,null,null,null,null,null,null,null,null,null,null,null,null,null,null,null,"~"]
["SA37",2019,"LIM332",297,null,null,null,null,null,null,null,null,null,null,null,null,null,null,null,null,null,null,"~"]
["SA37",2019,"LIM332",298,null,null,null,null,null,null,null,null,null,null,null,null,null,null,null,null,null,null,"~"]
["SA37",2019,"LIM332",299,null,null,null,null,null,null,null,null,null,null,null,null,null,null,null,null,null,null,"~"]
["SA37",2019,"LIM332",300,null,null,null,null,null,null,null,null,null,null,null,null,null,null,null,null,null,null,"~"]
["SA37",2019,"LIM332",301,null,null,null,null,null,null,null,null,null,null,null,null,null,null,null,null,null,null,"~"]
["SA37",2019,"LIM332",302,null,null,null,null,null,null,null,null,null,null,null,null,null,null,null,null,null,null,"~"]
["SA37",2019,"LIM332",303,null,null,null,null,null,null,null,null,null,null,null,null,null,null,null,null,null,null,"~"]
["SA37",{"$f":"+MTREF","v":2019},{"$f":"LEFT(muni,(FIND(\" \",muni,1)-1))","v":"LIM332"},304,null,null,null,null,null,null,null,null,null,null,null,null,null,null,null,null,null,null,"~"]
["SA37",2019,"LIM332",305,null,null,null,null,null,null,null,null,null,null,null,null,null,null,null,null,null,null,"~"]
["SA37",2019,"LIM332",306,null,null,null,null,null,null,null,null,null,null,null,null,null,null,null,null,null,null,"~"]
["SA37",2019,"LIM332",307,null,null,null,null,null,null,null,null,null,null,null,null,null,null,null,null,null,null,"~"]
["SA37",2019,"LIM332",308,null,null,null,null,null,null,null,null,null,null,null,null,null,null,null,null,null,null,"~"]
["SA37",2019,"LIM332",309,null,null,null,null,null,null,null,null,null,null,null,null,null,null,null,null,null,null,"~"]
["SA37",2019,"LIM332",310,null,null,null,null,null,null,null,null,null,null,null,null,null,null,null,null,null,null,"~"]
["SA37",2019,"LIM332",311,null,null,null,null,null,null,null,null,null,null,null,null,null,null,null,null,null,null,"~"]
["SA37",2019,"LIM332",312,null,null,null,null,null,null,null,null,null,null,null,null,null,null,null,null,null,null,"~"]
["SA37",2019,"LIM332",313,null,null,null,null,null,null,null,null,null,null,null,null,null,null,null,null,null,null,"~"]
["SA37",2019,"LIM332",314,null,null,null,null,null,null,null,null,null,null,null,null,null,null,null,null,null,null,"~"]
["SA37",2019,"LIM332",315,null,null,null,null,null,null,null,null,null,null,null,null,null,null,null,null,null,null,"~"]
["SA37",2019,"LIM332",316,null,null,null,null,null,null,null,null,null,null,null,null,null,null,null,null,null,null,"~"]
["SA37",2019,"LIM332",317,null,null,null,null,null,null,null,null,null,null,null,null,null,null,null,null,null,null,"~"]
["SA37",2019,"LIM332",318,null,null,null,null,null,null,null,null,null,null,null,null,null,null,null,null,null,null,"~"]
["SA37",2019,"LIM332",319,null,null,null,null,null,null,null,null,null,null,null,null,null,null,null,null,null,null,"~"]
["SA37",2019,"LIM332",320,null,null,null,null,null,null,null,null,null,null,null,null,null,null,null,null,null,null,"~"]
["SA37",2019,"LIM332",321,null,null,null,null,null,null,null,null,null,null,null,null,null,null,null,null,null,null,"~"]
["SA37",2019,"LIM332",322,null,null,null,null,null,null,null,null,null,null,null,null,null,null,null,null,null,null,"~"]
["SA37",2019,"LIM332",323,null,null,null,null,null,null,null,null,null,null,null,null,null,null,null,null,null,null,"~"]
["SA37",2019,"LIM332",324,null,null,null,null,null,null,null,null,null,null,null,null,null,null,null,null,null,null,"~"]
["SA37",2019,"LIM332",325,null,null,null,null,null,null,null,null,null,null,null,null,null,null,null,null,null,null,"~"]
["SA37",2019,"LIM332",326,null,null,null,null,null,null,null,null,null,null,null,null,null,null,null,null,null,null,"~"]
["SA37",2019,"LIM332",327,null,null,null,null,null,null,null,null,null,null,null,null,null,null,null,null,null,null,"~"]
["SA37",2019,"LIM332",328,null,null,null,null,null,null,null,null,null,null,null,null,null,null,null,null,null,null,"~"]
["SA37",2019,"LIM332",329,null,null,null,null,null,null,null,null,null,null,null,null,null,null,null,null,null,null,"~"]
["SA37",2019,"LIM332",330,null,null,null,null,null,null,null,null,null,null,null,null,null,null,null,null,null,null,"~"]
["SA37",2019,"LIM332",331,null,null,null,null,null,null,null,null,null,null,null,null,null,null,null,null,null,null,"~"]
["SA37",2019,"LIM332",332,null,null,null,null,null,null,null,null,null,null,null,null,null,null,null,null,null,null,"~"]
["SA37",2019,"LIM332",333,null,null,null,null,null,null,null,null,null,null,null,null,null,null,null,null,null,null,"~"]
["SA37",2019,"LIM332",334,null,null,null,null,null,null,null,null,null,null,null,null,null,null,null,null,null,null,"~"]
["SA37",2019,"LIM332",335,null,null,null,null,null,null,null,null,null,null,null,null,null,null,null,null,null,null,"~"]
["SA37",2019,"LIM332",336,null,null,null,null,null,null,null,null,null,null,null,null,null,null,null,null,null,null,"~"]
["SA37",2019,"LIM332",337,null,null,null,null,null,null,null,null,null,null,null,null,null,null,null,null,null,null,"~"]
["SA37",2019,"LIM332",338,null,null,null,null,null,null,null,null,null,null,null,null,null,null,null,null,null,null,"~"]
["SA37",2019,"LIM332",339,null,null,null,null,null,null,null,null,null,null,null,null,null,null,null,null,null,null,"~"]
["SA37",2019,"LIM332",340,null,null,null,null,null,null,null,null,null,null,null,null,null,null,null,null,null,null,"~"]
["SA37",2019,"LIM332",341,null,null,null,null,null,null,null,null,null,null,null,null,null,null,null,null,null,null,"~"]
["SA37",2019,"LIM332",342,null,null,null,null,null,null,null,null,null,null,null,null,null,null,null,null,null,null,"~"]
["SA37",2019,"LIM332",343,null,null,null,null,null,null,null,null,null,null,null,null,null,null,null,null,null,null,"~"]
["SA37",2019,"LIM332",344,null,null,null,null,null,null,null,null,null,null,null,null,null,null,null,null,null,null,"~"]
["SA37",2019,"LIM332",345,null,null,null,null,null,null,null,null,null,null,null,null,null,null,null,null,null,null,"~"]
["SA37",2019,"LIM332",346,null,null,null,null,null,null,null,null,null,null,null,null,null,null,null,null,null,null,"~"]
["SA37",2019,"LIM332",347,null,null,null,null,null,null,null,null,null,null,null,null,null,null,null,null,null,null,"~"]
["SA37",2019,"LIM332",348,null,null,null,null,null,null,null,null,null,null,null,null,null,null,null,null,null,null,"~"]
["SA37",2019,"LIM332",349,null,null,null,null,null,null,null,null,null,null,null,null,null,null,null,null,null,null,"~"]
["SA37",2019,"LIM332",350,null,null,null,null,null,null,null,null,null,null,null,null,null,null,null,null,null,null,"~"]
["SA37",2019,"LIM332",351,null,null,null,null,null,null,null,null,null,null,null,null,null,null,null,null,null,null,"~"]
["SA37",2019,"LIM332",352,null,null,null,null,null,null,null,null,null,null,null,null,null,null,null,null,null,null,"~"]
["SA37",2019,"LIM332",353,null,null,null,null,null,null,null,null,null,null,null,null,null,null,null,null,null,null,"~"]
["SA37",2019,"LIM332",354,null,null,null,null,null,null,null,null,null,null,null,null,null,null,null,null,null,null,"~"]
["SA37",2019,"LIM332",355,null,null,null,null,null,null,null,null,null,null,null,null,null,null,null,null,null,null,"~"]
["SA37",2019,"LIM332",356,null,null,null,null,null,null,null,null,null,null,null,null,null,null,null,null,null,null,"~"]
["SA37",2019,"LIM332",357,null,null,null,null,null,null,null,null,null,null,null,null,null,null,null,null,null,null,"~"]
["SA37",2019,"LIM332",358,null,null,null,null,null,null,null,null,null,null,null,null,null,null,null,null,null,null,"~"]
["SA37",2019,"LIM332",359,null,null,null,null,null,null,null,null,null,null,null,null,null,null,null,null,null,null,"~"]
["SA37",2019,"LIM332",360,null,null,null,null,null,null,null,null,null,null,null,null,null,null,null,null,null,null,"~"]
["SA37",2019,"LIM332",361,null,null,null,null,null,null,null,null,null,null,null,null,null,null,null,null,null,null,"~"]
["SA37",2019,"LIM332",362,null,null,null,null,null,null,null,null,null,null,null,null,null,null,null,null,null,null,"~"]
["SA37",2019,"LIM332",363,null,null,null,null,null,null,null,null,null,null,null,null,null,null,null,null,null,null,"~"]
["SA37",2019,"LIM332",364,null,null,null,null,null,null,null,null,null,null,null,null,null,null,null,null,null,null,"~"]
["SA37",2019,"LIM332",365,null,null,null,null,null,null,null,null,null,null,null,null,null,null,null,null,null,null,"~"]
["SA37",2019,"LIM332",366,null,null,null,null,null,null,null,null,null,null,null,null,null,null,null,null,null,null,"~"]
["SA37",2019,"LIM332",367,null,null,null,null,null,null,null,null,null,null,null,null,null,null,null,null,null,null,"~"]
["SA37",{"$f":"+MTREF","v":2019},{"$f":"LEFT(muni,(FIND(\" \",muni,1)-1))","v":"LIM332"},368,null,null,null,null,null,null,null,null,null,null,null,null,null,null,null,null,null,null,"~"]
["SA37",2019,"LIM332",369,null,null,null,null,null,null,null,null,null,null,null,null,null,null,null,null,null,null,"~"]
["SA37",2019,"LIM332",370,null,null,null,null,null,null,null,null,null,null,null,null,null,null,null,null,null,null,"~"]
["SA37",2019,"LIM332",371,null,null,null,null,null,null,null,null,null,null,null,null,null,null,null,null,null,null,"~"]
["SA37",2019,"LIM332",372,null,null,null,null,null,null,null,null,null,null,null,null,null,null,null,null,null,null,"~"]
["SA37",2019,"LIM332",373,null,null,null,null,null,null,null,null,null,null,null,null,null,null,null,null,null,null,"~"]
["SA37",2019,"LIM332",374,null,null,null,null,null,null,null,null,null,null,null,null,null,null,null,null,null,null,"~"]
["SA37",2019,"LIM332",375,null,null,null,null,null,null,null,null,null,null,null,null,null,null,null,null,null,null,"~"]
["SA37",2019,"LIM332",376,null,null,null,null,null,null,null,null,null,null,null,null,null,null,null,null,null,null,"~"]
["SA37",2019,"LIM332",377,null,null,null,null,null,null,null,null,null,null,null,null,null,null,null,null,null,null,"~"]
["SA37",2019,"LIM332",378,null,null,null,null,null,null,null,null,null,null,null,null,null,null,null,null,null,null,"~"]
["SA37",2019,"LIM332",379,null,null,null,null,null,null,null,null,null,null,null,null,null,null,null,null,null,null,"~"]
["SA37",2019,"LIM332",380,null,null,null,null,null,null,null,null,null,null,null,null,null,null,null,null,null,null,"~"]
["SA37",2019,"LIM332",381,null,null,null,null,null,null,null,null,null,null,null,null,null,null,null,null,null,null,"~"]
["SA37",2019,"LIM332",382,null,null,null,null,null,null,null,null,null,null,null,null,null,null,null,null,null,null,"~"]
["SA37",2019,"LIM332",383,null,null,null,null,null,null,null,null,null,null,null,null,null,null,null,null,null,null,"~"]
["SA37",2019,"LIM332",384,null,null,null,null,null,null,null,null,null,null,null,null,null,null,null,null,null,null,"~"]
["SA37",2019,"LIM332",385,null,null,null,null,null,null,null,null,null,null,null,null,null,null,null,null,null,null,"~"]
["SA37",2019,"LIM332",386,null,null,null,null,null,null,null,null,null,null,null,null,null,null,null,null,null,null,"~"]
["SA37",2019,"LIM332",387,null,null,null,null,null,null,null,null,null,null,null,null,null,null,null,null,null,null,"~"]
["SA37",2019,"LIM332",388,null,null,null,null,null,null,null,null,null,null,null,null,null,null,null,null,null,null,"~"]
["SA37",2019,"LIM332",389,null,null,null,null,null,null,null,null,null,null,null,null,null,null,null,null,null,null,"~"]
["SA37",2019,"LIM332",390,null,null,null,null,null,null,null,null,null,null,null,null,null,null,null,null,null,null,"~"]
["SA37",2019,"LIM332",391,null,null,null,null,null,null,null,null,null,null,null,null,null,null,null,null,null,null,"~"]
["SA37",2019,"LIM332",392,null,null,null,null,null,null,null,null,null,null,null,null,null,null,null,null,null,null,"~"]
["SA37",2019,"LIM332",393,null,null,null,null,null,null,null,null,null,null,null,null,null,null,null,null,null,null,"~"]
["SA37",2019,"LIM332",394,null,null,null,null,null,null,null,null,null,null,null,null,null,null,null,null,null,null,"~"]
["SA37",2019,"LIM332",395,null,null,null,null,null,null,null,null,null,null,null,null,null,null,null,null,null,null,"~"]
["SA37",2019,"LIM332",396,null,null,null,null,null,null,null,null,null,null,null,null,null,null,null,null,null,null,"~"]
["SA37",2019,"LIM332",397,null,null,null,null,null,null,null,null,null,null,null,null,null,null,null,null,null,null,"~"]
["SA37",2019,"LIM332",398,null,null,null,null,null,null,null,null,null,null,null,null,null,null,null,null,null,null,"~"]
["SA37",2019,"LIM332",399,null,null,null,null,null,null,null,null,null,null,null,null,null,null,null,null,null,null,"~"]
["SA37",2019,"LIM332",400,null,null,null,null,null,null,null,null,null,null,null,null,null,null,null,null,null,null,"~"]
["SA37",2019,"LIM332",401,null,null,null,null,null,null,null,null,null,null,null,null,null,null,null,null,null,null,"~"]
["SA37",2019,"LIM332",402,null,null,null,null,null,null,null,null,null,null,null,null,null,null,null,null,null,null,"~"]
["SA37",2019,"LIM332",403,null,null,null,null,null,null,null,null,null,null,null,null,null,null,null,null,null,null,"~"]
["SA37",2019,"LIM332",404,null,null,null,null,null,null,null,null,null,null,null,null,null,null,null,null,null,null,"~"]
["SA37",2019,"LIM332",405,null,null,null,null,null,null,null,null,null,null,null,null,null,null,null,null,null,null,"~"]
["SA37",2019,"LIM332",406,null,null,null,null,null,null,null,null,null,null,null,null,null,null,null,null,null,null,"~"]
["SA37",2019,"LIM332",407,null,null,null,null,null,null,null,null,null,null,null,null,null,null,null,null,null,null,"~"]
["SA37",2019,"LIM332",408,null,null,null,null,null,null,null,null,null,null,null,null,null,null,null,null,null,null,"~"]
["SA37",2019,"LIM332",409,null,null,null,null,null,null,null,null,null,null,null,null,null,null,null,null,null,null,"~"]
["SA37",2019,"LIM332",410,null,null,null,null,null,null,null,null,null,null,null,null,null,null,null,null,null,null,"~"]
["SA37",2019,"LIM332",411,null,null,null,null,null,null,null,null,null,null,null,null,null,null,null,null,null,null,"~"]
["SA37",2019,"LIM332",412,null,null,null,null,null,null,null,null,null,null,null,null,null,null,null,null,null,null,"~"]
["SA37",2019,"LIM332",413,null,null,null,null,null,null,null,null,null,null,null,null,null,null,null,null,null,null,"~"]
["SA37",2019,"LIM332",414,null,null,null,null,null,null,null,null,null,null,null,null,null,null,null,null,null,null,"~"]
["SA37",2019,"LIM332",415,null,null,null,null,null,null,null,null,null,null,null,null,null,null,null,null,null,null,"~"]
["SA37",2019,"LIM332",416,null,null,null,null,null,null,null,null,null,null,null,null,null,null,null,null,null,null,"~"]
["SA37",2019,"LIM332",417,null,null,null,null,null,null,null,null,null,null,null,null,null,null,null,null,null,null,"~"]
["SA37",2019,"LIM332",418,null,null,null,null,null,null,null,null,null,null,null,null,null,null,null,null,null,null,"~"]
["SA37",2019,"LIM332",419,null,null,null,null,null,null,null,null,null,null,null,null,null,null,null,null,null,null,"~"]
["SA37",2019,"LIM332",420,null,null,null,null,null,null,null,null,null,null,null,null,null,null,null,null,null,null,"~"]
["SA37",2019,"LIM332",421,null,null,null,null,null,null,null,null,null,null,null,null,null,null,null,null,null,null,"~"]
["SA37",2019,"LIM332",422,null,null,null,null,null,null,null,null,null,null,null,null,null,null,null,null,null,null,"~"]
["SA37",2019,"LIM332",423,null,null,null,null,null,null,null,null,null,null,null,null,null,null,null,null,null,null,"~"]
["SA37",2019,"LIM332",424,null,null,null,null,null,null,null,null,null,null,null,null,null,null,null,null,null,null,"~"]
["SA37",2019,"LIM332",425,null,null,null,null,null,null,null,null,null,null,null,null,null,null,null,null,null,null,"~"]
["SA37",2019,"LIM332",426,null,null,null,null,null,null,null,null,null,null,null,null,null,null,null,null,null,null,"~"]
["SA37",2019,"LIM332",427,null,null,null,null,null,null,null,null,null,null,null,null,null,null,null,null,null,null,"~"]
["SA37",2019,"LIM332",428,null,null,null,null,null,null,null,null,null,null,null,null,null,null,null,null,null,null,"~"]
["SA37",2019,"LIM332",429,null,null,null,null,null,null,null,null,null,null,null,null,null,null,null,null,null,null,"~"]
["SA37",2019,"LIM332",430,null,null,null,null,null,null,null,null,null,null,null,null,null,null,null,null,null,null,"~"]
["SA37",2019,"LIM332",431,null,null,null,null,null,null,null,null,null,null,null,null,null,null,null,null,null,null,"~"]
["SA37",{"$f":"+MTREF","v":2019},{"$f":"LEFT(muni,(FIND(\" \",muni,1)-1))","v":"LIM332"},432,null,null,null,null,null,null,null,null,null,null,null,null,null,null,null,null,null,null,"~"]
["SA37",2019,"LIM332",433,null,null,null,null,null,null,null,null,null,null,null,null,null,null,null,null,null,null,"~"]
["SA37",2019,"LIM332",434,null,null,null,null,null,null,null,null,null,null,null,null,null,null,null,null,null,null,"~"]
["SA37",2019,"LIM332",435,null,null,null,null,null,null,null,null,null,null,null,null,null,null,null,null,null,null,"~"]
["SA37",2019,"LIM332",436,null,null,null,null,null,null,null,null,null,null,null,null,null,null,null,null,null,null,"~"]
["SA37",2019,"LIM332",437,null,null,null,null,null,null,null,null,null,null,null,null,null,null,null,null,null,null,"~"]
["SA37",2019,"LIM332",438,null,null,null,null,null,null,null,null,null,null,null,null,null,null,null,null,null,null,"~"]
["SA37",2019,"LIM332",439,null,null,null,null,null,null,null,null,null,null,null,null,null,null,null,null,null,null,"~"]
["SA37",2019,"LIM332",440,null,null,null,null,null,null,null,null,null,null,null,null,null,null,null,null,null,null,"~"]
["SA37",2019,"LIM332",441,null,null,null,null,null,null,null,null,null,null,null,null,null,null,null,null,null,null,"~"]
["SA37",2019,"LIM332",442,null,null,null,null,null,null,null,null,null,null,null,null,null,null,null,null,null,null,"~"]
["SA37",2019,"LIM332",443,null,null,null,null,null,null,null,null,null,null,null,null,null,null,null,null,null,null,"~"]
["SA37",2019,"LIM332",444,null,null,null,null,null,null,null,null,null,null,null,null,null,null,null,null,null,null,"~"]
["SA37",2019,"LIM332",445,null,null,null,null,null,null,null,null,null,null,null,null,null,null,null,null,null,null,"~"]
["SA37",2019,"LIM332",446,null,null,null,null,null,null,null,null,null,null,null,null,null,null,null,null,null,null,"~"]
["SA37",2019,"LIM332",447,null,null,null,null,null,null,null,null,null,null,null,null,null,null,null,null,null,null,"~"]
["SA37",2019,"LIM332",448,null,null,null,null,null,null,null,null,null,null,null,null,null,null,null,null,null,null,"~"]
["SA37",2019,"LIM332",449,null,null,null,null,null,null,null,null,null,null,null,null,null,null,null,null,null,null,"~"]
["SA37",2019,"LIM332",450,null,null,null,null,null,null,null,null,null,null,null,null,null,null,null,null,null,null,"~"]
["SA37",2019,"LIM332",451,null,null,null,null,null,null,null,null,null,null,null,null,null,null,null,null,null,null,"~"]
["SA37",2019,"LIM332",452,null,null,null,null,null,null,null,null,null,null,null,null,null,null,null,null,null,null,"~"]
["SA37",2019,"LIM332",453,null,null,null,null,null,null,null,null,null,null,null,null,null,null,null,null,null,null,"~"]
["SA37",2019,"LIM332",454,null,null,null,null,null,null,null,null,null,null,null,null,null,null,null,null,null,null,"~"]
["SA37",2019,"LIM332",455,null,null,null,null,null,null,null,null,null,null,null,null,null,null,null,null,null,null,"~"]
["SA37",2019,"LIM332",456,null,null,null,null,null,null,null,null,null,null,null,null,null,null,null,null,null,null,"~"]
["SA37",2019,"LIM332",457,null,null,null,null,null,null,null,null,null,null,null,null,null,null,null,null,null,null,"~"]
["SA37",2019,"LIM332",458,null,null,null,null,null,null,null,null,null,null,null,null,null,null,null,null,null,null,"~"]
["SA37",2019,"LIM332",459,null,null,null,null,null,null,null,null,null,null,null,null,null,null,null,null,null,null,"~"]
["SA37",2019,"LIM332",460,null,null,null,null,null,null,null,null,null,null,null,null,null,null,null,null,null,null,"~"]
["SA37",2019,"LIM332",461,null,null,null,null,null,null,null,null,null,null,null,null,null,null,null,null,null,null,"~"]
["SA37",2019,"LIM332",462,null,null,null,null,null,null,null,null,null,null,null,null,null,null,null,null,null,null,"~"]
["SA37",2019,"LIM332",463,null,null,null,null,null,null,null,null,null,null,null,null,null,null,null,null,null,null,"~"]
["SA37",2019,"LIM332",464,null,null,null,null,null,null,null,null,null,null,null,null,null,null,null,null,null,null,"~"]
["SA37",2019,"LIM332",465,null,null,null,null,null,null,null,null,null,null,null,null,null,null,null,null,null,null,"~"]
["SA37",2019,"LIM332",466,null,null,null,null,null,null,null,null,null,null,null,null,null,null,null,null,null,null,"~"]
["SA37",2019,"LIM332",467,null,null,null,null,null,null,null,null,null,null,null,null,null,null,null,null,null,null,"~"]
["SA37",2019,"LIM332",468,null,null,null,null,null,null,null,null,null,null,null,null,null,null,null,null,null,null,"~"]
["SA37",2019,"LIM332",469,null,null,null,null,null,null,null,null,null,null,null,null,null,null,null,null,null,null,"~"]
["SA37",2019,"LIM332",470,null,null,null,null,null,null,null,null,null,null,null,null,null,null,null,null,null,null,"~"]
["SA37",2019,"LIM332",471,null,null,null,null,null,null,null,null,null,null,null,null,null,null,null,null,null,null,"~"]
["SA37",2019,"LIM332",472,null,null,null,null,null,null,null,null,null,null,null,null,null,null,null,null,null,null,"~"]
["SA37",2019,"LIM332",473,null,null,null,null,null,null,null,null,null,null,null,null,null,null,null,null,null,null,"~"]
["SA37",2019,"LIM332",474,null,null,null,null,null,null,null,null,null,null,null,null,null,null,null,null,null,null,"~"]
["SA37",2019,"LIM332",475,null,null,null,null,null,null,null,null,null,null,null,null,null,null,null,null,null,null,"~"]
["SA37",2019,"LIM332",476,null,null,null,null,null,null,null,null,null,null,null,null,null,null,null,null,null,null,"~"]
["SA37",2019,"LIM332",477,null,null,null,null,null,null,null,null,null,null,null,null,null,null,null,null,null,null,"~"]
["SA37",2019,"LIM332",478,null,null,null,null,null,null,null,null,null,null,null,null,null,null,null,null,null,null,"~"]
["SA37",2019,"LIM332",479,null,null,null,null,null,null,null,null,null,null,null,null,null,null,null,null,null,null,"~"]
["SA37",2019,"LIM332",480,null,null,null,null,null,null,null,null,null,null,null,null,null,null,null,null,null,null,"~"]
["SA37",2019,"LIM332",481,null,null,null,null,null,null,null,null,null,null,null,null,null,null,null,null,null,null,"~"]
["SA37",2019,"LIM332",482,null,null,null,null,null,null,null,null,null,null,null,null,null,null,null,null,null,null,"~"]
["SA37",2019,"LIM332",483,null,null,null,null,null,null,null,null,null,null,null,null,null,null,null,null,null,null,"~"]
["SA37",2019,"LIM332",484,null,null,null,null,null,null,null,null,null,null,null,null,null,null,null,null,null,null,"~"]
["SA37",2019,"LIM332",485,null,null,null,null,null,null,null,null,null,null,null,null,null,null,null,null,null,null,"~"]
["SA37",2019,"LIM332",486,null,null,null,null,null,null,null,null,null,null,null,null,null,null,null,null,null,null,"~"]
["SA37",2019,"LIM332",487,null,null,null,null,null,null,null,null,null,null,null,null,null,null,null,null,null,null,"~"]
["SA37",2019,"LIM332",488,null,null,null,null,null,null,null,null,null,null,null,null,null,null,null,null,null,null,"~"]
["SA37",2019,"LIM332",489,null,null,null,null,null,null,null,null,null,null,null,null,null,null,null,null,null,null,"~"]
["SA37",2019,"LIM332",490,null,null,null,null,null,null,null,null,null,null,null,null,null,null,null,null,null,null,"~"]
["SA37",2019,"LIM332",491,null,null,null,null,null,null,null,null,null,null,null,null,null,null,null,null,null,null,"~"]
["SA37",2019,"LIM332",492,null,null,null,null,null,null,null,null,null,null,null,null,null,null,null,null,null,null,"~"]
["SA37",2019,"LIM332",493,null,null,null,null,null,null,null,null,null,null,null,null,null,null,null,null,null,null,"~"]
["SA37",2019,"LIM332",494,null,null,null,null,null,null,null,null,null,null,null,null,null,null,null,null,null,null,"~"]
["SA37",2019,"LIM332",495,null,null,null,null,null,null,null,null,null,null,null,null,null,null,null,null,null,null,"~"]
["SA37",{"$f":"+MTREF","v":2019},{"$f":"LEFT(muni,(FIND(\" \",muni,1)-1))","v":"LIM332"},496,null,null,null,null,null,null,null,null,null,null,null,null,null,null,null,null,null,null,"~"]
["SA37",2019,"LIM332",497,null,null,null,null,null,null,null,null,null,null,null,null,null,null,null,null,null,null,"~"]
["SA37",2019,"LIM332",498,null,null,null,null,null,null,null,null,null,null,null,null,null,null,null,null,null,null,"~"]
["SA37",2019,"LIM332",499,null,null,null,null,null,null,null,null,null,null,null,null,null,null,null,null,null,null,"~"]
["SA37",2019,"LIM332",500,null,null,null,null,null,null,null,null,null,null,null,null,null,null,null,null,null,null,"~"]
["SA37",2019,"LIM332",501,null,null,null,null,null,null,null,null,null,null,null,null,null,null,null,null,null,null,"~"]
["SA37",2019,"LIM332",502,null,null,null,null,null,null,null,null,null,null,null,null,null,null,null,null,null,null,"~"]
["SA37",2019,"LIM332",503,null,null,null,null,null,null,null,null,null,null,null,null,null,null,null,null,null,null,"~"]
["SA37",2019,"LIM332",504,null,null,null,null,null,null,null,null,null,null,null,null,null,null,null,null,null,null,"~"]
["SA37",2019,"LIM332",505,null,null,null,null,null,null,null,null,null,null,null,null,null,null,null,null,null,null,"~"]
["SA37",2019,"LIM332",506,null,null,null,null,null,null,null,null,null,null,null,null,null,null,null,null,null,null,"~"]
["SA37",2019,"LIM332",507,null,null,null,null,null,null,null,null,null,null,null,null,null,null,null,null,null,null,"~"]
["SA37",2019,"LIM332",508,null,null,null,null,null,null,null,null,null,null,null,null,null,null,null,null,null,null,"~"]
["SA37",2019,"LIM332",509,null,null,null,null,null,null,null,null,null,null,null,null,null,null,null,null,null,null,"~"]
["SA37",2019,"LIM332",510,null,null,null,null,null,null,null,null,null,null,null,null,null,null,null,null,null,null,"~"]
["SA37",2019,"LIM332",511,null,null,null,null,null,null,null,null,null,null,null,null,null,null,null,null,null,null,"~"]
["SA37",2019,"LIM332",512,null,null,null,null,null,null,null,null,null,null,null,null,null,null,null,null,null,null,"~"]
["SA37",2019,"LIM332",513,null,null,null,null,null,null,null,null,null,null,null,null,null,null,null,null,null,null,"~"]
["SA37",2019,"LIM332",514,null,null,null,null,null,null,null,null,null,null,null,null,null,null,null,null,null,null,"~"]
["SA37",2019,"LIM332",515,null,null,null,null,null,null,null,null,null,null,null,null,null,null,null,null,null,null,"~"]
["SA37",2019,"LIM332",516,null,null,null,null,null,null,null,null,null,null,null,null,null,null,null,null,null,null,"~"]
["SA37",2019,"LIM332",517,null,null,null,null,null,null,null,null,null,null,null,null,null,null,null,null,null,null,"~"]
["SA37",2019,"LIM332",518,null,null,null,null,null,null,null,null,null,null,null,null,null,null,null,null,null,null,"~"]
["SA37",2019,"LIM332",519,null,null,null,null,null,null,null,null,null,null,null,null,null,null,null,null,null,null,"~"]
["SA37",2019,"LIM332",520,null,null,null,null,null,null,null,null,null,null,null,null,null,null,null,null,null,null,"~"]
["SA37",2019,"LIM332",521,null,null,null,null,null,null,null,null,null,null,null,null,null,null,null,null,null,null,"~"]
["SA37",2019,"LIM332",522,null,null,null,null,null,null,null,null,null,null,null,null,null,null,null,null,null,null,"~"]
["SA37",2019,"LIM332",523,null,null,null,null,null,null,null,null,null,null,null,null,null,null,null,null,null,null,"~"]
["SA37",2019,"LIM332",524,null,null,null,null,null,null,null,null,null,null,null,null,null,null,null,null,null,null,"~"]
["SA37",2019,"LIM332",525,null,null,null,null,null,null,null,null,null,null,null,null,null,null,null,null,null,null,"~"]
["SA37",2019,"LIM332",526,null,null,null,null,null,null,null,null,null,null,null,null,null,null,null,null,null,null,"~"]
["SA37",2019,"LIM332",527,null,null,null,null,null,null,null,null,null,null,null,null,null,null,null,null,null,null,"~"]
["SA37",2019,"LIM332",528,null,null,null,null,null,null,null,null,null,null,null,null,null,null,null,null,null,null,"~"]
["SA37",2019,"LIM332",529,null,null,null,null,null,null,null,null,null,null,null,null,null,null,null,null,null,null,"~"]
["SA37",2019,"LIM332",530,null,null,null,null,null,null,null,null,null,null,null,null,null,null,null,null,null,null,"~"]
["SA37",2019,"LIM332",531,null,null,null,null,null,null,null,null,null,null,null,null,null,null,null,null,null,null,"~"]
["SA37",2019,"LIM332",532,null,null,null,null,null,null,null,null,null,null,null,null,null,null,null,null,null,null,"~"]
["SA37",2019,"LIM332",533,null,null,null,null,null,null,null,null,null,null,null,null,null,null,null,null,null,null,"~"]
["SA37",2019,"LIM332",534,null,null,null,null,null,null,null,null,null,null,null,null,null,null,null,null,null,null,"~"]
["SA37",2019,"LIM332",535,null,null,null,null,null,null,null,null,null,null,null,null,null,null,null,null,null,null,"~"]
["SA37",2019,"LIM332",536,null,null,null,null,null,null,null,null,null,null,null,null,null,null,null,null,null,null,"~"]
["SA37",2019,"LIM332",537,null,null,null,null,null,null,null,null,null,null,null,null,null,null,null,null,null,null,"~"]
["SA37",2019,"LIM332",538,null,null,null,null,null,null,null,null,null,null,null,null,null,null,null,null,null,null,"~"]
["SA37",2019,"LIM332",539,null,null,null,null,null,null,null,null,null,null,null,null,null,null,null,null,null,null,"~"]
["SA37",2019,"LIM332",540,null,null,null,null,null,null,null,null,null,null,null,null,null,null,null,null,null,null,"~"]
["SA37",2019,"LIM332",541,null,null,null,null,null,null,null,null,null,null,null,null,null,null,null,null,null,null,"~"]
["SA37",2019,"LIM332",542,null,null,null,null,null,null,null,null,null,null,null,null,null,null,null,null,null,null,"~"]
["SA37",2019,"LIM332",543,null,null,null,null,null,null,null,null,null,null,null,null,null,null,null,null,null,null,"~"]
["SA37",2019,"LIM332",544,null,null,null,null,null,null,null,null,null,null,null,null,null,null,null,null,null,null,"~"]
["SA37",2019,"LIM332",545,null,null,null,null,null,null,null,null,null,null,null,null,null,null,null,null,null,null,"~"]
["SA37",2019,"LIM332",546,null,null,null,null,null,null,null,null,null,null,null,null,null,null,null,null,null,null,"~"]
["SA37",2019,"LIM332",547,null,null,null,null,null,null,null,null,null,null,null,null,null,null,null,null,null,null,"~"]
["SA37",2019,"LIM332",548,null,null,null,null,null,null,null,null,null,null,null,null,null,null,null,null,null,null,"~"]
["SA37",2019,"LIM332",549,null,null,null,null,null,null,null,null,null,null,null,null,null,null,null,null,null,null,"~"]
["SA37",2019,"LIM332",550,null,null,null,null,null,null,null,null,null,null,null,null,null,null,null,null,null,null,"~"]
["SA37",2019,"LIM332",551,null,null,null,null,null,null,null,null,null,null,null,null,null,null,null,null,null,null,"~"]
["SA37",2019,"LIM332",552,null,null,null,null,null,null,null,null,null,null,null,null,null,null,null,null,null,null,"~"]
["SA37",2019,"LIM332",553,null,null,null,null,null,null,null,null,null,null,null,null,null,null,null,null,null,null,"~"]
["SA37",2019,"LIM332",554,null,null,null,null,null,null,null,null,null,null,null,null,null,null,null,null,null,null,"~"]
["SA37",2019,"LIM332",555,null,null,null,null,null,null,null,null,null,null,null,null,null,null,null,null,null,null,"~"]
["SA37",2019,"LIM332",556,null,null,null,null,null,null,null,null,null,null,null,null,null,null,null,null,null,null,"~"]
["SA37",2019,"LIM332",557,null,null,null,null,null,null,null,null,null,null,null,null,null,null,null,null,null,null,"~"]
["SA37",2019,"LIM332",558,null,null,null,null,null,null,null,null,null,null,null,null,null,null,null,null,null,null,"~"]
["SA37",2019,"LIM332",559,null,null,null,null,null,null,null,null,null,null,null,null,null,null,null,null,null,null,"~"]
["SA37",{"$f":"+MTREF","v":2019},{"$f":"LEFT(muni,(FIND(\" \",muni,1)-1))","v":"LIM332"},560,null,null,null,null,null,null,null,null,null,null,null,null,null,null,null,null,null,null,"~"]
["SA37",2019,"LIM332",561,null,null,null,null,null,null,null,null,null,null,null,null,null,null,null,null,null,null,"~"]
["SA37",2019,"LIM332",562,null,null,null,null,null,null,null,null,null,null,null,null,null,null,null,null,null,null,"~"]
["SA37",2019,"LIM332",563,null,null,null,null,null,null,null,null,null,null,null,null,null,null,null,null,null,null,"~"]
["SA37",2019,"LIM332",564,null,null,null,null,null,null,null,null,null,null,null,null,null,null,null,null,null,null,"~"]
["SA37",2019,"LIM332",565,null,null,null,null,null,null,null,null,null,null,null,null,null,null,null,null,null,null,"~"]
["SA37",2019,"LIM332",566,null,null,null,null,null,null,null,null,null,null,null,null,null,null,null,null,null,null,"~"]
["SA37",2019,"LIM332",567,null,null,null,null,null,null,null,null,null,null,null,null,null,null,null,null,null,null,"~"]
["SA37",2019,"LIM332",568,null,null,null,null,null,null,null,null,null,null,null,null,null,null,null,null,null,null,"~"]
["SA37",2019,"LIM332",569,null,null,null,null,null,null,null,null,null,null,null,null,null,null,null,null,null,null,"~"]
["SA37",2019,"LIM332",570,null,null,null,null,null,null,null,null,null,null,null,null,null,null,null,null,null,null,"~"]
["SA37",2019,"LIM332",571,null,null,null,null,null,null,null,null,null,null,null,null,null,null,null,null,null,null,"~"]
["SA37",2019,"LIM332",572,null,null,null,null,null,null,null,null,null,null,null,null,null,null,null,null,null,null,"~"]
["SA37",2019,"LIM332",573,null,null,null,null,null,null,null,null,null,null,null,null,null,null,null,null,null,null,"~"]
["SA37",2019,"LIM332",574,null,null,null,null,null,null,null,null,null,null,null,null,null,null,null,null,null,null,"~"]
["SA37",2019,"LIM332",575,null,null,null,null,null,null,null,null,null,null,null,null,null,null,null,null,null,null,"~"]
["SA37",2019,"LIM332",576,null,null,null,null,null,null,null,null,null,null,null,null,null,null,null,null,null,null,"~"]
["SA37",2019,"LIM332",577,null,null,null,null,null,null,null,null,null,null,null,null,null,null,null,null,null,null,"~"]
["SA37",2019,"LIM332",578,null,null,null,null,null,null,null,null,null,null,null,null,null,null,null,null,null,null,"~"]
["SA37",2019,"LIM332",579,null,null,null,null,null,null,null,null,null,null,null,null,null,null,null,null,null,null,"~"]
["SA37",2019,"LIM332",580,null,null,null,null,null,null,null,null,null,null,null,null,null,null,null,null,null,null,"~"]
["SA37",2019,"LIM332",581,null,null,null,null,null,null,null,null,null,null,null,null,null,null,null,null,null,null,"~"]
["SA37",2019,"LIM332",582,null,null,null,null,null,null,null,null,null,null,null,null,null,null,null,null,null,null,"~"]
["SA37",2019,"LIM332",583,null,null,null,null,null,null,null,null,null,null,null,null,null,null,null,null,null,null,"~"]
["SA37",2019,"LIM332",584,null,null,null,null,null,null,null,null,null,null,null,null,null,null,null,null,null,null,"~"]
["SA37",2019,"LIM332",585,null,null,null,null,null,null,null,null,null,null,null,null,null,null,null,null,null,null,"~"]
["SA37",2019,"LIM332",586,null,null,null,null,null,null,null,null,null,null,null,null,null,null,null,null,null,null,"~"]
["SA37",2019,"LIM332",587,null,null,null,null,null,null,null,null,null,null,null,null,null,null,null,null,null,null,"~"]
["SA37",2019,"LIM332",588,null,null,null,null,null,null,null,null,null,null,null,null,null,null,null,null,null,null,"~"]
["SA37",2019,"LIM332",589,null,null,null,null,null,null,null,null,null,null,null,null,null,null,null,null,null,null,"~"]
["SA37",2019,"LIM332",590,null,null,null,null,null,null,null,null,null,null,null,null,null,null,null,null,null,null,"~"]
["SA37",2019,"LIM332",591,null,null,null,null,null,null,null,null,null,null,null,null,null,null,null,null,null,null,"~"]
["SA37",2019,"LIM332",592,null,null,null,null,null,null,null,null,null,null,null,null,null,null,null,null,null,null,"~"]
["SA37",2019,"LIM332",593,null,null,null,null,null,null,null,null,null,null,null,null,null,null,null,null,null,null,"~"]
["SA37",2019,"LIM332",594,null,null,null,null,null,null,null,null,null,null,null,null,null,null,null,null,null,null,"~"]
["SA37",2019,"LIM332",595,null,null,null,null,null,null,null,null,null,null,null,null,null,null,null,null,null,null,"~"]
["SA37",2019,"LIM332",596,null,null,null,null,null,null,null,null,null,null,null,null,null,null,null,null,null,null,"~"]
["SA37",2019,"LIM332",597,null,null,null,null,null,null,null,null,null,null,null,null,null,null,null,null,null,null,"~"]
["SA37",2019,"LIM332",598,null,null,null,null,null,null,null,null,null,null,null,null,null,null,null,null,null,null,"~"]
["SA37",2019,"LIM332",599,null,null,null,null,null,null,null,null,null,null,null,null,null,null,null,null,null,null,"~"]
["SA37",2019,"LIM332",600,null,null,null,null,null,null,null,null,null,null,null,null,null,null,null,null,null,null,"~"]
["SA37",2019,"LIM332",601,null,null,null,null,null,null,null,null,null,null,null,null,null,null,null,null,null,null,"~"]
["SA37",2019,"LIM332",602,null,null,null,null,null,null,null,null,null,null,null,null,null,null,null,null,null,null,"~"]
["SA37",2019,"LIM332",603,null,null,null,null,null,null,null,null,null,null,null,null,null,null,null,null,null,null,"~"]
["SA37",2019,"LIM332",604,null,null,null,null,null,null,null,null,null,null,null,null,null,null,null,null,null,null,"~"]
["SA37",2019,"LIM332",605,null,null,null,null,null,null,null,null,null,null,null,null,null,null,null,null,null,null,"~"]
["SA37",2019,"LIM332",606,null,null,null,null,null,null,null,null,null,null,null,null,null,null,null,null,null,null,"~"]
["SA37",2019,"LIM332",607,null,null,null,null,null,null,null,null,null,null,null,null,null,null,null,null,null,null,"~"]
["SA37",2019,"LIM332",608,null,null,null,null,null,null,null,null,null,null,null,null,null,null,null,null,null,null,"~"]
["SA37",2019,"LIM332",609,null,null,null,null,null,null,null,null,null,null,null,null,null,null,null,null,null,null,"~"]
["SA37",2019,"LIM332",610,null,null,null,null,null,null,null,null,null,null,null,null,null,null,null,null,null,null,"~"]
["SA37",2019,"LIM332",611,null,null,null,null,null,null,null,null,null,null,null,null,null,null,null,null,null,null,"~"]
["SA37",2019,"LIM332",612,null,null,null,null,null,null,null,null,null,null,null,null,null,null,null,null,null,null,"~"]
["SA37",2019,"LIM332",613,null,null,null,null,null,null,null,null,null,null,null,null,null,null,null,null,null,null,"~"]
["SA37",2019,"LIM332",614,null,null,null,null,null,null,null,null,null,null,null,null,null,null,null,null,null,null,"~"]
["SA37",2019,"LIM332",615,null,null,null,null,null,null,null,null,null,null,null,null,null,null,null,null,null,null,"~"]
["SA37",2019,"LIM332",616,null,null,null,null,null,null,null,null,null,null,null,null,null,null,null,null,null,null,"~"]
["SA37",2019,"LIM332",617,null,null,null,null,null,null,null,null,null,null,null,null,null,null,null,null,null,null,"~"]
["SA37",2019,"LIM332",618,null,null,null,null,null,null,null,null,null,null,null,null,null,null,null,null,null,null,"~"]
["SA37",2019,"LIM332",619,null,null,null,null,null,null,null,null,null,null,null,null,null,null,null,null,null,null,"~"]
["SA37",2019,"LIM332",620,null,null,null,null,null,null,null,null,null,null,null,null,null,null,null,null,null,null,"~"]
["SA37",2019,"LIM332",621,null,null,null,null,null,null,null,null,null,null,null,null,null,null,null,null,null,null,"~"]
["SA37",2019,"LIM332",622,null,null,null,null,null,null,null,null,null,null,null,null,null,null,null,null,null,null,"~"]
["SA37",2019,"LIM332",623,null,null,null,null,null,null,null,null,null,null,null,null,null,null,null,null,null,null,"~"]
["SA37",{"$f":"+MTREF","v":2019},{"$f":"LEFT(muni,(FIND(\" \",muni,1)-1))","v":"LIM332"},624,null,null,null,null,null,null,null,null,null,null,null,null,null,null,null,null,null,null,"~"]
["SA37",2019,"LIM332",625,null,null,null,null,null,null,null,null,null,null,null,null,null,null,null,null,null,null,"~"]
["SA37",2019,"LIM332",626,null,null,null,null,null,null,null,null,null,null,null,null,null,null,null,null,null,null,"~"]
["SA37",2019,"LIM332",627,null,null,null,null,null,null,null,null,null,null,null,null,null,null,null,null,null,null,"~"]
["SA37",2019,"LIM332",628,null,null,null,null,null,null,null,null,null,null,null,null,null,null,null,null,null,null,"~"]
["SA37",2019,"LIM332",629,null,null,null,null,null,null,null,null,null,null,null,null,null,null,null,null,null,null,"~"]
["SA37",2019,"LIM332",630,null,null,null,null,null,null,null,null,null,null,null,null,null,null,null,null,null,null,"~"]
["SA37",2019,"LIM332",631,null,null,null,null,null,null,null,null,null,null,null,null,null,null,null,null,null,null,"~"]
["SA37",2019,"LIM332",632,null,null,null,null,null,null,null,null,null,null,null,null,null,null,null,null,null,null,"~"]
["SA37",2019,"LIM332",633,null,null,null,null,null,null,null,null,null,null,null,null,null,null,null,null,null,null,"~"]
["SA37",2019,"LIM332",634,null,null,null,null,null,null,null,null,null,null,null,null,null,null,null,null,null,null,"~"]
["SA37",2019,"LIM332",635,null,null,null,null,null,null,null,null,null,null,null,null,null,null,null,null,null,null,"~"]
["SA37",2019,"LIM332",636,null,null,null,null,null,null,null,null,null,null,null,null,null,null,null,null,null,null,"~"]
["SA37",2019,"LIM332",637,null,null,null,null,null,null,null,null,null,null,null,null,null,null,null,null,null,null,"~"]
["SA37",2019,"LIM332",638,null,null,null,null,null,null,null,null,null,null,null,null,null,null,null,null,null,null,"~"]
["SA37",2019,"LIM332",639,null,null,null,null,null,null,null,null,null,null,null,null,null,null,null,null,null,null,"~"]
["SA37",2019,"LIM332",640,null,null,null,null,null,null,null,null,null,null,null,null,null,null,null,null,null,null,"~"]
["SA37",2019,"LIM332",641,null,null,null,null,null,null,null,null,null,null,null,null,null,null,null,null,null,null,"~"]
["SA37",2019,"LIM332",642,null,null,null,null,null,null,null,null,null,null,null,null,null,null,null,null,null,null,"~"]
["SA37",2019,"LIM332",643,null,null,null,null,null,null,null,null,null,null,null,null,null,null,null,null,null,null,"~"]
["SA37",2019,"LIM332",644,null,null,null,null,null,null,null,null,null,null,null,null,null,null,null,null,null,null,"~"]
["SA37",2019,"LIM332",645,null,null,null,null,null,null,null,null,null,null,null,null,null,null,null,null,null,null,"~"]
["SA37",2019,"LIM332",646,null,null,null,null,null,null,null,null,null,null,null,null,null,null,null,null,null,null,"~"]
["SA37",2019,"LIM332",647,null,null,null,null,null,null,null,null,null,null,null,null,null,null,null,null,null,null,"~"]
["SA37",2019,"LIM332",648,null,null,null,null,null,null,null,null,null,null,null,null,null,null,null,null,null,null,"~"]
["SA37",2019,"LIM332",649,null,null,null,null,null,null,null,null,null,null,null,null,null,null,null,null,null,null,"~"]
["SA37",2019,"LIM332",650,null,null,null,null,null,null,null,null,null,null,null,null,null,null,null,null,null,null,"~"]
["SA37",2019,"LIM332",651,null,null,null,null,null,null,null,null,null,null,null,null,null,null,null,null,null,null,"~"]
["SA37",2019,"LIM332",652,null,null,null,null,null,null,null,null,null,null,null,null,null,null,null,null,null,null,"~"]
["SA37",2019,"LIM332",653,null,null,null,null,null,null,null,null,null,null,null,null,null,null,null,null,null,null,"~"]
["SA37",2019,"LIM332",654,null,null,null,null,null,null,null,null,null,null,null,null,null,null,null,null,null,null,"~"]
["SA37",2019,"LIM332",655,null,null,null,null,null,null,null,null,null,null,null,null,null,null,null,null,null,null,"~"]
["SA37",2019,"LIM332",656,null,null,null,null,null,null,null,null,null,null,null,null,null,null,null,null,null,null,"~"]
["SA37",2019,"LIM332",657,null,null,null,null,null,null,null,null,null,null,null,null,null,null,null,null,null,null,"~"]
["SA37",2019,"LIM332",658,null,null,null,null,null,null,null,null,null,null,null,null,null,null,null,null,null,null,"~"]
["SA37",2019,"LIM332",659,null,null,null,null,null,null,null,null,null,null,null,null,null,null,null,null,null,null,"~"]
["SA37",2019,"LIM332",660,null,null,null,null,null,null,null,null,null,null,null,null,null,null,null,null,null,null,"~"]
["SA37",2019,"LIM332",661,null,null,null,null,null,null,null,null,null,null,null,null,null,null,null,null,null,null,"~"]
["SA37",2019,"LIM332",662,null,null,null,null,null,null,null,null,null,null,null,null,null,null,null,null,null,null,"~"]
["SA37",2019,"LIM332",663,null,null,null,null,null,null,null,null,null,null,null,null,null,null,null,null,null,null,"~"]
["SA37",2019,"LIM332",664,null,null,null,null,null,null,null,null,null,null,null,null,null,null,null,null,null,null,"~"]
["SA37",2019,"LIM332",665,null,null,null,null,null,null,null,null,null,null,null,null,null,null,null,null,null,null,"~"]
["SA37",2019,"LIM332",666,null,null,null,null,null,null,null,null,null,null,null,null,null,null,null,null,null,null,"~"]
["SA37",2019,"LIM332",667,null,null,null,null,null,null,null,null,null,null,null,null,null,null,null,null,null,null,"~"]
["SA37",2019,"LIM332",668,null,null,null,null,null,null,null,null,null,null,null,null,null,null,null,null,null,null,"~"]
["SA37",2019,"LIM332",669,null,null,null,null,null,null,null,null,null,null,null,null,null,null,null,null,null,null,"~"]
["SA37",2019,"LIM332",670,null,null,null,null,null,null,null,null,null,null,null,null,null,null,null,null,null,null,"~"]
["SA37",2019,"LIM332",671,null,null,null,null,null,null,null,null,null,null,null,null,null,null,null,null,null,null,"~"]
["SA37",2019,"LIM332",672,null,null,null,null,null,null,null,null,null,null,null,null,null,null,null,null,null,null,"~"]
["SA37",2019,"LIM332",673,null,null,null,null,null,null,null,null,null,null,null,null,null,null,null,null,null,null,"~"]
["SA37",2019,"LIM332",674,null,null,null,null,null,null,null,null,null,null,null,null,null,null,null,null,null,null,"~"]
["SA37",2019,"LIM332",675,null,null,null,null,null,null,null,null,null,null,null,null,null,null,null,null,null,null,"~"]
["SA37",2019,"LIM332",676,null,null,null,null,null,null,null,null,null,null,null,null,null,null,null,null,null,null,"~"]
["SA37",2019,"LIM332",677,null,null,null,null,null,null,null,null,null,null,null,null,null,null,null,null,null,null,"~"]
["SA37",2019,"LIM332",678,null,null,null,null,null,null,null,null,null,null,null,null,null,null,null,null,null,null,"~"]
["SA37",2019,"LIM332",679,null,null,null,null,null,null,null,null,null,null,null,null,null,null,null,null,null,null,"~"]
["SA37",2019,"LIM332",680,null,null,null,null,null,null,null,null,null,null,null,null,null,null,null,null,null,null,"~"]
["SA37",2019,"LIM332",681,null,null,null,null,null,null,null,null,null,null,null,null,null,null,null,null,null,null,"~"]
["SA37",2019,"LIM332",682,null,null,null,null,null,null,null,null,null,null,null,null,null,null,null,null,null,null,"~"]
["SA37",2019,"LIM332",683,null,null,null,null,null,null,null,null,null,null,null,null,null,null,null,null,null,null,"~"]
["SA37",2019,"LIM332",684,null,null,null,null,null,null,null,null,null,null,null,null,null,null,null,null,null,null,"~"]
["SA37",2019,"LIM332",685,null,null,null,null,null,null,null,null,null,null,null,null,null,null,null,null,null,null,"~"]
["SA37",2019,"LIM332",686,null,null,null,null,null,null,null,null,null,null,null,null,null,null,null,null,null,null,"~"]
["SA37",2019,"LIM332",687,null,null,null,null,null,null,null,null,null,null,null,null,null,null,null,null,null,null,"~"]
["SA37",{"$f":"+MTREF","v":2019},{"$f":"LEFT(muni,(FIND(\" \",muni,1)-1))","v":"LIM332"},688,null,null,null,null,null,null,null,null,null,null,null,null,null,null,null,null,null,null,"~"]
["SA37",2019,"LIM332",689,null,null,null,null,null,null,null,null,null,null,null,null,null,null,null,null,null,null,"~"]
["SA37",2019,"LIM332",690,null,null,null,null,null,null,null,null,null,null,null,null,null,null,null,null,null,null,"~"]
["SA37",2019,"LIM332",691,null,null,null,null,null,null,null,null,null,null,null,null,null,null,null,null,null,null,"~"]
["SA37",2019,"LIM332",692,null,null,null,null,null,null,null,null,null,null,null,null,null,null,null,null,null,null,"~"]
["SA37",2019,"LIM332",693,null,null,null,null,null,null,null,null,null,null,null,null,null,null,null,null,null,null,"~"]
["SA37",2019,"LIM332",694,null,null,null,null,null,null,null,null,null,null,null,null,null,null,null,null,null,null,"~"]
["SA37",2019,"LIM332",695,null,null,null,null,null,null,null,null,null,null,null,null,null,null,null,null,null,null,"~"]
["SA37",2019,"LIM332",696,null,null,null,null,null,null,null,null,null,null,null,null,null,null,null,null,null,null,"~"]
["SA37",2019,"LIM332",697,null,null,null,null,null,null,null,null,null,null,null,null,null,null,null,null,null,null,"~"]
["SA37",2019,"LIM332",698,null,null,null,null,null,null,null,null,null,null,null,null,null,null,null,null,null,null,"~"]
["SA37",2019,"LIM332",699,null,null,null,null,null,null,null,null,null,null,null,null,null,null,null,null,null,null,"~"]
["SA37",2019,"LIM332",700,null,null,null,null,null,null,null,null,null,null,null,null,null,null,null,null,null,null,"~"]
["SA37",2019,"LIM332",701,null,null,null,null,null,null,null,null,null,null,null,null,null,null,null,null,null,null,"~"]
["SA37",2019,"LIM332",702,null,null,null,null,null,null,null,null,null,null,null,null,null,null,null,null,null,null,"~"]
["SA37",2019,"LIM332",703,null,null,null,null,null,null,null,null,null,null,null,null,null,null,null,null,null,null,"~"]
["SA37",2019,"LIM332",704,null,null,null,null,null,null,null,null,null,null,null,null,null,null,null,null,null,null,"~"]
["SA37",2019,"LIM332",705,null,null,null,null,null,null,null,null,null,null,null,null,null,null,null,null,null,null,"~"]
["SA37",2019,"LIM332",706,null,null,null,null,null,null,null,null,null,null,null,null,null,null,null,null,null,null,"~"]
["SA37",2019,"LIM332",707,null,null,null,null,null,null,null,null,null,null,null,null,null,null,null,null,null,null,"~"]
["SA37",2019,"LIM332",708,null,null,null,null,null,null,null,null,null,null,null,null,null,null,null,null,null,null,"~"]
["SA37",2019,"LIM332",709,null,null,null,null,null,null,null,null,null,null,null,null,null,null,null,null,null,null,"~"]
["SA37",2019,"LIM332",710,null,null,null,null,null,null,null,null,null,null,null,null,null,null,null,null,null,null,"~"]
["SA37",2019,"LIM332",711,null,null,null,null,null,null,null,null,null,null,null,null,null,null,null,null,null,null,"~"]
["SA37",2019,"LIM332",712,null,null,null,null,null,null,null,null,null,null,null,null,null,null,null,null,null,null,"~"]
["SA37",2019,"LIM332",713,null,null,null,null,null,null,null,null,null,null,null,null,null,null,null,null,null,null,"~"]
["SA37",2019,"LIM332",714,null,null,null,null,null,null,null,null,null,null,null,null,null,null,null,null,null,null,"~"]
["SA37",2019,"LIM332",715,null,null,null,null,null,null,null,null,null,null,null,null,null,null,null,null,null,null,"~"]
["SA37",2019,"LIM332",716,null,null,null,null,null,null,null,null,null,null,null,null,null,null,null,null,null,null,"~"]
["SA37",2019,"LIM332",717,null,null,null,null,null,null,null,null,null,null,null,null,null,null,null,null,null,null,"~"]
["SA37",2019,"LIM332",718,null,null,null,null,null,null,null,null,null,null,null,null,null,null,null,null,null,null,"~"]
["SA37",2019,"LIM332",719,null,null,null,null,null,null,null,null,null,null,null,null,null,null,null,null,null,null,"~"]
["SA37",2019,"LIM332",720,null,null,null,null,null,null,null,null,null,null,null,null,null,null,null,null,null,null,"~"]
["SA37",2019,"LIM332",721,null,null,null,null,null,null,null,null,null,null,null,null,null,null,null,null,null,null,"~"]
["SA37",2019,"LIM332",722,null,null,null,null,null,null,null,null,null,null,null,null,null,null,null,null,null,null,"~"]
["SA37",2019,"LIM332",723,null,null,null,null,null,null,null,null,null,null,null,null,null,null,null,null,null,null,"~"]
["SA37",2019,"LIM332",724,null,null,null,null,null,null,null,null,null,null,null,null,null,null,null,null,null,null,"~"]
["SA37",2019,"LIM332",725,null,null,null,null,null,null,null,null,null,null,null,null,null,null,null,null,null,null,"~"]
["SA37",2019,"LIM332",726,null,null,null,null,null,null,null,null,null,null,null,null,null,null,null,null,null,null,"~"]
["SA37",2019,"LIM332",727,null,null,null,null,null,null,null,null,null,null,null,null,null,null,null,null,null,null,"~"]
["SA37",2019,"LIM332",728,null,null,null,null,null,null,null,null,null,null,null,null,null,null,null,null,null,null,"~"]
["SA37",2019,"LIM332",729,null,null,null,null,null,null,null,null,null,null,null,null,null,null,null,null,null,null,"~"]
["SA37",2019,"LIM332",730,null,null,null,null,null,null,null,null,null,null,null,null,null,null,null,null,null,null,"~"]
["SA37",2019,"LIM332",731,null,null,null,null,null,null,null,null,null,null,null,null,null,null,null,null,null,null,"~"]
["SA37",2019,"LIM332",732,null,null,null,null,null,null,null,null,null,null,null,null,null,null,null,null,null,null,"~"]
["SA37",2019,"LIM332",733,null,null,null,null,null,null,null,null,null,null,null,null,null,null,null,null,null,null,"~"]
["SA37",2019,"LIM332",734,null,null,null,null,null,null,null,null,null,null,null,null,null,null,null,null,null,null,"~"]
["SA37",2019,"LIM332",735,null,null,null,null,null,null,null,null,null,null,null,null,null,null,null,null,null,null,"~"]
["SA37",2019,"LIM332",736,null,null,null,null,null,null,null,null,null,null,null,null,null,null,null,null,null,null,"~"]
["SA37",2019,"LIM332",737,null,null,null,null,null,null,null,null,null,null,null,null,null,null,null,null,null,null,"~"]
["SA37",2019,"LIM332",738,null,null,null,null,null,null,null,null,null,null,null,null,null,null,null,null,null,null,"~"]
["SA37",2019,"LIM332",739,null,null,null,null,null,null,null,null,null,null,null,null,null,null,null,null,null,null,"~"]
["SA37",2019,"LIM332",740,null,null,null,null,null,null,null,null,null,null,null,null,null,null,null,null,null,null,"~"]
["SA37",2019,"LIM332",741,null,null,null,null,null,null,null,null,null,null,null,null,null,null,null,null,null,null,"~"]
["SA37",2019,"LIM332",742,null,null,null,null,null,null,null,null,null,null,null,null,null,null,null,null,null,null,"~"]
["SA37",2019,"LIM332",743,null,null,null,null,null,null,null,null,null,null,null,null,null,null,null,null,null,null,"~"]
["SA37",2019,"LIM332",744,null,null,null,null,null,null,null,null,null,null,null,null,null,null,null,null,null,null,"~"]
["SA37",2019,"LIM332",745,null,null,null,null,null,null,null,null,null,null,null,null,null,null,null,null,null,null,"~"]
["SA37",2019,"LIM332",746,null,null,null,null,null,null,null,null,null,null,null,null,null,null,null,null,null,null,"~"]
["SA37",2019,"LIM332",747,null,null,null,null,null,null,null,null,null,null,null,null,null,null,null,null,null,null,"~"]
["SA37",2019,"LIM332",748,null,null,null,null,null,null,null,null,null,null,null,null,null,null,null,null,null,null,"~"]
["SA37",2019,"LIM332",749,null,null,null,null,null,null,null,null,null,null,null,null,null,null,null,null,null,null,"~"]
["SA37",2019,"LIM332",750,null,null,null,null,null,null,null,null,null,null,null,null,null,null,null,null,null,null,"~"]
["SA37",2019,"LIM332",751,null,null,null,null,null,null,null,null,null,null,null,null,null,null,null,null,null,null,"~"]
["SA37",{"$f":"+MTREF","v":2019},{"$f":"LEFT(muni,(FIND(\" \",muni,1)-1))","v":"LIM332"},752,null,null,null,null,null,null,null,null,null,null,null,null,null,null,null,null,null,null,"~"]
["SA37",2019,"LIM332",753,null,null,null,null,null,null,null,null,null,null,null,null,null,null,null,null,null,null,"~"]
["SA37",2019,"LIM332",754,null,null,null,null,null,null,null,null,null,null,null,null,null,null,null,null,null,null,"~"]
["SA37",2019,"LIM332",755,null,null,null,null,null,null,null,null,null,null,null,null,null,null,null,null,null,null,"~"]
["SA37",2019,"LIM332",756,null,null,null,null,null,null,null,null,null,null,null,null,null,null,null,null,null,null,"~"]
["SA37",2019,"LIM332",757,null,null,null,null,null,null,null,null,null,null,null,null,null,null,null,null,null,null,"~"]
["SA37",2019,"LIM332",758,null,null,null,null,null,null,null,null,null,null,null,null,null,null,null,null,null,null,"~"]
["SA37",2019,"LIM332",759,null,null,null,null,null,null,null,null,null,null,null,null,null,null,null,null,null,null,"~"]
["SA37",2019,"LIM332",760,null,null,null,null,null,null,null,null,null,null,null,null,null,null,null,null,null,null,"~"]
["SA37",2019,"LIM332",761,null,null,null,null,null,null,null,null,null,null,null,null,null,null,null,null,null,null,"~"]
["SA37",2019,"LIM332",762,null,null,null,null,null,null,null,null,null,null,null,null,null,null,null,null,null,null,"~"]
["SA37",2019,"LIM332",763,null,null,null,null,null,null,null,null,null,null,null,null,null,null,null,null,null,null,"~"]
["SA37",2019,"LIM332",764,null,null,null,null,null,null,null,null,null,null,null,null,null,null,null,null,null,null,"~"]
["SA37",2019,"LIM332",765,null,null,null,null,null,null,null,null,null,null,null,null,null,null,null,null,null,null,"~"]
["SA37",2019,"LIM332",766,null,null,null,null,null,null,null,null,null,null,null,null,null,null,null,null,null,null,"~"]
["SA37",2019,"LIM332",767,null,null,null,null,null,null,null,null,null,null,null,null,null,null,null,null,null,null,"~"]
["SA37",2019,"LIM332",768,null,null,null,null,null,null,null,null,null,null,null,null,null,null,null,null,null,null,"~"]
["SA37",2019,"LIM332",769,null,null,null,null,null,null,null,null,null,null,null,null,null,null,null,null,null,null,"~"]
["SA37",2019,"LIM332",770,null,null,null,null,null,null,null,null,null,null,null,null,null,null,null,null,null,null,"~"]
["SA37",2019,"LIM332",771,null,null,null,null,null,null,null,null,null,null,null,null,null,null,null,null,null,null,"~"]
["SA37",2019,"LIM332",772,null,null,null,null,null,null,null,null,null,null,null,null,null,null,null,null,null,null,"~"]
["SA37",2019,"LIM332",773,null,null,null,null,null,null,null,null,null,null,null,null,null,null,null,null,null,null,"~"]
["SA37",2019,"LIM332",774,null,null,null,null,null,null,null,null,null,null,null,null,null,null,null,null,null,null,"~"]
["SA37",2019,"LIM332",775,null,null,null,null,null,null,null,null,null,null,null,null,null,null,null,null,null,null,"~"]
["SA37",2019,"LIM332",776,null,null,null,null,null,null,null,null,null,null,null,null,null,null,null,null,null,null,"~"]
["SA37",2019,"LIM332",777,null,null,null,null,null,null,null,null,null,null,null,null,null,null,null,null,null,null,"~"]
["SA37",2019,"LIM332",778,null,null,null,null,null,null,null,null,null,null,null,null,null,null,null,null,null,null,"~"]
["SA37",2019,"LIM332",779,null,null,null,null,null,null,null,null,null,null,null,null,null,null,null,null,null,null,"~"]
["SA37",2019,"LIM332",780,null,null,null,null,null,null,null,null,null,null,null,null,null,null,null,null,null,null,"~"]
["SA37",2019,"LIM332",781,null,null,null,null,null,null,null,null,null,null,null,null,null,null,null,null,null,null,"~"]
["SA37",2019,"LIM332",782,null,null,null,null,null,null,null,null,null,null,null,null,null,null,null,null,null,null,"~"]
["SA37",2019,"LIM332",783,null,null,null,null,null,null,null,null,null,null,null,null,null,null,null,null,null,null,"~"]
["SA37",2019,"LIM332",784,null,null,null,null,null,null,null,null,null,null,null,null,null,null,null,null,null,null,"~"]
["SA37",2019,"LIM332",785,null,null,null,null,null,null,null,null,null,null,null,null,null,null,null,null,null,null,"~"]
["SA37",2019,"LIM332",786,null,null,null,null,null,null,null,null,null,null,null,null,null,null,null,null,null,null,"~"]
["SA37",2019,"LIM332",787,null,null,null,null,null,null,null,null,null,null,null,null,null,null,null,null,null,null,"~"]
["SA37",2019,"LIM332",788,null,null,null,null,null,null,null,null,null,null,null,null,null,null,null,null,null,null,"~"]
["SA37",2019,"LIM332",789,null,null,null,null,null,null,null,null,null,null,null,null,null,null,null,null,null,null,"~"]
["SA37",2019,"LIM332",790,null,null,null,null,null,null,null,null,null,null,null,null,null,null,null,null,null,null,"~"]
["SA37",2019,"LIM332",791,null,null,null,null,null,null,null,null,null,null,null,null,null,null,null,null,null,null,"~"]
["SA37",2019,"LIM332",792,null,null,null,null,null,null,null,null,null,null,null,null,null,null,null,null,null,null,"~"]
["SA37",2019,"LIM332",793,null,null,null,null,null,null,null,null,null,null,null,null,null,null,null,null,null,null,"~"]
["SA37",2019,"LIM332",794,null,null,null,null,null,null,null,null,null,null,null,null,null,null,null,null,null,null,"~"]
["SA37",2019,"LIM332",795,null,null,null,null,null,null,null,null,null,null,null,null,null,null,null,null,null,null,"~"]
["SA37",2019,"LIM332",796,null,null,null,null,null,null,null,null,null,null,null,null,null,null,null,null,null,null,"~"]
["SA37",2019,"LIM332",797,null,null,null,null,null,null,null,null,null,null,null,null,null,null,null,null,null,null,"~"]
["SA37",2019,"LIM332",798,null,null,null,null,null,null,null,null,null,null,null,null,null,null,null,null,null,null,"~"]
["SA37",2019,"LIM332",799,null,null,null,null,null,null,null,null,null,null,null,null,null,null,null,null,null,null,"~"]
["SA37",2019,"LIM332",800,null,null,null,null,null,null,null,null,null,null,null,null,null,null,null,null,null,null,"~"]
["SA37",2019,"LIM332",801,null,null,null,null,null,null,null,null,null,null,null,null,null,null,null,null,null,null,"~"]
["SA37",2019,"LIM332",802,null,null,null,null,null,null,null,null,null,null,null,null,null,null,null,null,null,null,"~"]
["SA37",2019,"LIM332",803,null,null,null,null,null,null,null,null,null,null,null,null,null,null,null,null,null,null,"~"]
["SA37",2019,"LIM332",804,null,null,null,null,null,null,null,null,null,null,null,null,null,null,null,null,null,null,"~"]
["SA37",2019,"LIM332",805,null,null,null,null,null,null,null,null,null,null,null,null,null,null,null,null,null,null,"~"]
["SA37",2019,"LIM332",806,null,null,null,null,null,null,null,null,null,null,null,null,null,null,null,null,null,null,"~"]
["SA37",2019,"LIM332",807,null,null,null,null,null,null,null,null,null,null,null,null,null,null,null,null,null,null,"~"]
["SA37",2019,"LIM332",808,null,null,null,null,null,null,null,null,null,null,null,null,null,null,null,null,null,null,"~"]
["SA37",2019,"LIM332",809,null,null,null,null,null,null,null,null,null,null,null,null,null,null,null,null,null,null,"~"]
["SA37",2019,"LIM332",810,null,null,null,null,null,null,null,null,null,null,null,null,null,null,null,null,null,null,"~"]
["SA37",2019,"LIM332",811,null,null,null,null,null,null,null,null,null,null,null,null,null,null,null,null,null,null,"~"]
["SA37",2019,"LIM332",812,null,null,null,null,null,null,null,null,null,null,null,null,null,null,null,null,null,null,"~"]
["SA37",2019,"LIM332",813,null,null,null,null,null,null,null,null,null,null,null,null,null,null,null,null,null,null,"~"]
["SA37",2019,"LIM332",814,null,null,null,null,null,null,null,null,null,null,null,null,null,null,null,null,null,null,"~"]
["SA37",2019,"LIM332",815,null,null,null,null,null,null,null,null,null,null,null,null,null,null,null,null,null,null,"~"]
["SA37",{"$f":"+MTREF","v":2019},{"$f":"LEFT(muni,(FIND(\" \",muni,1)-1))","v":"LIM332"},816,null,null,null,null,null,null,null,null,null,null,null,null,null,null,null,null,null,null,"~"]
["SA37",2019,"LIM332",817,null,null,null,null,null,null,null,null,null,null,null,null,null,null,null,null,null,null,"~"]
["SA37",2019,"LIM332",818,null,null,null,null,null,null,null,null,null,null,null,null,null,null,null,null,null,null,"~"]
["SA37",2019,"LIM332",819,null,null,null,null,null,null,null,null,null,null,null,null,null,null,null,null,null,null,"~"]
["SA37",2019,"LIM332",820,null,null,null,null,null,null,null,null,null,null,null,null,null,null,null,null,null,null,"~"]
["SA37",2019,"LIM332",821,null,null,null,null,null,null,null,null,null,null,null,null,null,null,null,null,null,null,"~"]
["SA37",2019,"LIM332",822,null,null,null,null,null,null,null,null,null,null,null,null,null,null,null,null,null,null,"~"]
["SA37",2019,"LIM332",823,null,null,null,null,null,null,null,null,null,null,null,null,null,null,null,null,null,null,"~"]
["SA37",2019,"LIM332",824,null,null,null,null,null,null,null,null,null,null,null,null,null,null,null,null,null,null,"~"]
["SA37",2019,"LIM332",825,null,null,null,null,null,null,null,null,null,null,null,null,null,null,null,null,null,null,"~"]
["SA37",2019,"LIM332",826,null,null,null,null,null,null,null,null,null,null,null,null,null,null,null,null,null,null,"~"]
["SA37",2019,"LIM332",827,null,null,null,null,null,null,null,null,null,null,null,null,null,null,null,null,null,null,"~"]
["SA37",2019,"LIM332",828,null,null,null,null,null,null,null,null,null,null,null,null,null,null,null,null,null,null,"~"]
["SA37",2019,"LIM332",829,null,null,null,null,null,null,null,null,null,null,null,null,null,null,null,null,null,null,"~"]
["SA37",2019,"LIM332",830,null,null,null,null,null,null,null,null,null,null,null,null,null,null,null,null,null,null,"~"]
["SA37",2019,"LIM332",831,null,null,null,null,null,null,null,null,null,null,null,null,null,null,null,null,null,null,"~"]
["SA37",2019,"LIM332",832,null,null,null,null,null,null,null,null,null,null,null,null,null,null,null,null,null,null,"~"]
["SA37",2019,"LIM332",833,null,null,null,null,null,null,null,null,null,null,null,null,null,null,null,null,null,null,"~"]
["SA37",2019,"LIM332",834,null,null,null,null,null,null,null,null,null,null,null,null,null,null,null,null,null,null,"~"]
["SA37",2019,"LIM332",835,null,null,null,null,null,null,null,null,null,null,null,null,null,null,null,null,null,null,"~"]
["SA37",2019,"LIM332",836,null,null,null,null,null,null,null,null,null,null,null,null,null,null,null,null,null,null,"~"]
["SA37",2019,"LIM332",837,null,null,null,null,null,null,null,null,null,null,null,null,null,null,null,null,null,null,"~"]
["SA37",2019,"LIM332",838,null,null,null,null,null,null,null,null,null,null,null,null,null,null,null,null,null,null,"~"]
["SA37",2019,"LIM332",839,null,null,null,null,null,null,null,null,null,null,null,null,null,null,null,null,null,null,"~"]
["SA37",2019,"LIM332",840,null,null,null,null,null,null,null,null,null,null,null,null,null,null,null,null,null,null,"~"]
["SA37",2019,"LIM332",841,null,null,null,null,null,null,null,null,null,null,null,null,null,null,null,null,null,null,"~"]
["SA37",2019,"LIM332",842,null,null,null,null,null,null,null,null,null,null,null,null,null,null,null,null,null,null,"~"]
["SA37",2019,"LIM332",843,null,null,null,null,null,null,null,null,null,null,null,null,null,null,null,null,null,null,"~"]
["SA37",2019,"LIM332",844,null,null,null,null,null,null,null,null,null,null,null,null,null,null,null,null,null,null,"~"]
["SA37",2019,"LIM332",845,null,null,null,null,null,null,null,null,null,null,null,null,null,null,null,null,null,null,"~"]
["SA37",2019,"LIM332",846,null,null,null,null,null,null,null,null,null,null,null,null,null,null,null,null,null,null,"~"]
["SA37",2019,"LIM332",847,null,null,null,null,null,null,null,null,null,null,null,null,null,null,null,null,null,null,"~"]
["SA37",2019,"LIM332",848,null,null,null,null,null,null,null,null,null,null,null,null,null,null,null,null,null,null,"~"]
["SA37",2019,"LIM332",849,null,null,null,null,null,null,null,null,null,null,null,null,null,null,null,null,null,null,"~"]
["SA37",2019,"LIM332",850,null,null,null,null,null,null,null,null,null,null,null,null,null,null,null,null,null,null,"~"]
["SA37",2019,"LIM332",851,null,null,null,null,null,null,null,null,null,null,null,null,null,null,null,null,null,null,"~"]
["SA37",2019,"LIM332",852,null,null,null,null,null,null,null,null,null,null,null,null,null,null,null,null,null,null,"~"]
["SA37",2019,"LIM332",853,null,null,null,null,null,null,null,null,null,null,null,null,null,null,null,null,null,null,"~"]
["SA37",2019,"LIM332",854,null,null,null,null,null,null,null,null,null,null,null,null,null,null,null,null,null,null,"~"]
["SA37",2019,"LIM332",855,null,null,null,null,null,null,null,null,null,null,null,null,null,null,null,null,null,null,"~"]
["SA37",2019,"LIM332",856,null,null,null,null,null,null,null,null,null,null,null,null,null,null,null,null,null,null,"~"]
["SA37",2019,"LIM332",857,null,null,null,null,null,null,null,null,null,null,null,null,null,null,null,null,null,null,"~"]
["SA37",2019,"LIM332",858,null,null,null,null,null,null,null,null,null,null,null,null,null,null,null,null,null,null,"~"]
["SA37",2019,"LIM332",859,null,null,null,null,null,null,null,null,null,null,null,null,null,null,null,null,null,null,"~"]
["SA37",2019,"LIM332",860,null,null,null,null,null,null,null,null,null,null,null,null,null,null,null,null,null,null,"~"]
["SA37",2019,"LIM332",861,null,null,null,null,null,null,null,null,null,null,null,null,null,null,null,null,null,null,"~"]
["SA37",2019,"LIM332",862,null,null,null,null,null,null,null,null,null,null,null,null,null,null,null,null,null,null,"~"]
["SA37",2019,"LIM332",863,null,null,null,null,null,null,null,null,null,null,null,null,null,null,null,null,null,null,"~"]
["SA37",2019,"LIM332",864,null,null,null,null,null,null,null,null,null,null,null,null,null,null,null,null,null,null,"~"]
["SA37",2019,"LIM332",865,null,null,null,null,null,null,null,null,null,null,null,null,null,null,null,null,null,null,"~"]
["SA37",2019,"LIM332",866,null,null,null,null,null,null,null,null,null,null,null,null,null,null,null,null,null,null,"~"]
["SA37",2019,"LIM332",867,null,null,null,null,null,null,null,null,null,null,null,null,null,null,null,null,null,null,"~"]
["SA37",2019,"LIM332",868,null,null,null,null,null,null,null,null,null,null,null,null,null,null,null,null,null,null,"~"]
["SA37",2019,"LIM332",869,null,null,null,null,null,null,null,null,null,null,null,null,null,null,null,null,null,null,"~"]
["SA37",2019,"LIM332",870,null,null,null,null,null,null,null,null,null,null,null,null,null,null,null,null,null,null,"~"]
["SA37",2019,"LIM332",871,null,null,null,null,null,null,null,null,null,null,null,null,null,null,null,null,null,null,"~"]
["SA37",2019,"LIM332",872,null,null,null,null,null,null,null,null,null,null,null,null,null,null,null,null,null,null,"~"]
["SA37",2019,"LIM332",873,null,null,null,null,null,null,null,null,null,null,null,null,null,null,null,null,null,null,"~"]
["SA37",2019,"LIM332",874,null,null,null,null,null,null,null,null,null,null,null,null,null,null,null,null,null,null,"~"]
["SA37",2019,"LIM332",875,null,null,null,null,null,null,null,null,null,null,null,null,null,null,null,null,null,null,"~"]
["SA37",2019,"LIM332",876,null,null,null,null,null,null,null,null,null,null,null,null,null,null,null,null,null,null,"~"]
["SA37",2019,"LIM332",877,null,null,null,null,null,null,null,null,null,null,null,null,null,null,null,null,null,null,"~"]
["SA37",2019,"LIM332",878,null,null,null,null,null,null,null,null,null,null,null,null,null,null,null,null,null,null,"~"]
["SA37",2019,"LIM332",879,null,null,null,null,null,null,null,null,null,null,null,null,null,null,null,null,null,null,"~"]
["SA37",{"$f":"+MTREF","v":2019},{"$f":"LEFT(muni,(FIND(\" \",muni,1)-1))","v":"LIM332"},880,null,null,null,null,null,null,null,null,null,null,null,null,null,null,null,null,null,null,"~"]
["SA37",2019,"LIM332",881,null,null,null,null,null,null,null,null,null,null,null,null,null,null,null,null,null,null,"~"]
["SA37",2019,"LIM332",882,null,null,null,null,null,null,null,null,null,null,null,null,null,null,null,null,null,null,"~"]
["SA37",2019,"LIM332",883,null,null,null,null,null,null,null,null,null,null,null,null,null,null,null,null,null,null,"~"]
["SA37",2019,"LIM332",884,null,null,null,null,null,null,null,null,null,null,null,null,null,null,null,null,null,null,"~"]
["SA37",2019,"LIM332",885,null,null,null,null,null,null,null,null,null,null,null,null,null,null,null,null,null,null,"~"]
["SA37",2019,"LIM332",886,null,null,null,null,null,null,null,null,null,null,null,null,null,null,null,null,null,null,"~"]
["SA37",2019,"LIM332",887,null,null,null,null,null,null,null,null,null,null,null,null,null,null,null,null,null,null,"~"]
["SA37",2019,"LIM332",888,null,null,null,null,null,null,null,null,null,null,null,null,null,null,null,null,null,null,"~"]
["SA37",2019,"LIM332",889,null,null,null,null,null,null,null,null,null,null,null,null,null,null,null,null,null,null,"~"]
["SA37",2019,"LIM332",890,null,null,null,null,null,null,null,null,null,null,null,null,null,null,null,null,null,null,"~"]
["SA37",2019,"LIM332",891,null,null,null,null,null,null,null,null,null,null,null,null,null,null,null,null,null,null,"~"]
["SA37",2019,"LIM332",892,null,null,null,null,null,null,null,null,null,null,null,null,null,null,null,null,null,null,"~"]
["SA37",2019,"LIM332",893,null,null,null,null,null,null,null,null,null,null,null,null,null,null,null,null,null,null,"~"]
["SA37",2019,"LIM332",894,null,null,null,null,null,null,null,null,null,null,null,null,null,null,null,null,null,null,"~"]
["SA37",2019,"LIM332",895,null,null,null,null,null,null,null,null,null,null,null,null,null,null,null,null,null,null,"~"]
["SA37",2019,"LIM332",896,null,null,null,null,null,null,null,null,null,null,null,null,null,null,null,null,null,null,"~"]
["SA37",2019,"LIM332",897,null,null,null,null,null,null,null,null,null,null,null,null,null,null,null,null,null,null,"~"]
["SA37",2019,"LIM332",898,null,null,null,null,null,null,null,null,null,null,null,null,null,null,null,null,null,null,"~"]
["SA37",2019,"LIM332",899,null,null,null,null,null,null,null,null,null,null,null,null,null,null,null,null,null,null,"~"]
["SA37",2019,"LIM332",900,null,null,null,null,null,null,null,null,null,null,null,null,null,null,null,null,null,null,"~"]
["SA37",2019,"LIM332",901,null,null,null,null,null,null,null,null,null,null,null,null,null,null,null,null,null,null,"~"]
["SA37",2019,"LIM332",902,null,null,null,null,null,null,null,null,null,null,null,null,null,null,null,null,null,null,"~"]
["SA37",2019,"LIM332",903,null,null,null,null,null,null,null,null,null,null,null,null,null,null,null,null,null,null,"~"]
["SA37",2019,"LIM332",904,null,null,null,null,null,null,null,null,null,null,null,null,null,null,null,null,null,null,"~"]
["SA37",2019,"LIM332",905,null,null,null,null,null,null,null,null,null,null,null,null,null,null,null,null,null,null,"~"]
["SA37",2019,"LIM332",906,null,null,null,null,null,null,null,null,null,null,null,null,null,null,null,null,null,null,"~"]
["SA37",2019,"LIM332",907,null,null,null,null,null,null,null,null,null,null,null,null,null,null,null,null,null,null,"~"]
["SA37",2019,"LIM332",908,null,null,null,null,null,null,null,null,null,null,null,null,null,null,null,null,null,null,"~"]
["SA37",2019,"LIM332",909,null,null,null,null,null,null,null,null,null,null,null,null,null,null,null,null,null,null,"~"]
["SA37",2019,"LIM332",910,null,null,null,null,null,null,null,null,null,null,null,null,null,null,null,null,null,null,"~"]
["SA37",2019,"LIM332",911,null,null,null,null,null,null,null,null,null,null,null,null,null,null,null,null,null,null,"~"]
["SA37",2019,"LIM332",912,null,null,null,null,null,null,null,null,null,null,null,null,null,null,null,null,null,null,"~"]
["SA37",2019,"LIM332",913,null,null,null,null,null,null,null,null,null,null,null,null,null,null,null,null,null,null,"~"]
["SA37",2019,"LIM332",914,null,null,null,null,null,null,null,null,null,null,null,null,null,null,null,null,null,null,"~"]
["SA37",2019,"LIM332",915,null,null,null,null,null,null,null,null,null,null,null,null,null,null,null,null,null,null,"~"]
["SA37",2019,"LIM332",916,null,null,null,null,null,null,null,null,null,null,null,null,null,null,null,null,null,null,"~"]
["SA37",2019,"LIM332",917,null,null,null,null,null,null,null,null,null,null,null,null,null,null,null,null,null,null,"~"]
["SA37",2019,"LIM332",918,null,null,null,null,null,null,null,null,null,null,null,null,null,null,null,null,null,null,"~"]
["SA37",2019,"LIM332",919,null,null,null,null,null,null,null,null,null,null,null,null,null,null,null,null,null,null,"~"]
["SA37",2019,"LIM332",920,null,null,null,null,null,null,null,null,null,null,null,null,null,null,null,null,null,null,"~"]
["SA37",2019,"LIM332",921,null,null,null,null,null,null,null,null,null,null,null,null,null,null,null,null,null,null,"~"]
["SA37",2019,"LIM332",922,null,null,null,null,null,null,null,null,null,null,null,null,null,null,null,null,null,null,"~"]
["SA37",2019,"LIM332",923,null,null,null,null,null,null,null,null,null,null,null,null,null,null,null,null,null,null,"~"]
["SA37",2019,"LIM332",924,null,null,null,null,null,null,null,null,null,null,null,null,null,null,null,null,null,null,"~"]
["SA37",2019,"LIM332",925,null,null,null,null,null,null,null,null,null,null,null,null,null,null,null,null,null,null,"~"]
["SA37",2019,"LIM332",926,null,null,null,null,null,null,null,null,null,null,null,null,null,null,null,null,null,null,"~"]
["SA37",2019,"LIM332",927,null,null,null,null,null,null,null,null,null,null,null,null,null,null,null,null,null,null,"~"]
["SA37",2019,"LIM332",928,null,null,null,null,null,null,null,null,null,null,null,null,null,null,null,null,null,null,"~"]
["SA37",2019,"LIM332",929,null,null,null,null,null,null,null,null,null,null,null,null,null,null,null,null,null,null,"~"]
["SA37",2019,"LIM332",930,null,null,null,null,null,null,null,null,null,null,null,null,null,null,null,null,null,null,"~"]
["SA37",2019,"LIM332",931,null,null,null,null,null,null,null,null,null,null,null,null,null,null,null,null,null,null,"~"]
["SA37",2019,"LIM332",932,null,null,null,null,null,null,null,null,null,null,null,null,null,null,null,null,null,null,"~"]
["SA37",2019,"LIM332",933,null,null,null,null,null,null,null,null,null,null,null,null,null,null,null,null,null,null,"~"]
["SA37",2019,"LIM332",934,null,null,null,null,null,null,null,null,null,null,null,null,null,null,null,null,null,null,"~"]
["SA37",2019,"LIM332",935,null,null,null,null,null,null,null,null,null,null,null,null,null,null,null,null,null,null,"~"]
["SA37",2019,"LIM332",936,null,null,null,null,null,null,null,null,null,null,null,null,null,null,null,null,null,null,"~"]
["SA37",2019,"LIM332",937,null,null,null,null,null,null,null,null,null,null,null,null,null,null,null,null,null,null,"~"]
["SA37",2019,"LIM332",938,null,null,null,null,null,null,null,null,null,null,null,null,null,null,null,null,null,null,"~"]
["SA37",2019,"LIM332",939,null,null,null,null,null,null,null,null,null,null,null,null,null,null,null,null,null,null,"~"]
["SA37",2019,"LIM332",940,null,null,null,null,null,null,null,null,null,null,null,null,null,null,null,null,null,null,"~"]
["SA37",2019,"LIM332",941,null,null,null,null,null,null,null,null,null,null,null,null,null,null,null,null,null,null,"~"]
["SA37",2019,"LIM332",942,null,null,null,null,null,null,null,null,null,null,null,null,null,null,null,null,null,null,"~"]
["SA37",2019,"LIM332",943,null,null,null,null,null,null,null,null,null,null,null,null,null,null,null,null,null,null,"~"]
["SA37",{"$f":"+MTREF","v":2019},{"$f":"LEFT(muni,(FIND(\" \",muni,1)-1))","v":"LIM332"},944,null,null,null,null,null,null,null,null,null,null,null,null,null,null,null,null,null,null,"~"]
["SA37",2019,"LIM332",945,null,null,null,null,null,null,null,null,null,null,null,null,null,null,null,null,null,null,"~"]
["SA37",2019,"LIM332",946,null,null,null,null,null,null,null,null,null,null,null,null,null,null,null,null,null,null,"~"]
["SA37",2019,"LIM332",947,null,null,null,null,null,null,null,null,null,null,null,null,null,null,null,null,null,null,"~"]
["SA37",2019,"LIM332",948,null,null,null,null,null,null,null,null,null,null,null,null,null,null,null,null,null,null,"~"]
["SA37",2019,"LIM332",949,null,null,null,null,null,null,null,null,null,null,null,null,null,null,null,null,null,null,"~"]
["SA37",2019,"LIM332",950,null,null,null,null,null,null,null,null,null,null,null,null,null,null,null,null,null,null,"~"]
["SA37",2019,"LIM332",951,null,null,null,null,null,null,null,null,null,null,null,null,null,null,null,null,null,null,"~"]
["SA37",2019,"LIM332",952,null,null,null,null,null,null,null,null,null,null,null,null,null,null,null,null,null,null,"~"]
["SA37",2019,"LIM332",953,null,null,null,null,null,null,null,null,null,null,null,null,null,null,null,null,null,null,"~"]
["SA37",2019,"LIM332",954,null,null,null,null,null,null,null,null,null,null,null,null,null,null,null,null,null,null,"~"]
["SA37",2019,"LIM332",955,null,null,null,null,null,null,null,null,null,null,null,null,null,null,null,null,null,null,"~"]
["SA37",2019,"LIM332",956,null,null,null,null,null,null,null,null,null,null,null,null,null,null,null,null,null,null,"~"]
["SA37",2019,"LIM332",957,null,null,null,null,null,null,null,null,null,null,null,null,null,null,null,null,null,null,"~"]
["SA37",2019,"LIM332",958,null,null,null,null,null,null,null,null,null,null,null,null,null,null,null,null,null,null,"~"]
["SA37",2019,"LIM332",959,null,null,null,null,null,null,null,null,null,null,null,null,null,null,null,null,null,null,"~"]
["SA37",2019,"LIM332",960,null,null,null,null,null,null,null,null,null,null,null,null,null,null,null,null,null,null,"~"]
["SA37",2019,"LIM332",961,null,null,null,null,null,null,null,null,null,null,null,null,null,null,null,null,null,null,"~"]
["SA37",2019,"LIM332",962,null,null,null,null,null,null,null,null,null,null,null,null,null,null,null,null,null,null,"~"]
["SA37",2019,"LIM332",963,null,null,null,null,null,null,null,null,null,null,null,null,null,null,null,null,null,null,"~"]
["SA37",2019,"LIM332",964,null,null,null,null,null,null,null,null,null,null,null,null,null,null,null,null,null,null,"~"]
["SA37",2019,"LIM332",965,null,null,null,null,null,null,null,null,null,null,null,null,null,null,null,null,null,null,"~"]
["SA37",2019,"LIM332",966,null,null,null,null,null,null,null,null,null,null,null,null,null,null,null,null,null,null,"~"]
["SA37",2019,"LIM332",967,null,null,null,null,null,null,null,null,null,null,null,null,null,null,null,null,null,null,"~"]
["SA37",2019,"LIM332",968,null,null,null,null,null,null,null,null,null,null,null,null,null,null,null,null,null,null,"~"]
["SA37",2019,"LIM332",969,null,null,null,null,null,null,null,null,null,null,null,null,null,null,null,null,null,null,"~"]
["SA37",2019,"LIM332",970,null,null,null,null,null,null,null,null,null,null,null,null,null,null,null,null,null,null,"~"]
["SA37",2019,"LIM332",971,null,null,null,null,null,null,null,null,null,null,null,null,null,null,null,null,null,null,"~"]
["SA37",2019,"LIM332",972,null,null,null,null,null,null,null,null,null,null,null,null,null,null,null,null,null,null,"~"]
["SA37",2019,"LIM332",973,null,null,null,null,null,null,null,null,null,null,null,null,null,null,null,null,null,null,"~"]
["SA37",2019,"LIM332",974,null,null,null,null,null,null,null,null,null,null,null,null,null,null,null,null,null,null,"~"]
["SA37",2019,"LIM332",975,null,null,null,null,null,null,null,null,null,null,null,null,null,null,null,null,null,null,"~"]
["SA37",2019,"LIM332",976,null,null,null,null,null,null,null,null,null,null,null,null,null,null,null,null,null,null,"~"]
["SA37",2019,"LIM332",977,null,null,null,null,null,null,null,null,null,null,null,null,null,null,null,null,null,null,"~"]
["SA37",2019,"LIM332",978,null,null,null,null,null,null,null,null,null,null,null,null,null,null,null,null,null,null,"~"]
["SA37",2019,"LIM332",979,null,null,null,null,null,null,null,null,null,null,null,null,null,null,null,null,null,null,"~"]
["SA37",2019,"LIM332",980,null,null,null,null,null,null,null,null,null,null,null,null,null,null,null,null,null,null,"~"]
["SA37",2019,"LIM332",981,null,null,null,null,null,null,null,null,null,null,null,null,null,null,null,null,null,null,"~"]
["SA37",2019,"LIM332",982,null,null,null,null,null,null,null,null,null,null,null,null,null,null,null,null,null,null,"~"]
["SA37",2019,"LIM332",983,null,null,null,null,null,null,null,null,null,null,null,null,null,null,null,null,null,null,"~"]
["SA37",2019,"LIM332",984,null,null,null,null,null,null,null,null,null,null,null,null,null,null,null,null,null,null,"~"]
["SA37",2019,"LIM332",985,null,null,null,null,null,null,null,null,null,null,null,null,null,null,null,null,null,null,"~"]
["SA37",2019,"LIM332",986,null,null,null,null,null,null,null,null,null,null,null,null,null,null,null,null,null,null,"~"]
["SA37",2019,"LIM332",987,null,null,null,null,null,null,null,null,null,null,null,null,null,null,null,null,null,null,"~"]
["SA37",2019,"LIM332",988,null,null,null,null,null,null,null,null,null,null,null,null,null,null,null,null,null,null,"~"]
["SA37",2019,"LIM332",989,null,null,null,null,null,null,null,null,null,null,null,null,null,null,null,null,null,null,"~"]
["SA37",2019,"LIM332",990,null,null,null,null,null,null,null,null,null,null,null,null,null,null,null,null,null,null,"~"]
["SA37",2019,"LIM332",991,null,null,null,null,null,null,null,null,null,null,null,null,null,null,null,null,null,null,"~"]
["SA37",2019,"LIM332",992,null,null,null,null,null,null,null,null,null,null,null,null,null,null,null,null,null,null,"~"]
["SA37",2019,"LIM332",993,null,null,null,null,null,null,null,null,null,null,null,null,null,null,null,null,null,null,"~"]
["SA37",2019,"LIM332",994,null,null,null,null,null,null,null,null,null,null,null,null,null,null,null,null,null,null,"~"]
["SA37",2019,"LIM332",995,null,null,null,null,null,null,null,null,null,null,null,null,null,null,null,null,null,null,"~"]
["SA37",2019,"LIM332",996,null,null,null,null,null,null,null,null,null,null,null,null,null,null,null,null,null,null,"~"]
["SA37",2019,"LIM332",997,null,null,null,null,null,null,null,null,null,null,null,null,null,null,null,null,null,null,"~"]
["SA37",2019,"LIM332",998,null,null,null,null,null,null,null,null,null,null,null,null,null,null,null,null,null,null,"~"]
["SA37",2019,"LIM332",999,null,null,null,null,null,null,null,null,null,null,null,null,null,null,null,null,null,null,"~"]
["SA37",2019,"LIM332",1000,null,null,null,null,null,null,null,null,null,null,null,null,null,null,null,null,null,null,"~"]
["CONTACT",2019,"LIM332",1,null,null,null,null,null,null,null,null,null,null,null,null,null,null,null,null,null,null,"~"]
["CONTACT",2019,"LIM332",2,null,null,null,null,null,null,null,null,null,null,null,null,null,null,null,null,null,null,"~"]
["CONTACT",2019,"LIM332",3,null,null,null,null,null,null,null,null,null,null,null,null,null,null,null,null,null,null,"~"]
["CONTACT",2019,"LIM332",4,null,null,null,null,null,null,null,null,null,null,null,null,null,null,null,null,null,null,"~"]
["CONTACT",2019,"LIM332",5,null,null,null,null,null,null,null,null,null,null,null,null,null,null,null,null,null,null,"~"]
["CONTACT",2019,"LIM332",6,null,null,null,null,null,null,null,null,null,null,null,null,null,null,null,null,null,null,"~"]
["CONTACT",2019,"LIM332",7,null,null,null,null,null,null,null,null,null,null,null,null,null,null,null,null,null,null,"~"]
["CONTACT",{"$f":"+MTREF","v":2019},{"$f":"LEFT(muni,(FIND(\" \",muni,1)-1))","v":"LIM332"},8,null,null,null,null,null,null,null,null,null,null,null,null,null,null,null,null,null,null,"~"]
["CONTACT",2019,"LIM332",9,null,null,null,null,null,null,null,null,null,null,null,null,null,null,null,null,null,null,"~"]
["CONTACT",2019,"LIM332",10,null,null,null,null,null,null,null,null,null,null,null,null,null,null,null,null,null,null,"~"]
["CONTACT",2019,"LIM332",11,null,null,null,null,null,null,null,null,null,null,null,null,null,null,null,null,null,null,"~"]
["CONTACT",2019,"LIM332",12,null,null,null,null,null,null,null,null,null,null,null,null,null,null,null,null,null,null,"~"]
["CONTACT",2019,"LIM332",13,null,null,null,null,null,null,null,null,null,null,null,null,null,null,null,null,null,null,"~"]
["CONTACT",2019,"LIM332",14,null,null,null,null,null,null,null,null,null,null,null,null,null,null,null,null,null,null,"~"]
["CONTACT",2019,"LIM332",15,null,null,null,null,null,null,null,null,null,null,null,null,null,null,null,null,null,null,"~"]
["CONTACT",2019,"LIM332",16,null,null,null,null,null,null,null,null,null,null,null,null,null,null,null,null,null,null,"~"]
["CONTACT",2019,"LIM332",17,null,null,null,null,null,null,null,null,null,null,null,null,null,null,null,null,null,null,"~"]
["CONTACT",2019,"LIM332",18,null,null,null,null,null,null,null,null,null,null,null,null,null,null,null,null,null,null,"~"]
["CONTACT",2019,"LIM332",19,null,null,null,null,null,null,null,null,null,null,null,null,null,null,null,null,null,null,"~"]
["CONTACT",2019,"LIM332",20,null,null,null,null,null,null,null,null,null,null,null,null,null,null,null,null,null,null,"~"]
["CONTACT",2019,"LIM332",21,null,null,null,null,null,null,null,null,null,null,null,null,null,null,null,null,null,null,"~"]
["CONTACT",2019,"LIM332",22,null,null,null,null,null,null,null,null,null,null,null,null,null,null,null,null,null,null,"~"]
["CONTACT",2019,"LIM332",23,null,null,null,null,null,null,null,null,null,null,null,null,null,null,null,null,null,null,"~"]
["CONTACT",2019,"LIM332",24,null,null,null,null,null,null,null,null,null,null,null,null,null,null,null,null,null,null,"~"]
["CONTACT",2019,"LIM332",25,null,null,null,null,null,null,null,null,null,null,null,null,null,null,null,null,null,null,"~"]
["CONTACT",2019,"LIM332",26,null,null,null,null,null,null,null,null,null,null,null,null,null,null,null,null,null,null,"~"]
["CONTACT",2019,"LIM332",27,null,null,null,null,null,null,null,null,null,null,null,null,null,null,null,null,null,null,"~"]
["CONTACT",2019,"LIM332",28,null,null,null,null,null,null,null,null,null,null,null,null,null,null,null,null,null,null,"~"]
["CONTACT",2019,"LIM332",29,null,null,null,null,null,null,null,null,null,null,null,null,null,null,null,null,null,null,"~"]
["CONTACT",2019,"LIM332",30,null,null,null,null,null,null,null,null,null,null,null,null,null,null,null,null,null,null,"~"]
["CONTACT",2019,"LIM332",31,null,null,null,null,null,null,null,null,null,null,null,null,null,null,null,null,null,null,"~"]
["CONTACT",2019,"LIM332",32,null,null,null,null,null,null,null,null,null,null,null,null,null,null,null,null,null,null,"~"]
["CONTACT",2019,"LIM332",33,null,null,null,null,null,null,null,null,null,null,null,null,null,null,null,null,null,null,"~"]
["CONTACT",2019,"LIM332",34,null,null,null,null,null,null,null,null,null,null,null,null,null,null,null,null,null,null,"~"]
["CONTACT",2019,"LIM332",35,null,null,null,null,null,null,null,null,null,null,null,null,null,null,null,null,null,null,"~"]
["CONTACT",2019,"LIM332",36,null,null,null,null,null,null,null,null,null,null,null,null,null,null,null,null,null,null,"~"]
["CONTACT",2019,"LIM332",37,null,null,null,null,null,null,null,null,null,null,null,null,null,null,null,null,null,null,"~"]
["CONTACT",2019,"LIM332",38,null,null,null,null,null,null,null,null,null,null,null,null,null,null,null,null,null,null,"~"]
["CONTACT",2019,"LIM332",39,null,null,null,null,null,null,null,null,null,null,null,null,null,null,null,null,null,null,"~"]
["CONTACT",2019,"LIM332",40,null,null,null,null,null,null,null,null,null,null,null,null,null,null,null,null,null,null,"~"]
["CONTACT",2019,"LIM332",41,null,null,null,null,null,null,null,null,null,null,null,null,null,null,null,null,null,null,"~"]
["CONTACT",2019,"LIM332",42,null,null,null,null,null,null,null,null,null,null,null,null,null,null,null,null,null,null,"~"]
["CONTACT",2019,"LIM332",43,null,null,null,null,null,null,null,null,null,null,null,null,null,null,null,null,null,null,"~"]
["CONTACT",2019,"LIM332",44,null,null,null,null,null,null,null,null,null,null,null,null,null,null,null,null,null,null,"~"]
["CONTACT",2019,"LIM332",45,null,null,null,null,null,null,null,null,null,null,null,null,null,null,null,null,null,null,"~"]
["CONTACT",2019,"LIM332",46,null,null,null,null,null,null,null,null,null,null,null,null,null,null,null,null,null,null,"~"]
["CONTACT",2019,"LIM332",47,null,null,null,null,null,null,null,null,null,null,null,null,null,null,null,null,null,null,"~"]
["CONTACT",2019,"LIM332",48,null,null,null,null,null,null,null,null,null,null,null,null,null,null,null,null,null,null,"~"]
["CONTACT",2019,"LIM332",49,null,null,null,null,null,null,null,null,null,null,null,null,null,null,null,null,null,null,"~"]
["CONTACT",2019,"LIM332",50,null,null,null,null,null,null,null,null,null,null,null,null,null,null,null,null,null,null,"~"]
["CONTACT",2019,"LIM332",51,null,null,null,null,null,null,null,null,null,null,null,null,null,null,null,null,null,null,"~"]
["CONTACT",2019,"LIM332",52,null,null,null,null,null,null,null,null,null,null,null,null,null,null,null,null,null,null,"~"]
["CONTACT",2019,"LIM332",53,null,null,null,null,null,null,null,null,null,null,null,null,null,null,null,null,null,null,"~"]
["CONTACT",2019,"LIM332",54,null,null,null,null,null,null,null,null,null,null,null,null,null,null,null,null,null,null,"~"]
["CONTACT",2019,"LIM332",55,null,null,null,null,null,null,null,null,null,null,null,null,null,null,null,null,null,null,"~"]
["CONTACT",2019,"LIM332",56,null,null,null,null,null,null,null,null,null,null,null,null,null,null,null,null,null,null,"~"]
["CONTACT",2019,"LIM332",57,null,null,null,null,null,null,null,null,null,null,null,null,null,null,null,null,null,null,"~"]
["CONTACT",2019,"LIM332",58,null,null,null,null,null,null,null,null,null,null,null,null,null,null,null,null,null,null,"~"]
["CONTACT",2019,"LIM332",59,null,null,null,null,null,null,null,null,null,null,null,null,null,null,null,null,null,null,"~"]
["CONTACT",2019,"LIM332",60,null,null,null,null,null,null,null,null,null,null,null,null,null,null,null,null,null,null,"~"]
["CONTACT",2019,"LIM332",61,null,null,null,null,null,null,null,null,null,null,null,null,null,null,null,null,null,null,"~"]
["CONTACT",2019,"LIM332",62,null,null,null,null,null,null,null,null,null,null,null,null,null,null,null,null,null,null,"~"]
["CONTACT",2019,"LIM332",63,null,null,null,null,null,null,null,null,null,null,null,null,null,null,null,null,null,null,"~"]
["CONTACT",2019,"LIM332",64,null,null,null,null,null,null,null,null,null,null,null,null,null,null,null,null,null,null,"~"]
["CONTACT",2019,"LIM332",65,null,null,null,null,null,null,null,null,null,null,null,null,null,null,null,null,null,null,"~"]
["CONTACT",2019,"LIM332",66,null,null,null,null,null,null,null,null,null,null,null,null,null,null,null,null,null,null,"~"]
["CONTACT",2019,"LIM332",67,null,null,null,null,null,null,null,null,null,null,null,null,null,null,null,null,null,null,"~"]
["CONTACT",2019,"LIM332",68,null,null,null,null,null,null,null,null,null,null,null,null,null,null,null,null,null,null,"~"]
["CONTACT",2019,"LIM332",69,null,null,null,null,null,null,null,null,null,null,null,null,null,null,null,null,null,null,"~"]
["CONTACT",2019,"LIM332",70,null,null,null,null,null,null,null,null,null,null,null,null,null,null,null,null,null,null,"~"]
["CONTACT",2019,"LIM332",71,null,null,null,null,null,null,null,null,null,null,null,null,null,null,null,null,null,null,"~"]
["CONTACT",{"$f":"+MTREF","v":2019},{"$f":"LEFT(muni,(FIND(\" \",muni,1)-1))","v":"LIM332"},72,null,null,null,null,null,null,null,null,null,null,null,null,null,null,null,null,null,null,"~"]
["CONTACT",2019,"LIM332",73,null,null,null,null,null,null,null,null,null,null,null,null,null,null,null,null,null,null,"~"]
["CONTACT",2019,"LIM332",74,null,null,null,null,null,null,null,null,null,null,null,null,null,null,null,null,null,null,"~"]
["CONTACT",2019,"LIM332",75,null,null,null,null,null,null,null,null,null,null,null,null,null,null,null,null,null,null,"~"]
["CONTACT",2019,"LIM332",76,null,null,null,null,null,null,null,null,null,null,null,null,null,null,null,null,null,null,"~"]
["CONTACT",2019,"LIM332",77,null,null,null,null,null,null,null,null,null,null,null,null,null,null,null,null,null,null,"~"]
["CONTACT",2019,"LIM332",78,null,null,null,null,null,null,null,null,null,null,null,null,null,null,null,null,null,null,"~"]
["CONTACT",2019,"LIM332",79,null,null,null,null,null,null,null,null,null,null,null,null,null,null,null,null,null,null,"~"]
["CONTACT",2019,"LIM332",80,null,null,null,null,null,null,null,null,null,null,null,null,null,null,null,null,null,null,"~"]
["CONTACT",2019,"LIM332",81,null,null,null,null,null,null,null,null,null,null,null,null,null,null,null,null,null,null,"~"]
["CONTACT",2019,"LIM332",82,null,null,null,null,null,null,null,null,null,null,null,null,null,null,null,null,null,null,"~"]
["CONTACT",2019,"LIM332",83,null,null,null,null,null,null,null,null,null,null,null,null,null,null,null,null,null,null,"~"]
["CONTACT",2019,"LIM332",84,null,null,null,null,null,null,null,null,null,null,null,null,null,null,null,null,null,null,"~"]
["CONTACT",2019,"LIM332",85,null,null,null,null,null,null,null,null,null,null,null,null,null,null,null,null,null,null,"~"]
["CONTACT",2019,"LIM332",86,null,null,null,null,null,null,null,null,null,null,null,null,null,null,null,null,null,null,"~"]
["CONTACT",2019,"LIM332",87,null,null,null,null,null,null,null,null,null,null,null,null,null,null,null,null,null,null,"~"]
["CONTACT",2019,"LIM332",88,null,null,null,null,null,null,null,null,null,null,null,null,null,null,null,null,null,null,"~"]
["CONTACT",2019,"LIM332",89,null,null,null,null,null,null,null,null,null,null,null,null,null,null,null,null,null,null,"~"]
["CONTACT",2019,"LIM332",90,null,null,null,null,null,null,null,null,null,null,null,null,null,null,null,null,null,null,"~"]
["CONTACT",2019,"LIM332",91,null,null,null,null,null,null,null,null,null,null,null,null,null,null,null,null,null,null,"~"]
["CONTACT",2019,"LIM332",92,null,null,null,null,null,null,null,null,null,null,null,null,null,null,null,null,null,null,"~"]
["CONTACT",2019,"LIM332",93,null,null,null,null,null,null,null,null,null,null,null,null,null,null,null,null,null,null,"~"]
["CONTACT",2019,"LIM332",94,null,null,null,null,null,null,null,null,null,null,null,null,null,null,null,null,null,null,"~"]
["CONTACT",2019,"LIM332",95,null,null,null,null,null,null,null,null,null,null,null,null,null,null,null,null,null,null,"~"]
["CONTACT",2019,"LIM332",96,null,null,null,null,null,null,null,null,null,null,null,null,null,null,null,null,null,null,"~"]
["CONTACT",2019,"LIM332",97,null,null,null,null,null,null,null,null,null,null,null,null,null,null,null,null,null,null,"~"]
["CONTACT",2019,"LIM332",98,null,null,null,null,null,null,null,null,null,null,null,null,null,null,null,null,null,null,"~"]
["CONTACT",2019,"LIM332",99,null,null,null,null,null,null,null,null,null,null,null,null,null,null,null,null,null,null,"~"]
["CONTACT",2019,"LIM332",100,null,null,null,null,null,null,null,null,null,null,null,null,null,null,null,null,null,null,"~"]
["CONTACT",2019,"LIM332",101,null,null,null,null,null,null,null,null,null,null,null,null,null,null,null,null,null,null,"~"]
["CONTACT",2019,"LIM332",102,null,null,null,null,null,null,null,null,null,null,null,null,null,null,null,null,null,null,"~"]
["CONTACT",2019,"LIM332",103,null,null,null,null,null,null,null,null,null,null,null,null,null,null,null,null,null,null,"~"]
["CONTACT",2019,"LIM332",104,null,null,null,null,null,null,null,null,null,null,null,null,null,null,null,null,null,null,"~"]
["CONTACT",2019,"LIM332",105,null,null,null,null,null,null,null,null,null,null,null,null,null,null,null,null,null,null,"~"]
["CONTACT",2019,"LIM332",106,null,null,null,null,null,null,null,null,null,null,null,null,null,null,null,null,null,null,"~"]
["CONTACT",2019,"LIM332",107,null,null,null,null,null,null,null,null,null,null,null,null,null,null,null,null,null,null,"~"]
["CONTACT",2019,"LIM332",108,null,null,null,null,null,null,null,null,null,null,null,null,null,null,null,null,null,null,"~"]
["CONTACT",2019,"LIM332",109,null,null,null,null,null,null,null,null,null,null,null,null,null,null,null,null,null,null,"~"]
["CONTACT",2019,"LIM332",110,null,null,null,null,null,null,null,null,null,null,null,null,null,null,null,null,null,null,"~"]
["CONTACT",2019,"LIM332",111,null,null,null,null,null,null,null,null,null,null,null,null,null,null,null,null,null,null,"~"]
["CONTACT",2019,"LIM332",112,null,null,null,null,null,null,null,null,null,null,null,null,null,null,null,null,null,null,"~"]
["CONTACT",2019,"LIM332",113,null,null,null,null,null,null,null,null,null,null,null,null,null,null,null,null,null,null,"~"]
["CONTACT",2019,"LIM332",114,null,null,null,null,null,null,null,null,null,null,null,null,null,null,null,null,null,null,"~"]
["CONTACT",2019,"LIM332",115,null,null,null,null,null,null,null,null,null,null,null,null,null,null,null,null,null,null,"~"]
["CONTACT",2019,"LIM332",116,null,null,null,null,null,null,null,null,null,null,null,null,null,null,null,null,null,null,"~"]
["CONTACT",2019,"LIM332",117,null,null,null,null,null,null,null,null,null,null,null,null,null,null,null,null,null,null,"~"]
["CONTACT",2019,"LIM332",118,null,null,null,null,null,null,null,null,null,null,null,null,null,null,null,null,null,null,"~"]
["CONTACT",2019,"LIM332",119,null,null,null,null,null,null,null,null,null,null,null,null,null,null,null,null,null,null,"~"]
["CONTACT",2019,"LIM332",120,null,null,null,null,null,null,null,null,null,null,null,null,null,null,null,null,null,null,"~"]
["CONTACT",2019,"LIM332",121,null,null,null,null,null,null,null,null,null,null,null,null,null,null,null,null,null,null,"~"]
["CONTACT",2019,"LIM332",122,null,null,null,null,null,null,null,null,null,null,null,null,null,null,null,null,null,null,"~"]
["CONTACT",2019,"LIM332",123,null,null,null,null,null,null,null,null,null,null,null,null,null,null,null,null,null,null,"~"]
["CONTACT",2019,"LIM332",124,null,null,null,null,null,null,null,null,null,null,null,null,null,null,null,null,null,null,"~"]
["CONTACT",2019,"LIM332",125,null,null,null,null,null,null,null,null,null,null,null,null,null,null,null,null,null,null,"~"]
["CONTACT",2019,"LIM332",126,null,null,null,null,null,null,null,null,null,null,null,null,null,null,null,null,null,null,"~"]
["CONTACT",2019,"LIM332",127,null,null,null,null,null,null,null,null,null,null,null,null,null,null,null,null,null,null,"~"]
["CONTACT",2019,"LIM332",128,null,null,null,null,null,null,null,null,null,null,null,null,null,null,null,null,null,null,"~"]
["CONTACT",2019,"LIM332",129,null,null,null,null,null,null,null,null,null,null,null,null,null,null,null,null,null,null,"~"]
["CONTACT",2019,"LIM332",130,null,null,null,null,null,null,null,null,null,null,null,null,null,null,null,null,null,null,"~"]
["CONTACT",2019,"LIM332",131,null,null,null,null,null,null,null,null,null,null,null,null,null,null,null,null,null,null,"~"]
["CONTACT",2019,"LIM332",132,null,null,null,null,null,null,null,null,null,null,null,null,null,null,null,null,null,null,"~"]
["CONTACT",2019,"LIM332",133,null,null,null,null,null,null,null,null,null,null,null,null,null,null,null,null,null,null,"~"]
["CONTACT",2019,"LIM332",134,null,null,null,null,null,null,null,null,null,null,null,null,null,null,null,null,null,null,"~"]
["CONTACT",2019,"LIM332",135,null,null,null,null,null,null,null,null,null,null,null,null,null,null,null,null,null,null,"~"]
["CONTACT",2019,"LIM332",136,null,null,null,null,null,null,null,null,null,null,null,null,null,null,null,null,null,null,"~"]
["CONTACT",2019,"LIM332",137,null,null,null,null,null,null,null,null,null,null,null,null,null,null,null,null,null,null,"~"]
["CONTACT",2019,"LIM332",138,null,null,null,null,null,null,null,null,null,null,null,null,null,null,null,null,null,null,"~"]
["SA25",2019,"LIM332",0,1,"Revenue By Source",null,null,null,null,null,null,null,null,null,null,null,null,null,null,null,null,"~"]
["SA25",2019,"LIM332",0,2,"Property rates",null,null,null,null,null,null,null,null,null,null,null,null,null,null,null,null,"~"]
["SA25",2019,"LIM332",0,3,"Property rates - penalties & collection charges",null,null,null,null,null,null,null,null,null,null,null,null,null,null,null,null,"~"]
["SA25",2019,"LIM332",0,4,"Service charges - electricity revenue",null,null,null,null,null,null,null,null,null,null,null,null,null,null,null,null,"~"]
["SA25",2019,"LIM332",0,5,"Service charges - water revenue",null,null,null,null,null,null,null,null,null,null,null,null,null,null,null,null,"~"]
["SA25",2019,"LIM332",0,6,"Service charges - sanitation revenue",null,null,null,null,null,null,null,null,null,null,null,null,null,null,null,null,"~"]
["SA25",2019,"LIM332",0,7,"Service charges - refuse revenue",null,null,null,null,null,null,null,null,null,null,null,null,null,null,null,null,"~"]
["SA25",2019,"LIM332",0,8,"Service charges - other",null,null,null,null,null,null,null,null,null,null,null,null,null,null,null,null,"~"]
["SA25",2019,"LIM332",0,9,"Rental of facilities and equipment",null,null,null,null,null,null,null,null,null,null,null,null,null,null,null,null,"~"]
["SA25",2019,"LIM332",0,10,"Interest earned - external investments",null,null,null,null,null,null,null,null,null,null,null,null,null,null,null,null,"~"]
["SA25",2019,"LIM332",0,11,"Interest earned - outstanding debtors",null,null,null,null,null,null,null,null,null,null,null,null,null,null,null,null,"~"]
["SA25",2019,"LIM332",0,12,"Dividends received",null,null,null,null,null,null,null,null,null,null,null,null,null,null,null,null,"~"]
["SA25",2019,"LIM332",0,13,"Fines",null,null,null,null,null,null,null,null,null,null,null,null,null,null,null,null,"~"]
["SA25",2019,"LIM332",0,14,"Licences and permits",null,null,null,null,null,null,null,null,null,null,null,null,null,null,null,null,"~"]
["SA25",2019,"LIM332",0,15,"Agency services",null,null,null,null,null,null,null,null,null,null,null,null,null,null,null,null,"~"]
["SA25",2019,"LIM332",0,16,"Transfers recognised - operational",null,null,null,null,null,null,null,null,null,null,null,null,null,null,null,null,"~"]
["SA25",2019,"LIM332",0,17,"Other revenue",null,null,null,null,null,null,null,null,null,null,null,null,null,null,null,null,"~"]
["SA25",2019,"LIM332",0,18,"Gains on disposal of PPE",null,null,null,null,null,null,null,null,null,null,null,null,null,null,null,null,"~"]
["SA25",2019,"LIM332",0,19,"Total Revenue (excluding capital transfers and contributions)",null,null,null,null,null,null,null,null,null,null,null,null,null,null,null,null,"~"]
["SA25",2019,"LIM332",0,20,null,null,null,null,null,null,null,null,null,null,null,null,null,null,null,null,null,"~"]
["SA25",2019,"LIM332",0,21,"Expenditure By Type",null,null,null,null,null,null,null,null,null,null,null,null,null,null,null,null,"~"]
["SA25",2019,"LIM332",0,22,"Employee related costs",null,null,null,null,null,null,null,null,null,null,null,null,null,null,null,null,"~"]
["SA25",2019,"LIM332",0,23,"Remuneration of councillors",null,null,null,null,null,null,null,null,null,null,null,null,null,null,null,null,"~"]
["SA25",2019,"LIM332",0,24,"Debt impairment",null,null,null,null,null,null,null,null,null,null,null,null,null,null,null,null,"~"]
["SA25",2019,"LIM332",0,25,"Depreciation & asset impairment",null,null,null,null,null,null,null,null,null,null,null,null,null,null,null,null,"~"]
["SA25",2019,"LIM332",0,26,"Finance charges",null,null,null,null,null,null,null,null,null,null,null,null,null,null,null,null,"~"]
["SA25",2019,"LIM332",0,27,"Bulk purchases",null,null,null,null,null,null,null,null,null,null,null,null,null,null,null,null,"~"]
["SA25",2019,"LIM332",0,28,"Other materials",null,null,null,null,null,null,null,null,null,null,null,null,null,null,null,null,"~"]
["SA25",2019,"LIM332",0,29,"Contracted services",null,null,null,null,null,null,null,null,null,null,null,null,null,null,null,null,"~"]
["SA25",2019,"LIM332",0,30,"Transfers and grants",null,null,null,null,null,null,null,null,null,null,null,null,null,null,null,null,"~"]
["SA25",2019,"LIM332",0,31,"Other expenditure",null,null,null,null,null,null,null,null,null,null,null,null,null,null,null,null,"~"]
["SA25",2019,"LIM332",0,32,"Loss on disposal of PPE",null,null,null,null,null,null,null,null,null,null,null,null,null,null,null,null,"~"]
["SA25",2019,"LIM332",0,33,"Total Expenditure",null,null,null,null,null,null,null,null,null,null,null,null,null,null,null,null,"~"]
["SA25",2019,"LIM332",0,34,null,null,null,null,null,null,null,null,null,null,null,null,null,null,null,null,null,"~"]
["SA25",2019,"LIM332",0,35,"Surplus/(Deficit)",null,null,null,null,null,null,null,null,null,null,null,null,null,null,null,null,"~"]
["SA25",{"$f":"+MTREF","v":2019},{"$f":"LEFT(muni,(FIND(\" \",muni,1)-1))","v":"LIM332"},0,36,"Transfers recognised - capital",null,null,null,null,null,null,null,null,null,null,null,null,null,null,null,null,"~"]
["SA25",2019,"LIM332",0,37,"Contributions recognised - capital",null,null,null,null,null,null,null,null,null,null,null,null,null,null,null,null,"~"]
["SA25",2019,"LIM332",0,38,"Contributed assets",null,null,null,null,null,null,null,null,null,null,null,null,null,null,null,null,"~"]
["SA25",2019,"LIM332",0,39,"Surplus/(Deficit) after capital transfers & contributions",null,null,null,null,null,null,null,null,null,null,null,null,null,null,null,null,"~"]
["SA25",2019,"LIM332",0,40,"Taxation",null,null,null,null,null,null,null,null,null,null,null,null,null,null,null,null,"~"]
["SA25",2019,"LIM332",0,41,"Attributable to minorities",null,null,null,null,null,null,null,null,null,null,null,null,null,null,null,null,"~"]
["SA25",2019,"LIM332",0,44,"Share of surplus/ (deficit) of associate",null,null,null,null,null,null,null,null,null,null,null,null,null,null,null,null,"~"]
["SA27",2019,"LIM332",null,null,"Revenue - Standard",null,null,null,null,null,null,null,null,null,null,null,null,null,null,null,null,"~"]
["SA27",2019,"LIM332",null,null,"Governance and administration",null,null,null,null,null,null,null,null,null,null,null,null,null,null,null,null,"~"]
["SA27",2019,"LIM332",1,11,"Executive and council",null,null,null,null,null,null,null,null,null,null,null,null,null,null,null,null,"~"]
["SA27",2019,"LIM332",1,12,"Budget and treasury office",null,null,null,null,null,null,null,null,null,null,null,null,null,null,null,null,"~"]
["SA27",2019,"LIM332",1,13,"Corporate services",null,null,null,null,null,null,null,null,null,null,null,null,null,null,null,null,"~"]
["SA27",2019,"LIM332",null,null,"Community and public safety",null,null,null,null,null,null,null,null,null,null,null,null,null,null,null,null,"~"]
["SA27",2019,"LIM332",1,21,"Community and social services",null,null,null,null,null,null,null,null,null,null,null,null,null,null,null,null,"~"]
["SA27",2019,"LIM332",1,22,"Sport and recreation",null,null,null,null,null,null,null,null,null,null,null,null,null,null,null,null,"~"]
["SA27",2019,"LIM332",1,23,"Public safety",null,null,null,null,null,null,null,null,null,null,null,null,null,null,null,null,"~"]
["SA27",2019,"LIM332",1,24,"Housing",null,null,null,null,null,null,null,null,null,null,null,null,null,null,null,null,"~"]
["SA27",2019,"LIM332",1,25,"Health",null,null,null,null,null,null,null,null,null,null,null,null,null,null,null,null,"~"]
["SA27",2019,"LIM332",null,null,"Economic and environmental services",null,null,null,null,null,null,null,null,null,null,null,null,null,null,null,null,"~"]
["SA27",2019,"LIM332",1,31,"Planning and development",null,null,null,null,null,null,null,null,null,null,null,null,null,null,null,null,"~"]
["SA27",2019,"LIM332",1,32,"Road transport",null,null,null,null,null,null,null,null,null,null,null,null,null,null,null,null,"~"]
["SA27",2019,"LIM332",1,33,"Environmental protection",null,null,null,null,null,null,null,null,null,null,null,null,null,null,null,null,"~"]
["SA27",2019,"LIM332",null,null,"Trading services",null,null,null,null,null,null,null,null,null,null,null,null,null,null,null,null,"~"]
["SA27",2019,"LIM332",1,41,"Electricity",null,null,null,null,null,null,null,null,null,null,null,null,null,null,null,null,"~"]
["SA27",2019,"LIM332",1,42,"Water",null,null,null,null,null,null,null,null,null,null,null,null,null,null,null,null,"~"]
["SA27",2019,"LIM332",1,43,"Waste water management",null,null,null,null,null,null,null,null,null,null,null,null,null,null,null,null,"~"]
["SA27",2019,"LIM332",1,44,"Waste management",null,null,null,null,null,null,null,null,null,null,null,null,null,null,null,null,"~"]
["SA27",2019,"LIM332",1,45,"Other",null,null,null,null,null,null,null,null,null,null,null,null,null,null,null,null,"~"]
["SA27",2019,"LIM332",null,null,"Total Revenue - Standard",null,null,null,null,null,null,null,null,null,null,null,null,null,null,null,null,"~"]
["SA27",2019,"LIM332",null,null,null,null,null,null,null,null,null,null,null,null,null,null,null,null,null,null,null,"~"]
["SA27",2019,"LIM332",null,null,"Expenditure - Standard",null,null,null,null,null,null,null,null,null,null,null,null,null,null,null,null,"~"]
["SA27",2019,"LIM332",null,null,"Governance and administration",null,null,null,null,null,null,null,null,null,null,null,null,null,null,null,null,"~"]
["SA27",2019,"LIM332",2,11,"Executive and council",null,null,null,null,null,null,null,null,null,null,null,null,null,null,null,null,"~"]
["SA27",2019,"LIM332",2,12,"Budget and treasury office",null,null,null,null,null,null,null,null,null,null,null,null,null,null,null,null,"~"]
["SA27",2019,"LIM332",2,13,"Corporate services",null,null,null,null,null,null,null,null,null,null,null,null,null,null,null,null,"~"]
["SA27",2019,"LIM332",null,null,"Community and public safety",null,null,null,null,null,null,null,null,null,null,null,null,null,null,null,null,"~"]
["SA27",2019,"LIM332",2,21,"Community and social services",null,null,null,null,null,null,null,null,null,null,null,null,null,null,null,null,"~"]
["SA27",2019,"LIM332",2,22,"Sport and recreation",null,null,null,null,null,null,null,null,null,null,null,null,null,null,null,null,"~"]
["SA27",2019,"LIM332",2,23,"Public safety",null,null,null,null,null,null,null,null,null,null,null,null,null,null,null,null,"~"]
["SA27",2019,"LIM332",2,24,"Housing",null,null,null,null,null,null,null,null,null,null,null,null,null,null,null,null,"~"]
["SA27",2019,"LIM332",2,25,"Health",null,null,null,null,null,null,null,null,null,null,null,null,null,null,null,null,"~"]
["SA27",2019,"LIM332",null,null,"Economic and environmental services",null,null,null,null,null,null,null,null,null,null,null,null,null,null,null,null,"~"]
["SA27",2019,"LIM332",2,31,"Planning and development",null,null,null,null,null,null,null,null,null,null,null,null,null,null,null,null,"~"]
["SA27",2019,"LIM332",2,32,"Road transport",null,null,null,null,null,null,null,null,null,null,null,null,null,null,null,null,"~"]
["SA27",2019,"LIM332",2,33,"Environmental protection",null,null,null,null,null,null,null,null,null,null,null,null,null,null,null,null,"~"]
["SA27",2019,"LIM332",null,null,"Trading services",null,null,null,null,null,null,null,null,null,null,null,null,null,null,null,null,"~"]
["SA27",2019,"LIM332",2,41,"Electricity",null,null,null,null,null,null,null,null,null,null,null,null,null,null,null,null,"~"]
["SA27",2019,"LIM332",2,42,"Water",null,null,null,null,null,null,null,null,null,null,null,null,null,null,null,null,"~"]
["SA27",2019,"LIM332",2,43,"Waste water management",null,null,null,null,null,null,null,null,null,null,null,null,null,null,null,null,"~"]
["SA27",2019,"LIM332",2,44,"Waste management",null,null,null,null,null,null,null,null,null,null,null,null,null,null,null,null,"~"]
["SA27",2019,"LIM332",2,45,"Other",null,null,null,null,null,null,null,null,null,null,null,null,null,null,null,null,"~"]
["SA27",2019,"LIM332",null,null,"Total Expenditure - Standard",null,null,null,null,null,null,null,null,null,null,null,null,null,null,null,null,"~"]
["SA29",2019,"LIM332",null,null,"Capital Expenditure - Standard",null,null,null,null,null,null,null,null,null,null,null,null,null,null,null,null,"~"]
["SA29",2019,"LIM332",null,null,"Governance and administration",null,null,null,null,null,null,null,null,null,null,null,null,null,null,null,null,"~"]
["SA29",2019,"LIM332",1,11,"Executive and council",null,null,null,null,null,null,null,null,null,null,null,null,null,null,null,null,"~"]
["SA29",2019,"LIM332",1,12,"Budget and treasury office",null,null,null,null,null,null,null,null,null,null,null,null,null,null,null,null,"~"]
["SA29",2019,"LIM332",1,13,"Corporate services",null,null,null,null,null,null,null,null,null,null,null,null,null,null,null,null,"~"]
["SA29",2019,"LIM332",null,null,"Community and public safety",null,null,null,null,null,null,null,null,null,null,null,null,null,null,null,null,"~"]
["SA29",2019,"LIM332",1,21,"Community and social services",null,null,null,null,null,null,null,null,null,null,null,null,null,null,null,null,"~"]
["SA29",2019,"LIM332",1,22,"Sport and recreation",null,null,null,null,null,null,null,null,null,null,null,null,null,null,null,null,"~"]
["SA29",2019,"LIM332",1,23,"Public safety",null,null,null,null,null,null,null,null,null,null,null,null,null,null,null,null,"~"]
["SA29",2019,"LIM332",1,24,"Housing",null,null,null,null,null,null,null,null,null,null,null,null,null,null,null,null,"~"]
["SA29",2019,"LIM332",1,25,"Health",null,null,null,null,null,null,null,null,null,null,null,null,null,null,null,null,"~"]
["SA29",2019,"LIM332",null,null,"Economic and environmental services",null,null,null,null,null,null,null,null,null,null,null,null,null,null,null,null,"~"]
["SA29",{"$f":"+MTREF","v":2019},{"$f":"LEFT(muni,(FIND(\" \",muni,1)-1))","v":"LIM332"},1,31,"Planning and development",null,null,null,null,null,null,null,null,null,null,null,null,null,null,null,null,"~"]
["SA29",2019,"LIM332",1,32,"Road transport",null,null,null,null,null,null,null,null,null,null,null,null,null,null,null,null,"~"]
["SA29",2019,"LIM332",1,33,"Environmental protection",null,null,null,null,null,null,null,null,null,null,null,null,null,null,null,null,"~"]
["SA29",2019,"LIM332",null,null,"Trading services",null,null,null,null,null,null,null,null,null,null,null,null,null,null,null,null,"~"]
["SA29",2019,"LIM332",1,41,"Electricity",null,null,null,null,null,null,null,null,null,null,null,null,null,null,null,null,"~"]
["SA29",2019,"LIM332",1,42,"Water",null,null,null,null,null,null,null,null,null,null,null,null,null,null,null,null,"~"]
["SA29",2019,"LIM332",1,43,"Waste water management",null,null,null,null,null,null,null,null,null,null,null,null,null,null,null,null,"~"]
["SA29",2019,"LIM332",1,44,"Waste management",null,null,null,null,null,null,null,null,null,null,null,null,null,null,null,null,"~"]
["SA29",2019,"LIM332",1,45,"Other",null,null,null,null,null,null,null,null,null,null,null,null,null,null,null,null,"~"]
["SA29",2019,"LIM332",null,null,"Total Capital Expenditure - Standard",null,null,null,null,null,null,null,null,null,null,null,null,null,null,null,null,"~"]
["SA29",2019,"LIM332",null,null,null,null,null,null,null,null,null,null,null,null,null,null,null,null,null,null,null,"~"]
["SA29",2019,"LIM332",2,50,"Funded by:",null,null,null,null,null,null,null,null,null,null,null,null,null,null,null,null,"~"]
["SA29",2019,"LIM332",2,51,"National Government",null,null,null,null,null,null,null,null,null,null,null,null,null,null,null,null,"~"]
["SA29",2019,"LIM332",2,52,"Provincial Government",null,null,null,null,null,null,null,null,null,null,null,null,null,null,null,null,"~"]
["SA29",2019,"LIM332",2,53,"District Municipality",null,null,null,null,null,null,null,null,null,null,null,null,null,null,null,null,"~"]
["SA29",2019,"LIM332",2,54,"Other transfers and grants",null,null,null,null,null,null,null,null,null,null,null,null,null,null,null,null,"~"]
["SA29",2019,"LIM332",2,55,"Transfers recognised - capital",null,null,null,null,null,null,null,null,null,null,null,null,null,null,null,null,"~"]
["SA29",2019,"LIM332",2,56,"Public contributions & donations",null,null,null,null,null,null,null,null,null,null,null,null,null,null,null,null,"~"]
["SA29",2019,"LIM332",2,57,"Borrowing",null,null,null,null,null,null,null,null,null,null,null,null,null,null,null,null,"~"]
["SA29",2019,"LIM332",2,58,"Internally generated funds",null,null,null,null,null,null,null,null,null,null,null,null,null,null,null,null,"~"]
["SA29",2019,"LIM332",2,59,"Total Capital Funding",null,null,null,null,null,null,null,null,null,null,null,null,null,null,null,null,"~"]